{"text_format":"1","workbook":"xlsx","n_sheets":9,"sheets":["OptiMaxx plus","Rendimientos_UDI_Inflación","PLUS","Pat","No Deducible 93","Deducible 151","Deducible 185","Bono","Resumen"],"not_rendered":{"charts":0,"images":3,"macros":1,"external_links":2,"defined_names":11,"comments":2,"pivot_tables":0},"unopened":[],"bounds":{"document_bytes":16777216,"sheet_cells":100000,"rows_first":2000,"rows_last":500,"rows_between":2000,"halvings":0,"cell_chars":16384,"cell_head_chars":4096},"cells_cut":0,"cells_raw":0,"read":"whole","date_system":"1900"}

{"sheet":"OptiMaxx plus","index":0,"n_rows":222,"n_cols":71,"rows_kept":222,"cut":false,"hidden":false,"merged":[[44,23,44,27],[45,23,45,27],[46,23,46,27],[47,23,47,27],[42,23,42,27],[43,23,43,27],[52,28,52,32],[53,28,53,32],[49,23,49,27],[50,23,50,27],[54,28,54,32],[47,28,47,32],[48,28,48,32],[49,28,49,32],[50,28,50,32],[43,28,43,32],[44,28,44,32],[45,28,45,32],[46,28,46,32],[51,28,51,32],[41,28,41,32],[42,28,42,32],[39,28,39,32],[40,28,40,32],[35,28,35,32],[36,28,36,32],[40,23,40,27],[40,19,40,22],[38,23,38,27],[41,19,41,22],[41,23,41,27],[54,23,54,27],[43,19,43,22],[44,19,44,22],[40,15,40,18],[41,15,41,18],[42,15,42,18],[43,15,43,18],[44,15,44,18],[47,15,47,18],[42,19,42,22],[54,19,54,22],[47,19,47,22],[48,19,48,22],[49,19,49,22],[50,19,50,22],[51,19,51,22],[52,19,52,22],[45,19,45,22],[46,19,46,22],[48,23,48,27],[53,19,53,22],[51,23,51,27],[52,23,52,27],[53,23,53,27],[54,6,54,9],[49,6,49,9],[50,6,50,9],[51,6,51,9],[52,6,52,9],[53,6,53,9],[55,6,55,9],[46,10,46,14],[47,10,47,14],[47,6,47,9],[48,6,48,9],[48,10,48,14],[49,10,49,14],[51,10,51,14],[52,10,52,14],[53,10,53,14],[45,10,45,14],[41,10,41,14],[55,10,55,14],[54,10,54,14],[50,10,50,14],[54,15,54,18],[55,15,55,18],[50,15,50,18],[51,15,51,18],[52,15,52,18],[53,15,53,18],[45,15,45,18],[46,15,46,18],[48,15,48,18],[49,15,49,18],[48,4,48,5],[49,4,49,5],[50,4,50,5],[51,4,51,5],[52,4,52,5],[53,4,53,5],[55,2,55,3],[42,10,42,14],[35,10,35,14],[36,10,36,14],[37,10,37,14],[38,10,38,14],[46,6,46,9],[43,10,43,14],[44,10,44,14],[41,6,41,9],[42,6,42,9],[43,6,43,9],[44,6,44,9],[37,6,37,9],[38,6,38,9],[39,6,39,9],[40,6,40,9],[45,6,45,9],[14,10,14,14],[21,19,21,23],[15,3,15,7],[23,5,23,7],[14,3,14,7],[31,23,31,27],[14,19,14,23],[24,9,24,11],[43,2,43,3],[23,19,23,23],[23,26,23,30],[20,19,20,23],[37,28,37,32],[38,28,38,32],[32,28,32,32],[33,28,33,32],[34,28,34,32],[20,26,20,30],[31,28,31,32],[32,23,32,27],[33,23,33,27],[34,23,34,27],[35,23,35,27],[36,23,36,27],[32,4,32,5],[33,4,33,5],[33,10,33,14],[32,10,32,14],[36,6,36,9],[41,4,41,5],[38,4,38,5],[39,4,39,5],[32,6,32,9],[34,6,34,9],[34,10,34,14],[35,6,35,9],[35,4,35,5],[33,6,33,9],[37,4,37,5],[39,10,39,14],[40,10,40,14],[40,4,40,5],[33,2,33,3],[34,2,34,3],[34,4,34,5],[37,2,37,3],[38,2,38,3],[39,2,39,3],[35,2,35,3],[40,2,40,3],[36,2,36,3],[36,4,36,5],[112,2,112,4],[113,2,113,4],[109,2,109,4],[106,8,106,9],[41,2,41,3],[51,2,51,3],[52,2,52,3],[53,2,53,3],[42,4,42,5],[54,2,54,3],[47,2,47,3],[42,2,42,3],[43,4,43,5],[44,4,44,5],[45,4,45,5],[48,2,48,3],[49,2,49,3],[50,2,50,3],[44,2,44,3],[45,2,45,3],[46,2,46,3],[54,4,54,5],[46,4,46,5],[47,4,47,5],[106,5,106,6],[102,2,104,4],[107,2,107,4],[107,5,107,6],[108,5,108,6],[106,2,106,4],[102,5,104,6],[110,2,110,4],[110,8,110,9],[110,5,110,6],[130,2,130,4],[130,5,130,6],[130,11,130,14],[128,2,128,4],[128,5,128,6],[127,8,127,9],[128,8,128,9],[127,2,127,4],[127,5,127,6],[127,11,127,14],[130,8,130,9],[128,11,128,14],[129,11,129,14],[120,2,120,4],[120,5,120,6],[122,5,122,6],[123,2,123,4],[123,5,123,6],[121,11,121,14],[124,8,124,9],[126,5,126,6],[129,2,129,4],[129,5,129,6],[125,11,125,14],[125,2,125,4],[125,5,125,6],[126,11,126,14],[129,8,129,9],[126,2,126,4],[126,8,126,9],[102,29,104,32],[115,2,115,4],[115,5,115,6],[114,8,114,9],[115,8,115,9],[111,15,111,18],[112,15,112,18],[118,15,118,18],[116,15,116,18],[113,15,113,18],[114,2,114,4],[115,15,115,18],[118,2,118,4],[118,5,118,6],[118,8,118,9],[117,11,117,14],[118,11,118,14],[116,2,116,4],[116,8,116,9],[114,11,114,14],[108,2,108,4],[109,5,109,6],[111,2,111,4],[112,11,112,14],[117,2,117,4],[117,5,117,6],[117,15,117,18],[113,5,113,6],[113,11,113,14],[115,11,115,14],[116,5,116,6],[116,11,116,14],[114,5,114,6],[114,15,114,18],[113,8,113,9],[119,5,119,6],[119,15,119,18],[119,11,119,14],[119,8,119,9],[117,8,117,9],[111,8,111,9],[111,5,111,6],[110,15,110,18],[109,8,109,9],[109,15,109,18],[112,5,112,6],[112,8,112,9],[90,70,90,76],[92,70,92,76],[92,60,92,63],[92,64,92,67],[91,64,91,67],[90,64,90,67],[91,60,91,63],[92,52,92,55],[69,3,69,30],[70,3,70,30],[89,35,91,35],[89,36,91,36],[71,3,71,30],[89,64,89,67],[90,52,90,55],[89,60,89,63],[90,60,90,63],[89,38,91,38],[88,35,88,37],[89,37,91,37],[91,52,91,55],[64,3,65,31],[55,19,55,22],[56,19,56,22],[56,23,56,27],[56,10,56,14],[56,6,56,9],[55,23,55,27],[68,35,68,39],[58,10,58,14],[57,10,57,14],[56,28,56,32],[55,28,55,32],[59,2,61,32],[62,3,62,31],[58,23,58,27],[57,23,57,27],[56,4,56,5],[56,2,56,3],[56,15,56,18],[68,3,68,30],[55,4,55,5],[102,19,104,23],[110,25,110,28],[99,7,100,17],[111,11,111,14],[110,11,110,14],[102,11,104,14],[102,15,104,18],[107,15,107,18],[109,11,109,14],[108,15,108,18],[108,8,108,9],[108,11,108,14],[101,8,101,17],[106,11,106,14],[102,8,104,9],[107,8,107,9],[107,11,107,14],[119,2,119,4],[122,29,122,32],[126,29,126,32],[123,29,123,32],[124,29,124,32],[122,25,122,28],[119,19,119,23],[123,25,123,28],[124,15,124,18],[126,25,126,28],[126,19,126,23],[125,29,125,32],[123,15,123,18],[122,11,122,14],[122,2,122,4],[121,2,121,4],[121,5,121,6],[120,11,120,14],[120,8,120,9],[123,11,123,14],[122,15,122,18],[124,2,124,4],[124,5,124,6],[124,11,124,14],[147,3,150,32],[141,3,146,32],[136,31,136,32],[137,31,137,32],[138,20,138,30],[136,20,136,30],[137,15,137,18],[138,31,138,32],[120,15,120,18],[135,20,135,30],[134,15,134,18],[134,20,134,30],[138,15,138,18],[137,20,137,30],[125,19,125,23],[123,19,123,23],[125,25,125,28],[124,19,124,23],[135,15,135,18],[128,19,128,23],[127,25,127,28],[136,15,136,18],[132,20,132,24],[130,19,130,23],[121,29,121,32],[120,25,120,28],[118,25,118,28],[119,25,119,28],[134,31,134,32],[135,31,135,32],[129,29,129,32],[130,25,130,28],[130,29,130,32],[132,29,132,32],[129,25,129,28],[128,29,128,32],[127,29,127,32],[128,25,128,28],[119,29,119,32],[118,29,118,32],[118,19,118,23],[117,19,117,23],[109,19,109,23],[116,19,116,23],[114,19,114,23],[113,19,113,23],[31,15,31,18],[120,29,120,32],[116,29,116,32],[114,25,114,28],[117,29,117,32],[115,29,115,32],[115,25,115,28],[117,25,117,28],[116,25,116,28],[106,19,106,23],[111,19,111,23],[108,19,108,23],[106,15,106,18],[107,19,107,23],[110,19,110,23],[109,25,109,28],[102,25,104,28],[99,21,99,25],[131,15,131,18],[121,8,121,9],[122,8,122,9],[123,8,123,9],[125,15,125,18],[126,15,126,18],[124,25,124,28],[121,25,121,28],[120,19,120,23],[121,19,121,23],[129,19,129,23],[127,19,127,23],[127,15,127,18],[128,15,128,18],[129,15,129,18],[115,19,115,23],[122,19,122,23],[125,8,125,9],[130,15,130,18],[121,15,121,18],[21,26,21,30],[2,2,3,24],[18,19,18,21],[24,19,24,23],[108,29,108,32],[109,29,109,32],[112,25,112,28],[107,25,107,28],[106,29,106,32],[113,29,113,32],[111,29,111,32],[106,25,106,28],[107,29,107,32],[108,25,108,28],[110,29,110,32],[111,25,111,28],[112,29,112,32],[12,10,12,14],[112,19,112,23],[113,25,113,28],[114,29,114,32],[1,35,1,40],[12,19,12,23],[6,3,6,16],[4,3,5,16],[11,36,11,40],[11,10,11,14],[12,3,12,7],[7,19,7,22],[10,3,10,5],[11,3,11,7],[2,35,2,40],[6,19,6,22],[10,19,10,22],[11,19,11,23],[22,5,22,7],[22,9,22,11],[22,13,22,15],[16,2,16,16],[15,10,15,14],[32,2,32,3],[19,3,19,7],[18,3,18,10],[38,15,38,18],[15,19,15,23],[39,19,39,22],[27,11,27,13],[24,13,24,15],[37,15,37,18],[36,15,36,18],[24,26,24,30],[39,23,39,27],[35,19,35,22],[39,15,39,18],[32,15,32,18],[35,15,35,18],[33,15,33,18],[34,15,34,18],[31,19,31,22],[29,11,29,13],[37,23,37,27],[36,19,36,22],[37,19,37,22],[38,19,38,22],[32,19,32,22],[33,19,33,22],[34,19,34,22],[31,6,31,9],[31,2,31,3],[27,14,27,15],[31,10,31,14],[20,3,20,15],[25,3,25,15],[26,11,26,13],[28,9,28,10],[28,11,28,13],[24,5,24,7],[23,9,23,11],[23,13,23,15],[21,5,21,7],[21,9,21,11],[21,13,21,15],[31,4,31,5]]}
[]
[null,null,null,null,null,null,null,null,null,null,null,null,null,null,null,null,null,null,null,null,null,null,null,null,null,null,null,null,null,null,null,null,null,null,null,93]
[null,null,"Simulador OptiMaxx plus",null,null,null,null,null,null,null,null,null,null,null,null,null,null,null,null,null,null,null,null,null,null,null,null,null,null,null,null,null,null,null,null,0.3,null,null,null,null,null,null,"Artículo","Plazo","Periodicidad","Actualización con inflación","% ISR",18,0,"Comentarios:",null,null,null,null,null,null,null,null,"Rendimientos"]
[null,null,null,null,null,null,null,null,null,null,null,null,null,null,null,null,null,null,null,null,null,null,null,null,null,null,null,null,null,null,null,null,null,null,null,{"$f":"+U76","v":0},null,null,null,null,"Fideicomiso Art. 151 (Antes Art. 176)","Deducible Art. 151 (Antes Art. 176)",151,5,"Mensual","Si",0.1,{"$f":"+AV3+1","v":19},{"$f":"+AW3+1","v":1},"el monto de inversión no debe ser mayor al 10% del ingreso anual del cliente con un tope máximo de 5 SMGA ($92,290) anualmente , ",null,null,null,null,null,null,null,null,0.05]
[null,null,null,"Datos Generales",null,null,null,null,null,null,null,null,null,null,null,null,null,null,null,null,null,null,null,null,null,null,null,null,null,null,null,null,null,null,null,{"$f":"+Y14","v":0},null,null,null,null,"Deducible Art. 185 (Antes Art. 218)","Deducible Art. 185 (Antes Art. 218)",185,{"$f":"1+AR4","v":6},"Trimestral","No",0.15,{"$f":"+AV4+1","v":20},2,"el monto de inversión no debe ser mayor a $152,000 anualmente , ",null,null,null,null,null,null,null,null,0.06]
[null,null,null,null,null,null,null,null,null,null,null,null,null,null,null,null,null,null,null,null,null,null,null,null,null,null,null,null,null,null,null,null,null,null,null,{"$f":"+AJ22","v":0},null,null,null,null,"Art. 93 (Antes Art. 109)","Art. 93 (Antes Art. 109)",93,7,"Semestral",null,0.2,21,3,"la distribución entre los diferentes portafolios tiene que sumar 100% , ",null,null,null,null,null,null,null,null,7.0000000000000007E-2]
[null,null,null,"EMMANUEL GONZALEZ",null,null,null,null,null,null,null,null,null,null,null,null,null,null,null,44,null,null,null,null,null,null,null,null,null,null,null,null,null,null,null,{"$f":"+J45","v":0},null,null,null,null,null,null,null,8,"Anual",null,0.25,22,4,null,null,null,null,null,null,null,null,null,0.08]
[null,null,null,"Nombre",null,null,null,null,null,null,null,null,null,null,null,null,null,null,null,"Edad",null,null,null,null,null,null,null,null,null,null,null,null,null,null,null,null,null,null,null,null,null,null,null,9,null,null,0.3,23,5,null,null,null,null,null,null,null,null,null,0.09]
[null,null,null,null,null,null,null,null,null,null,null,null,null,null,null,null,null,null,null,null,null,null,null,null,null,null,null,null,null,null,null,null,null,null,null,null,null,null,null,null,null,null,null,10,null,null,0.32,24,6,null,null,null,null,null,null,null,null,null,0.1]
[null,null,null,null,null,null,null,null,null,null,null,null,null,null,null,null,null,null,null,null,null,null,null,null,null,null,null,null,null,null,null,null,null,null,null,null,null,null,null,null,null,null,null,11,null,null,0.34,25,null,null,null,null,null,null,null,null,null,null,0.11]
[null,null,null,"Aportaciones",null,null,{"$f":"IF(D12<AM29,CONCATENATE(\"La aportación mínima es de\",\" \",AM29,\" \",\"pesos\",\" \",AN29),IF(D12>AM36,CONCATENATE(\"La aportación máxima es de\",\" \",AM36,\" \",\"pesos\",\" \",AN36),\"\"))","v":""},null,null,null,null,null,null,null,null,null,null,null,null,"Características",null,null,null,null,null,null,null,null,null,null,null,null,null,null,null,null,null,null,null,null,null,null,null,12,null,null,0.35,26,{"$f":"+AW9+1","v":7},null,null,null,null,null,null,null,null,null,0.12]
[null,null,null,1500,null,null,null,null,null,null,"Mensual",null,null,null,null,null,null,null,null,"Fideicomiso Art. 151 (Antes Art. 176)",null,null,null,null,null,null,null,null,null,null,null,null,null,null,null,null,{"$f":"VLOOKUP(T12,$AO$4:$AQ$6,3,0)","v":151},null,null,null,null,null,null,13,null,null,null,27,8]
[null,null,null,"Aportación",null,null,null,null,null,null,"Periodicidad",null,null,null,null,null,null,null,null,"Tipo de Plan",null,null,null,null,null,null,null,null,null,null,null,null,null,null,null,null,null,null,null,null,null,null,null,14,null,null,null,28,9]
[null,null,null,null,null,null,null,null,null,null,null,null,null,null,null,null,null,null,null,null,null,null,null,null,null,null,null,null,null,null,null,null,null,null,null,null,null,null,null,null,null,null,null,15,null,null,null,29,10]
[null,null,null,21,null,null,null,null,null,null,"Si",null,null,null,null,null,null,null,null,0.3,null,null,null,null,null,null,null,null,null,null,null,null,null,null,null,null,"No",null,null,null,null,null,null,16,null,null,null,30,11]
[null,null,null,"Plazo Comprometido",null,null,null,null,null,null,"Incremento con Inflación",null,null,null,null,null,null,null,null,"% ISR del Cliente",null,null,null,null,null,null,null,null,null,null,null,null,null,null,null,null,250000,null,null,null,null,null,null,17,null,null,null,31,12]
[null,null,{"$f":"+IF(AND(T7>=56,T7<70),\"El plazo comprometido máximo que puede elegir es \"&AL21,IF(T7>=70,\"El plazo comprometido máximo que puede elegir es \"&AL22,\"\"))","v":""},null,null,null,null,null,null,null,null,null,null,null,null,null,null,null,null,null,null,null,null,null,null,null,null,null,null,null,null,null,null,null,null,null,500000,null,null,null,null,null,null,18,null,null,{"$f":"+AU8+1%","v":0.31},32,13]
[null,null,null,null,null,null,null,null,null,null,null,null,null,null,null,null,null,null,null,null,null,null,null,null,null,null,null,null,null,null,null,null,null,null,null,null,750000,null,null,null,null,null,null,19,null,null,null,33,14]
[null,null,null,"Supuesto de Rendimiento",null,null,null,null,null,null,null,null,null,null,null,null,null,null,null,"Resumen",null,null,null,null,null,null,null,null,null,null,null,null,null,null,null,null,1000000,null,null,"Hombre",null,null,null,20,null,null,null,34,15]
[null,null,null,0.12,null,null,null,null,null,null,null,null,null,null,null,null,null,null,null,null,null,null,null,null,null,null,null,null,null,null,null,null,null,null,null,null,null,null,null,"Mujer",null,null,null,21,null,null,null,35,16]
[null,null,null,"Rendimientos promedio de 10 años",null,null,null,null,null,null,null,null,null,null,null,null,null,null,null,{"$f":"IF(D12=\"\",\"\",VLOOKUP(D15,$C$33:$O$57,9,0))","v":642012.76457076089},null,null,null,null,null,null,{"$f":"IF(OR(T21=\"\",T7=\"\"),\"\",VLOOKUP((D15+T7),$E$33:$P$57,12,0))","v":1611180.7343506103},null,null,null,null,null,null,null,null,null,{"$f":"+T7+D15","v":65},{"$f":"80-T7","v":36},"entre 64 y 70años",null,null,null,null,22,null,null,null,36,17]
[null,null,null,null,null,"Conservador",null,null,null,"Balanceado",null,null,null,"Dinámico",null,null,null,null,null,"Aportaciones Acumuladas",null,null,null,null,null,null,{"$f":"CONCATENATE(\"Saldo proyectado a edad\",\" \",D15+T7)","v":"Saldo proyectado a edad 65"},null,null,null,null,null,null,null,null,{"$f":"+U43","v":0},{"$f":"80-T7","v":36},{"$f":"+MAX(AK22,10)","v":36},"70+",null,null,null,null,23,null,null,null,37,18]
[null,null,null,"MXN",null,{"$f":"+PLUS!Q3","v":5.3249445025146017E-2},null,null,null,{"$f":"+PLUS!Q4","v":3.5755556202731978E-2},null,null,null,{"$f":"+PLUS!Q5","v":2.660171376262651E-2},null,null,null,null,null,null,null,null,null,null,null,null,null,null,null,null,null,null,null,null,null,null,"APORRTACION MINIMA",null,null,null,null,null,null,24,null,null,null,38]
[null,null,null,"DL",null,{"$f":"+PLUS!Q7","v":5.4004451215870129E-2},null,null,null,{"$f":"+PLUS!Q9","v":7.6722635717100057E-2},null,null,null,{"$f":"+PLUS!Q11","v":0.16361327285762312},null,null,null,null,null,{"$f":"IF(D12=\"\",\"\",Bono!T26)","v":0.55000000000000004},null,null,null,null,null,null,{"$f":"IF(T24=\"\",\"\",Bono!T23*Bono!T26)","v":9900},null,null,null,null,null,null,null,null,null,"Mensual",12,1500,"mensuales",null,null,null,25,null,null,null,39]
[null,null,null,"EUR",null,{"$f":"+PLUS!Q13","v":4.5842632788561287E-2},null,null,null,{"$f":"+PLUS!Q15","v":4.769725978342175E-2},null,null,null,{"$f":"+PLUS!Q17","v":8.4681722070706816E-2},null,null,null,null,null,"% de Bono Acreditado",null,null,null,null,null,null,"Bono Acreditado",null,null,null,null,null,null,null,null,null,"Trimestral",4,4500,"trimestrales",null,null,null,null,null,null,null,40]
[null,null,null,"Alternativas Dedicadas 1",null,null,null,null,null,null,null,null,null,null,null,null,null,null,null,null,null,null,null,null,null,null,null,null,null,null,null,null,null,null,null,null,"Semestral",2,9000,"semestrales",null,null,null,null,null,null,null,41]
[null,null,null,"China",null,"BRIC",null,"ORO",null,"Brazil ",null,"Mercados Emergentes",null,null,"Pesos Revaluables",null,null,null,null,null,null,null,null,null,null,null,null,null,null,null,null,null,null,null,null,null,"Anual",1,18000,"anuales",null,null,null,null,null,null,null,42]
[null,null,null,{"$f":"+PLUS!Q19","v":3.9540312975210934E-2},null,{"$f":"+PLUS!Q21","v":5.6735928643018241E-2},null,{"$f":"+PLUS!Q22","v":4.9490088818874976E-2},null,{"$f":"+PLUS!Q18","v":-3.5854936753016873E-3},null,{"$f":"+PLUS!Q20","v":5.8762996038475457E-2},null,null,{"$f":"+PLUS!Q23","v":5.7860783494025368E-2},null,null,null,null,null,null,null,null,null,null,null,null,null,null,null,null,null,null,null,null,null,null,null,null,null,null,null,null,null,null,null,null,{"$f":"+AV27+1","v":43}]
[null,null,null,null,null,"Clean Energy",null,"ACWI",null,"Nasdaq",null,"Socially Responsible",null,null,null,null,null,null,null,null,null,null,null,null,null,null,null,null,null,null,null,null,null,null,null,null,null,null,{"$f":"VLOOKUP(K12,AK24:AN27,3,0)","v":1500},{"$f":"VLOOKUP(K12,AK24:AN27,4,0)","v":"mensuales"},null,null,null,null,null,null,null,44]
[null,null,null,null,null,{"$f":"+Pat!O58","v":0.34218687518848451},null,{"$f":"+Pat!O3","v":0.18191827676688085},null,{"$f":"+Pat!O21","v":0.3516336618699889},null,{"$f":"+Pat!O59","v":0.17865712359640096},null,null,null,null,null,null,null,null,null,null,null,null,null,null,null,null,null,null,null,null,null,null,null,null,"APORTACION MAXIMA",null,null,null,null,null,null,null,null,null,null,45]
[null,null,null,null,null,null,null,null,null,null,null,null,null,null,null,null,null,null,null,null,null,null,null,null,null,null,null,null,null,null,null,null,null,null,null,null,"Mensual",12,12500,"mensuales",null,null,null,null,null,null,null,46]
[null,null,"Año",null,"Edad",null,"Aportación Anual",null,null,null,"Aportación Acumulada",null,null,null,null,"Saldo del Fondo",null,null,null,"Saldo Disponible",null,null,null,"Saldo disponible neto de retención de impuestos de Allianz",null,null,null,null,{"$f":"IF(AK12=\"\",\"\",IF(AK12=$AK$48,\"\",Resumen!AC8))","v":"Beneficio Deducibilidad Acumulado Re-invertido a tasa 12%"},null,null,null,null,null,null,null,"Trimestral",4,37500,"trimestrales",null,"Retiros","Año de Retiro",null,null,null,null,47]
[null,null,1,null,{"$f":"IF(T7=\" \",\" \",T7+1)","v":45},null,{"$f":"IF($K$12=\"\",\"\",VLOOKUP(C33,'No Deducible 93'!$AG$25:$AH$49,2,0))","v":18000},null,null,null,{"$f":"IF(G33=\"\",\"\",G33)","v":18000},null,null,null,null,{"$f":"IF(G33=\"\",\"\",VLOOKUP(C33*12,Resumen!$C$5:$F$408,VLOOKUP('OptiMaxx plus'!$AK$12,'OptiMaxx plus'!$AK$46:$AL$48,2,0)+1,0))","v":28058.033355665393},null,null,null,{"$f":"IF(K33=\"\",\"\",IF(C33=$D$15,P33,VLOOKUP(C33*12,Resumen!$H$5:$K$408,$AN$46+1,0)))","v":0},null,null,null,{"$f":"IF(P33=\"\",\"\",VLOOKUP(C33,Resumen!$M$5:$R$29,'OptiMaxx plus'!$AN$46+2,0))","v":0},null,null,null,null,{"$f":"IF(C33=\"\",\"\",IF(AC32=\"\",\"\",VLOOKUP(C33,Resumen!$T$5:$AB$29,9,0)))","v":5400},null,null,null,null,null,null,null,"Semestral",2,75000,"semestrales",null,"Si",2,null,null,null,null,48]
[null,null,{"$f":"IF(C33=\"\",\"\",IF((C33+1)=($D$15+1),\"\",(C33+1)))","v":2},null,{"$f":"+IF(C34=\"\",\"\",E33+1)","v":46},null,{"$f":"IF(E34=\"\",\"\",VLOOKUP(C34,'No Deducible 93'!$AG$25:$AH$49,2,0))","v":18897.6636},null,null,null,{"$f":"IF(G34=\"\",\"\",+G34+K33)","v":36897.6636},null,null,null,null,{"$f":"IF(G34=\"\",\"\",VLOOKUP(C34*12,Resumen!$C$5:$F$408,VLOOKUP('OptiMaxx plus'!$AK$12,'OptiMaxx plus'!$AK$46:$AL$48,2,0)+1,0))","v":48327.880592882502},null,null,null,{"$f":"IF(K34=\"\",\"\",IF(C34=$D$15,P34,VLOOKUP(C34*12,Resumen!$H$5:$K$408,$AN$46+1,0)))","v":8962.8917063106437},null,null,null,{"$f":"IF(P34=\"\",\"\",VLOOKUP(C34,Resumen!$M$5:$R$29,'OptiMaxx plus'!$AN$46+3,0))","v":7170.3133650485152},null,null,null,null,{"$f":"IF(C34=\"\",\"\",IF(AC33=\"\",\"\",VLOOKUP(C34,Resumen!$T$5:$AB$29,9,0)))","v":11717.299080000001},null,null,null,null,null,null,null,"Anual",1,150000,"anuales",null,"No",3,null,null,null,null,49]
[null,null,{"$f":"IF(C34=\"\",\"\",IF((C34+1)=($D$15+1),\"\",(C34+1)))","v":3},null,{"$f":"+IF(C35=\"\",\"\",E34+1)","v":47},null,{"$f":"IF(E35=\"\",\"\",VLOOKUP(C35,'No Deducible 93'!$AG$25:$AH$49,2,0))","v":19840.093863264719},null,null,null,{"$f":"IF(G35=\"\",\"\",+G35+K34)","v":56737.757463264716},null,null,null,null,{"$f":"IF(G35=\"\",\"\",VLOOKUP(C35*12,Resumen!$C$5:$F$408,VLOOKUP('OptiMaxx plus'!$AK$12,'OptiMaxx plus'!$AK$46:$AL$48,2,0)+1,0))","v":70676.857169748546},null,null,null,{"$f":"IF(K35=\"\",\"\",IF(C35=$D$15,P35,VLOOKUP(C35*12,Resumen!$H$5:$K$408,$AN$46+1,0)))","v":29198.827773761994},null,null,null,{"$f":"IF(P35=\"\",\"\",VLOOKUP(C35,Resumen!$M$5:$R$29,'OptiMaxx plus'!$AN$46+3,0))","v":23359.062219009596},null,null,null,null,{"$f":"IF(C35=\"\",\"\",IF(AC34=\"\",\"\",VLOOKUP(C35,Resumen!$T$5:$AB$29,9,0)))","v":19075.403128579419},null,null,null,null,null,null,null,null,null,null,null,null,null,4,null,null,null,null,50]
[null,null,4,null,48,null,{"$f":"IF(E36=\"\",\"\",VLOOKUP(C36,'No Deducible 93'!$AG$25:$AH$49,2,0))","v":20829.523312244502},null,null,null,77567.280775509222,null,null,null,null,{"$f":"IF(G36=\"\",\"\",VLOOKUP(C36*12,Resumen!$C$5:$F$408,VLOOKUP('OptiMaxx plus'!$AK$12,'OptiMaxx plus'!$AK$46:$AL$48,2,0)+1,0))","v":96219.742941176723},null,null,null,{"$f":"IF(K36=\"\",\"\",IF(C36=$D$15,P36,VLOOKUP(C36*12,Resumen!$H$5:$K$408,$AN$46+1,0)))","v":52512.05163397421},null,null,null,{"$f":"IF(P36=\"\",\"\",VLOOKUP(C36,Resumen!$M$5:$R$29,'OptiMaxx plus'!$AN$46+3,0))","v":42009.641307179372},null,null,null,null,{"$f":"IF(C36=\"\",\"\",IF(AC35=\"\",\"\",VLOOKUP(C36,Resumen!$T$5:$AB$29,9,0)))","v":27613.308497682301},null,null,null,null,null,null,null,null,null,{"$f":"VLOOKUP(K12,AK31:AN34,3,FALSE)","v":12500},{"$f":"VLOOKUP(K12,AK31:AN34,4,FALSE)","v":"mensuales"},null,null,5,null,null,null,null,51]
[null,null,5,null,49,null,{"$f":"IF(E37=\"\",\"\",VLOOKUP(C37,'No Deducible 93'!$AG$25:$AH$49,2,0))","v":21868.295805730799},null,null,null,99435.57658124002,null,null,null,null,{"$f":"IF(G37=\"\",\"\",VLOOKUP(C37*12,Resumen!$C$5:$F$408,VLOOKUP('OptiMaxx plus'!$AK$12,'OptiMaxx plus'!$AK$46:$AL$48,2,0)+1,0))","v":125332.71184173276},null,null,null,{"$f":"IF(K37=\"\",\"\",IF(C37=$D$15,P37,VLOOKUP(C37*12,Resumen!$H$5:$K$408,$AN$46+1,0)))","v":79272.16449305517},null,null,null,{"$f":"IF(P37=\"\",\"\",VLOOKUP(C37,Resumen!$M$5:$R$29,'OptiMaxx plus'!$AN$46+3,0))","v":63417.731594444136},null,null,null,null,{"$f":"IF(C37=\"\",\"\",IF(AC36=\"\",\"\",VLOOKUP(C37,Resumen!$T$5:$AB$29,9,0)))","v":37487.394259123415},null,null,null,null,null,null,null,null,null,null,null,null,null,6,null,null,null,null,52]
[null,null,6,null,50,null,{"$f":"IF(E38=\"\",\"\",VLOOKUP(C38,'No Deducible 93'!$AG$25:$AH$49,2,0))","v":22958.872091221754},null,null,null,122394.44867246177,null,null,null,null,{"$f":"IF(G38=\"\",\"\",VLOOKUP(C38*12,Resumen!$C$5:$F$408,VLOOKUP('OptiMaxx plus'!$AK$12,'OptiMaxx plus'!$AK$46:$AL$48,2,0)+1,0))","v":158433.33408930915},null,null,null,{"$f":"IF(K38=\"\",\"\",IF(C38=$D$15,P38,VLOOKUP(C38*12,Resumen!$H$5:$K$408,$AN$46+1,0)))","v":109889.78775788537},null,null,null,{"$f":"IF(P38=\"\",\"\",VLOOKUP(C38,Resumen!$M$5:$R$29,'OptiMaxx plus'!$AN$46+3,0))","v":87911.830206308296},null,null,null,null,{"$f":"IF(C38=\"\",\"\",IF(AC37=\"\",\"\",VLOOKUP(C38,Resumen!$T$5:$AB$29,9,0)))","v":48873.54319758476},null,null,null,null,null,null,null,null,null,null,null,null,null,7,null,null,null,null,53]
[null,null,7,null,51,null,{"$f":"IF(E39=\"\",\"\",VLOOKUP(C39,'No Deducible 93'!$AG$25:$AH$49,2,0))","v":24103.835634185401},null,null,null,146498.28430664717,null,null,null,null,{"$f":"IF(G39=\"\",\"\",VLOOKUP(C39*12,Resumen!$C$5:$F$408,VLOOKUP('OptiMaxx plus'!$AK$12,'OptiMaxx plus'!$AK$46:$AL$48,2,0)+1,0))","v":195985.00427296513},null,null,null,{"$f":"IF(K39=\"\",\"\",IF(C39=$D$15,P39,VLOOKUP(C39*12,Resumen!$H$5:$K$408,$AN$46+1,0)))","v":144820.96937585651},null,null,null,{"$f":"IF(P39=\"\",\"\",VLOOKUP(C39,Resumen!$M$5:$R$29,'OptiMaxx plus'!$AN$46+3,0))","v":115856.77550068521},null,null,null,null,{"$f":"IF(C39=\"\",\"\",IF(AC38=\"\",\"\",VLOOKUP(C39,Resumen!$T$5:$AB$29,9,0)))","v":61969.51907155056},null,null,null,null,null,null,null,null,null,null,null,null,null,8,null,null,null,null,54]
[null,null,8,null,52,null,{"$f":"IF(E40=\"\",\"\",VLOOKUP(C40,'No Deducible 93'!$AG$25:$AH$49,2,0))","v":25305.898738029355},null,null,null,171804.18304467652,null,null,null,null,{"$f":"IF(G40=\"\",\"\",VLOOKUP(C40*12,Resumen!$C$5:$F$408,VLOOKUP('OptiMaxx plus'!$AK$12,'OptiMaxx plus'!$AK$46:$AL$48,2,0)+1,0))","v":238501.83716147623},null,null,null,{"$f":"IF(K40=\"\",\"\",IF(C40=$D$15,P40,VLOOKUP(C40*12,Resumen!$H$5:$K$408,$AN$46+1,0)))","v":184572.05662850902},null,null,null,{"$f":"IF(P40=\"\",\"\",VLOOKUP(C40,Resumen!$M$5:$R$29,'OptiMaxx plus'!$AN$46+3,0))","v":147657.64530280721},null,null,null,null,{"$f":"IF(C40=\"\",\"\",IF(AC39=\"\",\"\",VLOOKUP(C40,Resumen!$T$5:$AB$29,9,0)))","v":76997.630981545444},null,null,null,null,null,null,null,null,null,null,null,null,null,9,{"$f":"1+AR16","v":18},null,null,{"$f":"+AU17+1%","v":0.32},55,7]
[null,null,9,null,53,null,{"$f":"IF(E41=\"\",\"\",VLOOKUP(C41,'No Deducible 93'!$AG$25:$AH$49,2,0))","v":26567.908969274624},null,null,null,198372.09201395116,null,null,null,null,{"$f":"IF(G41=\"\",\"\",VLOOKUP(C41*12,Resumen!$C$5:$F$408,VLOOKUP('OptiMaxx plus'!$AK$12,'OptiMaxx plus'!$AK$46:$AL$48,2,0)+1,0))","v":286554.08035211114},null,null,null,{"$f":"IF(K41=\"\",\"\",IF(C41=$D$15,P41,VLOOKUP(C41*12,Resumen!$H$5:$K$408,$AN$46+1,0)))","v":229705.08442443353},null,null,null,{"$f":"IF(P41=\"\",\"\",VLOOKUP(C41,Resumen!$M$5:$R$29,'OptiMaxx plus'!$AN$46+3,0))","v":183764.06753954684},null,null,null,null,{"$f":"IF(C41=\"\",\"\",IF(AC40=\"\",\"\",VLOOKUP(C41,Resumen!$T$5:$AB$29,9,0)))","v":94207.7193901133},null,null,null,null,null,null,null,750000,null,null,null,null,null,10,null,null,null,null,56]
[null,null,10,null,54,null,{"$f":"IF(E42=\"\",\"\",VLOOKUP(C42,'No Deducible 93'!$AG$25:$AH$49,2,0))","v":27892.855903154141},null,null,null,226264.94791710531,null,null,null,null,{"$f":"IF(G42=\"\",\"\",VLOOKUP(C42*12,Resumen!$C$5:$F$408,VLOOKUP('OptiMaxx plus'!$AK$12,'OptiMaxx plus'!$AK$46:$AL$48,2,0)+1,0))","v":340774.09802398307},null,null,null,{"$f":"IF(K42=\"\",\"\",IF(C42=$D$15,P42,VLOOKUP(C42*12,Resumen!$H$5:$K$408,$AN$46+1,0)))","v":280843.73327727464},null,null,null,{"$f":"IF(P42=\"\",\"\",VLOOKUP(C42,Resumen!$M$5:$R$29,'OptiMaxx plus'!$AN$46+3,0))","v":224674.98662181973},null,null,null,null,{"$f":"IF(C42=\"\",\"\",IF(AC41=\"\",\"\",VLOOKUP(C42,Resumen!$T$5:$AB$29,9,0)))","v":113880.50248787315},null,null,null,null,null,null,null,null,null,null,null,null,null,11,{"$f":"1+AR40","v":19},null,null,{"$f":"+AU40+1%","v":0.33},57,8,"Aportaciones Adicionales"]
[null,null,11,null,55,null,{"$f":"IF(E43=\"\",\"\",VLOOKUP(C43,'No Deducible 93'!$AG$25:$AH$49,2,0))","v":29283.878205615616},null,null,null,255548.82612272093,null,null,null,null,{"$f":"IF(G43=\"\",\"\",VLOOKUP(C43*12,Resumen!$C$5:$F$408,VLOOKUP('OptiMaxx plus'!$AK$12,'OptiMaxx plus'!$AK$46:$AL$48,2,0)+1,0))","v":401862.98574336874},null,null,null,{"$f":"IF(K43=\"\",\"\",IF(C43=$D$15,P43,VLOOKUP(C43*12,Resumen!$H$5:$K$408,$AN$46+1,0)))","v":338679.91683311237},null,null,null,{"$f":"IF(P43=\"\",\"\",VLOOKUP(C43,Resumen!$M$5:$R$29,'OptiMaxx plus'!$AN$46+3,0))","v":270943.93346648989},null,null,null,null,{"$f":"IF(C43=\"\",\"\",IF(AC42=\"\",\"\",VLOOKUP(C43,Resumen!$T$5:$AB$29,9,0)))","v":136331.32624810262},null,null,null,null,null,null,null,null,null,null,null,null,null,12,null,null,null,null,58]
[null,null,12,null,56,null,{"$f":"IF(E44=\"\",\"\",VLOOKUP(C44,'No Deducible 93'!$AG$25:$AH$49,2,0))","v":30744.271068505306},null,null,null,286293.09719122626,null,null,null,null,{"$f":"IF(G44=\"\",\"\",VLOOKUP(C44*12,Resumen!$C$5:$F$408,VLOOKUP('OptiMaxx plus'!$AK$12,'OptiMaxx plus'!$AK$46:$AL$48,2,0)+1,0))","v":470597.88254592638},null,null,null,{"$f":"IF(K44=\"\",\"\",IF(C44=$D$15,P44,VLOOKUP(C44*12,Resumen!$H$5:$K$408,$AN$46+1,0)))","v":403981.06508414942},null,null,null,{"$f":"IF(P44=\"\",\"\",VLOOKUP(C44,Resumen!$M$5:$R$29,'OptiMaxx plus'!$AN$46+3,0))","v":323184.85206731956},null,null,null,null,{"$f":"IF(C44=\"\",\"\",IF(AC43=\"\",\"\",VLOOKUP(C44,Resumen!$T$5:$AB$29,9,0)))","v":161914.36671842652},null,null,null,null,null,null,null,null,null,null,null,null,null,13,null,null,null,null,59]
[null,null,13,null,57,null,{"$f":"IF(E45=\"\",\"\",VLOOKUP(C45,'No Deducible 93'!$AG$25:$AH$49,2,0))","v":32277.494015545879},null,null,null,318570.59120677214,null,null,null,null,{"$f":"IF(G45=\"\",\"\",VLOOKUP(C45*12,Resumen!$C$5:$F$408,VLOOKUP('OptiMaxx plus'!$AK$12,'OptiMaxx plus'!$AK$46:$AL$48,2,0)+1,0))","v":547840.05345493054},null,null,null,{"$f":"IF(K45=\"\",\"\",IF(C45=$D$15,P45,VLOOKUP(C45*12,Resumen!$H$5:$K$408,$AN$46+1,0)))","v":477598.17633465235},null,null,null,{"$f":"IF(P45=\"\",\"\",VLOOKUP(C45,Resumen!$M$5:$R$29,'OptiMaxx plus'!$AN$46+3,0))","v":382078.5410677219},null,null,null,null,{"$f":"IF(C45=\"\",\"\",IF(AC44=\"\",\"\",VLOOKUP(C45,Resumen!$T$5:$AB$29,9,0)))","v":191027.33892930151},null,null,null,null,null,null,null,null,null,null,null,null,null,14,null,null,null,null,60]
[null,null,14,null,58,null,{"$f":"IF(E46=\"\",\"\",VLOOKUP(C46,'No Deducible 93'!$AG$25:$AH$49,2,0))","v":33887.179097599954},null,null,null,352457.77030437207,null,null,null,null,{"$f":"IF(G46=\"\",\"\",VLOOKUP(C46*12,Resumen!$C$5:$F$408,VLOOKUP('OptiMaxx plus'!$AK$12,'OptiMaxx plus'!$AK$46:$AL$48,2,0)+1,0))","v":634543.82325412438},null,null,null,{"$f":"IF(K46=\"\",\"\",IF(C46=$D$15,P46,VLOOKUP(C46*12,Resumen!$H$5:$K$408,$AN$46+1,0)))","v":560474.7186391002},null,null,null,{"$f":"IF(P46=\"\",\"\",VLOOKUP(C46,Resumen!$M$5:$R$29,'OptiMaxx plus'!$AN$46+3,0))","v":448379.7749112802},null,null,null,null,{"$f":"IF(C46=\"\",\"\",IF(AC45=\"\",\"\",VLOOKUP(C46,Resumen!$T$5:$AB$29,9,0)))","v":224116.7733300977},null,null,null,null,null,null,null,151,2,null,{"$f":"VLOOKUP(AK12,$AK$46:$AL$48,2,0)","v":2},null,null,15,null,null,null,null,61]
[null,null,15,null,59,null,{"$f":"IF(E47=\"\",\"\",VLOOKUP(C47,'No Deducible 93'!$AG$25:$AH$49,2,0))","v":35577.139496633084},null,null,null,388034.90980100515,null,null,null,null,{"$f":"IF(G47=\"\",\"\",VLOOKUP(C47*12,Resumen!$C$5:$F$408,VLOOKUP('OptiMaxx plus'!$AK$12,'OptiMaxx plus'!$AK$46:$AL$48,2,0)+1,0))","v":731766.45079441695},null,null,null,{"$f":"IF(K47=\"\",\"\",IF(C47=$D$15,P47,VLOOKUP(C47*12,Resumen!$H$5:$K$408,$AN$46+1,0)))","v":653656.4698873267},null,null,null,{"$f":"IF(P47=\"\",\"\",VLOOKUP(C47,Resumen!$M$5:$R$29,'OptiMaxx plus'!$AN$46+3,0))","v":522925.1759098614},null,null,null,null,{"$f":"IF(C47=\"\",\"\",IF(AC46=\"\",\"\",VLOOKUP(C47,Resumen!$T$5:$AB$29,9,0)))","v":261683.92797869939},null,null,null,null,null,null,null,185,3,null,null,null,null,16,null,null,null,null,62]
[null,null,16,null,60,null,{"$f":"IF(E48=\"\",\"\",VLOOKUP(C48,'No Deducible 93'!$AG$25:$AH$49,2,0))","v":37351.378558758071},null,null,null,425386.28835976322,null,null,null,null,{"$f":"IF(G48=\"\",\"\",VLOOKUP(C48*12,Resumen!$C$5:$F$408,VLOOKUP('OptiMaxx plus'!$AK$12,'OptiMaxx plus'!$AK$46:$AL$48,2,0)+1,0))","v":840679.04245914961},null,null,null,{"$f":"IF(K48=\"\",\"\",IF(C48=$D$15,P48,VLOOKUP(C48*12,Resumen!$H$5:$K$408,$AN$46+1,0)))","v":758302.39505079889},null,null,null,{"$f":"IF(P48=\"\",\"\",VLOOKUP(C48,Resumen!$M$5:$R$29,'OptiMaxx plus'!$AN$46+3,0))","v":606641.91604063916},null,null,null,null,{"$f":"IF(C48=\"\",\"\",IF(AC47=\"\",\"\",VLOOKUP(C48,Resumen!$T$5:$AB$29,9,0)))","v":304291.41290377075},null,null,null,null,null,null,null,93,1,null,null,null,null,17,null,null,null,null,63]
[null,null,17,null,61,null,{"$f":"IF(E49=\"\",\"\",VLOOKUP(C49,'No Deducible 93'!$AG$25:$AH$49,2,0))","v":39214.099277759051},null,null,null,464600.38763752225,null,null,null,null,{"$f":"IF(G49=\"\",\"\",VLOOKUP(C49*12,Resumen!$C$5:$F$408,VLOOKUP('OptiMaxx plus'!$AK$12,'OptiMaxx plus'!$AK$46:$AL$48,2,0)+1,0))","v":962578.61373554671},null,null,null,{"$f":"IF(K49=\"\",\"\",IF(C49=$D$15,P49,VLOOKUP(C49*12,Resumen!$H$5:$K$408,$AN$46+1,0)))","v":875696.66942056909},null,null,null,{"$f":"IF(P49=\"\",\"\",VLOOKUP(C49,Resumen!$M$5:$R$29,'OptiMaxx plus'!$AN$46+3,0))","v":700557.33553645527},null,null,null,null,{"$f":"IF(C49=\"\",\"\",IF(AC48=\"\",\"\",VLOOKUP(C49,Resumen!$T$5:$AB$29,9,0)))","v":352570.612235551},null,null,null,null,null,null,null,null,null,null,null,null,null,18,null,null,null,null,64]
[null,null,18,null,62,null,{"$f":"IF(E50=\"\",\"\",VLOOKUP(C50,'No Deducible 93'!$AG$25:$AH$49,2,0))","v":41169.714251560748},null,null,null,505770.10188908299,null,null,null,null,{"$f":"IF(G50=\"\",\"\",VLOOKUP(C50*12,Resumen!$C$5:$F$408,VLOOKUP('OptiMaxx plus'!$AK$12,'OptiMaxx plus'!$AK$46:$AL$48,2,0)+1,0))","v":1098901.4192424612},null,null,null,{"$f":"IF(K50=\"\",\"\",IF(C50=$D$15,P50,VLOOKUP(C50*12,Resumen!$H$5:$K$408,$AN$46+1,0)))","v":1007261.9680630495},null,null,null,{"$f":"IF(P50=\"\",\"\",VLOOKUP(C50,Resumen!$M$5:$R$29,'OptiMaxx plus'!$AN$46+3,0))","v":805809.57445043966},null,null,null,null,{"$f":"IF(C50=\"\",\"\",IF(AC49=\"\",\"\",VLOOKUP(C50,Resumen!$T$5:$AB$29,9,0)))","v":407229.99997928535},null,null,null,null,null,null,null,null,null,null,null,null,null,19,null,null,null,null,65]
[null,null,19,null,63,null,{"$f":"IF(E51=\"\",\"\",VLOOKUP(C51,'No Deducible 93'!$AG$25:$AH$49,2,0))","v":43222.856135228933},null,null,null,548992.95802431193,null,null,null,null,{"$f":"IF(G51=\"\",\"\",VLOOKUP(C51*12,Resumen!$C$5:$F$408,VLOOKUP('OptiMaxx plus'!$AK$12,'OptiMaxx plus'!$AK$46:$AL$48,2,0)+1,0))","v":1251237.684159406},null,null,null,{"$f":"IF(K51=\"\",\"\",IF(C51=$D$15,P51,VLOOKUP(C51*12,Resumen!$H$5:$K$408,$AN$46+1,0)))","v":1154574.1543073501},null,null,null,{"$f":"IF(P51=\"\",\"\",VLOOKUP(C51,Resumen!$M$5:$R$29,'OptiMaxx plus'!$AN$46+3,0))","v":923659.32344588009},null,null,null,null,{"$f":"IF(C51=\"\",\"\",IF(AC50=\"\",\"\",VLOOKUP(C51,Resumen!$T$5:$AB$29,9,0)))","v":469064.45681736828},null,null,null,null,null,null,null,null,null,null,null,null,null,20,null,null,null,null,66]
[null,null,20,null,64,null,{"$f":"IF(E52=\"\",\"\",VLOOKUP(C52,'No Deducible 93'!$AG$25:$AH$49,2,0))","v":45378.388615264026},null,null,null,594371.3466395759,null,null,null,null,{"$f":"IF(G52=\"\",\"\",VLOOKUP(C52*12,Resumen!$C$5:$F$408,VLOOKUP('OptiMaxx plus'!$AK$12,'OptiMaxx plus'!$AK$46:$AL$48,2,0)+1,0))","v":1421347.8839138579},null,null,null,{"$f":"IF(K52=\"\",\"\",IF(C52=$D$15,P52,VLOOKUP(C52*12,Resumen!$H$5:$K$408,$AN$46+1,0)))","v":1319378.5139822031},null,null,null,{"$f":"IF(P52=\"\",\"\",VLOOKUP(C52,Resumen!$M$5:$R$29,'OptiMaxx plus'!$AN$46+3,0))","v":1055502.8111857625},null,null,null,null,{"$f":"IF(C52=\"\",\"\",IF(AC51=\"\",\"\",VLOOKUP(C52,Resumen!$T$5:$AB$29,9,0)))","v":538965.70822003181},null,null,null,null,null,null,null,null,null,null,null,null,null,21,null,null,null,null,67]
[null,null,21,null,65,null,{"$f":"IF(E53=\"\",\"\",VLOOKUP(C53,'No Deducible 93'!$AG$25:$AH$49,2,0))","v":47641.417931184966},null,null,null,642012.76457076089,null,null,null,null,{"$f":"IF(G53=\"\",\"\",VLOOKUP(C53*12,Resumen!$C$5:$F$408,VLOOKUP('OptiMaxx plus'!$AK$12,'OptiMaxx plus'!$AK$46:$AL$48,2,0)+1,0))","v":1611180.7343506103},null,null,null,{"$f":"IF(K53=\"\",\"\",IF(C53=$D$15,P53,VLOOKUP(C53*12,Resumen!$H$5:$K$408,$AN$46+1,0)))","v":1611180.7343506103},null,null,null,{"$f":"IF(P53=\"\",\"\",VLOOKUP(C53,Resumen!$M$5:$R$29,'OptiMaxx plus'!$AN$46+3,0))","v":1611180.7343506103},null,null,null,null,{"$f":"IF(C53=\"\",\"\",IF(AC52=\"\",\"\",VLOOKUP(C53,Resumen!$T$5:$AB$29,9,0)))","v":617934.01858579111},null,null,null,null,null,null,null,null,null,null,null,null,null,22,null,null,null,null,68]
[null,null,"",null,"",null,{"$f":"IF(E54=\"\",\"\",VLOOKUP(C54,'No Deducible 93'!$AG$25:$AH$49,2,0))","v":""},null,null,null,"",null,null,null,null,{"$f":"IF(G54=\"\",\"\",VLOOKUP(C54*12,Resumen!$C$5:$F$408,VLOOKUP('OptiMaxx plus'!$AK$12,'OptiMaxx plus'!$AK$46:$AL$48,2,0)+1,0))","v":""},null,null,null,{"$f":"IF(K54=\"\",\"\",IF(C54=$D$15,P54,VLOOKUP(C54*12,Resumen!$H$5:$K$408,$AN$46+1,0)))","v":""},null,null,null,{"$f":"IF(P54=\"\",\"\",VLOOKUP(C54,Resumen!$M$5:$R$29,'OptiMaxx plus'!$AN$46+3,0))","v":""},null,null,null,null,{"$f":"IF(C54=\"\",\"\",IF(AC53=\"\",\"\",VLOOKUP(C54,Resumen!$T$5:$AB$29,9,0)))","v":""},null,null,null,null,null,null,null,null,null,"Conservador","Balanceado","Dinámico",null,null,null,"Conservador","Balanceado","Dinámico",69]
[null,null,"",null,"",null,{"$f":"IF(E55=\"\",\"\",VLOOKUP(C55,'No Deducible 93'!$AG$25:$AH$49,2,0))","v":""},null,null,null,"",null,null,null,null,{"$f":"IF(G55=\"\",\"\",VLOOKUP(C55*12,Resumen!$C$5:$F$408,VLOOKUP('OptiMaxx plus'!$AK$12,'OptiMaxx plus'!$AK$46:$AL$48,2,0)+1,0))","v":""},null,null,null,{"$f":"IF(K55=\"\",\"\",IF(C55=$D$15,P55,VLOOKUP(C55*12,Resumen!$H$5:$K$408,$AN$46+1,0)))","v":""},null,null,null,{"$f":"IF(P55=\"\",\"\",VLOOKUP(C55,Resumen!$M$5:$R$29,'OptiMaxx plus'!$AN$46+3,0))","v":""},null,null,null,null,{"$f":"IF(C55=\"\",\"\",IF(AC54=\"\",\"\",VLOOKUP(C55,Resumen!$T$5:$AB$29,9,0)))","v":""},null,null,null,null,null,null,null,null,"Pesos",{"$f":"D12*VLOOKUP(K12,AK24:AL27,2,FALSE)*F20","v":0},{"$f":"D12*VLOOKUP(K12,AK24:AL27,2,FALSE)*#REF!","v":{"$error":"#REF!"}},{"$f":"D12*VLOOKUP(K12,AK24:AL27,2,FALSE)*#REF!","v":{"$error":"#REF!"}},null,null,"Pesos",{"$f":"IF(OR(AM55=0,AM55>=12000),\"\",\"El monto mínimo para cada fondo debe de ser de 12,000 pesos anuales\")","v":""},{"$error":"#REF!"},{"$error":"#REF!"},70]
[null,null,"",null,"",null,{"$f":"IF(E56=\"\",\"\",VLOOKUP(C56,'No Deducible 93'!$AG$25:$AH$49,2,0))","v":""},null,null,null,"",null,null,null,null,{"$f":"IF(G56=\"\",\"\",VLOOKUP(C56*12,Resumen!$C$5:$F$408,VLOOKUP('OptiMaxx plus'!$AK$12,'OptiMaxx plus'!$AK$46:$AL$48,2,0)+1,0))","v":""},null,null,null,{"$f":"IF(K56=\"\",\"\",IF(C56=$D$15,P56,VLOOKUP(C56*12,Resumen!$H$5:$K$408,$AN$46+1,0)))","v":""},null,null,null,{"$f":"IF(P56=\"\",\"\",VLOOKUP(C56,Resumen!$M$5:$R$29,'OptiMaxx plus'!$AN$46+3,0))","v":""},null,null,null,null,{"$f":"IF(C56=\"\",\"\",IF(AC55=\"\",\"\",VLOOKUP(C56,Resumen!$T$5:$AB$29,9,0)))","v":""},null,null,null,null,null,null,null,null,"Dólares",{"$f":"D12*VLOOKUP(K12,AK24:AL27,2,FALSE)*#REF!","v":{"$error":"#REF!"}},{"$f":"D12*VLOOKUP(K12,AK24:AL27,2,FALSE)*#REF!","v":{"$error":"#REF!"}},{"$f":"D12*VLOOKUP(K12,AK24:AL27,2,FALSE)*N21","v":0},null,null,"Dólares",{"$error":"#REF!"},{"$error":"#REF!"},"",71]
[null,null,"",null,{"$f":"+IF(C57=\"\",\"\",E56+1)","v":""},null,{"$f":"IF(E57=\"\",\"\",VLOOKUP(C57,'No Deducible 93'!$AG$25:$AH$49,2,0))","v":""},null,null,null,"",null,null,null,null,{"$f":"IF(G57=\"\",\"\",VLOOKUP(C57*12,Resumen!$C$5:$F$408,VLOOKUP('OptiMaxx plus'!$AK$12,'OptiMaxx plus'!$AK$46:$AL$48,2,0)+1,0))","v":""},null,null,null,{"$f":"IF(K57=\"\",\"\",IF(C57=$D$15,P57,VLOOKUP(C57*12,Resumen!$H$5:$K$408,$AN$46+1,0)))","v":""},null,null,null,{"$f":"IF(P57=\"\",\"\",VLOOKUP(C57,Resumen!$M$5:$R$29,'OptiMaxx plus'!$AN$46+3,0))","v":""},null,null,null,null,{"$f":"IF(C57=\"\",\"\",IF(AC56=\"\",\"\",VLOOKUP(C57,Resumen!$T$5:$AB$29,9,0)))","v":""},null,null,null,null,null,null,null,null,"Euros",{"$f":"D12*VLOOKUP(K12,AK24:AL27,2,FALSE)*#REF!","v":{"$error":"#REF!"}},{"$f":"D12*VLOOKUP(K12,AK24:AL27,2,FALSE)*#REF!","v":{"$error":"#REF!"}},{"$f":"D12*VLOOKUP(K12,AK24:AL27,2,FALSE)*#REF!","v":{"$error":"#REF!"}},null,null,"Euros",{"$error":"#REF!"},{"$error":"#REF!"},{"$error":"#REF!"},72]
[null,null,{"$f":"CONCATENATE(\"Aportaciones Acumuladas a edad\",\" \",Resumen!AD25)","v":"Aportaciones Acumuladas a edad 65"},null,null,null,null,null,null,null,{"$f":"IF(T7=\"\",\"\",VLOOKUP(Resumen!AD25,'Deducible 151'!$AF$25:$AI$104,4,0))","v":642012.76457076089},null,null,null,null,"Tasa anual proyectada",null,null,null,null,null,null,null,{"$f":"+'Deducible 151'!L20","v":0.12},null,null,null,null,null,null,null,null,null,null,null,null,null,null,null,null,null,null,null,null,null,null,null,73]
[null,null,{"$f":"CONCATENATE(\"Saldo Proyectado a edad\",\" \",Resumen!AD25)","v":"Saldo Proyectado a edad 65"},null,null,null,null,null,null,null,{"$f":"IFERROR(IF(E57=Resumen!AD25,'OptiMaxx plus'!P57,VLOOKUP('OptiMaxx plus'!AK12,Resumen!AD18:AE20,2,0)),\"\")","v":1611180.7343506103},null,null,null,null,{"$f":"IF(AK12=AK48,\"\",CONCATENATE(\"Valor acumulado del beneficio fiscal a edad\",\" \",Resumen!AD23))","v":"Valor acumulado del beneficio fiscal a edad 65"},null,null,null,null,null,null,null,{"$f":"VLOOKUP(T7+D15,$E$33:$AC$57,25,0)","v":617934.01858579111},null,null,null,null,null,null,null,null,null,null,null,null,null,"Revaluables",{"$f":"D12*VLOOKUP(K12,AK24:AL27,2,FALSE)*F24","v":972.08012188566238},"China",{"$f":"D12*VLOOKUP(K12,AK24:AL27,2,FALSE)*N24","v":2945.038911437216},null,null,"Revaluables",{"$f":"IF(OR(AM59=0,AM59>=12000),\"\",\"El monto mínimo para cada fondo debe de ser de 12,000 pesos anuales\")","v":"El monto mínimo para cada fondo debe de ser de 12,000 pesos anuales"},"China",{"$f":"IF(OR(AO59=0,AO59>=12000),\"\",\"El monto mínimo para cada fondo debe de ser de 12,000 pesos anuales\")","v":"El monto mínimo para cada fondo debe de ser de 12,000 pesos anuales"},74]
[null,null,{"$f":"IF(AK12=\"\",\"\",IF(AK12=151,Resumen!AT13,IF(AK12=185,Resumen!AT19,\"\")))","v":"De acuerdo con la Ley del Impuesto Sobre la Renta, el monto total de las deducciones personales no podrá exceder de la cantidad que resulte menor entre 5 UMA´s anuales y el 10% de los ingresos anuales percibidos. El fondo exento a edad 65 será el equivalente a 15 UMA´s anuales (dicha exención se podrá realizar cada año) o 90 UMA´s anuales en una sola exhibición. Sobre excedente se retendrá 20%."},null,null,null,null,null,null,null,null,null,null,null,null,null,null,null,null,null,null,null,null,null,null,null,null,null,null,null,null,null,null,null,null,null,null,"Brasil",{"$f":"D12*VLOOKUP(K12,AK24:AL27,2,FALSE)*F25","v":825.16739019410318},"Mercados Emergentes",{"$f":"D12*VLOOKUP(K12,AK24:AL27,2,FALSE)*N25","v":1524.2709972727228},null,null,"Brasil",{"$f":"IF(OR(AM60=0,AM60>=12000),\"\",\"El monto mínimo para cada fondo debe de ser de 12,000 pesos anuales\")","v":"El monto mínimo para cada fondo debe de ser de 12,000 pesos anuales"},"Mercados Emergentes",{"$f":"IF(OR(AO60=0,AO60>=12000),\"\",\"El monto mínimo para cada fondo debe de ser de 12,000 pesos anuales\")","v":"El monto mínimo para cada fondo debe de ser de 12,000 pesos anuales"},75]
[null,null,null,null,null,null,null,null,null,null,null,null,null,null,null,null,null,null,null,null,null,null,null,null,null,null,null,null,null,null,null,null,null,null,null,null,null,"BRIC",{"$f":"D12*VLOOKUP(K12,AK24:AL27,2,FALSE)*F27","v":{"$error":"#VALUE!"}},"Oro",{"$f":"D12*VLOOKUP(K12,AK24:AL27,2,FALSE)*N26","v":0},null,null,"BRIC",{"$f":"IF(OR(AM61=0,AM61>=12000),\"\",\"El monto mínimo para cada fondo debe de ser de 12,000 pesos anuales\")","v":{"$error":"#VALUE!"}},"Oro",{"$f":"IF(OR(AO61=0,AO61>=12000),\"\",\"El monto mínimo para cada fondo debe de ser de 12,000 pesos anuales\")","v":""}]
[null,null,null,null,null,null,null,null,null,null,null,null,null,null,null,null,null,null,null,null,null,null,null,null,null,null,null,null,null,null,null,null,null,null,null,null,null,null,null,null,null,null,null,null,null,null,null,1]
[null,null,null,{"$f":"+IF(AK12=\"\",\"\",IF(AK12=151,Resumen!AI13,IF(AK12=185,Resumen!AI19,Resumen!AI25)))","v":"Las tasas de crecimiento elegidas tienen fines ilustrativos únicamente. La tasa anual proyectada está expresada antes de cargos. La ganancia real podría ser otra, ya que, debido a la naturaleza de este tipo de inversiones, su rendimiento puede indistintamente subir o bajar. El saldo proyectado se expresa después de los cargos del producto. Si se rescata de forma anticipada el Saldo Sujeto a Retiro, el valor ilustrado le da una estimación de lo que podrá recibir, por lo tanto, para obtener los máximos beneficios de esta inversión, la aportación debería ser realizada por la duración del plazo contratado. En caso de fallecimiento se entregará a los beneficiarios el Saldo del Fondo menos el Bono de fidelidad después de aplicar la retención de impuestos. Dicha retención actualmente es del 20%."},null,null,null,null,null,null,null,null,null,null,null,null,null,null,null,null,null,null,null,null,null,null,null,null,null,null,null,null,null,null,null,null,null,null,null,null,null,"El monto mínimo para cada fondo debe de ser de 12,000 pesos anuales",null,null,null,null,null,2]
[null,null,null,null,null,null,null,null,null,null,null,null,null,null,null,null,null,null,null,null,null,null,null,null,null,null,null,null,null,null,null,null,null,null,null,null,null,null,null,null,null,{"$f":"IFERROR(VLOOKUP(AP63,AS55:AS61,1,FALSE),IFERROR(VLOOKUP(AP63,AT55:AT57,1,FALSE),IFERROR(VLOOKUP(AP63,AU55:AU57,1,FALSE),IFERROR(VLOOKUP(AP63,AU59:AU61,1,FALSE),0))))","v":"El monto mínimo para cada fondo debe de ser de 12,000 pesos anuales"},{"$f":"IF(AP64=0,\"\",\"El monto mínimo para cada fondo debe de ser de 12,000 pesos anuales.\")","v":"El monto mínimo para cada fondo debe de ser de 12,000 pesos anuales."},null,null,null,null,3]
[null,null,null,{"$f":"+IF(AK12=\" \",\" \",IF(AK12=151,Resumen!AO13,IF(AK12=185,Resumen!AO19,Resumen!AO25)))","v":"Todo retiro es acumulable al ingreso del (los) beneficiario(s), por lo que la retención representa un pago provisional de los impuestos. La presente ilustración se ofrece únicamente a modo de guía y no debe ser considerada como un contrato desde el punto de vista legal. Para mayores detalles vea el folleto del cliente y las Condiciones de la Póliza."},null,null,null,null,null,null,null,null,null,null,null,null,null,null,null,null,null,null,null,null,null,null,null,null,null,null,null,null,null,null,null,null,null,null,null,null,null,null,null,null,null,null,null,4]
[null,null,null,null,null,null,null,null,null,null,null,null,null,null,null,null,null,null,null,null,null,null,null,null,null,null,null,null,null,null,null,null,null,null,null,null,null,null,null,null,null,null,null,null,null,null,null,5]
[null,null,null,null,null,null,null,null,null,null,null,null,null,null,null,null,null,null,null,null,null,null,null,null,null,null,null,null,null,null,null,null,null,null,null,null,null,null,null,null,null,null,null,null,null,null,null,6]
[null,null,null,null,null,null,null,null,null,null,null,null,null,null,null,null,null,null,null,null,null,null,null,null,null,null,null,null,null,null,null,null,null,null,null,null,null,null,null,null,null,null,null,null,null,null,null,7]
[null,null,null,"El supuesto de inflación utilizado para los cálculos es del 5%.",null,null,null,null,null,null,null,null,null,null,null,null,null,null,null,null,null,null,null,null,null,null,null,null,null,null,null,null,null,null,null,null,null,null,null,null,null,null,null,null,null,null,null,{"$f":"+AV68+1","v":8}]
[null,null,null,"Los rendimientos mostrados para los portafolios en pesos, dólares y euros corresponden al promedio del 2012 al  2021."]
[null,null,null,"Los rendimientos de las alternativas dedicadas corresponden al promedio del 2012 al 2021.1 Para las nuevas alternativas de plus el promedio es del 2019 al 2021."]
[null,null,null,"Los valores mostrados en el presente documento son de referencia. Los rendimientos pasados no garantizan la misma ganancia a futuro.",null,null,null,null,null,null,null,null,null,null,null,null,null,null,null,null,null,null,null,null,null,null,null,null,null,null,null,null,null,null,null,null,null,null,null,null,null,null,null,null,null,null,null,{"$f":"+AV69+1","v":9}]
[null,null,null,null,null,null,null,null,null,null,null,null,null,null,null,null,null,null,null,null,null,null,null,null,null,null,null,null,null,null,null,null,null,null,null,null,null,null,null,null,null,null,null,null,null,null,null,10]
[null,null,null,null,null,null,null,null,null,null,null,null,null,null,null,null,null,null,null,null,null,null,null,null,null,null,null,null,null,null,null,null,null,null,null,null,null,null,null,null,null,null,null,null,null,null,null,11]
[null,null,null,null,null,null,null,null,null,null,null,null,null,null,null,null,null,null,null,null,null,null,null,null,null,null,null,null,null,null,null,null,null,null,null,null,null,null,null,null,null,null,null,null,null,null,null,12]
[null,null,null,null,null,null,null,null,null,null,null,null,null,null,null,null,null,null,null,null,null,null,null,null,null,null,null,null,null,null,null,null,null,null,null,null,null,null,null,null,null,null,null,null,null,null,null,13]
[null,null,null,null,null,null,null,null,null,null,null,null,null,null,null,null,null,null,null,null,null,null,null,null,null,null,null,null,null,null,null,null,null,null,null,null,null,null,null,null,null,null,null,null,null,null,null,14]
[null,null,null,null,null,null,null,null,null,null,null,null,null,null,null,null,null,null,null,null,null,null,null,null,null,null,null,null,null,null,null,null,null,null,null,null,null,null,null,null,null,null,null,{"$f":"1+AR42","v":20},null,null,{"$f":"+AU42+1%","v":0.34},15,9,"Anualmente desde un inicio"]
[null,null,null,null,null,null,null,null,null,null,null,null,null,null,null,null,null,null,null,null,null,null,null,null,null,null,null,null,null,null,null,null,null,null,null,null,null,null,null,null,null,null,null,{"$f":"1+AR78","v":21},null,null,{"$f":"+AU78+1%","v":0.35000000000000003},16,10,"Única aportación adicional"]
[null,null,null,null,null,null,null,null,null,null,null,null,null,null,null,null,null,null,null,null,null,null,null,null,null,null,null,null,null,null,null,null,null,null,null,null,null,null,null,null,null,null,null,{"$f":"1+AR79","v":22},null,null,{"$f":"+AU79+1%","v":0.36000000000000004},17,11,"No aplica"]
[null,null,null,null,null,null,null,null,null,null,null,null,null,null,null,null,null,null,null,null,null,null,null,null,null,null,null,null,null,null,null,null,null,null,null,null,null,null,null,null,null,null,null,{"$f":"1+AR80","v":23},null,null,{"$f":"+AU80+1%","v":0.37000000000000005},18,12]
[null,null,null,null,null,null,null,null,null,null,null,null,null,null,null,null,null,null,null,null,null,null,null,null,null,null,null,null,null,null,null,null,null,null,null,null,null,null,null,null,null,null,null,{"$f":"1+AR81","v":24},null,null,{"$f":"+AU81+1%","v":0.38000000000000006},{"$f":"1+AV81","v":19},13]
[null,null,null,null,null,null,null,null,null,null,null,null,null,null,null,null,null,null,null,null,null,null,null,null,null,null,null,null,null,null,null,null,null,null,null,"La  tasa de rendimiento proyectada antes de cargos, de  "]
[null,null,null,null,null,null,null,null,null,null,null,null,null,null,null,null,null,null,null,null,null,null,null,null,null,null,null,null,null,null,null,null,null,null,null,"%,corresponde a una estimación con base en rendimientos históricos, por lo que es de carácter informativo.  Por ningún motivo representa un compromiso futuro para Allianz México S.A., Compañía de Seguros."]
[null,null,null,null,null,null,null,null,null,null,null,null,null,null,null,null,null,null,null,null,null,null,null,null,null,null,null,null,null,null,null,null,null,null,null,null,null,null,null,null,null,null,null,{"$f":"1+#REF!","v":{"$error":"#REF!"}},null,null,{"$f":"+#REF!+1%","v":{"$error":"#REF!"}},{"$f":"1+#REF!","v":{"$error":"#REF!"}},16]
[null,null,null,null,null,null,null,null,null,null,null,null,null,null,null,null,null,null,null,null,null,null,null,null,null,null,null,null,null,null,null,null,null,null,null,null,null,null,null,null,null,null,null,{"$f":"1+AR85","v":{"$error":"#REF!"}},null,null,{"$f":"+AU85+1%","v":{"$error":"#REF!"}},{"$f":"1+AV85","v":{"$error":"#REF!"}},17]
[null,null,null,null,null,null,null,null,null,null,null,null,null,null,null,null,null,null,null,null,null,null,null,null,null,null,null,null,null,null,null,null,null,null,null,null,null,null,null,null,null,null,null,{"$f":"1+AR86","v":{"$error":"#REF!"}},null,null,null,{"$error":"#REF!"},18]
[null,null,null,null,null,null,null,null,null,null,null,null,null,null,null,null,null,null,null,null,null,null,null,null,null,null,null,null,null,null,null,null,null,null,null,null,null,null,null,null,null,null,null,{"$f":"+AR87+1","v":{"$error":"#REF!"}},null,null,null,{"$error":"#REF!"},19]
[null,null,null,null,null,null,null,null,null,null,null,null,null,null,null,null,null,null,null,null,null,null,null,null,null,null,null,null,null,null,null,null,null,null,null,null,null,null,null,null,null,null,null,null,null,null,null,{"$error":"#REF!"},20]
[null,null,null,null,null,null,null,null,null,null,null,null,null,null,null,null,null,null,null,null,null,null,null,null,null,null,null,null,null,null,null,null,null,null,null,null,null,null,null,null,null,null,null,null,null,null,null,{"$error":"#REF!"},21,null,null,null,"Portafolios",null,null,null,"Conservador",null,null,null,"Moderado",null,null,null,"Dinámico",null,null,null,null,null,"Resumen de Resultados"]
[null,null,null,null,null,null,null,null,null,null,null,null,null,null,null,null,null,null,null,null,null,null,null,null,null,null,null,null,null,null,null,null,null,null,null,null,null,null,null,null,null,null,null,null,null,null,null,{"$error":"#REF!"},22,null,null,null,"Pesos (Mex)",null,null,null,{"$f":"+K21","v":0},null,null,null,0,null,null,null,0]
[null,null,null,null,null,null,null,null,null,null,null,null,null,null,null,null,null,null,null,null,null,null,null,null,null,null,null,null,null,null,null,null,null,null,null,null,null,null,null,null,null,null,null,null,null,null,null,{"$error":"#REF!"},null,null,null,null,"Euros",null,null,null,0,null,null,null,0,null,null,null,0,null,null,null,null,null,"Aportaciones Acumuladas"]
[null,null,null,null,null,null,null,null,null,null,null,null,null,null,null,null,null,null,null,null,null,null,null,null,null,null,null,null,null,null,null,null,null,null,null,null,null,null,null,null,null,null,null,null,null,null,null,{"$error":"#REF!"},null,null,null,null,"Dólares USA",null,null,null,0,null,null,null,0,null,null,null,0]
[null,null,null,null,null,null,null,null,null,null,null,null,null,null,null,null,null,null,null,null,null,null,null,null,null,null,null,null,null,null,null,null,null,null,null,null,null,null,null,null,null,null,null,null,null,null,null,{"$error":"#REF!"},null,null,null,null,null,null,null,null,"Distribución de fondos",null,null,null,null,null,null,null,null,null,null,null,null,null,"% de Bono Acreditado"]
[null,null,null,null,null,null,null,null,null,null,null,null,null,null,null,null,null,null,null,null,null,null,null,null,null,null,null,null,null,null,null,null,null,null,null,null,null,null,null,null,null,null,null,null,null,null,null,{"$error":"#REF!"}]
[null,null,null,null,null,null,null,null,null,null,null,null,null,null,null,null,null,null,null,null,null,null,null,null,null,null,null,null,null,null,null,null,null,null,null,null,null,null,null,null,null,null,null,null,null,null,null,{"$error":"#REF!"}]
[null,null,null,null,null,null,null,null,null,null,null,null,null,null,null,null,null,null,null,null,null,null,null,null,null,null,null,null,null,null,null,null,null,null,null,null,null,null,null,null,null,null,null,null,null,null,null,{"$error":"#REF!"}]
[]
[]
[]
[]
[]
[]
[]
[]
[]
[]
[]
[]
[]
[]
[]
[]
[]
[]
[]
[]
[]
[]
[]
[]
[]
[]
[]
[]
[]
[]
[]
[]
[]
[]
[]
[]
[]
[]
[]
[]
[null,null,null,null,null,null,null,null,null,null,null,null,null,null,null,{"$f":"+#REF!","v":{"$error":"#REF!"}}]
[]
[]
[]
[]
[]
[]
[]
[]
[]
[]
[]
[]
[]
[]
[]
[]
[]
[]
[]
[]
[]
[]
[]
[]
[]
[]
[]
[]
[]
[null,null,null,null,null,null,null,null,null,null,null,null,null,null,null,null,null,null,null,null,null,null,null,null,null,null,null,null,null,null,null,null,null,null,null,null,0.46]
[null,null,null,null,null,null,null,null,null,null,null,null,null,null,null,null,null,null,null,null,null,null,null,null,null,null,null,null,null,null,null,null,null,null,null,null,0.47]
[null,null,null,null,null,null,null,null,null,null,null,null,null,null,null,null,null,null,null,null,null,null,null,null,null,null,null,null,null,null,null,null,null,null,null,null,0.48]
[null,null,null,null,null,null,null,null,null,null,null,null,null,null,null,null,null,null,null,null,null,null,null,null,null,null,null,null,null,null,null,null,null,null,null,null,0.49]
[null,null,null,null,null,null,null,null,null,null,null,null,null,null,null,null,null,null,null,null,null,null,null,null,null,null,null,null,null,null,null,null,null,null,null,null,0.5]
[null,null,null,null,null,null,null,null,null,null,null,null,null,null,null,null,null,null,null,null,null,null,null,null,null,null,null,null,null,null,null,null,null,null,null,null,0.51]
[null,null,null,null,null,null,null,null,null,null,null,null,null,null,null,null,null,null,null,null,null,null,null,null,null,null,null,null,null,null,null,null,null,null,null,null,0.52]
[null,null,null,null,null,null,null,null,null,null,null,null,null,null,null,null,null,null,null,null,null,null,null,null,null,null,null,null,null,null,null,null,null,null,null,null,0.53]
[null,null,null,null,null,null,null,null,null,null,null,null,null,null,null,null,null,null,null,null,null,null,null,null,null,null,null,null,null,null,null,null,null,null,null,null,0.54]
[null,null,null,null,null,null,null,null,null,null,null,null,null,null,null,null,null,null,null,null,null,null,null,null,null,null,null,null,null,null,null,null,null,null,null,null,0.55000000000000004]
[null,null,null,null,null,null,null,null,null,null,null,null,null,null,null,null,null,null,null,null,null,null,null,null,null,null,null,null,null,null,null,null,null,null,null,null,0.56000000000000005]
[null,null,null,null,null,null,null,null,null,null,null,null,null,null,null,null,null,null,null,null,null,null,null,null,null,null,null,null,null,null,null,null,null,null,null,null,0.56999999999999995]
[null,null,null,null,null,null,null,null,null,null,null,null,null,null,null,null,null,null,null,null,null,null,null,null,null,null,null,null,null,null,null,null,null,null,null,null,0.57999999999999996]
[null,null,null,null,null,null,null,null,null,null,null,null,null,null,null,null,null,null,null,null,null,null,null,null,null,null,null,null,null,null,null,null,null,null,null,null,0.59]
[null,null,null,null,null,null,null,null,null,null,null,null,null,null,null,null,null,null,null,null,null,null,null,null,null,null,null,null,null,null,null,null,null,null,null,null,0.6]
[null,null,null,null,null,null,null,null,null,null,null,null,null,null,null,null,null,null,null,null,null,null,null,null,null,null,null,null,null,null,null,null,null,null,null,null,0.61]
[null,null,null,null,null,null,null,null,null,null,null,null,null,null,null,null,null,null,null,null,null,null,null,null,null,null,null,null,null,null,null,null,null,null,null,null,0.62]
[null,null,null,null,null,null,null,null,null,null,null,null,null,null,null,null,null,null,null,null,null,null,null,null,null,null,null,null,null,null,null,null,null,null,null,null,0.63]
[null,null,null,null,null,null,null,null,null,null,null,null,null,null,null,null,null,null,null,null,null,null,null,null,null,null,null,null,null,null,null,null,null,null,null,null,0.64]
[null,null,null,null,null,null,null,null,null,null,null,null,null,null,null,null,null,null,null,null,null,null,null,null,null,null,null,null,null,null,null,null,null,null,null,null,0.65]
[null,null,null,null,null,null,null,null,null,null,null,null,null,null,null,null,null,null,null,null,null,null,null,null,null,null,null,null,null,null,null,null,null,null,null,null,0.66]
[null,null,null,null,null,null,null,null,null,null,null,null,null,null,null,null,null,null,null,null,null,null,null,null,null,null,null,null,null,null,null,null,null,null,null,null,0.67]
[null,null,null,null,null,null,null,null,null,null,null,null,null,null,null,null,null,null,null,null,null,null,null,null,null,null,null,null,null,null,null,null,null,null,null,null,0.68]
[null,null,null,null,null,null,null,null,null,null,null,null,null,null,null,null,null,null,null,null,null,null,null,null,null,null,null,null,null,null,null,null,null,null,null,null,0.69]
[null,null,null,null,null,null,null,null,null,null,null,null,null,null,null,null,null,null,null,null,null,null,null,null,null,null,null,null,null,null,null,null,null,null,null,null,0.7]
[null,null,null,null,null,null,null,null,null,null,null,null,null,null,null,null,null,null,null,null,null,null,null,null,null,null,null,null,null,null,null,null,null,null,null,null,0.71]
[null,null,null,null,null,null,null,null,null,null,null,null,null,null,null,null,null,null,null,null,null,null,null,null,null,null,null,null,null,null,null,null,null,null,null,null,0.72]
[null,null,null,null,null,null,null,null,null,null,null,null,null,null,null,null,null,null,null,null,null,null,null,null,null,null,null,null,null,null,null,null,null,null,null,null,0.73]
[null,null,null,null,null,null,null,null,null,null,null,null,null,null,null,null,null,null,null,null,null,null,null,null,null,null,null,null,null,null,null,null,null,null,null,null,0.74]
[null,null,null,null,null,null,null,null,null,null,null,null,null,null,null,null,null,null,null,null,null,null,null,null,null,null,null,null,null,null,null,null,null,null,null,null,0.75]
[null,null,null,null,null,null,null,null,null,null,null,null,null,null,null,null,null,null,null,null,null,null,null,null,null,null,null,null,null,null,null,null,null,null,null,null,0.76]
[null,null,null,null,null,null,null,null,null,null,null,null,null,null,null,null,null,null,null,null,null,null,null,null,null,null,null,null,null,null,null,null,null,null,null,null,0.77]
[null,null,null,null,null,null,null,null,null,null,null,null,null,null,null,null,null,null,null,null,null,null,null,null,null,null,null,null,null,null,null,null,null,null,null,null,0.78]
[null,null,null,null,null,null,null,null,null,null,null,null,null,null,null,null,null,null,null,null,null,null,null,null,null,null,null,null,null,null,null,null,null,null,null,null,0.79]
[null,null,null,null,null,null,null,null,null,null,null,null,null,null,null,null,null,null,null,null,null,null,null,null,null,null,null,null,null,null,null,null,null,null,null,null,0.8]
[null,null,null,null,null,null,null,null,null,null,null,null,null,null,null,null,null,null,null,null,null,null,null,null,null,null,null,null,null,null,null,null,null,null,null,null,0.81]
[null,null,null,null,null,null,null,null,null,null,null,null,null,null,null,null,null,null,null,null,null,null,null,null,null,null,null,null,null,null,null,null,null,null,null,null,0.82]
[null,null,null,null,null,null,null,null,null,null,null,null,null,null,null,null,null,null,null,null,null,null,null,null,null,null,null,null,null,null,null,null,null,null,null,null,0.83]
[null,null,null,null,null,null,null,null,null,null,null,null,null,null,null,null,null,null,null,null,null,null,null,null,null,null,null,null,null,null,null,null,null,null,null,null,0.84]
[null,null,null,null,null,null,null,null,null,null,null,null,null,null,null,null,null,null,null,null,null,null,null,null,null,null,null,null,null,null,null,null,null,null,null,null,0.85]
[null,null,null,null,null,null,null,null,null,null,null,null,null,null,null,null,null,null,null,null,null,null,null,null,null,null,null,null,null,null,null,null,null,null,null,null,0.86]
[null,null,null,null,null,null,null,null,null,null,null,null,null,null,null,null,null,null,null,null,null,null,null,null,null,null,null,null,null,null,null,null,null,null,null,null,0.87]
[null,null,null,null,null,null,null,null,null,null,null,null,null,null,null,null,null,null,null,null,null,null,null,null,null,null,null,null,null,null,null,null,null,null,null,null,0.88]
[null,null,null,null,null,null,null,null,null,null,null,null,null,null,null,null,null,null,null,null,null,null,null,null,null,null,null,null,null,null,null,null,null,null,null,null,0.89]
[null,null,null,null,null,null,null,null,null,null,null,null,null,null,null,null,null,null,null,null,null,null,null,null,null,null,null,null,null,null,null,null,null,null,null,null,0.9]
[null,null,null,null,null,null,null,null,null,null,null,null,null,null,null,null,null,null,null,null,null,null,null,null,null,null,null,null,null,null,null,null,null,null,null,null,0.91]
[null,null,null,null,null,null,null,null,null,null,null,null,null,null,null,null,null,null,null,null,null,null,null,null,null,null,null,null,null,null,null,null,null,null,null,null,0.92]
[null,null,null,null,null,null,null,null,null,null,null,null,null,null,null,null,null,null,null,null,null,null,null,null,null,null,null,null,null,null,null,null,null,null,null,null,0.93]
[null,null,null,null,null,null,null,null,null,null,null,null,null,null,null,null,null,null,null,null,null,null,null,null,null,null,null,null,null,null,null,null,null,null,null,null,0.94]
[null,null,null,null,null,null,null,null,null,null,null,null,null,null,null,null,null,null,null,null,null,null,null,null,null,null,null,null,null,null,null,null,null,null,null,null,0.95]
[null,null,null,null,null,null,null,null,null,null,null,null,null,null,null,null,null,null,null,null,null,null,null,null,null,null,null,null,null,null,null,null,null,null,null,null,0.96]
[null,null,null,null,null,null,null,null,null,null,null,null,null,null,null,null,null,null,null,null,null,null,null,null,null,null,null,null,null,null,null,null,null,null,null,null,0.97]
[null,null,null,null,null,null,null,null,null,null,null,null,null,null,null,null,null,null,null,null,null,null,null,null,null,null,null,null,null,null,null,null,null,null,null,null,0.98]
[null,null,null,null,null,null,null,null,null,null,null,null,null,null,null,null,null,null,null,null,null,null,null,null,null,null,null,null,null,null,null,null,null,null,null,null,0.99]
[null,null,null,null,null,null,null,null,null,null,null,null,null,null,null,null,null,null,null,null,null,null,null,null,null,null,null,null,null,null,null,null,null,null,null,null,1]

{"sheet":"Rendimientos_UDI_Inflación","index":1,"n_rows":56,"n_cols":28,"rows_kept":56,"cut":false,"hidden":true,"merged":[[39,1,39,11],[20,17,20,18],[20,20,20,21],[3,17,3,18],[10,1,10,11],[14,1,14,11],[24,1,24,11],[36,1,36,11]]}
[]
[null,null,null,null,null,null,null,null,null,null,null,null,null,null,null,null,null,null,null,null,null,null,null,null,null,"Rendimiento "]
[null,"*Cifras al cierre de DICIEMBRE 2019",null,null,null,null,null,null,null,null,null,null,null,null,null,null,null,null,null,null,null,null,null,null,"Dinámico Pesos",6.7503374875177435E-2,null,"Cálculos de dólares y euros en el archivo Rendimientos cotizador plus 2022"]
[null,null,null,null,null,null,null,null,null,null,null,null,null,null,null,null,null,"UDI",null,null,null,null,null,null,"Balanceado Pesos",5.3819111433085487E-2]
[null,null,null,null,null,null,null,null,null,null,null,null,null,null,null,null,null,"Año","Promedio",null,null,null,null,null,"Conservador Pesos",5.2315060641160205E-2]
[null,null,null,null,null,null,null,null,null,null,null,null,null,null,null,null,null,2010,4.4342755205479412,null,null,null,null,null,"Dinámico Dólares",0.14834411722169172]
[null,null,null,null,null,null,null,null,null,null,null,"Revaluables",{"$f":"+M39","v":2.8000000000000001E-2},null,{"$f":"+O39","v":0.105},null,null,2011,4.5876750027397248,null,null,null,null,null,"Balanceado Dólares",8.0133760099157847E-2]
[null,null,null,null,null,null,null,null,null,null,null,"Dedicados",{"$f":"+MIN(M42,M45,M48,M51,M54,)","v":-0.34707713849999999},null,{"$f":"+MAX(O42,O45,O48,O51,O54,)","v":0.89811444530000006},null,null,2012,4.7770645683060113,null,null,null,null,null,"Conservador Dólares",4.53833689611991E-2]
[null,null,null,null,null,null,null,null,null,null,null,"MN/DL/EUR",{"$f":"+MIN(M12:M14,M17,M20,M23,M27,M30,M35)","v":-0.1978},{"$f":"+AVERAGE(N12:N14,N17,N20,N23,N27,N30,N35,N39,N42,N45,N48,N51,N54)","v":5.016821818355597E-2},{"$f":"+MAX(O12:O14,O17,O20,O23,O27,O30,O35)","v":0.26579999999999998},null,null,2013,4.9575089726027368,null,null,null,null,null,"Dinámico Euros",5.051736761968173E-2]
[null,"Alternativas de Inversión",2010,2011,2012,2013,2014,2015,2016,2017,2018,2019,"Mínimo","Promedio","Máximo",null,null,2014,5.1561230328767129,null,null,null,null,null,"Balanceado Euros",3.7598052072220778E-2]
[null,"Moneda Nacional",null,null,null,null,null,null,null,null,null,null,null,null,null,null,null,2015,5.3051696958904113,null,null,null,null,null,"Conservador Euros",3.1038206142148361E-2]
[null,"Conservador",4.6899999999999997E-2,4.4733263662712019E-2,4.4571142386969909E-2,4.0294559668577534E-2,3.2884957406197346E-2,3.1786370307935297E-2,4.4439145149554014E-2,7.3099999999999998E-2,8.1299999999999997E-2,8.015036246297555E-2,{"$f":"+MIN(C12:L12)","v":3.1786370307935297E-2},{"$f":"+AVERAGE(C12:L12)","v":5.2015980104492168E-2},{"$f":"+MAX(C12:L12)","v":8.1299999999999997E-2},{"$f":"+IF(N12>L12,\"Promedio\",\"Cierre 2019\")","v":"Cierre 2019"},null,2016,5.4490872131147574,null,null,null,null,null,"China",2.9509316842998068E-2]
[null,"Balanceado",7.4700000000000003E-2,7.53506448E-3,9.1372123690000001E-2,1.7000000000000001E-2,2.1939926989999997E-2,1.100399361E-2,4.1119815209999994E-2,7.1913695346620191E-2,-4.2203400113357582E-3,5.6040692534423897E-2,{"$f":"+MIN(C13:L13)","v":-4.2203400113357582E-3},{"$f":"+AVERAGE(C13:L13)","v":3.8840497184970832E-2},{"$f":"+MAX(C13:L13)","v":9.1372123690000001E-2},{"$f":"+IF(N13>L13,\"Promedio\",\"Cierre 2019\")","v":"Cierre 2019"},null,2017,5.762276717808219,null,null,null,null,null,"BRIC",3.4215922039030566E-2]
[null,"Dinámico",0.17010000000000003,-4.93162355E-2,0.16884522090000001,-8.8000000000000005E-3,8.6059924199999999E-3,2.1868281000000001E-3,6.027674953E-2,8.5236092746634184E-2,-0.13843349638400965,3.3256758176444912E-2,{"$f":"+MIN(C14:L14)","v":-0.13843349638400965},3.3195790998906946E-2,0.17010000000000003,{"$f":"+IF(N14>L14,\"Promedio\",\"Cierre 2019\")","v":"Cierre 2019"},null,2018,6.0540848301369854,null,null,null,null,null,"Oro",5.2366256673632483E-2]
[null,"Dólares",null,null,null,null,null,null,null,null,null,null,null,null,null,null,null,2019,6.2847932219178118,null,null,null,null,null,"Brasil",-4.0495232246003376E-2]
[null,"Conservador",null,null,null,null,null,null,null,null,null,null,null,null,null,null,null,2020,6.496487002732243,null,null,null,null,null,"Mercados Emergentes",4.4961224357922047E-2]
[null,"Expresado en Pesos",-3.5741677361200153E-2,0.14389338648288663,-6.1238208226375823E-2,7.3291835970972219E-3,0.14596699185290429,0.1811207248193496,0.22042068747041488,-3.9283158084774228E-2,9.6988419815997595E-3,-2.9858125556912141E-2,{"$f":"+MIN(C17:L17)","v":-6.1238208226375823E-2},5.4230864697499007E-2,0.22042068747041488,{"$f":"+IF(N17>L17,\"Promedio\",\"Cierre 2019\")","v":"Promedio"},null,2021,6.8424887369862981,null,null,null,null,null,"Revaluables",6.5212677841496536E-2]
[null,"Expresado en Dólares",1.8100000000000002E-2,1.7721673434087482E-2,1.7809342771157421E-2,1.2923396355782659E-2,1.2754038842426763E-2,1.2754038842427207E-2,1.2754260733129262E-2,1.274716278024087E-2,1.03E-2,1.0050725906405317E-2,{"$f":"+MIN(C18:L18)","v":1.0050725906405317E-2},1.3791463966565698E-2,1.8100000000000002E-2,"Promedio"]
[null,"Balanceado"]
[null,"Expresado en Pesos",1.6199999999999999E-2,0.13200000000000001,-4.4200000000000003E-2,7.6499999999999999E-2,0.14649999999999999,0.15859999999999999,0.21299999999999999,1.1000000000000001E-3,-2.4400000000000002E-2,3.2944319487634655E-2,{"$f":"+MIN(C20:L20)","v":-4.4200000000000003E-2},7.082443194876345E-2,0.21299999999999999,"Promedio"]
[null,"Expresado en Dólares",7.0999999999999994E-2,2.5999999999999999E-3,2.6200000000000001E-2,6.7400000000000002E-2,1.9800000000000002E-2,-1.15E-2,1.7600000000000001E-2,4.7500000000000001E-2,-2.3800000000000002E-2,7.2992764366318852E-2,{"$f":"+MIN(C21:L21)","v":-2.3800000000000002E-2},2.8979276436631889E-2,7.2992764366318852E-2,"Cierre 2019",null,"Inflación",null,null,"Inflación 2020"]
[null,"Dinámico",null,null,null,null,null,null,null,null,null,null,null,null,null,null,null,"Año","Infl Anual",null,2020,"Infl Anual"]
[null,"Expresado en Pesos",3.95E-2,0.1169,3.3599999999999998E-2,0.25390000000000001,0.21279999999999999,0.14979999999999999,0.26579999999999998,0.1106,-6.9000000000000006E-2,0.19976978788737476,{"$f":"+MIN(C23:L23)","v":-6.9000000000000006E-2},0.13136697878873749,0.26579999999999998,"Cierre 2019",null,2011,4.4000000000000004,null,"Enero",3.24]
[null,"Expresado en Dólares",9.4399999999999998E-2,-1.2474033339999999E-2,0.10400208879999999,0.2447268239,8.6130421100000007E-2,-2.028100817E-2,7.0362265610000002E-2,0.12787651289151339,-5.1552143233653487E-2,0.23981823276605896,{"$f":"+MIN(C24:L24)","v":-5.1552143233653487E-2},8.8300916032391888E-2,0.2447268239,"Cierre 2019",null,2012,3.82,null,"Febrero",3.7]
[null,"Euros",null,null,null,null,null,null,null,null,null,null,null,null,null,null,null,2013,3.57,null,"Marzo",3.25]
[null,"Conservador",null,null,null,null,null,null,null,null,null,null,null,null,null,null,null,2014,3.97,null,"Abril",2.15]
[null,"Expresado en Pesos",-0.10872131860910328,0.11737154069449396,-4.0700311312647841E-2,7.951541997931133E-2,1.7735702621595184E-2,6.935286518242556E-2,0.19341293768023293,0.10552426263451853,-3.2766585792331049E-2,-4.1451825433391348E-2,{"$f":"+MIN(C27:L27)","v":-0.10872131860910328},3.5927268764510398E-2,0.19341293768023293,{"$f":"+IF(N27>L27,\"Promedio\",\"Cierre 2019\")","v":"Promedio"},null,2015,4.08]
[null,"Expresado en Euros",1.17E-2,2.1726467442547026E-2,2.1786635778962449E-2,2.172646744254747E-2,2.1726467442546582E-2,2.1726467442546138E-2,2.1727109451698631E-2,2.1706577676656614E-2,1.67E-2,1.6299999999999999E-2,{"$f":"+MIN(C28:L28)","v":1.17E-2},1.9682619267750494E-2,2.1786635778962449E-2,"Promedio",null,2016,2.13]
[null,"Balanceado",null,null,null,null,null,null,null,null,null,null,null,null,null,null,null,2017,3.36]
[null,"Expresado en Pesos",-0.1242,6.2100000000000002E-2,-1.4500000000000001E-2,0.10580000000000001,-6.7999999999999996E-3,6.8000000000000005E-2,0.17430000000000001,0.1067,-0.1011,-2.414990803410122E-3,{"$f":"+MIN(C30:L30)","v":-0.1242},2.6788500919658998E-2,0.17430000000000001,"Promedio",null,2018,6.77]
[null,"Expresado en Euros",-5.3E-3,-3.880945542E-2,5.002913036E-2,5.0242559749999999E-2,-2.5150127100000003E-3,2.2318898439999998E-2,5.97022501E-3,2.52E-2,-5.4399999999999997E-2,5.5563223518870108E-2,{"$f":"+MIN(C31:L31)","v":-5.4399999999999997E-2},1.082995689488701E-2,5.5563223518870108E-2,"Cierre 2019",null,2019,4.83]
[null,"Dinámico",null,null,null,null,null,null,null,null,null,null,null,null,null,null,null,2020,2.83]
[null,null,null,null,null,null,null,null,null,null,null,null,null,null,null,null,null,2021,3.15]
[null,null,null,null,null,null,null,null,null,null,null,null,null,null,null,null,null,2022,7.3551000000000002]
[null,"Expresado en Pesos",-0.12839999999999999,-7.3099999999999998E-2,8.1100000000000005E-2,0.2077,-1.9E-2,0.10050000000000001,0.17369999999999999,0.15570000000000001,-0.1978,0.12464368636880763,{"$f":"+MIN(C35:L35)","v":-0.1978},4.2504368636880764E-2,0.2077,"Cierre 2019"]
[null,"Expresado en Euros",-9.4999999999999998E-3,-0.17401085900000002,0.14560329929999999,0.15212029660000001,-1.4755927879999998E-2,5.4856610750000007E-2,5.3235070199999998E-3,7.4099999999999999E-2,-0.151,0.18262190069108786,{"$f":"+MIN(C36:L36)","v":-0.17401085900000002},2.6535882748108787E-2,0.18262190069108786,"Cierre 2019",null,null,{"$f":"+AVERAGE(S30:S34)","v":4.9870199999999993},"Promedio de los últimos 5 años"]
[null,"Revaluables"]
[null,"AZ Revaluables"]
[null,"Expresado en Pesos",5.79058117131925E-2,6.4480620513979195E-2,4.9338186221250697E-2,4.7061103547745065E-2,5.1160975286641763E-2,4.1720609080683202E-2,5.8122019902073774E-2,0.105,2.8000000000000001E-2,9.3399999999999997E-2,{"$f":"+MIN(C39:L39)","v":2.8000000000000001E-2},5.9618932626556619E-2,0.105,{"$f":"+IF(N39>L39,\"Promedio\",\"Cierre 2019\")","v":"Cierre 2019"}]
[null,"Dedicados"]
[null,"AZ Brasil"]
[null,"Expresado en Pesos",-2.7999999999999997E-2,-0.17548209650000002,-0.10931283909999999,-0.20544998020000002,-9.43258342E-2,-0.34707713849999999,0.89811444530000006,0.15901314838518874,-4.352616977913483E-2,0.17441000876120416,{"$f":"+MIN(C42:L42)","v":-0.34707713849999999},2.2836354416725817E-2,0.89811444530000006,{"$f":"+IF(N42>L42,\"Promedio\",\"Cierre 2019\")","v":"Cierre 2019"}]
[null,"Expresado en Dólares","n.a","n.a","n.a","n.a","n.a","n.a","n.a","n.a","n.a","n.a"]
[null,"AZ China"]
[null,"Expresado en Pesos",-4.7100000000000003E-2,-0.10747827929999999,7.176761743E-2,-5.9375004970000006E-2,0.20813252169999999,-2.4958308960000002E-2,0.15798262769999999,0.27692706662980182,-0.14885774610794361,5.5543034323596752E-2,{"$f":"+MIN(C45:L45)","v":-0.14885774610794361},3.8258352844545492E-2,0.27692706662980182,{"$f":"+IF(N45>L45,\"Promedio\",\"Cierre 2019\")","v":"Cierre 2019"}]
[null,"Expresado en Dólares","n.a","n.a","n.a","n.a","n.a","n.a","n.a","n.a","n.a","n.a"]
[null,"AZ Mercados emergentes"]
[null,"Expresado en Pesos",8.1600000000000006E-2,-0.1089791836,6.2713104889999996E-2,-6.3913841739999991E-2,4.4692179730000003E-2,-5.6669730510000002E-2,0.28047807019999998,0.28345279028045967,-0.16982361119361783,8.6099730905687899E-2,{"$f":"+MIN(C48:L48)","v":-0.16982361119361783},4.3964950896252977E-2,0.28345279028045967,{"$f":"+IF(N48>L48,\"Promedio\",\"Cierre 2019\")","v":"Cierre 2019"}]
[null,"Expresado en Dólares","n.a","n.a","n.a","n.a","n.a","n.a","n.a","n.a","n.a","n.a"]
[null,"AZ BRIC"]
[null,"Expresado en Pesos",1.8E-3,-0.17305935750000001,2.4967261120000001E-2,-8.4459415100000004E-2,3.5019207869999999E-2,-3.8060539290000001E-2,0.28144487839999999,0.3300161248646698,-0.15371425219996129,0.14201473057495861,{"$f":"+MIN(C51:L51)","v":-0.17305935750000001},3.6596863873966712E-2,0.3300161248646698,{"$f":"+IF(N51>L51,\"Promedio\",\"Cierre 2019\")","v":"Cierre 2019"}]
[null,"Expresado en Dólares","n.a","n.a","n.a","n.a","n.a","n.a","n.a","n.a","n.a","n.a"]
[null,"AZ Oro"]
[null,"Expresado en Pesos",0.20530000000000001,0.22611734659999999,-2.688223013E-2,-0.28833077940000001,9.2502320759999992E-2,2.7839674329999998E-2,0.27516044509999998,6.0898425459791926E-2,-3.2555558943391107E-2,0.11548171673231855,{"$f":"+MIN(C54:L54)","v":-0.28833077940000001},6.555313605087193E-2,0.27516044509999998,{"$f":"+IF(N54>L54,\"Promedio\",\"Cierre 2019\")","v":"Cierre 2019"}]
[null,"Expresado en Dólares","n.a","n.a","n.a","n.a","n.a","n.a","n.a","n.a","n.a","n.a"]
[null,null,null,null,null,null,null,null,null,null,null,null,{"$f":"+AVERAGE(M39,M42,M45,M48,M51,M54)","v":-0.18319143878359356},null,{"$f":"+AVERAGE(O39,O42,O45,O48,O51,O54)","v":0.36144514536248856},{"$f":"+IF(N56>L56,\"Promedio\",\"Cierre 2019\")","v":"Cierre 2019"}]

{"sheet":"PLUS","index":2,"n_rows":27,"n_cols":29,"rows_kept":27,"cut":false,"hidden":true,"merged":[[12,22,12,24],[12,25,12,27],[12,28,12,30],[10,22,10,24],[10,25,10,27],[10,28,10,30],[11,22,11,24],[11,25,11,27],[11,28,11,30]]}
[null,null,null,null,null,null,null,null,null,null,null,null,null,null,null,"promedio"]
[null,2010,{"$f":"+B2+1","v":2011},{"$f":"+C2+1","v":2012},2013,2014,2015,2016,2017,2018,2019,2020,2021,"Junio","Acum. 2019","12años","10 años","8 años","5 años",null,"Simulador web",null,null,null,"Este ticket no meterle"]
["Conservador",4.6916239587195374E-2,4.4733237966297468E-2,4.4571168079397427E-2,3.9603714313314553E-2,3.2884957406197346E-2,3.1761867709351188E-2,4.4543925259038941E-2,7.3116330080705172E-2,8.1292960678560622E-2,8.015036246297555E-2,5.4770188560826091E-2,4.97989757010932E-2,7.9403589399189359E-2,7.3293816816372773E-2,{"$f":"+AVERAGE(B3:M3)","v":5.201199398374607E-2},{"$f":"+AVERAGE(D3:M3)","v":5.3249445025146017E-2},{"$f":"+AVERAGE(F3:M3)","v":5.603994598234352E-2},{"$f":"+AVERAGE(I3:M3)","v":6.7825763496832128E-2},null,null,"Pesos","Dólares","Euros"]
["Balanceado",7.4707106515905286E-2,7.535036763239189E-3,6.8264338590901197E-2,7.7868255375674877E-3,1.2723348125492029E-2,8.595331207320811E-3,3.5756300368774419E-2,6.074780901159671E-2,-8.2932833349355084E-3,5.6040692534423897E-2,3.3271267714718666E-2,8.2662932271460043E-2,-1.4594297542310453E-2,-2.2871210358031746E-2,3.6649808775538688E-2,{"$f":"+AVERAGE(D4:M4)","v":3.5755556202731978E-2},{"$f":"+AVERAGE(F4:M4)","v":3.5188049737356383E-2},{"$f":"+AVERAGE(I4:M4)","v":4.4885883639452763E-2},null,"Conservador",0.06,0.03,0.03]
["Dinámico",0.17008528152288704,-4.9316235504357486E-2,0.15408007544451885,-3.4345246152491904E-2,-3.9978312641762992E-3,-1.4267546361370953E-2,4.352190774290543E-2,6.2839712234488365E-2,-0.15801292732881933,3.3256758176444912E-2,8.1542047423965869E-4,0.18212681466052638,-5.9803017957619775E-2,-0.15290144084947155,3.2232181970399558E-2,2.660171376262651E-2,1.8285288541779771E-2,2.4205155643375997E-2,null,"Balanceado",0.09,0.06,0.06]
["Conservador USD",1.8141330214213491E-2,1.7721673434087482E-2,1.7809342771157421E-2,1.4644707187673633E-2,1.2754038842426763E-2,1.2754038842427207E-2,1.2789203913220026E-2,1.2754038842427429E-2,1.0267487173682088E-2,1.0050725906405317E-2,7.2305434419587923E-3,9.9200865306806486E-4,1.6011376694065049E-2,8.6954305560974863E-3,1.2325761601895642E-2,1.1204613557444674E-2,9.9490107019519613E-3,8.2589608035083389E-3,null,"Dinamico",0.12,0.1,0.09]
["Conservador MXN",-3.6680763939269889E-2,0.14711857697752206,-5.2582696002538398E-2,2.3784135529927974E-2,0.13940200625375176,0.18283964807899888,0.20820682958935799,-3.3634313873946442E-2,9.6724579562217361E-3,-2.9858125556912141E-2,6.3127506011031898E-2,2.9087064172808041E-2,-9.3227600301276636E-3,-1.0053704814294573E-2,5.4206860433079457E-2,5.4004451215870129E-2,7.1105384078913966E-2,7.6789177418406188E-3,null,"Revaluables",0.08,"-","-"]
["Balanceado USD",7.1033975089824342E-2,2.5904276681987248E-3,2.6206846254485994E-2,6.740377723290214E-2,1.9808768478959404E-2,-1.152263583469737E-2,1.7562207758859971E-2,4.7523921238948663E-2,-2.3847768333684294E-2,7.2992764366318852E-2,5.7560141423744327E-2,6.1341196724563174E-2,-1.2228461548624892E-2,-4.7998361425004354E-2,3.4054468505701992E-2,3.3502921931040083E-2,3.0177324477876591E-2,4.3114051083978144E-2]
["Balanceado MXN",1.6211880936340961E-2,0.13198733121163331,-4.4185192519209826E-2,7.6543205575156481E-2,0.14645673589028441,0.15856297340187431,0.21297983343499793,1.1355685225747925E-3,-2.4442797551144646E-2,3.2944319487634655E-2,0.11611664356627349,9.1115067362558921E-2,-2.2871359584054174E-2,-6.3068743836780183E-2,7.6285464109914561E-2,7.6722635717100057E-2,9.1858543014381733E-2,4.3373760277579443E-2]
["Dinámico USD",9.4367589242532413E-2,-1.2474040853616364E-2,0.10400208883062523,0.24472682385538835,8.6130421098288279E-2,-2.0281008170383252E-2,7.0362265610349306E-2,0.15703655371582315,-6.8366474805952149E-2,0.23981823276605896,0.1550233761992148,0.22548217090498457,-3.6485982245438975E-2,-0.13421272669701645,0.10631899986610943,0.11939344500043973,0.10565069216479796,0.14179877175602587,null,null,null,"Conservador",null,null,"Balanceado",null,null,"Dinámico"]
["Dinámico MXN",3.9545495089049032E-2,0.11692286268981822,3.3610050056929408E-2,0.25386625219764269,0.21277838850961328,0.14980460106618843,0.26577989128648727,0.11064820099944928,-6.8961504023412501E-2,0.19976978788737476,0.21897636208995386,0.25986069850600479,-4.6867513852176357E-2,-0.14791831791370291,0.14938342386292486,0.16361327285762312,0.1685820532902074,0.14405870909187404,null,"MXN",null,5.2315060641160205E-2,null,null,5.3819111433085487E-2,null,null,6.7503374875177435E-2]
["Conservador EUR",1.1715472590797971E-2,2.1726467442547026E-2,2.1786635778962449E-2,2.172646744254747E-2,2.1726467442546582E-2,2.1726467442546138E-2,2.1786635778963559E-2,2.1726467442547026E-2,1.6715567821241173E-2,1.6333403383342653E-2,7.4987880240388726E-3,2.0020235823017961E-3,8.2951489215494171E-3,6.3826543496421284E-3,1.7205905347698561E-2,1.7302892413903773E-2,1.6189477614690976E-2,1.2855250050694305E-2,null,"DL",null,4.53833689611991E-2,null,null,8.0133760099157847E-2,null,null,0.14834411722169172]
["Conservador MXN",-0.1071587279268601,0.12260831878413847,-4.2710108786584433E-2,7.7286606519687995E-2,1.7483454456693637E-2,6.7376228036407859E-2,0.1901512470390172,0.103273048443006,-3.0070390450741891E-2,-4.1417958114168929E-2,0.15840031592104342,-4.1346115178747977E-2,-2.5731757302037028E-2,-0.12675395548120139,3.948965989524094E-2,4.5842632788561287E-2,5.2981228769063665E-2,2.9767780124078123E-2,null,"EUR",null,3.1038206142148361E-2,null,null,3.7598052072220778E-2,null,null,5.051736761968173E-2]
["Balanceado EUR",-5.3370021241206933E-3,-3.8810285905785391E-2,5.0028302546560877E-2,5.0242782689154941E-2,-2.5142344957086449E-3,2.2318849813124153E-2,5.9688695882218479E-3,2.516281723928393E-2,-5.4356342164879723E-2,5.5563223518870108E-2,1.0197754352181398E-4,4.2307665184790899E-2,-1.8567730163439267E-2,-6.1557728863966044E-2,1.2556385286086177E-2,1.948239114629402E-2,1.1819103278403048E-2,1.3755868264317406E-2]
["Balanceado MXN",-0.12421120264177876,6.2071565435806053E-2,-1.4468442018986005E-2,0.10580292176629547,-6.7572474815615902E-3,6.7968610406985874E-2,0.17433348084827549,0.1067093982397429,-0.10114230043686279,-2.414990803410122E-3,0.14975299683634224,-2.811829522603948E-3,-4.4548221828096257E-2,-0.1840244593589504,3.4569413385687066E-2,4.769725978342175E-2,4.8204764760863508E-2,3.0018654862641658E-2]
["Dinámico EUR",-9.5254783732876547E-3,-0.17401180470512023,0.14560204988848913,0.15212039702864999,-1.4755598227884303E-2,5.4856590255310644E-2,5.3228800473712479E-3,7.4130786781396951E-2,-0.1510333683769628,0.18262190069108786,-3.1552705414197191E-2,0.15705966774748448,-5.4253924394394915E-2,-0.17265783626102482,3.2569609778528179E-2,5.7437260042074598E-2,3.4581269187950861E-2,4.6245256285761857E-2]
["Dinámico MXN",-0.12839967889094572,-7.3129953363528788E-2,8.1105305322942245E-2,0.20768053610579051,-1.8998611213737249E-2,0.10050635084917237,0.17368749130742489,0.15567736778185592,-0.19781932664894586,0.12464368636880763,0.1133616413428391,0.10697277949091855,-7.9289730521133861E-2,-0.28062600107003632,5.3773965704382802E-2,8.4681722070706816E-2,6.9753922409791919E-2,6.0567229667095067E-2]
["Brasil",-3.5713235348944883E-2,-0.17547669647155195,-0.1093191220287445,-0.20544998019269889,-9.4325834201724801E-2,-0.34707713846026422,0.89811444525110651,0.13951832215591087,-7.0435686269296194E-2,0.17441000876120416,-0.18798901652199107,{"$f":"+[1]WEB!$H$37","v":-0.23330093524651874},3.722298851575423E-2,5.6819902233357977E-2,-2.0587072381126142E-2,-3.5854936753016873E-3,3.4864270683553314E-2,-3.5559461424138197E-2]
["China",-6.0320599873831093E-2,-0.10747827926622255,7.1767617427220376E-2,-5.9375004972927803E-2,0.20813252172782715,-2.4958308956434805E-2,0.15798262770377347,0.24932620171607311,-0.16684151266405212,5.5543034323596752E-2,0.10610477460051948,{"$f":"+[1]WEB!$H$40","v":-0.20227882115348628},-1.9275652828787515E-2,-0.19728666994181987,1.8967020884337975E-2,3.9540312975210934E-2,4.7876314662227096E-2,8.3707353645301914E-3]
["Emergentes",6.8057664114120398E-2,-0.10897602380110771,6.2695758460717288E-2,-6.391384174181991E-2,4.469217972807038E-2,-5.666973051022961E-2,0.28047807023233506,0.26410760904254804,-0.18405722373787947,8.6099730905687899E-2,0.19692438087041664,{"$f":"+[1]WEB!$H$43","v":-4.272697286509175E-2},-2.683788886257954E-2,-0.21545851042926523,4.5559300058147269E-2,5.8762996038475457E-2,7.3606005458232149E-2,6.4069504843136268E-2]
["BRIC's",-9.103280835677463E-3,-0.1730641145746985,2.495958493222572E-2,-8.4459415098824264E-2,3.5019207874621205E-2,-3.8060539290841966E-2,0.28144487841883126,0.31073705261460693,-0.17011548647380337,0.14201473057495861,0.1978252424568232,{"$f":"+[1]WEB!$H$46","v":-0.13200596957841493},-4.8434889313524465E-3,-0.22411702063406058,3.2099324251650539E-2,5.6735928643018241E-2,7.8357389574597619E-2,6.9691113918834091E-2]
["Oro",0.19497977070236527,0.22611734659563765,-2.6882230128152274E-2,-0.28833077937940366,9.2502320762353429E-2,2.7839674328391961E-2,0.27516044506726045,6.0437891034166302E-2,-3.2990865847132067E-2,0.11548171673231855,0.29961754274453867,{"$f":"+[1]WEB!$H$49","v":-2.7934827125591588E-2},-4.2946996662378889E-2,-9.363959173364389E-2,7.6333167123896054E-2,4.9490088818874976E-2,0.10126423721203821,8.2922291507659979E-2]
["Revaluables",2.7217327993326768E-2,5.1494623570433884E-2,4.9338186221250968E-2,4.7061103547745065E-2,5.1160975286641763E-2,4.1720609080683202E-2,5.8122019902073774E-2,0.10050859365781628,8.998929338173145E-2,6.6742511504357241E-2,5.4887644444043884E-2,1.9076897913909985E-2,0.11844750454471784,0.11633363491899341,{"$f":"+AVERAGE(B23:M23)","v":5.4776648875334531E-2},{"$f":"+AVERAGE(D23:M23)","v":5.7860783494025368E-2},{"$f":"+AVERAGE(F23:M23)","v":6.0276068146407194E-2},{"$f":"+AVERAGE(I23:M23)","v":6.624098818037176E-2}]
[]
["Pesos"]
["Dólares"]
["Euros"]

{"sheet":"Pat","index":3,"n_rows":61,"n_cols":15,"rows_kept":61,"cut":false,"hidden":true,"merged":[]}
[null,2012,2013,2014,2015,2016,2017,2018,2019,2020,2021,"Julio","Acumulado 2021"]
["AZMAEJ",{"$error":"#DIV/0!"},{"$error":"#DIV/0!"},7.9788399407314747E-2,1.6382915645992702E-2,0.23537189725367114,0.16629755667447066,-0.12959776506816301,9.8232697115458345E-2,8.0935054026861852E-2,4.3421804259757835E-2,-4.4840287920019151E-2,-0.12971604359169631,{"$f":"+VLOOKUP(A2,[2]Catálogo!$B$4:$C$269,2,)","v":{"$error":"#N/A"}}]
["AZACWI",{"$error":"#DIV/0!"},{"$error":"#DIV/0!"},{"$error":"#DIV/0!"},0.1006602075369214,0.25321472623180719,0.15284406673960604,-0.11416202706575451,0.17953893214243521,0.18305607490968523,0.18315982324852209,-5.1068689604486961E-2,-0.19269181662448798,"ACWI",{"$f":"+AVERAGE(I3:K3)","v":0.18191827676688085}]
["AZBCSAG",-5.3270470423106842E-2,-3.0010711688542524E-2,0.16170644872268158,0.13999750660197452,0.17030310197442944,-4.1345687578299484E-2,-2.878667322803985E-2,-0.99395099483148808,0,0,0,0,{"$f":"+VLOOKUP(A4,[2]Catálogo!$B$4:$C$269,2,)","v":{"$error":"#N/A"}}]
["AZAUS",0.12412933194808873,-1.0251281222958708E-2,4.0261352635678538E-2,7.5736438743541079E-3,0.24889823138116229,5.9962614649639256E-2,-0.37669677625492093,9.7193884600665248E-2,9.6412927734627729E-2,9.0997040450384148E-2,-4.4325423241844741E-2,-0.1194453208867069,{"$f":"+VLOOKUP(A5,[2]Catálogo!$B$4:$C$269,2,)","v":{"$error":"#N/A"}}]
["AZCAN",-1.29859301162355E-2,3.8558544945819895E-2,0.10778885316621634,-0.1175340957995078,0.38351148106614996,9.4489548139087276E-3,-0.14274027708054571,0.17711544898175058,3.4653006295114253E-2,0.253636559240211,-5.3105650820958306E-2,-0.12533942000083809,{"$f":"+VLOOKUP(A6,[2]Catálogo!$B$4:$C$269,2,)","v":{"$error":"#N/A"}}]
["AZGER",0.18681670116446858,0.28254184409011218,-1.9508584848957011E-2,0.1041795290151466,0.20311426647468656,0.18301740352183193,-0.23087640655496999,0.10729611959973639,0.11213934790772573,6.7616980510920799E-2,-7.8676151909058967E-2,-0.32053627218482317,{"$f":"+VLOOKUP(A7,[2]Catálogo!$B$4:$C$269,2,)","v":{"$error":"#N/A"}}]
["AZHKONG",0.17494707114169805,-4.4970507150727146E-2,0.12794477618605327,0.11976604260941492,0.16244790051141789,0.22761374901089937,-7.5296616765718416E-2,5.1741521269784929E-2,4.4620169313470903E-2,-1.9906051730458008E-2,-4.607056632671358E-2,-0.13215294307167058,{"$f":"+VLOOKUP(A8,[2]Catálogo!$B$4:$C$269,2,)","v":{"$error":"#N/A"}}]
["AZJAPAN",-1.2026808294098745E-2,-1.9581987015147795E-2,8.8136910000000013E-2,0.22076728377865606,0.15773371224411914,5.3624480408018815E-2,-0.13474555053861181,0.10735655413085921,0.17656009404058826,2.2917011308575708E-2,-5.3328989754124034E-2,-0.21602654508882202,{"$f":"+VLOOKUP(A9,[2]Catálogo!$B$4:$C$269,2,)","v":{"$error":"#N/A"}}]
["AZTAIW",{"$error":"#DIV/0!"},{"$error":"#DIV/0!"},{"$error":"#DIV/0!"},{"$error":"#DIV/0!"},0.34879644307478341,0.17146876234264363,-9.9778231506826076E-2,0.21213046723228035,0.30859282216728001,0.29133082976845115,-3.0364596038963354E-2,-0.26145604138742451,{"$f":"+VLOOKUP(A10,[2]Catálogo!$B$4:$C$269,2,)","v":{"$error":"#N/A"}}]
["AZUK",{"$error":"#DIV/0!"},{"$error":"#DIV/0!"},4.1221665871882252E-3,5.1741271314599491E-2,0.12005981656066167,0.10011282155954659,-7.6888487667398309E-2,0.13387217405021712,-6.0399854009090759E-2,0.18246713077843979,-7.0575808472661428E-2,-0.15053014890963423,{"$f":"+VLOOKUP(A11,[2]Catálogo!$B$4:$C$269,2,)","v":{"$error":"#N/A"}}]
["AZEMU",{"$error":"#DIV/0!"},{"$error":"#DIV/0!"},{"$error":"#DIV/0!"},0,0.20100003000000011,0.16441160288730372,-0.16089489313864946,-0.99147814592679751,0,0,0,0,{"$f":"+VLOOKUP(A12,[2]Catálogo!$B$4:$C$269,2,)","v":{"$error":"#N/A"}}]
["AZCHINA",{"$error":"#DIV/0!"},{"$error":"#DIV/0!"},3.0632765953162E-2,-0.22128309000000002,0.17445001932730597,0.25560276481006383,-0.12461170542384536,6.0178757991398601E-2,9.3737755725156191E-2,-0.1958482347249817,-1.637443433161645E-2,-0.16422972275139058,{"$f":"+VLOOKUP(A13,[2]Catálogo!$B$4:$C$269,2,)","v":{"$error":"#N/A"}}]
["AZDJO&",-5.113124491131138E-2,0.30295960825831325,-2.8828961158314903E-2,-0.13365559358419987,0.44009109473973718,-3.7283277216235367E-2,-0.17210535953481343,6.0003324860855578E-3,-0.17583910842611172,0.78490339611198934,5.975093609477411E-2,0.36486860142930144,{"$f":"+VLOOKUP(A14,[2]Catálogo!$B$4:$C$269,2,)","v":{"$error":"#N/A"}}]
["AZIPCL",0.17269545101422001,-1.8243581773911943E-2,8.8078452016828734E-3,-1.57948366443873E-2,5.4121901729200061E-2,9.2861194603463426E-2,-0.17806881774090999,4.1080949491391072E-2,-3.3881322214639464E-2,0.20144061667796831,5.6601193945546857E-3,-6.7677103072870337E-2,{"$f":"+VLOOKUP(A15,[2]Catálogo!$B$4:$C$269,2,)","v":{"$error":"#N/A"}}]
["AZSPLAT",-9.0796248469234841E-3,-0.12055635031626799,-1.1562050003170232E-2,-1.4688579525328649E-2,0.2531691865497101,0.14942528999999993,-0.99130000002000995,0,0,0,0,0,{"$f":"+VLOOKUP(A16,[2]Catálogo!$B$4:$C$269,2,)","v":{"$error":"#N/A"}}]
["AZHOMEC",{"$error":"#DIV/0!"},0.16327340421535141,0.16506681885618324,0.18710436574763722,0.21579934653257804,0.44568727433516786,-0.30684841729321588,0.38728183633507118,0.27878497850105477,0.44856723294174294,-8.6717663764669717E-2,-0.30810117757579569,{"$f":"+VLOOKUP(A17,[2]Catálogo!$B$4:$C$269,2,)","v":{"$error":"#N/A"}}]
["AZIWM",{"$error":"#DIV/0!"},{"$error":"#DIV/0!"},{"$error":"#DIV/0!"},-0.10788838086861563,0.33719133439289051,5.4607017285538406E-2,-0.11673879113120111,0.1668173340580672,0.19017216038955742,0.15470867168105995,-2.9262427537031788E-2,-0.18913714436516305,{"$f":"+VLOOKUP(A18,[2]Catálogo!$B$4:$C$269,2,)","v":{"$error":"#N/A"}}]
["AZDJFS",0.14534180607654323,0.32146684007160631,0.25172885483980934,0.13042097461280733,0.36034197287408798,0.11122577309923343,-0.11060246411231123,0.22777712044257514,-1.667607379018532E-2,0.33944524155548916,-2.7786351058866621E-2,-0.18143224229399457,{"$f":"+VLOOKUP(A19,[2]Catálogo!$B$4:$C$269,2,)","v":{"$error":"#N/A"}}]
["AZLM10",0.13787594301660677,5.8590476280264703E-3,5.2271291997854297E-2,1.9822361488326834E-2,-3.8611853205405056E-2,6.2982680846887185E-2,-2.6936982919638974E-2,-0.99215773929456719,0,0,0,0,{"$f":"+VLOOKUP(A20,[2]Catálogo!$B$4:$C$269,2,)","v":{"$error":"#N/A"}}]
["AZQQQ",{"$error":"#DIV/0!"},{"$error":"#DIV/0!"},{"$error":"#DIV/0!"},{"$error":"#DIV/0!"},0.23371617642195464,0.2392200452107105,-1.5136001478360805E-2,0.29598172306205051,0.49813675538314928,0.26078250716476692,-5.8107459089100311E-2,-0.24593379800502269,"NASDAQ",{"$f":"+AVERAGE(I21:K21)","v":0.3516336618699889}]
["AZSLV",-1.2917442362416764E-2,-0.36881823209385189,-0.11495771686013512,1.0348660212057048E-2,0.33305396888317351,2.7744638110376307E-3,-9.5955247553383249E-2,8.8255696668282368E-2,0.46659957483322101,-0.1159259486840909,-0.11550610032911313,-0.22675877730051086,{"$f":"+VLOOKUP(A22,[2]Catálogo!$B$4:$C$269,2,)","v":{"$error":"#N/A"}}]
["AZS&P5",5.1342124406188239E-2,0.26177707255740135,0.26058041507127117,0.14220418205318208,0.29935323210279186,0.12893664923642345,-6.5065236977859375E-2,0.2237798023947799,0.19499331932877362,0.27906101230314206,-4.9094119826131655E-2,-0.1776067073180998,{"$f":"+VLOOKUP(A23,[2]Catálogo!$B$4:$C$269,2,)","v":{"$error":"#N/A"}}]
["AZLUDI",0.18178311304280004,-6.3177085582071912E-2,0.15407462514031378,-4.719107714104287E-2,7.1652968337307499E-2,6.0055275296670763E-2,2.1399999999999999E-2,5.4469709313839321E-2,7.869489327602297E-2,2.6955387030145772E-2,2.099199566778287E-3,7.9864664501767546E-3,{"$f":"+VLOOKUP(A24,[2]Catálogo!$B$4:$C$269,2,)","v":{"$error":"#N/A"}}]
["AZXLF",{"$error":"#DIV/0!"},{"$error":"#DIV/0!"},0.27262015102108084,9.6538320478795736E-2,0.35342685183571865,0.1044813031844245,-0.11883624369812529,0.22128279828555475,-1.3127431448087812E-3,0.37680625787128008,-2.9152512499138306E-2,-0.18920797289059521,{"$f":"+VLOOKUP(A25,[2]Catálogo!$B$4:$C$269,2,)","v":{"$error":"#N/A"}}]
["AZHCARE",6.619155564534096E-2,0.38204195118889794,0.38621790619905094,0.19160941905824802,0.13136811514679225,0.13403059738224377,3.3399999999999999E-2,0.12865331916433265,0.17585460315070822,0.19587079696388621,-6.7457051314435801E-2,-0.12067974132970183,{"$f":"+VLOOKUP(A26,[2]Catálogo!$B$4:$C$269,2,)","v":{"$error":"#N/A"}}]
["AZACWIE",{"$error":"#DIV/0!"},{"$error":"#DIV/0!"},{"$error":"#DIV/0!"},{"$error":"#DIV/0!"},0.20977350803332917,0.16204244312805915,-0.15997496265417988,0.12476723211900542,0.11789978326414174,8.0140279237598921E-2,-5.5594917607919569E-2,-0.20633166047672413,{"$f":"+VLOOKUP(A27,[2]Catálogo!$B$4:$C$269,2,)","v":{"$error":"#N/A"}}]
["AZINDA",{"$error":"#DIV/0!"},{"$error":"#DIV/0!"},{"$error":"#DIV/0!"},{"$error":"#DIV/0!"},0.15697365133787167,0.24612479062532655,-6.5575195580851897E-2,-2.8172870467304545E-3,0.15646986379573113,0.20932770183119276,-3.7676109470407004E-3,-9.8862056457787006E-2,{"$f":"+VLOOKUP(A28,[2]Catálogo!$B$4:$C$269,2,)","v":{"$error":"#N/A"}}]
["AZBRIC",4.6455041170380351E-2,-6.7993414601455582E-2,5.4407608999153423E-2,-2.5845959035875943E-2,0.10819040142878555,0.25356310999999998,-0.13748319380585472,0.16868082028691211,0.19886306602357284,-0.11818208264858054,-3.4932661991076142E-3,-0.19771606201949798,{"$f":"+VLOOKUP(A29,[2]Catálogo!$B$4:$C$269,2,)","v":"AZ BRIC INDEXFUND"}]
["AZDBO",{"$error":"#DIV/0!"},{"$error":"#DIV/0!"},{"$error":"#DIV/0!"},{"$error":"#DIV/0!"},0.24734189519996619,3.5713942463642123E-3,-0.14019986256650585,0.14932436597661924,-0.19586929796944685,0.61278135104396858,-5.9330140443502377E-2,0.17019204566851309,{"$f":"+VLOOKUP(A30,[2]Catálogo!$B$4:$C$269,2,)","v":"AZ DB OIL FUND"}]
["AZGLOBA",{"$error":"#DIV/0!"},9.8602672585038853E-2,0.10740432991615312,7.6985208901140023E-2,0.21800836395362477,0.13026898571861345,-0.10620149628512499,0.16093312845714114,0.17516712786669442,0.18184534614800429,-4.9936066502583421E-2,-0.18794611483665091,{"$f":"+VLOOKUP(A31,[2]Catálogo!$B$4:$C$269,2,)","v":{"$error":"#N/A"}}]
["AZGOLD",-3.3888488721287469E-2,-0.29049269829539592,8.9011574459430198E-2,1.927921488098816E-2,0.26252109859654604,5.0897554863925887E-2,-3.6948579711853835E-2,0.10504122953766992,0.26943692285631937,-3.7645002625197765E-2,-3.834059209231222E-2,-7.9477852531643189E-2,{"$f":"+VLOOKUP(A32,[2]Catálogo!$B$4:$C$269,2,)","v":"AZ GOLD TRUST"}]
["AZINDIA",1.7857292105452061E-2,4.4691374662368943E-2,0,0,0,-0.99,0,0,0,0,0,0,{"$f":"+VLOOKUP(A33,[2]Catálogo!$B$4:$C$269,2,)","v":{"$error":"#N/A"}}]
["AZBRZ",-8.8915128876770555E-2,-0.16368766781517385,-7.0431592544051069E-2,-0.3234794422026237,0.88310751106976082,0.1265276483647344,-8.0879253339865009E-3,0.19084746279142895,-0.1596163507966375,-0.19866315516570976,3.6520247647853665E-2,0.13269064834409705,{"$f":"+VLOOKUP(A34,[2]Catálogo!$B$4:$C$269,2,)","v":{"$error":"#N/A"}}]
["AZMSCE",8.0074944113112334E-2,-4.9374757590868734E-2,5.6895659818447797E-2,-4.750182081621257E-2,0.25296435432986608,0.22796903188193318,-0.16725270398809122,9.7971484931272945E-2,0.18350402947421518,-2.8186275826763696E-2,-2.3433313417886126E-2,-0.19806373806361277,{"$f":"+VLOOKUP(A35,[2]Catálogo!$B$4:$C$269,2,)","v":"AZ MSCI EMERGING MKT IN"},{"$f":"+AVERAGE(B35:K35)","v":6.0706394632691132E-2}]
["AZSPY",{"$error":"#DIV/0!"},{"$error":"#DIV/0!"},{"$error":"#DIV/0!"},0.13038643992506782,0.2949299546112476,0.13404014644862716,-5.4203818854406061E-2,0.2146432770040605,0.18305069983386346,0.28022408786651365,-4.8526943470819317E-2,-0.17468663398143158,{"$f":"+VLOOKUP(A36,[2]Catálogo!$B$4:$C$269,2,)","v":{"$error":"#N/A"}}]
["AZBLD",-4.9336710990276922E-2,8.1886859068168283E-2,0.16315714012588423,0.14584707226758109,0.21309388024665266,-1.079742418249785E-2,-3.2393799854261274E-2,4.5690513186907644E-2,9.9122321216653209E-2,8.0284489632182821E-2,-2.9532803825739418E-2,-0.10110312936296495,{"$f":"+VLOOKUP(A37,[2]Catálogo!$B$4:$C$269,2,)","v":{"$error":"#N/A"}}]
["AZBLE",-1.7186630953358484E-2,-9.2929814301703217E-3,0.69120604291337906,4.3853663177957136E-2,0.14433460666966647,7.9099189569902917E-2,-1.2510232494633011E-2,4.3938420658538035E-3,5.4241738961953168E-3,-5.8876137694818809E-3,-4.4615548376717107E-2,-0.18366821084561946,{"$f":"+VLOOKUP(A38,[2]Catálogo!$B$4:$C$269,2,)","v":{"$error":"#N/A"}}]
["AZBLP",6.5524156352888552E-2,6.4666738055867423E-3,1.0466917419768684E-2,3.511976268951722E-3,2.2657409464719169E-2,5.1734008845211843E-2,-3.9026820732609546E-2,6.4590669664601474E-2,2.3967643983111575E-2,6.8991058740424105E-2,-1.5376635988468723E-2,-2.1342426526898661E-2,{"$f":"+VLOOKUP(A39,[2]Catálogo!$B$4:$C$269,2,)","v":{"$error":"#N/A"}}]
["AZCRD",-8.9545335797798775E-2,-7.6307377109642305E-3,0.12804402056829045,0.14691666137985027,0.18563759481426167,-5.4466856190654611E-2,9.5705466193154454E-3,-2.50381845324118E-2,3.9225602362136014E-2,-3.6383348186805886E-3,-2.0972483686131582E-2,-6.5503951910265368E-2,{"$f":"+VLOOKUP(A40,[2]Catálogo!$B$4:$C$269,2,)","v":{"$error":"#N/A"}}]
["AZCRE",-1.3467264900237863E-2,5.8685670232651699E-2,-6.8366911791089335E-2,3.9757261702426883E-2,0.12768696365745247,4.7895671534682327E-2,3.1024753246941872E-2,-5.7515523490648923E-2,1.1372005460564827E-2,-7.9797532161126061E-2,-2.8137980102178162E-2,-0.13633408263649882,{"$f":"+VLOOKUP(A41,[2]Catálogo!$B$4:$C$269,2,)","v":{"$error":"#N/A"}}]
["AZCRP",2.2419264182328646E-2,1.8918267950546408E-2,1.1970898977853972E-2,6.6379658162558641E-3,1.0460087458674883E-2,4.0812507302758538E-2,5.3433522595862648E-2,6.2737364669517071E-2,1.7332609408019506E-2,1.6006147476540722E-2,5.7636836922123624E-3,3.0739201866433641E-2,{"$f":"+VLOOKUP(A42,[2]Catálogo!$B$4:$C$269,2,)","v":{"$error":"#N/A"}}]
["AZDID",4.3966004185140628E-2,0.27956994839112892,0.25361261164507898,0.14176735018802722,0.28834469384532269,0.11440568358228043,-6.5271874542258357E-2,0.20372574013542466,0.20738336079051289,0.28037854421831843,-4.8979892225433308E-2,-0.17711713501186854,{"$f":"+VLOOKUP(A43,[2]Catálogo!$B$4:$C$269,2,)","v":{"$error":"#N/A"}}]
["AZDIE",0.12461139395227216,0.24499949839425228,-4.9993401145084215E-3,9.9709701379850024E-2,0.17748404326278844,0.18465992693062505,-0.18755094580800724,0.14608101325031386,9.6959425425388934E-2,0.13873154745400451,-8.2672131068132759E-2,-0.28833616298148579,{"$f":"+VLOOKUP(A44,[2]Catálogo!$B$4:$C$269,2,)","v":{"$error":"#N/A"}}]
["AZDIP",0.1591095208870712,-1.8720200292490774E-2,9.6358962295006734E-4,-5.5897268482405504E-3,4.8906490633923827E-2,7.7796131853838713E-2,-0.15098902186776975,5.4560309955840269E-2,1.543140943317578E-2,0.19250879257556286,-6.0007138333850851E-2,-0.13669288488429898,{"$f":"+VLOOKUP(A45,[2]Catálogo!$B$4:$C$269,2,)","v":{"$error":"#N/A"}}]
["AZREAL",0.13900355700734024,-3.8279664319174622E-2,6.7591253013822961E-2,-3.2165444068607441E-2,5.0645251363130583E-2,4.7026298242077047E-2,2.8016964313028581E-2,9.3401380303193227E-2,4.9955560011408995E-2,1.9076897913909985E-2,3.0050559530734322E-3,1.502672449011655E-2,{"$f":"+VLOOKUP(A46,[2]Catálogo!$B$4:$C$269,2,)","v":{"$error":"#N/A"}}]
["AZFRAN",{"$error":"#DIV/0!"},{"$error":"#DIV/0!"},{"$error":"#DIV/0!"},{"$error":"#DIV/0!"},0.23722116000000004,0.20761160437960835,-0.10595818251364053,0.16304616576320052,6.4590368483541383E-2,0.21652675661528042,-7.777185930248498E-2,-0.23408343428712841,{"$f":"+VLOOKUP(A47,[2]Catálogo!$B$4:$C$269,2,)","v":{"$error":"#N/A"}}]
["AZDJIA",{"$error":"#DIV/0!"},0.22400304058016718,0.22121756719232089,9.0628741004700641E-2,0.27889247407831608,0.17282808544810568,-1.7095742348253173E-3,0.15756014566418219,0.12883736671511858,0.21148897013398305,-4.7022181549537523E-2,-0.14999748505063781,{"$f":"+VLOOKUP(A48,[2]Catálogo!$B$4:$C$269,2,)","v":{"$error":"#N/A"}}]
["AZSUIZA",{"$error":"#DIV/0!"},{"$error":"#DIV/0!"},{"$error":"#DIV/0!"},{"$error":"#DIV/0!"},0.11724769968361715,0.14158481639370168,-0.11059160253813971,0.22083500363654984,0.13251109186824661,0.19047547140968923,-7.1802123951766217E-2,-0.22401684664075705,{"$f":"+VLOOKUP(A49,[2]Catálogo!$B$4:$C$269,2,)","v":{"$error":"#N/A"}}]
["AZTELEC",{"$error":"#DIV/0!"},{"$error":"#DIV/0!"},{"$error":"#DIV/0!"},{"$error":"#DIV/0!"},0.11837290999999994,-0.18099622960287898,-9.6164990721180343E-2,-0.98792079642054542,-1,{"$error":"#DIV/0!"},{"$error":"#DIV/0!"},{"$error":"#DIV/0!"},{"$f":"+VLOOKUP(A50,[2]Catálogo!$B$4:$C$269,2,)","v":{"$error":"#N/A"}}]
["AZISRAE",{"$error":"#DIV/0!"},{"$error":"#DIV/0!"},{"$error":"#DIV/0!"},{"$error":"#DIV/0!"},6.9252678993370287E-2,4.8548072054150904E-3,-8.5107096746072974E-2,-0.98970585309031478,-1,{"$error":"#DIV/0!"},{"$error":"#DIV/0!"},{"$error":"#DIV/0!"},{"$f":"+VLOOKUP(A51,[2]Catálogo!$B$4:$C$269,2,)","v":{"$error":"#N/A"}}]
["AZESTAT",{"$error":"#DIV/0!"},{"$error":"#DIV/0!"},{"$error":"#DIV/0!"},{"$error":"#DIV/0!"},0.226920087923832,2.1779716781441527E-2,-6.7254393888343977E-2,0.17277894338925592,-5.6577748494889724E-2,0.34662771009031368,-6.4864436335079767E-2,-0.18672079714893608,{"$f":"+VLOOKUP(A52,[2]Catálogo!$B$4:$C$269,2,)","v":{"$error":"#N/A"}}]
["AZTRANS",{"$error":"#DIV/0!"},{"$error":"#DIV/0!"},{"$error":"#DIV/0!"},{"$error":"#DIV/0!"},0.41636559523971606,0.11247260221733968,-0.13977689767473211,0.12149895875221906,0.13589563872979182,0.27115771832875235,-2.8090449443949006E-2,-0.18849190449069297,{"$f":"+VLOOKUP(A53,[2]Catálogo!$B$4:$C$269,2,)","v":{"$error":"#N/A"}}]
["AZESP",{"$error":"#DIV/0!"},{"$error":"#DIV/0!"},{"$error":"#DIV/0!"},{"$error":"#DIV/0!"},0.13468537420985505,0.17669305414763459,-0.16276244115751104,4.1497465534696687E-2,-4.7901082860076882E-2,1.517272430998351E-2,-5.7824085099618006E-2,-0.1802562261793671,{"$f":"+VLOOKUP(A54,[2]Catálogo!$B$4:$C$269,2,)","v":{"$error":"#N/A"}}]
["AZSKORE",{"$error":"#DIV/0!"},{"$error":"#DIV/0!"},{"$error":"#DIV/0!"},{"$error":"#DIV/0!"},{"$error":"#DIV/0!"},0.28702489212231708,-0.19992871631237485,4.260432689448046E-2,0.35445109318341306,-6.9258270002405919E-2,-5.1249875488531438E-2,-0.25812973127421346,{"$f":"+VLOOKUP(A55,[2]Catálogo!$B$4:$C$269,2,)","v":{"$error":"#N/A"}}]
["AZLM5",{"$error":"#DIV/0!"},{"$error":"#DIV/0!"},{"$error":"#DIV/0!"},{"$error":"#DIV/0!"},{"$error":"#DIV/0!"},{"$error":"#DIV/0!"},102.27076599999999,7.0466176265217229E-2,7.4085322428035782E-2,-5.5619078319736226E-2,-5.7593623949250272E-3,2.5291066033849674E-2,{"$f":"+VLOOKUP(A56,[2]Catálogo!$B$4:$C$269,2,)","v":{"$error":"#N/A"}}]
["AZRBOT",null,null,null,null,null,null,null,6.5788069999999976E-2,0.38269724674249717,0.18710843936062616,-5.9756122235362308E-2,-0.32501112226181128,{"$f":"+VLOOKUP(A57,[2]Catálogo!$B$4:$C$269,2,)","v":"AZ AUTOMATION & ROBOTICS SECTOR FUND"}]
["AZICLN",null,null,null,null,null,null,null,3.3711920000000006E-2,1.2206313824842034,-0.22778267691874998,-1.5713171865227027E-2,3.341107214229333E-2,{"$f":"+VLOOKUP(A58,[2]Catálogo!$B$4:$C$269,2,)","v":"AZ CLEAN ENERGY SECTOR FUND"},{"$f":"+AVERAGE(I58:K58)","v":0.34218687518848451}]
["AZDSI",null,null,null,null,null,null,null,4.4556189999999996E-2,0.19293978814102863,0.29847539264817424,-5.6086628473876909E-2,-0.20607888046520151,{"$f":"+VLOOKUP(A59,[2]Catálogo!$B$4:$C$269,2,)","v":"AZ SOCIALLY RESPONSIBLE COMPANIES INDEX FUND"},{"$f":"+AVERAGE(I59:K59)","v":0.17865712359640096}]
["AZHDV",null,null,null,null,null,null,null,1.4623579999999858E-2,-4.1859307074255003E-2,0.18722043856221937,-3.7511613232913188E-2,-2.5718192059327349E-2,{"$f":"+VLOOKUP(A60,[2]Catálogo!$B$4:$C$269,2,)","v":"AZ CORE US HIGH DIVIDEND FUND"}]
["AZEMBMXX",null,null,null,null,null,null,null,1.275596999999995E-2,3.8374160361651644E-2,-1.1285477811021849E-2,-1.9890264126787516E-2,-0.15480110826470483,{"$f":"+VLOOKUP(A61,[2]Catálogo!$B$4:$C$269,2,)","v":{"$error":"#N/A"}}]

{"sheet":"No Deducible 93","index":4,"n_rows":755,"n_cols":48,"rows_kept":755,"cut":false,"hidden":true,"merged":[[21,2,21,11],[21,14,21,24],[31,36,40,51],[41,36,45,52]]}
[]
[null,null,null,null,null,"Edad",{"$f":"+'OptiMaxx plus'!T7","v":44},null,"Portafolio","Tasa"]
[null,null,null,null,null,"Aportación",{"$f":"+'OptiMaxx plus'!D12","v":1500},null,"Conservador Pesos",0.06,{"$f":"+J3","v":0.06},{"$f":"+'OptiMaxx plus'!F20","v":0}]
[null,null,null,null,null,"Periodicidad",{"$f":"+'OptiMaxx plus'!K12","v":"Mensual"},null,"Moderado Pesos",0.09,0.09,{"$f":"+'OptiMaxx plus'!#REF!","v":{"$error":"#REF!"}}]
[null,null,null,null,null,"Plazo",{"$f":"+'OptiMaxx plus'!D15","v":21},null,"Dinámico Pesos",0.12,0.12,{"$f":"+'OptiMaxx plus'!#REF!","v":{"$error":"#REF!"}}]
[null,null,null,null,null,"Portafolio",{"$f":"L20","v":0.12},null,"Conservador Dólares",0.03,0.03,{"$f":"+'OptiMaxx plus'!#REF!","v":{"$error":"#REF!"}}]
[null,null,null,null,null,"Interés Anual",{"$f":"+L20","v":0.12},null,"Moderado Dólares",0.06,0.06,{"$f":"+'OptiMaxx plus'!#REF!","v":{"$error":"#REF!"}}]
[null,null,null,null,null,"Interés Mensual",{"$f":"(1+G7)^(1/12)-1","v":9.4887929345830457E-3},null,"Dinámico Dólares",0.1,0.1,{"$f":"+'OptiMaxx plus'!N21","v":0}]
[null,null,null,null,null,"% Bono",{"$f":"+Bono!F9","v":0.55000000000000004},null,"Conservador Euros",0.03,0.03,{"$f":"+'OptiMaxx plus'!#REF!","v":{"$error":"#REF!"}}]
[null,null,null,null,null,null,null,null,"Moderado Euros",0.06,0.06,{"$f":"+'OptiMaxx plus'!#REF!","v":{"$error":"#REF!"}}]
[null,null,null,null,null,null,null,null,"Dinámico Euros",0.09,0.09,{"$f":"+'OptiMaxx plus'!#REF!","v":{"$error":"#REF!"}}]
[null,null,null,null,null,null,null,null,"Pesos Revaluables",0.08,0.08,{"$f":"+'OptiMaxx plus'!F24","v":5.4004451215870129E-2}]
[null,null,null,null,null,null,null,null,"BRIC",0.08,0.08,{"$f":"+'OptiMaxx plus'!F27","v":"BRIC"}]
[null,null,null,null,null,null,null,null,"China",0.08,0.08,{"$f":"+'OptiMaxx plus'!N24","v":0.16361327285762312}]
[null,null,null,null,null,null,null,null,"Brasil",0.08,0.08,{"$f":"+'OptiMaxx plus'!F25","v":4.5842632788561287E-2}]
[null,null,null,null,null,null,null,null,"Oro",0.08,0.08,{"$f":"+'OptiMaxx plus'!N26","v":0}]
[null,null,null,null,null,"Incremento Inflación",{"$f":"+'OptiMaxx plus'!K15","v":"Si"},null,"Mercado Emergentes",0.08,0.08,{"$f":"+'OptiMaxx plus'!N25","v":8.4681722070706816E-2}]
[null,null,null,null,null,"Inflación",{"$f":"+Rendimientos_UDI_Inflación!S36/100","v":4.9870199999999996E-2}]
[null,null,null,null,null,"Udi",{"$f":"+Rendimientos_UDI_Inflación!S17","v":6.8424887369862981}]
[null,null,null,null,null,null,{"$f":"+G18","v":4.9870199999999996E-2},null,"Tasa Ponderada Bruta",null,null,{"$f":"+'OptiMaxx plus'!D20","v":0.12}]
[null,null,null,null,null,null,null,null,null,{"$f":"3.6%/4","v":9.0000000000000011E-3}]
[null,null,"Saldo Inicial",null,null,null,null,null,null,null,null,null,null,null,"Saldo Comprometido",null,null,null,null,null,null,null,null,null,null,null,"Bono"]
[null,null,"Año","Mes","Edad","Saldo Anterior","Aportación","Interés","Prima","Cargo Administrativo","Cargo Gestión Inversión","Saldo Final",null,null,"Año","Mes","Edad","Saldo Anterior","Aportación","Bono","Interés","Cargo Fijo","Cargo Administrativo","Cargo Gestión Inversión","Saldo Final",null,"Saldo Final",null,null,"Saldo Fondo"]
[null,1,0,1,{"$f":"G2","v":44},0,{"$f":"G3","v":1500},{"$f":"SUM(F24:G24)*$G$8","v":14.233189401874569},-500,0,{"$f":"-SUM(F24:H24)*0.1%","v":-1.5142331894018746},{"$f":"SUM(F24:K24)","v":1012.7189562124727},null,1,0,1,{"$f":"S9","v":0},0,null,{"$f":"S24*$G$9","v":0},{"$f":"SUM(R24:T24)*$G$8","v":0},0,null,{"$f":"-SUM(R24:U24)*0.1%","v":0},{"$f":"SUM(R24:X24)","v":0},null,{"$f":"+Bono!J24","v":830.11509569407701},null,{"$f":"+B24/12","v":8.3333333333333329E-2},{"$f":"+AA24+Y24+L24","v":1842.8340519065496},null,null,"Años","Aportación Anual"]
[null,{"$f":"+B24+1","v":2},0,2,{"$f":"E24","v":44},{"$f":"L24","v":1012.7189562124727},{"$f":"IF($G$4=\"mensual\",$G$3,0)","v":1500},23.842669878301795,0,0,{"$f":"-SUM(F25:H25)*0.1%","v":-2.5365616260907746},{"$f":"SUM(F25:K25)","v":2534.025064464684},null,{"$f":"+N24+1","v":2},0,2,{"$f":"Q24","v":0},{"$f":"Y24","v":0},null,0,0,0,null,{"$f":"-SUM(R25:U25)*0.1%","v":0},{"$f":"SUM(R25:X25)","v":0},null,{"$f":"+Bono!J25","v":1665.3770012688487},null,{"$f":"+B25/12","v":0.16666666666666666},{"$f":"+AA25+Y25+L25","v":4199.4020657335332},null,null,1,{"$f":"VLOOKUP(G4,$AK$25:$AL$28,2,0)*G3","v":18000},null,null,"Mensual",12]
[null,3,0,3,44,{"$f":"L25","v":2534.025064464684},{"$f":"IF($G$4=\"mensual\",$G$3,0)","v":1500},38.278028529623406,0,{"$f":"-SUM(F26:H26)*$J$21","v":-36.650727836948775},-4.0723030929943071,4031.5800620643645,null,3,0,3,0,0,null,0,0,0,null,0,0,null,{"$f":"+Bono!J26","v":2483.2426939611041},null,0.25,6514.8227560254691,null,null,{"$f":"+AG25+1","v":2},{"$f":"IF($G$17=\"Si\",(1+$G$20)*AH25,AH25)","v":18897.6636},null,null,"Trimestral",4]
[null,4,0,4,44,4031.5800620643645,{"$f":"IF($G$4=\"mensual\",$G$3,IF($G$4=\"trimestral\",G3,0))","v":1500},52.488017809996784,0,0,-5.5840680798743607,5578.4840117944859,null,4,0,4,0,0,null,0,{"$f":"SUM(R27:T27)*$G$8","v":0},0,null,0,0,null,{"$f":"+Bono!J27","v":3328.7541823960642},null,0.33333333333333331,8907.2381941905496,null,null,{"$f":"+AG26+1","v":3},{"$f":"IF($G$17=\"Si\",(1+$G$20)*AH26,AH26)","v":19840.093863264719},null,null,"Semestral",2]
[null,5,0,5,44,5578.4840117944859,{"$f":"IF($G$4=\"mensual\",$G$3,0)","v":1500},67.166269078674574,0,0,-7.1456502808731601,7138.504630592287,null,5,0,5,0,0,null,0,0,0,null,0,0,null,{"$f":"+Bono!J28","v":4179.5079401325838},null,0.41666666666666669,11318.01257072487,null,null,4,20829.523312244502,null,null,"Anual",1]
[null,6,0,6,44,7138.504630592287,{"$f":"IF($G$4=\"mensual\",$G$3,0)","v":1500},81.968981704127032,0,{"$f":"-SUM(F29:H29)*$J$21","v":-78.484262510667747},-8.7204736122964146,8633.2688761734498,null,6,0,6,0,0,null,0,0,0,null,0,0,null,{"$f":"+Bono!J29","v":4990.1712764263393},null,0.5,13623.440152599789,null,null,5,21868.295805730799,null,null,null,null,null,null,null,null,null,null,null,null,null,"el valor estimado le da una ilustración"]
[null,7,0,7,44,8633.2688761734498,{"$f":"IF($G$4=\"mensual\",$G$3,IF($G$4=\"trimestral\",$G$3,IF(G4=\"semestral\",$G$3,0)))","v":1500},96.152490116464918,0,0,-10.229421366289914,10219.191944923625,null,7,0,7,0,0,null,0,{"$f":"SUM(R30:T30)*$G$8","v":0},0,null,0,0,null,{"$f":"+Bono!J30","v":5851.2260128583011},null,0.58333333333333337,16070.417957781927,null,null,6,22958.872091221754,null,null,null,null,null,null,null,null,null,null,null,null,null,"el valor ilustrado le da una estimación"]
[null,8,0,8,44,10219.191944923625,{"$f":"IF($G$4=\"mensual\",$G$3,0)","v":1500},111.20098572601383,0,0,-11.830392930649639,11818.56253771899,null,8,0,8,0,0,null,0,0,0,null,0,0,null,{"$f":"+Bono!J31","v":6717.6193885323082},null,0.66666666666666663,18536.181926251298,null,null,7,24103.835634185401]
[null,9,0,9,44,11818.56253771899,{"$f":"IF($G$4=\"mensual\",$G$3,0)","v":1500},126.37708210671039,0,{"$f":"-SUM(F32:H32)*$J$21","v":-121.00445657843132},-13.4449396198257,13310.490223627443,null,9,0,9,0,0,null,0,0,0,null,0,0,null,{"$f":"+Bono!J32","v":7521.011670264862},null,0.75,20831.501893892306,null,null,8,25305.898738029355,null,null,"Las tasas de crecimiento elegidas tienen fines ilustrativos únicamente. La tasa anual proyectada está expresada antes de cargos. La ganancia real podría ser otra, ya que, debido a la naturaleza de este tipo de inversiones, su rendimiento puede indistintamente subir o bajar. El saldo proyectado se expresa después de los cargos del producto. Si se rescata de forma anticipada el Saldo Sujeto a Retiro, el valor ilustrado le da una estimación de lo que podrá recibir, por lo tanto, para obtener los máximos beneficios de esta inversión, la aportación debería ser realizada por la duración del plazo contratado. En caso de fallecimiento se entregará a los beneficiarios el Saldo del Fondo menos el Bono de fidelidad exento de impuestos."]
[null,10,0,10,44,13310.490223627443,{"$f":"IF($G$4=\"mensual\",$G$3,IF($G$4=\"trimestral\",$G$3,0))","v":1500},140.53367499166734,0,0,-14.951023898619111,14936.072874720492,null,10,0,10,0,0,null,0,{"$f":"SUM(R33:T33)*$G$8","v":0},0,null,0,0,null,{"$f":"+Bono!J33","v":8397.7579106979392},null,0.83333333333333337,23333.830785418431,null,null,9,26567.908969274624]
[null,11,0,11,44,14936.072874720492,{"$f":"IF($G$4=\"mensual\",$G$3,0)","v":1500},155.95849216593984,0,0,-16.592031366886435,16575.439335519546,null,11,0,11,0,0,null,0,0,0,null,0,0,null,{"$f":"+Bono!J34","v":9279.9400795179699},null,0.91666666666666663,25855.379415037518,null,null,10,27892.855903154141]
[null,12,0,12,44,16575.439335519546,{"$f":"IF($G$4=\"mensual\",$G$3,0)","v":1500},171.51410105636234,0,{"$f":"-SUM(F35:H35)*$J$21","v":-164.22258092918321},-18.246953436575911,18064.483902210148,null,12,0,12,0,0,null,0,0,0,null,0,0,null,{"$f":"+Bono!J35","v":10075.991953263632},null,1,28140.475855473778,null,null,11,29283.878205615616]
[null,13,{"$f":"C24+1","v":1},{"$f":"D24","v":1},{"$f":"E24+1","v":45},{"$f":"L35","v":18064.483902210148},{"$f":"IF(AND(G4=\"Anual\",$G$17=\"si\"),G24*(1+$G$20)/2,IF(AND(G4=\"Anual\",G17=\"No\"),G24/2,IF(G17=\"Si\",G24*(1+$G$20),G24)))","v":1574.8053},186.35314862216475,0,0,-19.825642350832315,19805.816708481481,null,13,{"$f":"O24+1","v":1},{"$f":"P24","v":1},{"$f":"Q24+1","v":1},0,{"$f":"IF(G4=\"Anual\",G36,0)","v":0},null,{"$f":"SUM(R36:T36)*$G$8","v":0},0,null,0,0,null,{"$f":"+Bono!J36","v":10138.464272116595},null,1.0833333333333333,29944.280980598076,null,null,12,30744.271068505306]
[null,14,1,2,45,19805.816708481481,{"$f":"+IF($G$4=\"mensual\",G36,0)","v":1574.8053},202.87629505106986,0,0,-21.583498303532551,21561.914805229018,null,14,1,2,1,0,null,null,0,0,null,0,0,null,{"$f":"+Bono!J37","v":10201.323926592786},null,1.1666666666666667,31763.238731821803,null,null,13,32277.494015545879]
[null,15,1,3,45,21561.914805229018,{"$f":"+G37","v":1574.8053},219.5395462639226,0,{"$f":"-SUM(F38:H38)*$J$21","v":-210.20633686343649},-23.356259651492941,23122.697054978009,null,15,1,3,1,0,null,null,0,0,null,0,0,null,{"$f":"+Bono!J38","v":10172.099684720539},null,1.25,33294.796739698548,null,null,14,33887.179097599954]
[null,16,1,4,45,23122.697054978009,{"$f":"IF($G$4=\"mensual\",G36,IF($G$4=\"trimestral\",G36,0))","v":1574.8053},234.34948584776348,0,0,-24.931851840825775,24906.919988984948,null,16,1,4,1,0,null,null,0,0,null,0,0,null,{"$f":"+Bono!J39","v":10235.16788265634},null,1.3333333333333333,35142.087871641284,null,null,15,35577.139496633084]
[null,17,1,5,45,24906.919988984948,{"$f":"+IF($G$4=\"mensual\",G39,0)","v":1574.8053},251.27960781768954,0,0,-26.73300489680264,26706.271891905835,null,17,1,5,1,0,null,null,0,0,null,0,0,null,{"$f":"+Bono!J40","v":10298.6271107348},null,1.4166666666666667,37004.899002640639,null,null,16,37351.378558758071]
[null,18,1,6,45,26706.271891905835,{"$f":"+G40","v":1574.8053},268.35328544095381,0,{"$f":"-SUM(F41:H41)*$J$21","v":-256.9448742961211},-28.549430477346789,28263.936172573322,null,18,1,6,1,0,0,null,0,0,null,0,0,null,{"$f":"+Bono!J41","v":10269.124119573855},null,1.5,38533.060292147173,null,null,17,39214.099277759051]
[null,19,1,7,45,28263.936172573322,null,268.19063785781992,0,0,-28.532126810431144,28503.594683620711,null,19,1,7,1,0,{"$f":"+IF($G$4=\"mensual\",G36,IF($G$4=\"trimestral\",G36,IF(G4=\"semestral\",G36,0)))","v":1574.8053},null,14.943001403983933,{"$f":"-(15*G19*(1+$G$20))","v":-107.75587528196328},null,-1.5897483014039839,{"$f":"SUM(R42:X42)","v":1480.4026778206169},null,{"$f":"+Bono!J42","v":10332.793880259886},null,1.5833333333333333,40316.791241701212,null,null,18,41169.714251560748,null,null,"La presente ilustración se ofrece únicamente a modo de guía y no debe ser considerada como un contrato desde el punto de vista legal. Para mayores detalles vea el folleto del cliente y las Condiciones de la Póliza. "]
[null,20,1,8,45,28503.594683620711,null,270.46470784415908,0,0,-28.774059391464871,28745.285332073407,null,20,1,8,1,1480.4026778206169,{"$f":"IF($G$4=\"mensual\",G36,0)","v":1574.8053},null,28.990235873626027,{"$f":"V42","v":-107.75587528196328},null,-3.084198213694243,{"$f":"SUM(R43:X43)","v":2973.3581401985853},null,{"$f":"+Bono!J43","v":10396.858400847403},null,1.6666666666666667,42115.501873119392,null,null,19,43222.856135228933]
[null,21,1,9,45,28745.285332073407,null,272.75806036155183,0,{"$f":"-SUM(F44:H44)*$J$21","v":-261.1623905319147},-29.018043392434961,28727.86295851061,null,21,1,9,1,2973.3581401985853,{"$f":"IF($G$4=\"mensual\",G36,0)","v":1574.8053},null,43.156581116685253,{"$f":"V43","v":-107.75587528196328},null,-4.5913200213152709,4478.9728260119919,null,{"$f":"+Bono!J44","v":10367.074001606257},null,1.75,43573.909786128861,null,null,20,45378.388615264026]
[null,22,1,10,45,28727.86295851061,null,272.59274306638548,0,0,-29.000455701576996,28971.455245875419,null,22,1,10,1,4478.9728260119919,{"$f":"IF($G$4=\"mensual\",G36,IF($G$4=\"trimestral\",G36,0))","v":1574.8053},null,57.443047109635977,{"$f":"V44","v":-107.75587528196328},null,-6.1112211731216277,5997.3540766665428,null,{"$f":"+Bono!J45","v":10431.351062922371},null,1.8333333333333333,45400.160385464333,null,null,21,47641.417931184966]
[null,23,1,11,45,28971.455245875419,null,274.90413984165161,0,0,-29.246359385717071,29217.113026331353,null,23,1,11,1,5997.3540766665428,{"$f":"IF($G$4=\"mensual\",G36,0)","v":1574.8053},null,71.85065239285025,{"$f":"V45","v":-107.75587528196328},null,-7.6440100290593929,7528.6101437483703,null,{"$f":"+Bono!J46","v":10496.026649474321},null,1.9166666666666667,47241.749819554047,null,null,22,50017.304971696743]
[null,24,1,12,45,29217.113026331353,null,277.23513565316722,0,{"$f":"-SUM(F47:H47)*$J$21","v":-265.44913345786074},-29.494348161984522,29199.404680364678,null,24,1,12,1,7528.6101437483703,{"$f":"IF($G$4=\"mensual\",G36,0)","v":1574.8053},null,86.380424143213716,{"$f":"V46","v":-107.75587528196328},null,-9.1897958678915845,9072.8501967417287,null,{"$f":"+Bono!J47","v":10465.958158001149},null,2,48738.213035107554,null,null,23,52511.677974096252]
[null,25,2,1,46,29199.404680364678,null,277.06710482507549,0,0,-29.476471785189755,29446.995313404565,null,25,2,1,2,9072.8501967417287,{"$f":"IF(AND($G$17=\"si\",$G$4=\"Anual\"),G36*(1+$G$20)*2,IF(AND($G$17=\"no\",$G$4=\"Anual\"),G36*2,IF($G$17=\"si\",G36*(1+$G$20),G36)))","v":1653.34115527206},null,101.77860871597422,{"$f":"(V47*(1+$G$18))","v":-113.12968233344985},null,-10.827969960729764,10704.012308435584,null,{"$f":"+Bono!J48","v":10530.848312556764},null,2.0833333333333335,50681.85593439691,null,null,24,55130.445857000028]
[null,26,2,2,46,29446.995313404565,null,279.41644107453328,0,0,-29.726411754479098,29696.685342724617,null,26,2,2,2,10704.012308435584,{"$f":"IF($G$4=\"mensual\",S48,0)","v":1653.34115527206},null,117.25636823657443,{"$f":"V48","v":-113.12968233344985},null,-12.474609831944219,12349.005539778824,null,{"$f":"+Bono!J49","v":10596.140793597415},null,2.1666666666666665,52641.831676100854,null,null,25,57879.812217977793]
[null,27,2,3,46,29696.685342724617,null,281.78569806058124,0,{"$f":"-SUM(F50:H50)*$J$21","v":-269.80623936706684},-29.978471040785202,29678.68633037735,null,27,2,3,2,12349.005539778824,{"$f":"IF($G$4=\"mensual\",S49,0)","v":1653.34115527206},null,132.8653683875811,-113.12968233344985,null,-14.135212063438466,14007.947169041578,null,{"$f":"+Bono!J50","v":10565.785500138174},null,2.25,54252.4189995571]
[null,28,2,4,46,29678.68633037735,null,281.614909159391,0,0,-29.96030123953674,29930.340938297202,null,28,2,4,2,14007.947169041578,{"$f":"IF($G$4=\"mensual\",S48,IF($G$4=\"trimestral\",S48,0))","v":1653.34115527206},null,148.60672199821519,-113.12968233344985,null,-15.809895046311855,15680.955468932092,null,{"$f":"+Bono!J51","v":10631.294595794292},null,2.3333333333333335,56242.591003023583]
[null,29,2,5,46,29930.340938297202,null,284.00280762497619,0,0,-30.214343745922179,30184.129402176255,null,29,2,5,2,15680.955468932092,{"$f":"IF($G$4=\"mensual\",S51,0)","v":1653.34115527206},null,164.48155133371509,-113.12968233344985,null,-17.498778175537868,17368.149715028881,null,{"$f":"+Bono!J52","v":10697.209855442063},null,2.4166666666666665,58249.488972647203]
[null,30,2,6,46,30184.129402176255,null,286.4109538079104,0,{"$f":"-SUM(F53:H53)*$J$21","v":-274.23486320385751},-30.470540355984166,30165.83495242432,null,30,2,6,2,17368.149715028881,{"$f":"IF($G$4=\"mensual\",S52,0)","v":1653.34115527206},null,180.4909881753475,-113.12968233344985,null,-19.201981858476291,19069.650194284364,null,{"$f":"+Bono!J53","v":10666.56502439629},null,2.5,59902.050171104973]
[null,31,2,7,46,30165.83495242432,null,286.2373615623622,0,0,-30.452072313986683,30421.620241672696,null,31,2,7,2,19069.650194284364,{"$f":"+IF($G$4=\"mensual\",S48,IF($G$4=\"trimestral\",S48,IF($G$4=\"Semestral\",S48,0)))","v":1653.34115527206},null,196.63617390109658,-113.12968233344985,null,-20.919627523457521,20785.578213600616,null,{"$f":"+Bono!J54","v":10732.698964792509},null,2.5833333333333335,61939.897420065819]
[null,32,2,8,46,30421.620241672696,null,288.66445520775244,0,0,-30.71028469688045,30679.574412183567,null,32,2,8,2,20785.578213600616,{"$f":"IF($G$4=\"mensual\",S54,0)","v":1653.34115527206},null,212.91825956703772,-113.12968233344985,null,-22.651837628439718,22516.056108477827,null,{"$f":"+Bono!J55","v":10799.242943290248},null,2.6666666666666665,63994.873463951641]
[null,33,2,9,46,30679.574412183567,null,291.11212891834225,0,{"$f":"-SUM(F56:H56)*$J$21","v":-278.73617886991724},-30.970686541101909,30660.979675690891,null,33,2,9,2,22516.056108477827,{"$f":"IF($G$4=\"mensual\",S55,0)","v":1653.34115527206},null,229.33840598940074,-113.12968233344985,null,-24.398735669739292,24261.207251736101,null,{"$f":"+Bono!J56","v":10768.305812964529},null,2.75,65690.492740391521]
[null,34,2,10,46,30660.979675690891,null,290.9356873140901,0,0,-30.951915363004982,30920.963447641974,null,34,2,10,2,24261.207251736101,{"$f":"IF($G$4=\"mensual\",S48,IF($G$4=\"trimestral\",S48,0))","v":1653.34115527206},null,245.89778382732936,-113.12968233344985,null,-26.16044619083549,26021.156062311205,null,{"$f":"+Bono!J57","v":10835.070558051073},null,2.8333333333333335,67777.190068004245]
[null,35,2,11,46,30920.963447641974,null,293.40261949248577,0,0,-31.21436606713446,31183.151701067323,null,35,2,11,2,26021.156062311205,{"$f":"IF($G$4=\"mensual\",S57,0)","v":1653.34115527206},null,262.59757366634227,-113.12968233344985,null,-27.93709479124961,27796.02801412491,null,{"$f":"+Bono!J58","v":10902.249252301384},null,2.9166666666666665,69881.428967493615]
[null,36,2,12,46,31183.151701067323,null,295.8904695391189,0,{"$f":"-SUM(F59:H59)*$J$21","v":-283.311379535458},-31.479042170606441,31164.251748900377,null,36,2,12,2,27796.02801412491,{"$f":"IF($G$4=\"mensual\",S58,0)","v":1653.34115527206},null,279.43896610250175,-113.12968233344985,null,-29.728808135499474,29585.949645030523,null,{"$f":"+Bono!J59","v":10871.017034660472},null,3,71621.218428591368]
[null,37,3,1,47,31164.251748900377,null,295.71113180653322,0,0,-31.459962880706911,31428.502917826201,null,37,3,1,3,29585.949645030523,{"$f":"IF($G$17=\"si\",S48*(1+$G$20),S48)","v":1735.7936093537087},null,297.20553609102529,{"$f":"(V59*(1+$G$18))","v":-118.77148221735546},null,-31.618948790475258,31468.558359467428,null,{"$f":"+Bono!J60","v":10938.418601235295},null,3.0833333333333335,73835.479878528931]
[null,38,3,2,47,31428.502917826201,null,298.21855643119187,0,0,-31.726721474257392,31694.994752783135,null,38,3,2,3,31468.558359467428,{"$f":"IF($G$4=\"mensual\",S60,0)","v":1735.7936093537087},null,315.06922035915863,-118.77148221735546,null,-33.519421189180299,33367.130285773761,null,{"$f":"+Bono!J61","v":11006.23806534098},null,3.1666666666666665,76068.363103897878]
[null,39,3,3,47,31694.994752783135,null,300.74724227185533,0,{"$f":"-SUM(F62:H62)*$J$21","v":-287.96167795549496},-31.995741995054992,31675.784575104441,null,39,3,3,3,33367.130285773761,{"$f":"IF($G$4=\"mensual\",S61,0)","v":1735.7936093537087},null,333.08437623929188,-118.77148221735546,null,-35.436008271366759,35281.800780878031,null,{"$f":"+Bono!J62","v":10974.707945756541},null,3.25,77932.293301739017]
[null,40,3,4,47,31675.784575104441,null,300.56496087362564,0,0,-31.976349535978066,31944.373186442088,null,40,3,4,3,35281.800780878031,{"$f":"IF($G$4=\"mensual\",S60,IF($G$4=\"trimestral\",S60,0))","v":1735.7936093537087},null,351.25228810529188,-118.77148221735546,null,-37.368846678337029,37212.706349441338,null,{"$f":"+Bono!J63","v":11042.752408007562},null,3.3333333333333335,80199.831943890982]
[null,41,3,5,47,31944.373186442088,null,303.11354259119577,0,0,-32.247486729033284,32215.239242304251,null,41,3,5,3,37212.706349441338,{"$f":"IF($G$4=\"mensual\",S63,0)","v":1735.7936093537087},null,369.57425122162249,-118.77148221735546,null,-39.318074210016668,39159.984653589294,null,{"$f":"+Bono!J64","v":11111.218753817207},null,3.4166666666666665,82486.442649710749]
[null,42,3,6,47,32215.239242304251,null,305.68373450827903,0,{"$f":"-SUM(F65:H65)*$J$21","v":-292.68830679131281},-32.520922976812528,32195.713747044407,null,42,3,6,3,39159.984653589294,{"$f":"IF($G$4=\"mensual\",S64,0)","v":1735.7936093537087},null,388.05157183568843,-118.77148221735546,null,-41.283829834778693,41123.774522726555,null,{"$f":"+Bono!J65","v":11079.387890814167},null,3.5,84398.876160585118]
[null,43,3,7,47,32195.713747044407,null,305.4984611268132,0,0,-32.501212208171218,32468.710995963047,null,43,3,7,3,41123.774522726555,{"$f":"+IF($G$4=\"mensual\",S60,IF($G$4=\"trimestral\",S60,IF($G$4=\"semestral\",S60,0)))","v":1735.7936093537087},null,406.68556727096387,-118.77148221735546,null,-43.266253699351225,43104.215963434515,null,{"$f":"+Bono!J66","v":11148.081380866666},null,3.5833333333333335,86721.008340264234]
[null,44,3,8,47,32468.710995963047,null,308.088875493513,0,0,-32.776799871456561,32744.023071585107,null,44,3,8,3,43104.215963434515,{"$f":"IF($G$4=\"mensual\",S66,0)","v":1735.7936093537087},null,425.47756602090902,-118.77148221735546,null,-45.265487138809135,45101.450169452968,null,{"$f":"+Bono!J67","v":11217.200778525443},null,3.6666666666666665,89062.674019563521]
[null,45,3,9,47,32744.023071585107,null,310.70125477148099,0,{"$f":"-SUM(F68:H68)*$J$21","v":-297.49251893720935},-33.054724326356592,32724.177083093025,null,45,3,9,3,45101.450169452968,{"$f":"IF($G$4=\"mensual\",S67,0)","v":1735.7936093537087},null,444.4289078436845,-118.77148221735546,null,-47.28167268665036,47115.61953174635,null,{"$f":"+Bono!J68","v":11185.066303525913},null,3.75,91024.862918365281]
[null,46,3,10,47,32724.177083093025,null,310.5129402960975,0,0,-33.034690023389125,33001.655333365728,null,46,3,10,3,47115.61953174635,{"$f":"IF($G$4=\"mensual\",S60,IF($G$4=\"trimestral\",S60,0))","v":1735.7936093537087},null,463.54094385766757,-118.77148221735546,null,-49.314954084957726,49146.86764865541,null,{"$f":"+Bono!J69","v":11254.415011995163},null,3.8333333333333335,93402.937994016305]
[null,47,3,11,47,33001.655333365728,null,313.14587395678564,0,0,-33.31480120732251,33281.486406115189,null,47,3,11,3,49146.86764865541,{"$f":"IF($G$17=\"si\",S58*(1+$G$20),S58)","v":1735.7936093537087},null,482.81503663777937,-118.77148221735546,null,-51.365476294646896,51195.339336134894,null,{"$f":"+Bono!J70","v":11324.193690500873},null,3.9166666666666665,95801.019432750953]
[null,48,3,12,47,33281.486406115189,null,315.80113306276752,0,{"$f":"-SUM(F71:H71)*$J$21","v":-302.37558785260165},-33.597287539177962,33261.314663786186,null,48,3,12,3,51195.339336134894,{"$f":"IF($G$4=\"mensual\",S70,0)","v":1735.7936093537087},null,502.25256031262813,-118.77148221735546,null,-53.433385505801226,53261.180638078069,null,{"$f":"+Bono!J71","v":11291.75270756564},null,4,97814.248009429895]
[null,49,4,1,48,33261.314663786186,null,315.60972757667781,0,0,-33.576924391362866,33543.347466971507,null,49,4,1,4,53261.180638078069,{"$f":"IF($G$17=\"si\",S60*(1+$G$20),S60)","v":1822.3579838108999},null,522.67629208721235,{"$f":"(V71*(1+$G$18))","v":-124.69463978983141},null,-55.606214913976181,55425.914059272378,null,{"$f":"+Bono!J72","v":11361.762884114793},null,4.083333333333333,100331.02441035867]
[null,50,4,2,48,33543.347466971507,null,318.28587844686336,0,0,-33.861633345418369,33827.77171207295,null,50,4,2,4,55425.914059272378,{"$f":"IF($G$4=\"mensual\",S72,0)","v":1822.3579838108999},null,543.21699927949669,-124.69463978983141,null,-57.791489042362777,57609.002913530581,null,{"$f":"+Bono!J73","v":11432.207131879228},null,4.166666666666667,102868.98175748276]
[null,51,4,3,48,33827.77171207295,null,320.98472121420605,0,{"$f":"-SUM(F74:H74)*$J$21","v":-307.33880789958442},-34.148756433287154,33807.268868954285,null,51,4,3,4,57609.002913530581,{"$f":"IF($G$4=\"mensual\",S73,0)","v":1822.3579838108999},null,563.9318773753489,-124.69463978983141,null,-59.99529277471683,59810.602842152286,null,{"$f":"+Bono!J74","v":11399.456717446768},null,4.25,105017.32842855334]
[null,52,4,4,48,33807.268868954285,null,320.79017398128275,0,0,-34.128059042935568,34093.930983892627,null,52,4,4,4,59810.602842152286,{"$f":"IF($G$4=\"mensual\",S72,IF($G$4=\"trimestral\",S72,0))","v":1822.3579838108999},null,584.82240322283315,-124.69463978983141,null,-62.217783229186018,62030.870806167004,null,{"$f":"+Bono!J75","v":11470.134671350075},null,4.333333333333333,107594.93646140971]
[null,53,4,5,48,34093.930983892627,null,323.51025143212235,0,0,-34.417441235324745,34383.023794089422,null,53,4,5,4,62030.870806167004,{"$f":"IF($G$4=\"mensual\",S75,0)","v":1822.3579838108999},null,605.89006619265706,-124.69463978983141,null,-64.459118856170562,64269.965097524568,null,{"$f":"+Bono!J76","v":11541.250836765717},null,4.416666666666667,110194.2397283797]
[null,54,4,6,48,34383.023794089422,null,326.25339324695648,0,{"$f":"-SUM(F77:H77)*$J$21","v":-312.38349468602746},-34.709277187336383,34362.184415463016,null,54,4,6,4,64269.965097524568,{"$f":"IF($G$4=\"mensual\",S76,0)","v":1822.3579838108999},null,627.13636828435585,-124.69463978983141,null,-66.719459449619819,66528.045350380358,null,{"$f":"+Bono!J77","v":11508.188039388733},null,4.5,112398.41780523211]
[null,55,4,7,48,34362.184415463016,null,326.05565269828509,0,0,-34.688240068161299,34653.551828093136,null,55,4,7,4,66528.045350380358,{"$f":"+IF($G$4=\"mensual\",S72,IF($G$4=\"trimestral\",S72,IF($G$4=\"semestral\",S72,0)))","v":1822.3579838108999},null,648.56282423337541,-124.69463978983141,null,-68.998966158424636,68805.272552476381,null,{"$f":"+Bono!J78","v":11579.540140100135},null,4.583333333333333,115038.36452066965]
[null,56,4,8,48,34653.551828093136,null,328.82037774461753,0,0,-34.982372205837756,34947.389833631918,null,56,4,8,4,68805.272552476381,{"$f":"IF($G$4=\"mensual\",S78,0)","v":1822.3579838108999},null,670.17096161906454,-124.69463978983141,null,-71.297801497906349,71101.809056618615,null,{"$f":"+Bono!J79","v":11651.334632112277},null,4.666666666666667,117700.53352236282]
[null,57,4,9,48,34947.389833631918,null,331.6085457354859,0,{"$f":"-SUM(F80:H80)*$J$21","v":-317.51098541430667},-35.278998379367401,34926.208395573725,null,57,4,9,4,71101.809056618615,{"$f":"IF($G$4=\"mensual\",S79,0)","v":1822.3579838108999},null,691.96232097358143,-124.69463978983141,null,-73.616129361403097,73417.818592251875,null,{"$f":"+Bono!J80","v":11617.956472191707},null,4.75,119961.98346001731]
[null,58,4,10,48,34926.208395573725,null,331.40755945569504,0,0,-35.257615955029415,35222.358339074388,null,58,4,10,4,73417.818592251875,{"$f":"IF($G$4=\"mensual\",S72,IF($G$4=\"trimestral\",S72,0))","v":1822.3579838108999},null,713.9384558917252,-124.69463978983141,null,-75.954115031954501,75753.466277132713,null,{"$f":"+Bono!J81","v":11689.989149918834},null,4.833333333333333,122665.81376612594]
[null,59,4,11,48,35222.358339074388,null,334.21766494716127,0,0,-35.556576004021544,35521.019428017527,null,59,4,11,4,75753.466277132713,{"$f":"IF($G$17=\"si\",S70*(1+$G$20),S70)","v":1822.3579838108999},null,736.10093314169774,-124.69463978983141,null,-78.311925194085319,78108.918629101405,null,{"$f":"+Bono!J82","v":11762.468438603146},null,4.916666666666667,125392.40649572207]
[null,60,4,12,48,35521.019428017527,null,337.05159817775984,0,{"$f":"-SUM(F83:H83)*$J$21","v":-322.72263923575758},-35.858071026195283,35499.490315933333,null,60,4,12,4,78108.918629101405,{"$f":"IF($G$4=\"mensual\",S82,0)","v":1822.3579838108999},null,758.45133277680532,-124.69463978983141,null,-80.689727945689114,80484.343577953594,null,{"$f":"+Bono!J83","v":11728.771908119652},null,5,127712.60580200658]
[null,61,5,1,49,35499.490315933333,null,336.84731289112744,0,0,-35.83633762882446,35800.501291195636,null,61,5,1,5,80484.343577953594,{"$f":"IF($G$17=\"si\",S72*(1+$G$20),S72)","v":1913.2393409351462},null,781.85360262747213,{"$f":"(V83*(1+$G$18))","v":-130.91318641507826},null,-83.179436521516209,82965.343898579609,null,{"$f":"+Bono!J84","v":11801.491654403329},null,5.083333333333333,130567.33684417859]
[null,62,5,2,49,35800.501291195636,null,339.70354370642838,0,0,-36.140204834902065,36104.064630067158,null,62,5,2,5,82965.343898579609,{"$f":"IF($G$4=\"mensual\",S84,0)","v":1913.2393409351462},null,805.39530094052657,-130.91318641507826,null,-85.683978540455286,85467.381375499739,null,{"$f":"+Bono!J85","v":11874.662271548934},null,5.166666666666667,133446.10827711583]
[null,63,5,3,49,36104.064630067158,null,342.58399337151087,0,{"$f":"-SUM(F86:H86)*$J$21","v":-328.01983761094806},-36.446648623438669,36082.182137204283,null,63,5,3,5,85467.381375499739,{"$f":"IF($G$4=\"mensual\",S85,0)","v":1913.2393409351462},null,829.13661647358833,-130.91318641507826,null,-88.209757332908481,87990.634389160492,null,{"$f":"+Bono!J86","v":11840.644333791819},null,5.25,135913.4608601566]
[null,64,5,4,49,36082.182137204283,null,342.37635492784256,0,0,-36.424558492132128,36388.133933639998,null,64,5,4,5,87990.634389160492,{"$f":"IF($G$4=\"mensual\",S84,IF($G$4=\"trimestral\",S84,0))","v":1913.2393409351462},null,853.07924184177784,-130.91318641507826,null,-90.756952971937423,90535.282832550409,null,{"$f":"+Bono!J87","v":11914.057702091062},null,5.333333333333333,138837.47446828146]
[null,65,5,5,49,36388.133933639998,null,{"$f":"SUM(F88:G88)*$G$8","v":345.27946817218481},0,0,-36.733413401812186,{"$f":"SUM(F88:K88)","v":36696.679988410375},null,65,5,5,5,90535.282832550409,{"$f":"IF($G$4=\"mensual\",S87,0)","v":1913.2393409351462},null,877.22488401241378,-130.91318641507826,null,-93.325747057497964,{"$f":"SUM(R88:X88)","v":93101.508124025378},null,{"$f":"+Bono!J88","v":11987.926241789184},null,5.416666666666667,141786.11435422493]
[null,{"$f":"+B88+1","v":66},5,6,49,{"$f":"L88","v":36696.679988410375},null,348.20719779668343,0,{"$f":"-SUM(F89:H89)*$J$21","v":-333.40398467586357},{"$f":"-SUM(F89:H89)*0.1%","v":-37.044887186207063},36674.438314344989,null,{"$f":"+N88+1","v":66},5,6,5,{"$f":"Y88","v":93101.508124025378},{"$f":"IF($G$4=\"mensual\",S88,0)","v":1913.2393409351462},null,901.57526442670985,-130.91318641507826,null,{"$f":"-SUM(R89:U89)*0.1%","v":-95.916322729387232},95689.493220242759,null,{"$f":"+Bono!J89","v":11953.58383108272},null,{"$f":"+B89/12","v":5.5},{"$f":"+AA89+Y89+L89","v":144317.51536567046}]
[null,67,5,7,49,36674.438314344989,null,347.99615115695849,0,0,-37.022434465501945,36985.412031036445,null,67,5,7,5,95689.493220242759,{"$f":"+IF($G$4=\"mensual\",S84,IF($G$4=\"trimestral\",S84,IF($G$4=\"semestral\",S84,0)))","v":1913.2393409351462},null,926.13211912250347,-130.91318641507826,null,-98.528864680300416,98299.42262920503,null,{"$f":"+Bono!J90","v":12027.697437365337},null,5.583333333333333,147312.5320976068]
[null,68,5,8,49,36985.412031036445,null,350.94691636274138,0,0,-37.336358947399191,37299.022588451793,null,68,5,8,5,98299.42262920503,{"$f":"IF($G$4=\"mensual\",S90,0)","v":1913.2393409351462},null,950.89719885802526,-130.91318641507826,null,-101.16355916899822,100931.48242341413,null,{"$f":"+Bono!J91","v":12102.270556603553},null,5.666666666666667,150332.77556846949]
[null,69,5,9,49,37299.022588451793,null,353.92270200415481,0,{"$f":"-SUM(F92:H92)*$J$21","v":-338.87650761410362},-37.652945290455953,37276.415837551387,null,69,5,9,5,100931.48242341413,{"$f":"IF($G$4=\"mensual\",S91,0)","v":1913.2393409351462},null,975.87226923671665,-130.91318641507826,null,-103.82059403358599,103585.86025313732,null,{"$f":"+Bono!J92","v":12067.600578030711},null,5.75,152929.87666871943]
[null,70,5,10,49,37276.415837551387,null,353.70819122593713,0,0,-37.630124028777324,37592.493904748546,null,70,5,10,5,103585.86025313732,{"$f":"IF($G$4=\"mensual\",S84,IF($G$4=\"trimestral\",S84,0))","v":1913.2393409351462},null,1001.0591108331079,-130.91318641507826,null,-106.50015870490559,106262.74535978559,null,{"$f":"+Bono!J93","v":12142.421101369531},null,5.833333333333333,155997.66036590366]
[null,71,5,11,49,37592.493904748546,null,356.7073905567342,0,0,-37.949201295305286,37911.252094009978,null,71,5,11,5,106262.74535978559,{"$f":"IF($G$17=\"si\",S82*(1+$G$20),S82)","v":1913.2393409351462},null,1026.4595193197626,-130.91318641507826,null,-109.2024442200405,108962.32858940538,null,{"$f":"+Bono!J94","v":12217.705520631695},null,5.916666666666667,159091.28620404706]
[null,72,5,12,49,37911.252094009978,null,359.73202101083859,0,{"$f":"-SUM(F95:H95)*$J$21","v":-344.43885703518737},-38.270984115020816,37888.274273870607,null,72,5,12,5,108962.32858940538,{"$f":"IF($G$4=\"mensual\",S94,0)","v":1913.2393409351462},null,1052.0753055952978,-130.91318641507826,null,-111.92764323593583,111684.80240628481,null,{"$f":"+Bono!J95","v":12182.704849755233},null,6,161755.78152991066]
[null,73,6,1,50,37888.274273870607,null,359.513989233448,0,0,-38.247788263104056,38209.540474840949,null,73,6,1,6,111684.80240628481,{"$f":"IF($G$17=\"si\",S84*(1+$G$20),S84)","v":2008.65296951545},null,1078.8136560782264,{"$f":"(V95*(1+$G$18))","v":-137.44185320423549},null,-114.77226903187849,114520.05490964238,null,{"$f":"+Bono!J96","v":12258.239032930014},null,6.083333333333333,164987.83441741334]
[null,74,6,2,50,38209.540474840949,null,362.56241769133572,0,0,-38.572102892532286,38533.53078963975,null,74,6,2,6,114520.05490964238,{"$f":"IF($G$4=\"mensual\",S96,0)","v":2008.65296951545},null,1105.7167799998444,-137.44185320423549,null,-117.63442465915767,117379.34838129427,null,{"$f":"+Bono!J97","v":12334.241536801901},null,6.166666666666667,168247.12070773591]
[null,75,6,3,50,38533.53078963975,null,365.63669470127189,0,{"$f":"-SUM(F98:H98)*$J$21","v":-350.09250735906926},-38.899167484341021,38510.17580949761,null,75,6,3,6,117379.34838129427,{"$f":"IF($G$4=\"mensual\",S97,0)","v":2008.65296951545},null,1132.8480236915543,-137.44185320423549,null,-120.52084937450127,120262.88667192253,null,{"$f":"+Bono!J98","v":12298.907019382785},null,6.25,171071.96950080292]
[null,76,6,4,50,38510.17580949761,null,365.41508413071188,0,0,-38.875590893628321,38836.715302734694,null,76,6,4,6,120262.88667192253,{"$f":"IF($G$4=\"mensual\",S96,IF($G$4=\"trimestral\",S96,0))","v":2008.65296951545},null,1160.2093214502675,-137.44185320423549,null,-123.43174896288825,123170.87536072113,null,{"$f":"+Bono!J99","v":12375.161669487872},null,6.333333333333333,174382.7523329437]
[null,77,{"$f":"C88+1","v":6},{"$f":"D88","v":5},{"$f":"E88+1","v":50},38836.715302734694,null,368.51354976700219,0,0,-39.205228852501698,39166.023623649198,null,77,{"$f":"O88+1","v":6},{"$f":"P88","v":5},{"$f":"Q88+1","v":6},123170.87536072113,{"$f":"IF($G$4=\"mensual\",S99,0)","v":2008.65296951545},null,{"$f":"SUM(R100:T100)*$G$8","v":1187.802623974387},-137.44185320423549,null,-126.36733095421097,126103.52177005252,null,{"$f":"+Bono!J100","v":12451.889107268604},null,6.416666666666667,177721.43450097032]
[null,78,6,6,50,39166.023623649198,null,371.63828823579519,0,{"$f":"-SUM(F101:H101)*$J$21","v":-355.83895720696495},-39.537661911884996,39142.285292766144,null,78,6,6,6,126103.52177005252,{"$f":"IF($G$4=\"mensual\",S100,0)","v":2008.65296951545},null,1215.6298985028811,-137.44185320423549,null,-129.32780463807086,129061.03498022855,null,{"$f":"+Bono!J101","v":12416.217558981756},null,6.5,180619.53783197646]
[null,79,6,7,50,39142.285292766144,null,371.41304012943323,0,0,-39.513698332895579,39474.184634562684,null,79,6,7,6,129061.03498022855,{"$f":"+IF($G$4=\"mensual\",S96,IF($G$4=\"trimestral\",S96,IF($G$4=\"semestral\",S96,0)))","v":2008.65296951545},null,1243.6931289555355,-137.44185320423549,null,-132.31338107869951,132043.62584441656,null,{"$f":"+Bono!J102","v":12493.19954803954},null,6.583333333333333,184011.01002701878]
[null,80,6,8,50,39474.184634562684,null,374.56236425886505,0,0,-39.848746998821547,39808.89825182272,null,80,6,8,6,132043.62584441656,{"$f":"IF($G$4=\"mensual\",S102,0)","v":2008.65296951545},null,1271.9943160743944,-137.44185320423549,null,-135.32427313000639,135051.50700367213,null,{"$f":"+Bono!J103","v":12570.658834358839},null,6.666666666666667,187431.06408985369]
[null,81,6,9,50,39808.89825182272,null,377.73839246543076,0,{"$f":"-SUM(F104:H104)*$J$21","v":-361.67972979859337},-40.18663664428815,39784.770277845273,null,81,6,9,6,135051.50700367213,{"$f":"IF($G$4=\"mensual\",S103,0)","v":2008.65296951545},null,1300.5354775664043,-137.44185320423549,null,-138.36069545075401,138084.892902099,null,{"$f":"+Bono!J104","v":12534.647040506165},null,6.75,190404.31022045042]
[null,82,6,10,50,39784.770277845273,null,377.50944711642779,0,0,-40.162279724961699,40122.117445236741,null,82,6,10,6,138084.892902099,{"$f":"IF($G$4=\"mensual\",S96,IF($G$4=\"trimestral\",S96,0))","v":2008.65296951545},null,1329.3186482472611,-137.44185320423549,null,-141.42286451986169,141143.99980213758,null,{"$f":"+Bono!J105","v":12612.363306086367},null,6.833333333333333,193878.48055346069]
[null,83,6,11,50,40122.117445236741,null,380.71046453487355,0,0,-40.502827909771618,40462.32508186184,null,83,6,11,6,141143.99980213758,{"$f":"IF($G$17=\"si\",S94*(1+$G$20),S94)","v":2008.65296951545},null,1358.3458801864813,-137.44185320423549,null,-144.51099865183951,144229.0457999834,null,{"$f":"+Bono!J106","v":12690.561421527696},null,6.916666666666667,197381.93230337295]
[null,84,6,12,50,40462.32508186184,null,383.938624353573,0,{"$f":"-SUM(F107:H107)*$J$21","v":-367.61637335593872},-40.84626370621541,40437.801069153255,null,84,6,12,6,144229.0457999834,{"$f":"IF($G$4=\"mensual\",S106,0)","v":2008.65296951545},null,1387.6192428537045,-137.44185320423549,null,-147.62531801235258,147340.25084113597,null,{"$f":"+Bono!J107","v":12654.20613674838},null,7,200432.25804703758]
[null,85,7,1,51,40437.801069153255,null,383.70592107505615,0,0,-40.821506990228315,40780.685483238085,null,85,7,1,7,147340.25084113597,{"$f":"IF($G$17=\"si\",S96*(1+$G$20),S96)","v":2108.8248948357791},null,1418.0913339234551,{"$f":"(V107*(1+$G$18))","v":-144.29610591190135},null,-150.8671670698952,150572.0037969134,null,{"$f":"+Bono!J108","v":12732.663682593282},null,7.083333333333333,204085.35296274477]
[null,86,7,2,51,40780.685483238085,null,386.95948028080289,0,0,-41.167644963518889,41126.477318555371,null,86,7,2,7,150572.0037969134,{"$f":"IF($G$4=\"mensual\",S108,0)","v":2108.8248948357791},null,1448.7567685365539,-144.29610591190135,null,-154.12958546028571,153831.15976891352,null,{"$f":"+Bono!J109","v":12811.607674322935},null,7.166666666666667,207769.24476179184]
[null,87,7,3,51,41126.477318555371,null,390.24062740459811,0,{"$f":"-SUM(F110:H110)*$J$21","v":-373.65046151363981},-41.516717945959975,41101.550766500375,null,87,7,3,7,153831.15976891352,{"$f":"IF($G$4=\"mensual\",S109,0)","v":2108.8248948357791},null,1479.6822246963727,-144.29610591190135,null,-157.41966688844568,157117.95111564532,null,{"$f":"+Bono!J110","v":12774.905622300967},null,7.25,210994.40750444666]
[null,88,7,4,51,41101.550766500375,null,390.0041045135751,0,0,-41.491554871013946,41450.063316142936,null,88,7,4,7,157117.95111564532,{"$f":"IF($G$4=\"mensual\",S108,IF($G$4=\"trimestral\",S108,0))","v":2108.8248948357791},null,1510.8699072046902,-144.29610591190135,null,-160.7376459176858,160432.6121658562,null,{"$f":"+Bono!J111","v":12854.111518956568},null,7.333333333333333,214736.78700095572]
[null,89,7,5,51,41450.063316142936,null,393.31106793223699,0,0,-41.843374384075169,41801.531009691098,null,89,7,5,7,160432.6121658562,{"$f":"IF($G$4=\"mensual\",S111,0)","v":2108.8248948357791},null,1542.3220395584688,-144.29610591190135,null,-164.08375910025043,163775.37923523827,null,{"$f":"+Bono!J112","v":12933.80850135875},null,7.416666666666667,218510.71874628813]
[null,90,7,6,51,41801.531009691098,null,396.646072099511,0,{"$f":"-SUM(F113:H113)*$J$21","v":-379.78359373611551},-42.198177081790611,41776.195310972704,null,90,7,6,7,163775.37923523827,{"$f":"IF($G$4=\"mensual\",S112,0)","v":2108.8248948357791},null,1574.0408641083782,{"$f":"V112","v":-144.29610591190135},null,-167.45824499418242,167146.49064327634,null,{"$f":"+Bono!J113","v":12896.756374527669},null,7.5,221819.4423287767]
[null,91,7,7,51,41776.195310972704,null,396.40566690051918,0,0,-42.172600977873223,42130.428376895354,null,91,7,7,7,167146.49064327634,{"$f":"+IF($G$4=\"mensual\",S108,IF($G$4=\"trimestral\",S108,IF($G$4=\"semestral\",S108,0)))","v":2108.8248948357791},null,1606.0286422186621,-144.29610591190135,null,-170.86134418033078,170546.18673023855,null,{"$f":"+Bono!J114","v":12976.717759980889},null,7.583333333333333,225653.33286711478]
[null,92,7,8,51,42130.428376895354,null,399.7669111136417,0,0,-42.530195288008997,42487.665092720985,null,92,7,8,7,170546.18673023855,{"$f":"IF($G$4=\"mensual\",S114,0)","v":2108.8248948357791},null,1638.2876544283588,-144.29610591190135,null,-174.29329927950269,173974.70987431129,null,{"$f":"+Bono!J115","v":13057.174915298865},null,7.666666666666667,229519.54988233116]
[null,93,7,9,51,42487.665092720985,null,403.15665633874158,0,{"$f":"-SUM(F116:H116)*$J$21","v":-386.01739574153754},-42.890821749059725,42461.913531569124,null,93,7,9,7,173974.70987431129,{"$f":"IF($G$4=\"mensual\",S115,0)","v":2108.8248948357791},null,1670.8202006138906,-144.29610591190135,null,-177.75435496976095,177432.30450887929,null,{"$f":"+Bono!J116","v":13019.769374543686},null,7.75,232913.98741499209]
[null,94,7,10,51,42461.913531569124,null,402.91230510722932,0,0,-42.864825836676353,42821.961010839681,null,94,7,10,7,177432.30450887929,{"$f":"IF($G$4=\"mensual\",S108,IF($G$4=\"trimestral\",S108,0))","v":2108.8248948357791},null,1703.6286001530318,-144.29610591190135,null,-181.24475800386807,180919.21713995232,null,{"$f":"+Bono!J117","v":13100.493454865631},null,7.833333333333333,236841.67160565761]
[null,95,7,11,51,42821.961010839681,null,406.32872108464625,0,0,-43.228289731924328,43185.061442192404,null,95,7,11,7,180919.21713995232,{"$f":"IF($G$17=\"si\",S106*(1+$G$20),S106)","v":2108.8248948357791},null,1736.7151920902659,-144.29610591190135,null,-184.76475722687834,184435.69636373955,null,{"$f":"+Bono!J118","v":13181.718033848985},null,7.916666666666667,240802.47583978093]
[null,96,7,12,51,43185.061442192404,null,409.77410589221,0,{"$f":"-SUM(F119:H119)*$J$21","v":-392.35351993276157},-43.594835548084617,43158.887192603768,null,96,7,12,7,184435.69636373955,{"$f":"IF($G$4=\"mensual\",S118,0)","v":2108.8248948357791},null,1770.0823353035462,-144.29610591190135,null,-188.31460359387887,187981.99288437309,null,{"$f":"+Bono!J119","v":13143.955708205276},null,8,244284.83578518213]
[null,97,8,1,52,43158.887192603768,null,409.52574385764535,0,0,-43.568412936461414,43524.844523524953,null,97,8,1,8,187981.99288437309,{"$f":"IF($G$17=\"si\",S108*(1+$G$20),S108)","v":2213.9924141062183},null,1804.7303214862711,{"$f":"(V119*(1+$G$18))","v":-151.49218157294905},null,-192.00071561996558,191657.22272277265,null,{"$f":"+Bono!J120","v":13225.449758200646},null,8.0833333333333339,248407.51700449825]
[null,98,8,2,52,43524.844523524953,null,412.99823719364912,0,0,-43.937842760718603,43893.904917957887,null,98,8,2,8,191657.22272277265,{"$f":"IF($G$4=\"mensual\",S120,0)","v":2213.9924141062183},null,1839.6038164098459,-151.49218157294905,null,-195.71081895328874,195363.61595276248,null,{"$f":"+Bono!J121","v":13307.449080758712},null,8.1666666666666661,252564.96995147906]
[null,99,8,3,52,43893.904917957887,null,416.50017485677881,0,{"$f":"-SUM(F122:H122)*$J$21","v":-398.79364583533209},-44.310405092814669,43867.301041886523,null,99,8,3,8,195363.61595276248,{"$f":"IF($G$4=\"mensual\",S121,0)","v":2213.9924141062183},null,1874.7730143033598,-151.49218157294905,null,-199.45238138117205,199101.43681821792,null,{"$f":"+Bono!J122","v":13269.326567108797},null,8.25,256238.06442721325]
[null,100,8,4,52,43867.301041886523,null,416.24773618548033,0,0,-44.28354877807201,44239.265229293938,null,100,8,4,8,199101.43681821792,{"$f":"IF($G$4=\"mensual\",S120,IF($G$4=\"trimestral\",S120,0))","v":2213.9924141062183},null,1910.2404225222303,-151.49218157294905,null,-203.22566965484637,202870.95180361858,null,{"$f":"+Bono!J123","v":13351.597930971488},null,8.3333333333333339,260461.81496388398]
[null,101,8,5,52,44239.265229293938,null,419.77722733886975,0,0,-44.659042456632811,44614.383414176176,null,101,8,5,8,202870.95180361858,{"$f":"IF($G$4=\"mensual\",S123,0)","v":2213.9924141062183},null,1946.0085696825049,-151.49218157294905,null,-207.0309527874073,206672.42965304694,null,{"$f":"+Bono!J124","v":13434.379386833014},null,8.4166666666666661,264721.19245405612]
[null,102,8,6,52,44614.383414176176,null,423.3366461212139,0,{"$f":"-SUM(F125:H125)*$J$21","v":-405.33948054267654},-45.037720060297389,44587.342859694414,null,102,8,6,8,206672.42965304694,{"$f":"IF($G$4=\"mensual\",S124,0)","v":2213.9924141062183},null,1982.0800058411348,-151.49218157294905,null,-210.86850207299429,210506.14138934834,null,{"$f":"+Bono!J125","v":13395.893249599305},null,8.5,268489.37749864208]
[null,103,8,7,52,44587.342859694414,null,423.08006389890016,0,0,-45.010422923593318,44965.412500669721,null,103,8,7,8,210506.14138934834,{"$f":"+IF($G$4=\"mensual\",S120,IF($G$4=\"trimestral\",S120,IF($G$4=\"semestral\",S120,0)))","v":2213.9924141062183},null,2018.4573026777796,-151.49218157294905,null,-214.7385911061323,214372.36033345322,null,{"$f":"+Bono!J126","v":13478.949341574264},null,8.5833333333333339,272816.72217569721]
[null,104,8,8,52,44965.412500669721,null,426.66748843696701,0,0,-45.392079989106684,45346.68790911758,null,104,8,8,8,214372.36033345322,{"$f":"IF($G$4=\"mensual\",S126,0)","v":2213.9924141062183},null,2055.1430536781531,-151.49218157294905,null,-218.6414958012376,218271.36212386339,null,{"$f":"+Bono!J127","v":13562.520390953378},null,8.6666666666666661,277180.57042393438]
[null,105,8,9,52,45346.68790911758,null,430.28533183877732,0,{"$f":"-SUM(F128:H128)*$J$21","v":-411.99275916860728},-45.776973240956359,45319.203508546794,null,105,8,9,8,218271.36212386339,{"$f":"IF($G$4=\"mensual\",S127,0)","v":2213.9924141062183},null,2092.1398743189238,-151.49218157294905,null,-222.57749441228853,222203.42473630331,null,{"$f":"+Bono!J128","v":13523.667161788748},null,8.75,281046.29540663888]
[null,106,8,10,52,45319.203508546794,null,430.02453805283,0,0,-45.749228046599626,45703.47881855302,null,106,8,10,8,222203.42473630331,{"$f":"IF($G$4=\"mensual\",S120,IF($G$4=\"trimestral\",S120,0))","v":2213.9924141062183},null,2129.4504022541819,-151.49218157294905,null,-226.54686755266371,226168.8285035381,null,{"$f":"+Bono!J129","v":13607.515466840136},null,8.8333333333333339,285479.82278893125]
[null,107,8,11,52,45703.47881855302,null,433.67084689935177,0,0,-46.137149665452377,46091.012515786919,null,107,8,11,8,226168.8285035381,{"$f":"IF($G$17=\"si\",S118*(1+$G$20),S118)","v":2213.9924141062183},null,2167.0772975034884,-151.49218157294905,null,-230.54989821514778,230167.85613535967,null,{"$f":"+Bono!J130","v":13691.883641108643},null,8.9166666666666661,289950.75229225523]
[null,108,8,12,52,46091.012515786919,null,437.34807390757766,0,{"$f":"-SUM(F131:H131)*$J$21","v":-418.7552453072505},-46.528360589694493,46063.076983797553,null,108,8,12,8,230167.85613535967,{"$f":"IF($G$4=\"mensual\",S130,0)","v":2213.9924141062183},null,2205.0232426415191,-151.49218157294905,null,-234.58687179210742,234200.79273874237,null,{"$f":"+Bono!J131","v":13652.659818583867},null,9,293916.52954112377]
[null,109,9,1,53,46063.076983797553,null,437.08299942901311,0,0,-46.500159983226567,46453.659823243339,null,109,9,1,9,234200.79273874237,{"$f":"IF($G$17=\"si\",S120*(1+$G$20),S120)","v":2324.4046585961783},null,2244.338621914726,{"$f":"(V131*(1+$G$18))","v":-159.04712696642832},null,-238.76953601925328,238371.7193562676,null,{"$f":"+Bono!J132","v":13737.307893069607},null,9.0833333333333339,298562.68707258056]
[null,110,9,2,53,46453.659823243339,null,440.78915911631572,0,0,-46.894448982359656,46847.55453337729,null,110,9,2,9,238371.7193562676,{"$f":"IF($G$4=\"mensual\",S132,0)","v":2324.4046585961783},null,2283.9156809337637,-159.04712696642832,null,-242.98003969579756,242578.0125291353,null,{"$f":"+Bono!J133","v":13822.480795435729},null,9.1666666666666661,303248.04785794835]
[null,111,9,3,53,46847.55453337729,null,444.52674445880439,0,{"$f":"-SUM(F134:H134)*$J$21","v":-425.62873150052491},-47.292081277836097,46819.160465057728,null,111,9,3,9,242578.0125291353,{"$f":"IF($G$4=\"mensual\",S133,0)","v":2324.4046585961783},null,2323.8283258732558,-159.04712696642832,null,-247.22624551360477,246819.97214112472,null,{"$f":"+Bono!J134","v":13782.882844723928},null,9.25,307422.01545090636]
[null,112,9,4,53,46819.160465057728,null,444.25731902394966,0,0,-47.263417784081682,47216.154366297596,null,112,9,4,9,246819.97214112472,{"$f":"IF($G$4=\"mensual\",S132,IF($G$4=\"trimestral\",S132,0))","v":2324.4046585961783},null,2364.0794022682876,-159.04712696642832,null,-251.50845620198919,251097.90061882074,null,{"$f":"+Bono!J135","v":13868.338317076674},null,9.3333333333333339,312182.39330219501]
[null,113,9,5,53,47216.154366297596,null,448.02431194910707,0,0,-47.664178678246707,47616.514499568453,null,113,9,5,9,251097.90061882074,{"$f":"IF($G$4=\"mensual\",S135,0)","v":2324.4046585961783},null,2404.6717797821016,-159.04712696642832,null,-255.82697705719903,255412.10295317537,null,{"$f":"+Bono!J136","v":13954.323623270227},null,9.4166666666666661,316982.94107601402]
[null,114,9,6,53,47616.514499568453,null,451.8232463529763,0,{"$f":"-SUM(F137:H137)*$J$21","v":-432.61503971329296},-48.068337745921433,47587.654368462216,null,114,9,6,9,255412.10295317537,{"$f":"IF($G$4=\"mensual\",S136,0)","v":2324.4046585961783},null,2445.6083524106871,-159.04712696642832,null,-260.18211596418223,259762.88672125162,null,{"$f":"+Bono!J137","v":13914.347975828328},null,9.5,321264.88906554214]
[null,115,9,7,53,47587.654368462216,null,451.54939854484428,0,0,-48.039203767007059,47991.164563240047,null,115,9,7,9,259762.88672125162,{"$f":"+IF($G$4=\"mensual\",S132,IF($G$4=\"trimestral\",S132,IF($G$4=\"semestral\",S132,0)))","v":2324.4046585961783},null,2486.8920386891077,-159.04712696642832,null,-264.5741834185369,264150.56210815196,null,{"$f":"+Bono!J138","v":14000.618547242933},null,9.5833333333333339,326142.34521863493]
[null,116,9,8,53,47991.164563240047,null,455.37822323008442,0,0,-48.446542786470133,48398.096243683663,null,116,9,8,9,264150.56210815196,{"$f":"IF($G$4=\"mensual\",S138,0)","v":2324.4046585961783},null,2528.5257818995719,-159.04712696642832,null,-269.00349254864773,268575.44192913268,null,{"$f":"+Bono!J139","v":14087.424006207075},null,9.6666666666666661,331060.96217902342]
[null,117,9,9,53,48398.096243683663,null,459.2395136843358,0,{"$f":"-SUM(F140:H140)*$J$21","v":-439.71602181631204},-48.857335757367998,48368.762399794316,null,117,9,9,9,268575.44192913268,{"$f":"IF($G$4=\"mensual\",S139,0)","v":2324.4046585961783},null,2570.512550281273,-159.04712696642832,null,-273.47035913801011,273037.84165190568,null,{"$f":"+Bono!J140","v":14047.067059454203},null,9.75,335453.6711111542]
[null,118,9,10,53,48368.762399794316,null,458.96117091369439,0,0,-48.82772357070801,48778.895847137304,null,118,9,10,9,273037.84165190568,{"$f":"IF($G$4=\"mensual\",S132,IF($G$4=\"trimestral\",S132,0))","v":2324.4046585961783},null,2612.8553372420065,-159.04712696642832,null,-277.97510164774388,277538.07941912976,null,{"$f":"+Bono!J141","v":14134.160504581747},null,9.8333333333333339,340451.13577084884]
[null,119,9,11,53,48778.895847137304,null,462.85284227107871,0,0,-49.241748689408389,49192.506940718973,null,119,9,11,9,277538.07941912976,{"$f":"IF($G$17=\"si\",S130*(1+$G$20),S130)","v":2324.4046585961783},null,2655.5571615715862,-159.04712696642832,null,-282.51804123929753,282076.47607109183,null,{"$f":"+Bono!J142","v":14221.793939171297},null,9.9166666666666661,345490.77695098211]
[null,120,9,12,53,49192.506940718973,null,466.77751229352162,0,{"$f":"-SUM(F143:H143)*$J$21","v":-446.93356007711247},-49.659284453012496,49162.691608482368,null,120,9,12,9,282076.47607109183,{"$f":"IF($G$4=\"mensual\",S142,0)","v":2324.4046585961783},null,2698.6210676570595,-159.04712696642832,null,-287.09950179734511,286653.35516858136,null,{"$f":"+Bono!J143","v":14181.052056164115},null,10,349997.09883322788]
[null,121,10,1,54,49162.691608482368,null,466.49460077965267,0,0,-49.629186209262024,49579.557023052759,null,121,10,1,10,286653.35516858136,{"$f":"IF($G$17=\"si\",S132*(1+$G$20),S132)","v":2440.3231838013012},null,2743.1500525827123,{"$f":"(V143*(1+$G$18))","v":-166.9788389976695},null,-291.83682840496539,291378.01273756276,null,{"$f":"+Bono!J144","v":14268.976223812559},null,10.083333333333334,355226.54598442808]
[null,122,10,2,54,49579.557023052759,null,470.45015038010024,0,0,-50.05000717343286,49999.957166259424,null,122,10,2,10,291378.01273756276,{"$f":"IF($G$4=\"mensual\",S144,0)","v":2440.3231838013012},null,2787.9813499415873,-166.9788389976695,null,-296.60631727130567,296142.73211503669,null,{"$f":"+Bono!J145","v":14357.445531498994},null,10.166666666666666,360500.13481279509]
[null,123,10,3,54,49999.957166259424,null,474.43924028865734,0,{"$f":"-SUM(F146:H146)*$J$21","v":-454.26956765893283},-50.474396406548081,49969.652442482598,null,123,10,3,10,296142.73211503669,{"$f":"IF($G$4=\"mensual\",S145,0)","v":2440.3231838013012},null,2833.1927855058329,-166.9788389976695,null,-301.41624808434386,300947.85299726186,null,{"$f":"+Bono!J146","v":14316.315040603948},null,10.25,365233.82048034837]
[null,124,10,4,54,49969.652442482598,null,474.1516850397993,0,0,-50.443804127522398,50393.360323394874,null,124,10,4,10,300947.85299726186,{"$f":"IF($G$4=\"mensual\",S144,IF($G$4=\"trimestral\",S144,0))","v":2440.3231838013012},null,2878.7875825829087,-166.9788389976695,null,-306.26696376364612,305793.71796088479,null,{"$f":"+Bono!J147","v":14405.077854445453},null,10.333333333333334,370592.15613872511]
[null,125,10,5,54,50393.360323394874,null,478.17216138652685,0,0,-50.871532484781405,50820.660952296625,null,125,10,5,10,305793.71796088479,{"$f":"IF($G$4=\"mensual\",S147,0)","v":2440.3231838013012},null,2924.7689918116776,-166.9788389976695,null,-311.15881013649778,310680.67248736363,null,{"$f":"+Bono!J148","v":14494.391008028626},null,10.416666666666666,375995.7244476889]
[null,126,10,6,54,50820.660952296625,null,482.22672857499271,0,{"$f":"-SUM(F149:H149)*$J$21","v":-461.72598912784457},-51.302887680871613,50789.858804062897,null,126,10,6,10,310680.67248736363,{"$f":"IF($G$4=\"mensual\",S148,0)","v":2440.3231838013012},null,2971.1402913941583,-166.9788389976695,null,-316.0921359625591,315609.06498759886,null,{"$f":"+Bono!J149","v":14452.868202591053},null,10.5,380851.79199425277]
[null,127,10,7,54,50789.858804062897,null,481.93445336846253,0,0,-51.271793257431362,51220.521464173929,null,127,10,7,10,315609.06498759886,{"$f":"+IF($G$4=\"mensual\",S144,IF($G$4=\"trimestral\",S144,IF($G$4=\"semestral\",S144,0)))","v":2440.3231838013012},null,3017.9047873292425,-166.9788389976695,null,-321.06729295872947,320579.24682677304,null,{"$f":"+Bono!J150","v":14542.477661876066},null,10.583333333333334,386342.24595282302]
[null,128,10,8,54,51220.521464173929,null,486.02092217491281,0,0,-51.706542386348843,51654.835843962494,null,128,10,8,10,320579.24682677304,{"$f":"IF($G$4=\"mensual\",S150,0)","v":2440.3231838013012},null,3065.0658136483917,-166.9788389976695,null,-326.08463582422274,325591.5723494009,null,{"$f":"+Bono!J151","v":14632.642710202701},null,10.666666666666666,391879.05090356612]
[null,129,10,9,54,51654.835843962494,null,{"$f":"SUM(F152:G152)*$G$8","v":490.14204139323834},0,{"$f":"-SUM(F152:H152)*$J$21","v":-469.30480096820162},-52.144977885355729,{"$f":"SUM(F152:K152)","v":51623.52810650217},null,129,10,9,10,325591.5723494009,{"$f":"IF($G$4=\"mensual\",S151,0)","v":2440.3231838013012},null,3112.626732653333,-166.9788389976695,null,-331.14452226585558,{"$f":"SUM(R152:X152)","v":330646.39890459203},null,{"$f":"+Bono!J152","v":14590.723848212798},null,10.75,396860.65085930703]
[null,{"$f":"+B152+1","v":130},10,10,54,{"$f":"L152","v":51623.52810650217},null,489.84496875522706,0,0,{"$f":"-SUM(F153:H153)*0.1%","v":-52.1133730752574},52061.259702182142,null,{"$f":"+N152+1","v":130},10,10,10,{"$f":"Y152","v":330646.39890459203},{"$f":"IF($G$4=\"mensual\",S144,IF($G$4=\"trimestral\",S144,0))","v":2440.3231838013012},null,3160.5909351557734,-166.9788389976695,null,{"$f":"-SUM(R153:U153)*0.1%","v":-336.24731302354911},335744.08687152789,null,{"$f":"+Bono!J153","v":14681.188028490931},null,{"$f":"+B153/12","v":10.833333333333334},{"$f":"+AA153+Y153+L153","v":402486.53460220096}]
[null,131,10,11,54,52061.259702182142,null,493.99851322755893,0,0,-52.555258215409708,52502.702957194291,null,131,10,11,10,335744.08687152789,{"$f":"IF($G$17=\"si\",S142*(1+$G$20),S142)","v":2440.3231838013012},null,3208.9618407191433,-166.9788389976695,null,-341.39337189604839,340884.99968515465,null,{"$f":"+Bono!J154","v":14772.213097179983},null,10.916666666666666,408159.91573952895]
[null,132,10,12,54,52502.702957194291,null,498.18727686673759,0,{"$f":"-SUM(F155:H155)*$J$21","v":-477.0080121065493},-53.000890234061032,52470.881331720419,null,132,10,12,10,340884.99968515465,{"$f":"IF($G$4=\"mensual\",S154,0)","v":2440.3231838013012},null,3257.7428979023921,-166.9788389976695,null,-346.58306576685834,346069.50386209384,null,{"$f":"+Bono!J155","v":14729.894400935567},null,11,413270.27959474979]
[null,133,11,1,55,52470.881331720419,null,497.88532805177414,0,0,-52.968766659772193,52915.797893112416,null,133,11,1,11,346069.50386209384,{"$f":"IF($G$17=\"si\",S144*(1+$G$20),S144)","v":2562.0225890421088},null,3308.092364962441,{"$f":"(V155*(1+$G$18))","v":-175.30610709425108},null,-351.9396188160984,351412.37309018802,null,{"$f":"+Bono!J156","v":14821.221454783366},null,11.083333333333334,419149.39243808377]
[null,134,11,2,55,52915.797893112416,null,502.10704917598952,0,0,-53.417904942288409,53364.487037346116,null,134,11,2,11,351412.37309018802,{"$f":"IF($G$4=\"mensual\",S156,0)","v":2562.0225890421088},null,3358.789744744382,-175.30610709425108,null,-357.3331854239745,356800.54613145621,null,{"$f":"+Bono!J157","v":14913.114746958305},null,11.166666666666666,425078.14791576064]
[null,135,11,3,55,53364.487037346116,null,506.36456755761839,0,{"$f":"-SUM(F158:H158)*$J$21","v":-484.83766444413368},-53.870851604903734,53332.143088854704,null,135,11,3,11,356800.54613145621,{"$f":"IF($G$4=\"mensual\",S157,0)","v":2562.0225890421088},null,3409.9170030286787,-175.30610709425108,null,-362.77248572352698,362234.40713070915,null,{"$f":"+Bono!J158","v":14870.392402724377},null,11.25,430436.94262228825]
[null,136,11,4,55,53332.143088854704,null,506.05766252769655,0,0,-53.838200751382402,53784.36255063102,null,136,11,4,11,362234.40713070915,{"$f":"IF($G$4=\"mensual\",S156,IF($G$4=\"trimestral\",S156,0))","v":2562.0225890421088},null,3461.4777848858962,-175.30610709425108,null,-368.25790750463716,367714.34349003824,null,{"$f":"+Bono!J159","v":14962.590560480026},null,11.333333333333334,436461.29660114925]
[null,137,11,5,55,53784.36255063102,null,510.34867936148061,0,0,-54.294711229992501,54240.416518762504,null,137,11,5,11,367714.34349003824,{"$f":"IF($G$4=\"mensual\",S159,0)","v":2562.0225890421088},null,3513.4757662942629,-175.30610709425108,null,-373.78984184537461,373240.74589643494,null,{"$f":"+Bono!J160","v":15055.360357508083},null,11.416666666666666,442536.52277270553]
[null,138,11,6,55,54240.416518762504,null,514.67608103207522,0,{"$f":"-SUM(F161:H161)*$J$21","v":-492.79583339815127},-54.75509259979458,54207.541673796637,null,138,11,6,11,373240.74589643494,{"$f":"IF($G$4=\"mensual\",S160,0)","v":2562.0225890421088},null,3565.9146544017426,-175.30610709425108,null,-379.36868313987878,378814.00834964466,null,{"$f":"+Bono!J161","v":15012.230515173138},null,11.5,448033.78053861443]
[null,139,11,7,55,54207.541673796637,null,514.36413843543755,0,0,-54.721905812232073,54667.183906419836,null,139,11,7,11,378814.00834964466,{"$f":"+IF($G$4=\"mensual\",S156,IF($G$4=\"trimestral\",S156,IF($G$4=\"semestral\",S156,0)))","v":2562.0225890421088},null,3618.7981877903358,-175.30610709425108,null,-384.9948291264771,384434.52819025633,null,{"$f":"+Bono!J162","v":15105.308085678173},null,11.583333333333334,454207.02018235432]
[null,140,11,8,55,54667.183906419836,null,518.72558840478848,0,0,-55.185909494824628,55130.723585329804,null,140,11,8,11,384434.52819025633,{"$f":"IF($G$4=\"mensual\",S162,0)","v":2562.0225890421088},null,3672.1301367426158,-175.30610709425108,null,-390.66868091604101,390102.70612803072,null,{"$f":"+Bono!J163","v":15198.962747916668},null,11.666666666666666,460432.3924612772]
[null,141,{"$f":"C152+1","v":11},{"$f":"D152","v":9},{"$f":"E152+1","v":55},55130.723585329804,null,523.1240204349283,0,{"$f":"-SUM(F164:H164)*$J$21","v":-500.88462845188269},-55.653847605764739,55097.309129707093,null,141,{"$f":"O152+1","v":11},{"$f":"P152","v":9},{"$f":"Q152+1","v":11},390102.70612803072,{"$f":"IF($G$4=\"mensual\",S163,0)","v":2562.0225890421088},null,{"$f":"SUM(R164:T164)*$G$8","v":3725.914303510529},-175.30610709425108,null,-396.3906430205833,395818.94627046847,null,{"$f":"+Bono!J164","v":15155.421520645712},null,11.75,466071.67692082131]
[null,142,11,10,55,55097.309129707093,null,522.80695758450258,0,0,-55.620116087291592,55564.495971204298,null,142,11,10,11,395818.94627046847,{"$f":"IF($G$4=\"mensual\",S156,IF($G$4=\"trimestral\",S156,0))","v":2562.0225890421088},null,3780.154522586472,-175.30610709425108,null,-402.16112338209706,401583.65615162067,null,{"$f":"+Bono!J165","v":15249.386891993805},null,11.833333333333334,472397.53901481879]
[null,143,11,11,55,55564.495971204298,null,527.23999678523148,0,0,-56.091735967989528,56035.644232021543,null,143,11,11,11,401583.65615162067,{"$f":"IF($G$17=\"si\",S154*(1+$G$20),S154)","v":2562.0225890421088},null,3834.8546609766704,-175.30610709425108,null,-407.98053340163943,407397.2467611435,null,{"$f":"+Bono!J166","v":15343.934859543564},null,11.916666666666666,478776.8258527086]
[null,144,11,12,55,56035.644232021543,null,531.71062507361523,0,{"$f":"-SUM(F167:H167)*$J$21","v":-509.1061937138565},-56.567354857095161,56001.68130852421,null,144,11,12,11,407397.2467611435,{"$f":"IF($G$4=\"mensual\",S166,0)","v":2562.0225890421088},null,3890.0186184768686,-175.30610709425108,null,-413.84928796866245,413260.13257359952,null,{"$f":"+Bono!J167","v":15299.978323427855},null,12,484561.79220555158]
[null,145,12,1,56,56001.68130852421,null,531.38835792509599,0,0,-56.533069666449308,56476.536596782862,null,145,12,1,12,413260.13257359952,{"$f":"IF($G$17=\"si\",S156*(1+$G$20),S156)","v":2689.7911679621566},null,3946.8626975392867,{"$f":"(V167*(1+$G$18))","v":-184.0486577162628},null,-419.89678643910094,419292.84099494555,null,{"$f":"+Bono!J168","v":15394.839963720749},null,12.083333333333334,491164.21755544917]
[null,146,12,2,56,56476.536596782862,null,535.89416142927405,0,0,-57.012430758212133,56955.418327453917,null,146,12,2,12,419292.84099494555,{"$f":"IF($G$4=\"mensual\",S168,0)","v":2689.7911679621566},null,4004.1058185841548,-184.0486577162628,null,-425.98673798149184,425376.70258579409,null,{"$f":"+Bono!J169","v":15490.289757186729},null,12.166666666666666,497822.41067043471]
[null,147,12,3,56,56955.418327453917,null,540.43817101176649,0,{"$f":"-SUM(F170:H170)*$J$21","v":-517.46270848619122},-57.495856498465685,56920.897933481028,null,147,12,3,12,425376.70258579409,{"$f":"IF($G$4=\"mensual\",S169,0)","v":2689.7911679621566},null,4061.8343214623796,-184.0486577162628,null,-432.12832807521863,431512.15108942712,null,{"$f":"+Bono!J170","v":15445.913950890139},null,12.25,503878.96297379828]
[null,148,12,4,56,56920.897933481028,null,540.11061414133746,0,0,-57.46100854762237,57403.547539074745,null,148,12,4,12,431512.15108942712,{"$f":"IF($G$4=\"mensual\",S168,IF($G$4=\"trimestral\",S168,0))","v":2689.7911679621566},null,4120.0523218741509,-184.0486577162628,null,-438.32199457926339,437699.62392696785,null,{"$f":"+Bono!J171","v":15541.680409000783},null,12.333333333333334,510644.85187504336]
[null,149,12,5,56,57403.547539074745,null,544.69037630877438,0,0,-57.948237915383523,57890.289677468136,null,149,12,5,12,437699.62392696785,{"$f":"IF($G$4=\"mensual\",S171,0)","v":2689.7911679621566},null,4178.7639704179319,-184.0486577162628,null,-444.56817906534798,443939.56222856633,null,{"$f":"+Bono!J172","v":15638.040630259935},null,12.416666666666666,517467.89253629441]
[null,150,12,6,56,57890.289677468136,null,549.30897167252544,0,{"$f":"-SUM(F173:H173)*$J$21","v":-525.95638784226594},-58.439598649140656,57855.202662649252,null,150,12,6,12,443939.56222856633,{"$f":"IF($G$4=\"mensual\",S172,0)","v":2689.7911679621566},null,4237.9734528863737,-184.0486577162628,null,-450.86732684941484,450232.41086484917,null,{"$f":"+Bono!J173","v":15593.241554661969},null,12.5,523680.85508216039]
[null,151,12,7,56,57855.202662649252,null,548.97603825421641,0,0,-58.404178700903465,58345.774522202562,null,151,12,7,12,450232.41086484917,{"$f":"+IF($G$4=\"mensual\",S168,IF($G$4=\"trimestral\",S168,IF($G$4=\"semestral\",S168,0)))","v":2689.7911679621566},null,4297.684990564735,-184.0486577162628,null,-457.21988702337603,456578.61847863637,null,{"$f":"+Bono!J174","v":15689.921461004942},null,12.583333333333334,530614.31446184393]
[null,152,12,8,56,58345.774522202562,null,553.63097304905114,0,0,-58.899405495251621,58840.506089756367,null,152,12,8,12,456578.61847863637,{"$f":"IF($G$4=\"mensual\",S174,0)","v":2689.7911679621566},null,4357.9028405318359,-184.0486577162628,null,-463.62631248713035,462978.63751692697,null,{"$f":"+Bono!J175","v":15787.200793981418},null,12.666666666666666,537606.34440066479]
[null,153,12,9,56,58840.506089756367,null,558.32537845177092,0,{"$f":"-SUM(F176:H176)*$J$21","v":-534.58948321387334},-59.398831468208144,58804.843153526061,null,153,12,9,12,462978.63751692697,{"$f":"IF($G$4=\"mensual\",S175,0)","v":2689.7911679621566},null,4418.6312959635643,-184.0486577162628,null,-470.08705998085264,469432.92426315555,null,{"$f":"+Bono!J176","v":15741.974411816807},null,12.75,543979.74182849843]
[null,154,12,10,56,58804.843153526061,null,557.98698023444229,0,0,-59.362830133760504,59303.467303626741,null,154,12,10,12,469432.92426315555,{"$f":"IF($G$4=\"mensual\",S168,IF($G$4=\"trimestral\",S168,0))","v":2689.7911679621566},null,4479.8746864389514,{"$f":"V176","v":-184.0486577162628},null,-476.60259011755664,475941.93886972283,null,{"$f":"+Bono!J177","v":15839.576479126084},null,12.833333333333334,551084.98265247559]
[null,155,12,11,56,59303.467303626741,null,562.71832154693004,0,0,-59.866185625173671,59806.319439548497,null,155,12,11,12,475941.93886972283,{"$f":"IF($G$17=\"si\",S166*(1+$G$20),S166)","v":2689.7911679621566},null,4541.6373782488445,-184.0486577162628,null,-483.1733674159338,482506.1453908016,null,{"$f":"+Bono!J178","v":15937.783690573819},null,12.916666666666666,558250.24852092389]
[null,156,12,12,56,59806.319439548497,null,567.48978134140441,0,{"$f":"-SUM(F179:H179)*$J$21","v":-543.36428298800922},-60.373809220889903,59770.071128681004,null,156,12,12,12,482506.1453908016,{"$f":"IF($G$4=\"mensual\",S178,0)","v":2689.7911679621566},null,4603.9237747072011,-184.0486577162628,null,-489.79986033347092,489126.01181542117,null,{"$f":"+Bono!J179","v":15892.125926068689},null,13,564788.20887017087]
[null,157,13,1,57,59770.071128681004,null,567.1458286253544,0,0,-60.33721695730636,60276.879740349053,null,157,13,1,13,489126.01181542117,{"$f":"IF($G$17=\"si\",S168*(1+$G$20),S168)","v":2823.9315914666627},null,4668.0111471678065,{"$f":"(V179*(1+$G$18))","v":-193.22720108630435},null,-496.61795455405564,495928.10939841531,null,{"$f":"+Bono!J180","v":15990.658950182828},null,13.083333333333334,572195.64808894717]
[null,158,13,2,57,60276.879740349053,null,571.95483059893604,0,0,-60.848834570947993,60787.985736377042,null,158,13,2,13,495928.10939841531,{"$f":"IF($G$4=\"mensual\",S180,0)","v":2823.9315914666627},null,4732.5548426536652,-193.22720108630435,null,-503.48459583253566,502787.88403561682,null,{"$f":"+Bono!J181","v":16089.802890475596},null,13.166666666666666,579665.67266246944]
[null,159,13,3,57,60787.985736377042,null,576.80460956286947,0,{"$f":"-SUM(F182:H182)*$J$21","v":-552.28311311345919},-61.364790345939909,60751.142442480508,null,159,13,3,13,502787.88403561682,{"$f":"IF($G$4=\"mensual\",S181,0)","v":2823.9315914666627},null,4797.6458237639754,-193.22720108630435,null,-510.40946145084746,509705.82478831033,null,{"$f":"+Bono!J182","v":16043.709628980161},null,13.25,586500.67685977102]
[null,160,13,4,57,60751.142442480508,null,576.45501117605727,0,0,-61.327597453656566,61266.269856202904,null,160,13,4,13,509705.82478831033,{"$f":"IF($G$4=\"mensual\",S180,IF($G$4=\"trimestral\",S180,0))","v":2823.9315914666627},null,4863.2887310999977,-193.22720108630435,null,-517.39304511087698,516682.42486467981,null,{"$f":"+Bono!J183","v":16143.182489634972},null,13.333333333333334,594091.87721051765]
[null,161,13,5,57,61266.269856202904,null,581.34294853979634,0,0,-61.847612804742695,61785.765191937957,null,161,13,5,13,516682.42486467981,{"$f":"IF($G$4=\"mensual\",S183,0)","v":2823.9315914666627},null,4929.4882446120637,-193.22720108630435,null,-524.43584470075859,523718.1816549715,null,{"$f":"+Bono!J184","v":16243.272093563977},null,13.416666666666666,601747.21894047339]
[null,162,13,6,57,61785.765191937957,null,586.27233221106792,0,{"$f":"-SUM(F185:H185)*$J$21","v":-561.34833771734134},-62.372037524149029,61748.317148907539,null,162,13,6,13,523718.1816549715,{"$f":"IF($G$4=\"mensual\",S184,0)","v":2823.9315914666627},null,4996.2490839332286,-193.22720108630435,null,-531.53836233037146,530813.59676695464,null,{"$f":"+Bono!J185","v":16196.739181181731},null,13.5,608758.65309704398]
[null,163,13,7,57,61748.317148907539,null,585.91699548494694,0,0,-62.334234144392489,62271.899910248096,null,163,13,7,13,530813.59676695464,{"$f":"+IF($G$4=\"mensual\",S180,IF($G$4=\"trimestral\",S180,IF($G$4=\"semestral\",S180,0)))","v":2823.9315914666627},null,5063.5760087157478,-193.22720108630435,null,-538.70110436713708,537969.17606168357,null,{"$f":"+Bono!J186","v":16297.160842810519},null,13.583333333333334,616538.23681474221]
[null,164,13,8,57,62271.899910248096,null,590.88516389142478,0,0,-62.862785074139524,62799.922289065384,null,164,13,8,13,537969.17606168357,{"$f":"IF($G$4=\"mensual\",S186,0)","v":2823.9315914666627},null,5131.4738189704203,-193.22720108630435,null,-545.92458147212062,545185.42968956218,null,{"$f":"+Bono!J187","v":16398.205130389597},null,13.666666666666666,624383.55710901716]
[null,165,13,9,57,62799.922289065384,null,595.8954589088479,0,{"$f":"-SUM(F188:H188)*$J$21","v":-570.56235973176808},-63.395817747974235,62761.859570494489,null,165,13,9,13,545185.42968956218,{"$f":"IF($G$4=\"mensual\",S187,0)","v":2823.9315914666627},null,5199.9473554087945,-193.22720108630435,null,-553.20930863643764,552462.87212671479,null,{"$f":"+Bono!J188","v":16351.22837360296},null,13.75,631575.96007081226]
[null,166,13,10,57,62761.859570494489,null,595.53428965380147,0,0,-63.357393860148292,63294.03646628814,null,166,13,10,13,552462.87212671479,{"$f":"IF($G$4=\"mensual\",S180,IF($G$4=\"trimestral\",S180,0))","v":2823.9315914666627},null,5269.0014997882827,-193.22720108630435,null,-560.55580521796969,559802.0222116654,null,{"$f":"+Bono!J189","v":16452.607886144397},null,13.833333333333334,639548.66656409798]
[null,167,13,11,57,63294.03646628814,null,600.58400602255654,0,0,-63.894620472310699,63830.72585183839,null,167,13,11,13,559802.0222116654,{"$f":"IF($G$17=\"si\",S178*(1+$G$20),S178)","v":2823.9315914666627},null,5338.6411752602062,-193.22720108630435,null,-567.96459497839226,567203.40318232751,null,{"$f":"+Bono!J190","v":16554.615963422886},null,13.916666666666666,647588.7449975888]
[null,168,13,12,57,63830.72585183839,null,605.67654047223152,0,{"$f":"-SUM(F191:H191)*$J$21","v":-579.9276215307957},-64.436402392310626,63792.038368387512,null,168,13,12,13,567203.40318232751,{"$f":"IF($G$4=\"mensual\",S190,0)","v":2823.9315914666627},null,5408.8713467207826,-193.22720108630435,null,-575.43620612051495,574667.54271330801,null,{"$f":"+Bono!J191","v":16507.191128715298},null,14,654966.7722104108]
[null,169,14,1,58,63792.038368387512,null,605.30944295260599,0,0,-64.397347811340111,64332.950463528774,null,169,14,1,14,574667.54271330801,{"$f":"IF($G$17=\"si\",S180*(1+$G$20),S180)","v":2964.7616247194233},null,5481.0333281895973,{"$f":"(V191*(1+$G$18))","v":-202.86348024991855},null,-583.11333766621703,582327.36084830086,null,{"$f":"+Bono!J192","v":16609.537628428992},null,14.083333333333334,663269.84894025861]
[null,170,14,2,58,64332.950463528774,null,610.44204581921292,0,0,-64.943392509347987,64878.449116838638,null,170,14,2,14,582327.36084830086,{"$f":"IF($G$4=\"mensual\",S192,0)","v":2964.7616247194233},null,5553.7157563891087,-202.86348024991855,null,-590.84583822940931,590052.12891093001,null,{"$f":"+Bono!J193","v":16712.518688312372},null,14.166666666666666,671643.09671608103]
[null,171,14,3,58,64878.449116838638,null,615.61816958656414,0,{"$f":"-SUM(F194:H194)*$J$21","v":-589.44660557782686},-65.494067286425206,64839.126613560955,null,171,14,3,14,590052.12891093001,{"$f":"IF($G$4=\"mensual\",S193,0)","v":2964.7616247194233},null,5627.014481003077,-202.86348024991855,null,-598.64390501665241,597842.39763138583,null,{"$f":"+Bono!J194","v":16664.641501786755},null,14.25,679346.16574673355]
[null,172,14,4,58,64839.126613560955,null,615.24504649529274,0,0,-65.454371660056253,65388.917288396195,null,172,14,4,14,597842.39763138583,{"$f":"IF($G$4=\"mensual\",S192,IF($G$4=\"trimestral\",S192,0))","v":2964.7616247194233},null,5700.9347277962415,-202.86348024991855,null,-606.5080939839014,605698.72240966768,null,{"$f":"+Bono!J195","v":16767.964212076604},null,14.333333333333334,687855.60391014046]
[null,173,14,5,58,65388.917288396195,null,620.46189636616896,0,0,-66.009379184762366,65943.369805577604,null,173,14,5,14,605698.72240966768,{"$f":"IF($G$4=\"mensual\",S195,0)","v":2964.7616247194233},null,5775.481766844192,-202.86348024991855,null,-614.43896580123123,613621.66335518006,null,{"$f":"+Bono!J196","v":16871.92753515494},null,14.416666666666666,696436.9606959126]
[null,174,14,6,58,65943.369805577604,null,625.72298149376172,0,{"$f":"-SUM(F197:H197)*$J$21","v":-599.1218350836424},-66.569092787071369,65903.401859200647,null,174,14,6,14,613621.66335518006,{"$f":"IF($G$4=\"mensual\",S196,0)","v":2964.7616247194233},null,5850.6609129090884,-202.86348024991855,null,-622.43708589280857,621611.78532666585,null,{"$f":"+Bono!J197","v":16823.593682148559},null,14.5,704338.78086801514]
[null,175,14,7,58,65903.401859200647,null,625.34373392657028,0,0,-66.528745593127212,66462.216847534088,null,175,14,7,14,621611.78532666585,{"$f":"+IF($G$4=\"mensual\",S192,IF($G$4=\"trimestral\",S192,IF($G$4=\"semestral\",S192,0)))","v":2964.7616247194233},null,5926.47752581858,-202.86348024991855,null,-630.50302447720389,629669.65797247679,null,{"$f":"+Bono!J198","v":16927.901914393966},null,14.583333333333334,713059.77673440485]
[null,176,14,8,58,66462.216847534088,null,630.64621363960771,0,0,-67.092863061173702,67025.770198112528,null,176,14,8,14,629669.65797247679,{"$f":"IF($G$4=\"mensual\",S198,0)","v":2964.7616247194233},null,6002.9370108479206,-202.86348024991855,null,-638.63735660804412,637795.85577118618,null,{"$f":"+Bono!J199","v":17032.856869778298},null,14.666666666666666,721854.48283907701]
[null,177,14,9,58,67025.770198112528,null,635.99365469083705,0,{"$f":"-SUM(F200:H200)*$J$21","v":-608.95587467523046},-67.661763852803375,66985.146214275344,null,177,14,9,14,637795.85577118618,{"$f":"IF($G$4=\"mensual\",S199,0)","v":2964.7616247194233},null,6080.0448191053383,-202.86348024991855,null,-646.84066221501087,645990.95807254594,null,{"$f":"+Bono!J200","v":16984.061994473908},null,14.75,729960.16628129524]
[null,178,14,10,58,66985.146214275344,null,635.60818212002812,0,0,-67.620754396395384,67553.133641998982,null,178,14,10,14,645990.95807254594,{"$f":"IF($G$4=\"mensual\",S192,IF($G$4=\"trimestral\",S192,0))","v":2964.7616247194233},null,6157.8064479206669,-202.86348024991855,null,-655.11352614518592,654255.54913879081,null,{"$f":"+Bono!J201","v":17089.365148868903},null,14.833333333333334,738898.04792965867]
[null,179,14,11,58,67553.133641998982,null,640.99769721114421,0,0,-68.194131339210131,68125.937207870913,null,179,14,11,14,654255.54913879081,{"$f":"IF($G$17=\"si\",S190*(1+$G$20),S190)","v":2964.7616247194233},null,6236.227441237269,-202.86348024991855,null,-663.45653820474752,662590.2181862928,null,{"$f":"+Bono!J202","v":17195.321195035554},null,14.916666666666666,747911.47658919927]
[null,180,14,12,58,68125.937207870913,null,646.43291163989375,0,{"$f":"-SUM(F203:H203)*$J$21","v":-618.9513310755973},-68.772370119510796,68084.646418315693,null,180,14,12,14,662590.2181862928,{"$f":"IF($G$4=\"mensual\",S202,0)","v":2964.7616247194233},null,6315.3133900072935,-202.86348024991855,null,-671.87029320101942,670995.55942756846,null,{"$f":"+Bono!J203","v":17146.060900068864},null,15,756226.26674595301]
[null,181,15,1,59,68084.646418315693,null,646.04111188769878,0,0,-68.730687530203383,68661.956842673186,null,181,15,1,15,670995.55942756846,{"$f":"IF($G$17=\"si\",S192*(1+$G$20),S192)","v":3112.614879896506},null,6396.4728815133494,{"$f":"(V203*(1+$G$18))","v":-212.98032258267804},null,-680.50464718897831,679611.16221920669,null,{"$f":"+Bono!J204","v":17252.368466469256},null,15.083333333333334,765525.48752834904]
[null,182,15,2,59,68661.956842673186,null,651.5190909634033,0,0,-69.313475933636582,69244.162457702943,null,182,15,2,15,679611.16221920669,{"$f":"IF($G$4=\"mensual\",S204,0)","v":3112.614879896506},null,6478.2245524098207,-212.98032258267804,null,-689.202001651513,688299.81932727888,null,{"$f":"+Bono!J205","v":17359.335152112246},null,15.166666666666666,774903.31693709409]
[null,183,15,3,59,69244.162457702943,null,657.04351948977228,0,{"$f":"-SUM(F206:H206)*$J$21","v":-629.11085379473457},-69.901205977192717,69202.193917420795,null,183,15,3,15,688299.81932727888,{"$f":"IF($G$4=\"mensual\",S205,0)","v":3112.614879896506},null,6560.6694205879112,-212.98032258267804,null,-697.97310362776341,697062.1502015529,null,{"$f":"+Bono!J206","v":17309.60499817563},null,15.25,783573.94911714934]
[null,184,15,4,59,69202.193917420795,null,656.64528870126821,0,0,-69.85883920612207,69788.980366915945,null,184,15,4,15,697062.1502015529,{"$f":"IF($G$4=\"mensual\",S204,IF($G$4=\"trimestral\",S204,0))","v":3112.614879896506},null,6643.813363878201,-212.98032258267804,null,-706.8185784453276,705898.77954429958,null,{"$f":"+Bono!J207","v":17416.926556954226},null,15.333333333333334,793104.68646816979]
[null,185,15,5,59,69788.980366915945,null,662.21318381734693,0,0,-70.451193550733294,70380.742357182564,null,185,15,5,15,705898.77954429958,{"$f":"IF($G$4=\"mensual\",S207,0)","v":3112.614879896506},null,6727.6623099511853,-212.98032258267804,null,-715.73905673414731,714810.33735483047,null,{"$f":"+Bono!J208","v":17524.913521845781},null,15.416666666666666,802715.99323385884]
[null,186,15,6,59,70380.742357182564,null,667.82829080954366,0,{"$f":"-SUM(F209:H209)*$J$21","v":-639.43713583192903},-71.048570647992108,70338.084941512177,null,186,15,6,15,714810.33735483047,{"$f":"IF($G$4=\"mensual\",S208,0)","v":3112.614879896506},null,6812.222236739879,-212.98032258267804,null,-724.73517447146685,723797.45897441264,null,{"$f":"+Bono!J209","v":17474.709027288209},null,15.5,811610.2529432131]
[null,187,15,7,59,70338.084941512177,null,667.42352342512288,0,0,-71.005508464937307,70934.502956472366,null,187,15,7,15,723797.45897441264,{"$f":"+IF($G$4=\"mensual\",S204,IF($G$4=\"trimestral\",S204,IF($G$4=\"semestral\",S204,0)))","v":3112.614879896506},null,6897.4991728660088,-212.98032258267804,null,-733.80757302717518,732860.7851315653,null,{"$f":"+Bono!J210","v":17583.054250198187},null,15.583333333333334,821378.34233823582]
[null,188,15,8,59,70934.502956472366,null,673.08281047153514,0,0,-71.607585766943899,71535.97818117695,null,188,15,8,15,732860.7851315653,{"$f":"IF($G$4=\"mensual\",S210,0)","v":3112.614879896506},null,6983.4991980698205,-212.98032258267804,null,-742.95689920953157,742000.96198773943,null,{"$f":"+Bono!J211","v":17692.071226057473},null,15.666666666666666,831229.01139497384]
[null,189,15,9,59,71535.97818117695,null,678.79008433403874,0,{"$f":"-SUM(F212:H212)*$J$21","v":-649.93291438959886},-72.214768265510983,71492.620582855874,null,189,15,9,15,742000.96198773943,{"$f":"IF($G$4=\"mensual\",S211,0)","v":3112.614879896506},null,7070.2284436435248,-212.98032258267804,null,-752.18380531127946,751218.64118338551,null,{"$f":"+Bono!J212","v":17641.387866480633},null,15.75,840352.64963272202]
[null,190,15,10,59,71492.620582855874,null,678.37867306142925,0,0,-72.170999255917295,72098.828256661378,null,190,15,10,15,751218.64118338551,{"$f":"IF($G$4=\"mensual\",S204,IF($G$4=\"trimestral\",S204,0))","v":3112.614879896506},null,7157.6930928684251,-212.98032258267804,null,-761.48894915615051,760514.47988441167,null,{"$f":"+Bono!J213","v":17750.76651752715},null,15.833333333333334,850364.07465860026]
[null,191,15,11,59,72098.828256661378,null,684.13085215352498,0,0,-72.782959108814907,72710.176149706094,null,191,15,11,15,760514.47988441167,{"$f":"IF($G$17=\"si\",S202*(1+$G$20),S202)","v":3112.614879896506},null,7245.8993814557452,-212.98032258267804,null,-770.87299414576398,769889.14082903555,null,{"$f":"+Bono!J214","v":17860.823328897295},null,15.916666666666666,860460.14030763891]
[null,192,15,12,59,72710.176149706094,null,689.93180572161987,0,{"$f":"-SUM(F215:H215)*$J$21","v":-660.60097159884947},-73.400107955427714,72666.106875873433,null,192,15,12,15,769889.14082903555,{"$f":"IF($G$4=\"mensual\",S214,0)","v":3112.614879896506},null,7334.853597991204,-212.98032258267804,null,-780.33660930692326,779343.2923750336,null,{"$f":"+Bono!J215","v":17809.656536747843},null,16,869819.05578765483]
[null,193,16,1,60,72666.106875873433,null,{"$f":"SUM(F216:G216)*$G$8","v":689.51364150744428},0,0,-73.355620517380871,{"$f":"SUM(F216:K216)","v":73282.264896863489},null,193,16,1,16,779343.2923750336,{"$f":"IF($G$17=\"si\",S204*(1+$G$20),S204)","v":3267.8416064799208},null,7426.0349986498113,{"$f":"(V215*(1+$G$18))","v":-223.60169386594072},null,-790.03716898016341,{"$f":"SUM(R216:X216)","v":789023.53011731734},null,{"$f":"+Bono!J216","v":17920.078473067973},null,16.083333333333332,880225.87348724878]
[null,{"$f":"+B216+1","v":194},16,2,60,{"$f":"L216","v":73282.264896863489},null,695.36023738360143,0,0,{"$f":"-SUM(F217:H217)*0.1%","v":-73.977625134247091},73903.647509112852,null,{"$f":"+N216+1","v":194},16,2,16,{"$f":"Y216","v":789023.53011731734},{"$f":"IF($G$4=\"mensual\",S216,0)","v":3267.8416064799208},null,7517.8887701438771,-223.60169386594072,null,{"$f":"-SUM(R217:U217)*0.1%","v":-799.80926049394111},798785.84953958122,null,{"$f":"+Bono!J217","v":18031.185038201442},null,{"$f":"+B217/12","v":16.166666666666668},{"$f":"+AA217+Y217+L217","v":890720.68208689545}]
[null,195,16,3,60,73903.647509112852,null,701.25640832438592,0,{"$f":"-SUM(F218:H218)*$J$21","v":-671.44413525693528},-74.604903917437241,73858.854878262864,null,195,16,3,16,798785.84953958122,{"$f":"IF($G$4=\"mensual\",S217,0)","v":3267.8416064799208},null,7610.521397702998,-223.60169386594072,null,-809.66421254376417,808630.94663735444,null,{"$f":"+Bono!J218","v":17979.530202359398},null,16.25,900469.33171797672]
[null,196,16,4,60,73858.854878262864,null,700.83138032525517,0,0,-74.559686258588115,74485.126572329522,null,196,16,4,16,808630.94663735444,{"$f":"IF($G$4=\"mensual\",S216,IF($G$4=\"trimestral\",S216,0))","v":3267.8416064799208},null,7703.9394854846323,-223.60169386594072,null,-819.60272772931899,818559.52330772369,null,{"$f":"+Bono!J219","v":18091.005375110446},null,16.333333333333332,911135.65525516367]
[null,197,16,5,60,74485.126572329522,null,706.77394275104427,0,0,-75.191900515080562,75116.708614565476,null,197,16,5,16,818559.52330772369,{"$f":"IF($G$4=\"mensual\",S219,0)","v":3267.8416064799208},null,7798.1496936448984,-223.60169386594072,null,-829.62551460784857,828572.28739937476,null,{"$f":"+Bono!J220","v":18203.171706862871},null,16.416666666666668,921892.16772080306]
[null,198,16,6,60,75116.708614565476,null,712.76689397102234,0,{"$f":"-SUM(F221:H221)*$J$21","v":-682.46527957682861},-75.829475508536504,75071.180753451132,null,198,16,6,16,828572.28739937476,{"$f":"IF($G$4=\"mensual\",S220,0)","v":3267.8416064799208},null,7893.1587388134039,-223.60169386594072,null,-839.73328774466813,838669.95276305743,null,{"$f":"+Bono!J221","v":18151.024172226047},null,16.5,931892.15768873459]
[null,199,16,7,60,75071.180753451132,null,712.33488952415382,0,0,-75.783515642975289,75707.732127332303,null,199,16,7,16,838669.95276305743,{"$f":"+IF($G$4=\"mensual\",S216,IF($G$4=\"trimestral\",S216,IF($G$4=\"semestral\",S216,0)))","v":3267.8416064799208},null,7988.9733945720991,-223.60169386594072,null,-849.92676776410951,848853.23930247943,null,{"$f":"+Bono!J222","v":18263.562627482337},null,16.583333333333332,942824.53405729402]
[null,200,16,8,60,75707.732127332303,null,718.37499370313662,0,0,-76.426107121035443,76349.681013914407,null,200,16,8,16,848853.23930247943,{"$f":"IF($G$4=\"mensual\",S222,0)","v":3267.8416064799208},null,8085.6004919382012,-223.60169386594072,null,-860.20668140089754,859122.87302563072,null,{"$f":"+Bono!J223","v":18376.798834214871},null,16.666666666666668,953849.35287376004]
[null,201,16,9,60,76349.681013914407,null,724.46631376250036,0,{"$f":"-SUM(F224:H224)*$J$21","v":-693.66732594909229},-77.074147327676911,76303.405854400145,null,201,16,9,16,859122.87302563072,{"$f":"IF($G$4=\"mensual\",S223,0)","v":3267.8416064799208},null,8183.0469198511955,-223.60169386594072,null,-870.57376155196187,869479.58609654394,null,{"$f":"+Bono!J224","v":18324.153901279376},null,16.75,964107.14585222339]
[null,202,16,10,60,76303.405854400145,null,724.02721835585476,0,0,-77.027433072755997,76950.405639683246,null,202,16,10,16,869479.58609654394,{"$f":"IF($G$4=\"mensual\",S216,IF($G$4=\"trimestral\",S216,0))","v":3267.8416064799208},null,8281.3196256639803,-223.60169386594072,null,-881.02874732868793,879924.11688749329,null,{"$f":"+Bono!J225","v":18437.765780937603},null,16.833333333333332,975312.28830811416]
[null,203,16,11,60,76950.405639683246,null,730.16646534712572,0,0,-77.680572105030365,77602.891532925336,null,203,16,11,16,879924.11688749329,{"$f":"IF($G$17=\"si\",S214*(1+$G$20),S214)","v":3267.8416064799208},null,8380.4256156381762,-223.60169386594072,null,-891.57238410961145,890457.21003163583,null,{"$f":"+Bono!J226","v":18552.082067427877},null,16.916666666666668,986612.18363198906]
[null,204,16,12,60,77602.891532925336,null,736.35776888083637,0,{"$f":"-SUM(F227:H227)*$J$21","v":-705.05324371625568},-78.339249301806177,77555.856808788114,null,204,16,12,16,890457.21003163583,{"$f":"IF($G$4=\"mensual\",S226,0)","v":3267.8416064799208},null,8480.3719554436211,-223.60169386594072,null,-902.20542359355943,901079.61647609994,null,{"$f":"+Bono!J227","v":18498.934991864578},null,17,997134.40827675269]
[null,205,{"$f":"C216+1","v":17},{"$f":"D216","v":1},{"$f":"E216+1","v":61},77555.856808788114,null,735.91146612276304,0,0,-78.291768274910879,78213.476506635969,null,205,{"$f":"O216+1","v":17},{"$f":"P216","v":1},{"$f":"Q216+1","v":17},901079.61647609994,{"$f":"IF($G$17=\"si\",S216*(1+$G$20),S216)","v":3430.8095209633957},null,{"$f":"SUM(R228:T228)*$G$8","v":8582.7121394576352},{"$f":"(V227*(1+$G$18))","v":-234.75275505937395},null,-913.09313813652091,911945.29224332492,null,{"$f":"+Bono!J228","v":18613.630534557786},null,17.083333333333332,1008772.3992845187]
[null,206,17,2,61,78213.476506635969,null,742.15148326534438,0,0,-78.955627989901316,78876.67236191142,null,206,17,2,17,911945.29224332492,{"$f":"IF($G$4=\"mensual\",S228,0)","v":3430.8095209633957},null,8685.8142869071489,-234.75275505937395,null,-924.06191605119545,922903.10138008487,null,{"$f":"+Bono!J229","v":18729.037202919553},null,17.166666666666668,1020508.8109449159]
[null,207,17,3,61,78876.67236191142,null,748.44441141112691,0,{"$f":"-SUM(F230:H230)*$J$21","v":-716.62605095990295},-79.625116773322546,78828.865605589308,null,207,17,3,17,922903.10138008487,{"$f":"IF($G$4=\"mensual\",S229,0)","v":3430.8095209633957},null,8789.7906688225466,-234.75275505937395,null,-935.12370156987083,933953.82511324156,null,{"$f":"+Bono!J230","v":18675.383195146536},null,17.25,1031458.0739139775]
[null,208,17,4,61,78828.865605589308,null,747.99078299951225,0,0,-79.576856388588823,79497.27953220022,null,208,17,4,17,933953.82511324156,{"$f":"IF($G$4=\"mensual\",S228,IF($G$4=\"trimestral\",S228,0))","v":3430.8095209633957},null,8894.6486981037542,-234.75275505937395,null,-946.27928333230864,945098.25129391695,null,{"$f":"+Bono!J231","v":18791.172737166817},null,17.333333333333332,1043386.703563284]
[null,209,17,5,61,79497.27953220022,null,754.33322434371485,0,0,-80.251612756543935,80171.361143787391,null,209,17,5,17,945098.25129391695,{"$f":"IF($G$4=\"mensual\",S231,0)","v":3430.8095209633957},null,9000.3958505069277,-234.75275505937395,null,-957.52945666538733,956337.17445366248,null,{"$f":"+Bono!J232","v":18907.68018777838},null,17.416666666666668,1055416.2157852282]
[null,210,17,6,61,80171.361143787391,null,760.72944517707549,0,{"$f":"-SUM(F233:H233)*$J$21","v":-728.38881530068022},-80.932090588964471,80122.769683074817,null,210,17,6,17,956337.17445366248,{"$f":"IF($G$4=\"mensual\",S232,0)","v":3430.8095209633957},null,9107.0396651774427,-234.75275505937395,null,-968.87502363980332,967671.39586110413,null,{"$f":"+Bono!J233","v":18853.514412529315},null,17.5,1066647.6799567083]
[null,211,17,7,61,80122.769683074817,null,760.26837086798503,0,0,-80.883038053942798,80802.155015888857,null,211,17,7,17,967671.39586110413,{"$f":"+IF($G$4=\"mensual\",S228,IF($G$4=\"trimestral\",S228,IF($G$4=\"semestral\",S228,0)))","v":3430.8095209633957},null,9214.5877451873748,-234.75275505937395,null,-980.31679312725487,979101.7235790682,null,{"$f":"+Bono!J234","v":18970.408388759311},null,17.583333333333332,1078874.2869837163]
[null,212,17,8,61,80802.155015888857,null,766.71491761385016,0,0,-81.568869933502711,81487.301063569204,null,212,17,8,17,979101.7235790682,{"$f":"IF($G$4=\"mensual\",S234,0)","v":3430.8095209633957},null,9323.0477580775623,-234.75275505937395,null,-991.85558085810908,990628.97252219159,null,{"$f":"+Bono!J235","v":19088.027121200794},null,17.666666666666668,1091204.3007069617]
[null,213,17,9,61,81487.301063569204,null,773.21612659023697,0,{"$f":"-SUM(F236:H236)*$J$21","v":-740.34465471143506},-82.260517190159447,81437.912018257863,null,213,17,9,17,990628.97252219159,{"$f":"IF($G$4=\"mensual\",S235,0)","v":3430.8095209633957},null,9432.4274364042503,-234.75275505937395,null,-1003.4922094795593,1002253.9645150203,null,{"$f":"+Bono!J236","v":19033.344697089171},null,17.75,1102725.2212303672]
[null,214,17,10,61,81437.912018257863,null,772.74748416604086,0,0,-82.210659502423908,82128.448842921483,null,214,17,10,17,1002253.9645150203,{"$f":"IF($G$4=\"mensual\",S228,IF($G$4=\"trimestral\",S228,0))","v":3430.8095209633957},null,9542.7345782903885,-234.75275505937395,null,-1015.227508614274,1013977.5283506003,null,{"$f":"+Bono!J237","v":19151.35364194246},null,17.833333333333332,1115257.3308354642]
[null,215,17,11,61,82128.448842921483,null,779.2998451089785,0,0,-82.907748688030466,82824.840939342437,null,215,17,11,17,1013977.5283506003,{"$f":"IF($G$17=\"si\",S226*(1+$G$20),S226)","v":3430.8095209633957},null,9653.9770479815725,-234.75275505937395,null,-1027.0623149195453,1025800.4998495663,null,{"$f":"+Bono!J238","v":19270.094255942029},null,17.916666666666668,1127895.4350448507]
[null,216,17,12,61,82824.840939342437,null,785.90776551319709,0,{"$f":"-SUM(F239:H239)*$J$21","v":-752.49673834370083},-83.610748704855638,82774.641217807075,null,216,17,12,17,1025800.4998495663,{"$f":"IF($G$4=\"mensual\",S238,0)","v":3430.8095209633957},null,9766.162776406738,-234.75275505937395,null,-1038.9974721469364,1037723.72191973,null,{"$f":"+Bono!J239","v":19214.890255021259},null,18,1139713.2533925583]
[null,217,18,1,62,82774.641217807075,null,785.43143075017429,0,0,-83.560072648557252,83476.512575908695,null,217,18,1,18,1037723.72191973,{"$f":"IF($G$17=\"si\",S228*(1+$G$20),S228)","v":3601.9046779357445},null,9880.9232482601928,{"$f":"(V239*(1+$G$18))","v":-246.45992190473595},null,-1051.206549845926,1049908.8833741753,null,{"$f":"+Bono!J240","v":19334.024803391705},null,18.083333333333332,1152719.4207534757]
[null,218,18,2,62,83476.512575908695,null,792.09134273391521,0,0,-84.268603918642611,84184.335314723969,null,218,18,2,18,1049908.8833741753,{"$f":"IF($G$4=\"mensual\",S240,0)","v":3601.9046779357445},null,9996.5457221758861,{"$f":"V240","v":-246.45992190473595},null,-1063.5073337742867,1062197.3665186076,null,{"$f":"+Bono!J241","v":19453.897999780806},null,18.166666666666668,1165835.5998331122]
[null,219,18,3,62,84184.335314723969,null,798.80772613692272,0,{"$f":"-SUM(F242:H242)*$J$21","v":-764.84828736774807},-84.983143040860895,84133.311610452278,null,219,18,3,18,1062197.3665186076,{"$f":"IF($G$4=\"mensual\",S241,0)","v":3601.9046779357445},null,10113.148594213519,-246.45992190473595,null,-1075.9124197907568,1074590.0474490609,null,{"$f":"+Bono!J242","v":19398.167447100132},null,18.25,1178121.5265066135]
[null,220,18,4,62,84133.311610452278,null,798.32357277233325,0,0,-84.931635183224614,84846.703548041391,null,220,18,4,18,1074590.0474490609,{"$f":"IF($G$4=\"mensual\",S240,IF($G$4=\"trimestral\",S240,0))","v":3601.9046779357445},null,10230.740177466947,-246.45992190473595,null,-1088.4226923044637,1087087.8096902543,null,{"$f":"+Bono!J243","v":19518.438335320308},null,18.333333333333332,1191452.9515736159]
[null,221,18,5,62,84846.703548041391,null,805.09280114931744,0,0,-85.651796349190718,85566.144552841521,null,221,18,5,18,1087087.8096902543,{"$f":"IF($G$4=\"mensual\",S243,0)","v":3601.9046779357445},null,10349.328855519281,-246.45992190473595,null,-1101.0390432237091,1099691.5442585805,null,{"$f":"+Bono!J244","v":19639.454916998009},null,18.416666666666668,1204897.1437284201]
[null,222,18,6,62,85566.144552841521,null,811.91942787251423,0,{"$f":"-SUM(F245:H245)*$J$21","v":-777.40257582642641},-86.378063980714046,85514.283340906899,null,222,18,6,18,1099691.5442585805,{"$f":"IF($G$4=\"mensual\",S244,0)","v":3601.9046779357445},null,10468.923083040576,-246.45992190473595,null,-1113.7623720195568,1112402.1497256325,null,{"$f":"+Bono!J245","v":19583.192790154128},null,18.5,1217499.6258566936]
[null,223,18,7,62,85514.283340906899,null,811.42732757113004,0,0,-86.325710668478038,86239.384957809554,null,223,18,7,18,1112402.1497256325,{"$f":"+IF($G$4=\"mensual\",S240,IF($G$4=\"trimestral\",S240,IF($G$4=\"semestral\",S240,0)))","v":3601.9046779357445},null,10589.53138639061,-246.45992190473595,null,-1126.5935857899588,1125220.532282264,null,{"$f":"+Bono!J246","v":19704.610856962852},null,18.583333333333332,1231164.5280970363]
[null,224,18,8,62,86239.384957809554,null,818.30766667045066,0,0,-87.057692624479998,86970.634931855515,null,224,18,8,18,1125220.532282264,{"$f":"IF($G$4=\"mensual\",S246,0)","v":3601.9046779357445},null,10711.162364226757,-246.45992190473595,null,-1139.5335993244264,1138147.605803197,null,{"$f":"+Bono!J247","v":19826.781729869414},null,18.666666666666668,1244945.0224649219]
[null,225,18,9,62,86970.634931855515,null,825.24634625759199,0,{"$f":"-SUM(F248:H248)*$J$21","v":-790.16293150301806},-87.795881278113114,86917.922465331983,null,225,18,9,18,1138147.605803197,{"$f":"IF($G$4=\"mensual\",S247,0)","v":3601.9046779357445},null,10833.824688117023,-246.45992190473595,null,-1152.5833351692497,1151184.2919121755,null,{"$f":"+Bono!J248","v":19769.982958553905},null,18.75,1257872.1973360614]
[null,226,18,10,62,86917.922465331983,null,824.7461685776791,0,0,-87.742668633909659,87654.925965275746,null,226,18,10,18,1151184.2919121755,{"$f":"IF($G$4=\"mensual\",S240,IF($G$4=\"trimestral\",S240,0))","v":3601.9046779357445},null,10957.527103158274,-246.45992190473595,null,-1165.7437236932694,1164331.5200476712,null,{"$f":"+Bono!J249","v":19892.559146073025},null,18.833333333333332,1271879.00515902]
[null,227,18,11,62,87654.925965275746,null,831.73944218070847,0,0,-88.486665407456456,88398.178742049,null,227,18,11,18,1164331.5200476712,{"$f":"IF($G$17=\"si\",S238*(1+$G$20),S238)","v":3601.9046779357445},null,11082.278428599717,-246.45992190473595,null,-1179.0157031542064,1177590.2275291474,null,{"$f":"+Bono!J250","v":20015.895320172724},null,18.916666666666668,1286004.3015913691]
[null,228,18,12,62,88398.178742049,null,838.7920138775637,0,{"$f":"-SUM(F251:H251)*$J$21","v":-803.13273680333918},-89.236970755926563,88344.601048367302,null,228,18,12,18,1177590.2275291474,{"$f":"IF($G$4=\"mensual\",S250,0)","v":3601.9046779357445},null,11208.087558471652,-246.45992190473595,null,-1192.4002197655548,1190961.3596238843,null,{"$f":"+Bono!J251","v":19958.554785715081},null,19,1299264.5154579668]
[null,229,19,1,63,88344.601048367302,null,838.28362623630562,0,0,-89.182884674603613,89093.701789929008,null,229,19,1,19,1190961.3596238843,{"$f":"IF($G$17=\"si\",S240*(1+$G$20),S240)","v":3781.5323846053357},null,11336.667912333472,{"$f":"(V251*(1+$G$18))","v":-258.7509275021095},null,-1206.0795599208232,1204614.7294334003,null,{"$f":"+Bono!J252","v":20082.300140435578},null,19.083333333333332,1313790.731363765]
[null,230,19,2,63,89093.701789929008,null,845.39168806012719,0,0,-89.939093477989147,89849.154384511145,null,230,19,2,19,1204614.7294334003,{"$f":"IF($G$4=\"mensual\",S252,0)","v":3781.5323846053357},null,11466.221911315257,-258.7509275021095,null,-1219.862483729321,1218383.8703180896,null,{"$f":"+Bono!J253","v":20206.812730708916},null,19.166666666666668,1328439.8374333095]
[null,231,19,3,63,89849.154384511145,null,852.56002130201068,0,{"$f":"-SUM(F254:H254)*$J$21","v":-816.31542965231847},-90.701714405813149,89794.69726175502,null,231,19,3,19,1218383.8703180896,{"$f":"IF($G$4=\"mensual\",S253,0)","v":3781.5323846053357},null,11596.874438057175,-258.7509275021095,null,-1233.7622771407523,1232269.7639361094,null,{"$f":"+Bono!J254","v":20148.925265615286},null,19.25,1342213.3864634798]
[null,232,19,4,63,89794.69726175502,null,852.04328894036462,0,0,-90.646740550695384,90556.093810144681,null,232,19,4,19,1232269.7639361094,{"$f":"IF($G$4=\"mensual\",S252,IF($G$4=\"trimestral\",S252,0))","v":3781.5323846053357},null,11728.634807310213,-258.7509275021095,null,-1247.7799311280251,1246273.400269395,null,{"$f":"+Bono!J255","v":20273.850939392774},null,19.333333333333332,1357103.3450189324]
[null,233,19,5,63,90556.093810144681,null,859.26802312914037,0,0,-91.415361833273835,91323.946471440548,null,233,19,5,19,1246273.400269395,{"$f":"IF($G$4=\"mensual\",S255,0)","v":3781.5323846053357},null,11861.512412807964,-258.7509275021095,null,-1261.9164450668084,1260395.7776942393,null,{"$f":"+Bono!J256","v":20399.551166838162},null,19.416666666666668,1372119.2753325182]
[null,234,19,6,63,91323.946471440548,null,866.55401803644531,0,{"$f":"-SUM(F257:H257)*$J$21","v":-829.71450440529304},-92.190500489477003,91268.595484582227,null,234,19,6,19,1260395.7776942393,{"$f":"IF($G$4=\"mensual\",S256,0)","v":3781.5323846053357},null,11995.516727936341,-258.7509275021095,null,-1276.1728268067811,1274637.9030524723,null,{"$f":"+Bono!J257","v":20341.111554325624},null,19.5,1386247.6100913801]
[null,235,19,7,63,91268.595484582227,null,866.02880398342188,0,0,-92.134624288565661,92042.489664277091,null,235,19,7,19,1274637.9030524723,{"$f":"+IF($G$4=\"mensual\",S252,IF($G$4=\"trimestral\",S252,IF($G$4=\"semestral\",S252,0)))","v":3781.5323846053357},null,12130.657306408988,-258.7509275021095,null,-1290.5500927434866,1289000.7917232411,null,{"$f":"+Bono!J258","v":20467.228805385344},null,19.583333333333332,1401510.5101929035]
[null,236,19,8,63,92042.489664277091,null,873.37212560782552,0,0,-92.915861789884914,92822.94592809504,null,236,19,8,19,1289000.7917232411,{"$f":"IF($G$4=\"mensual\",S258,0)","v":3781.5323846053357},null,12266.943782948383,-258.7509275021095,null,-1305.0492678907949,1303485.467695402,null,{"$f":"+Bono!J259","v":20594.127998030333},null,19.666666666666668,1416902.5416215274]
[null,237,19,9,63,92822.94592809504,null,880.77771348969236,0,{"$f":"-SUM(F260:H260)*$J$21","v":-843.33351277426266},-93.70372364158473,92766.68640516889,null,237,19,9,19,1303485.467695402,{"$f":"IF($G$4=\"mensual\",S259,0)","v":3781.5323846053357},null,12404.385873972748,-258.7509275021095,null,-1319.67138595398,1318092.9636405241,null,{"$f":"+Bono!J260","v":20535.13097155678},null,19.75,1431394.7810172497]
[null,238,19,10,63,92766.68640516889,null,880.24387852604764,0,0,-93.646930283694942,93553.283353411243,null,238,19,10,19,1318092.9636405241,{"$f":"IF($G$4=\"mensual\",S252,IF($G$4=\"trimestral\",S252,0))","v":3781.5323846053357},null,12542.993378288773,-258.7509275021095,null,-1334.4174894034184,1332824.3209865128,null,{"$f":"+Bono!J261","v":20662.451165508195},null,19.833333333333332,1447040.0555054322]
[null,239,19,11,63,93553.283353411243,null,887.70773409089429,0,0,-94.440991087502127,94346.550096414634,null,239,19,11,19,1332824.3209865128,{"$f":"IF($G$17=\"si\",S250*(1+$G$20),S250)","v":3781.5323846053357},null,12682.776177790209,-258.7509275021095,null,-1349.2886295489084,1347680.5899918575,null,{"$f":"+Bono!J262","v":20790.560759430336},null,19.916666666666668,1462817.7008477026]
[null,240,19,12,63,94346.550096414634,null,895.23487795714459,0,{"$f":"-SUM(F263:H263)*$J$21","v":-857.17606476934611},-95.241784974371782,94289.367124628072,null,240,19,12,19,1347680.5899918575,{"$f":"IF($G$4=\"mensual\",S262,0)","v":3781.5323846053357},null,12823.74423816239,-258.7509275021095,null,-1364.2858666146253,1362662.8298205086,null,{"$f":"+Bono!J263","v":20731.001002219862},null,20,1477683.1979473566]
[null,241,20,1,64,94289.367124628072,null,894.69228057847772,0,0,-95.18405940520654,95088.875345801338,null,241,20,1,20,1362662.8298205086,{"$f":"IF($G$17=\"si\",S252*(1+$G$20),S252)","v":3970.1181609320806},null,12967.697060974693,{"$f":"(V263*(1+$G$18))","v":-271.65488800682522},null,-1379.6006450424154,1377949.3895093661,null,{"$f":"+Bono!J264","v":20859.535613080905},null,20.083333333333332,1493897.8004682483]
[null,242,20,2,64,95088.875345801338,null,902.27864853868766,0,0,-95.991153994340024,95895.162840345685,null,242,20,2,20,1377949.3895093661,{"$f":"IF($G$4=\"mensual\",S264,0)","v":3970.1181609320806},null,13112.748060544407,-271.65488800682522,null,-1395.0322557308427,1393365.568587105,null,{"$f":"+Bono!J265","v":20988.867153438379},null,20.166666666666668,1510249.5985808889]
[null,243,20,3,64,95895.162840345685,null,909.92934362016274,0,{"$f":"-SUM(F266:H266)*$J$21","v":-871.24582965569277},-96.805092183965854,95837.041262126208,null,243,20,3,20,1393365.568587105,{"$f":"IF($G$4=\"mensual\",S265,0)","v":3970.1181609320806},null,13259.028991655523,-271.65488800682522,null,-1410.5947157396927,1408912.4661359461,null,{"$f":"+Bono!J266","v":20928.739298002121},null,20.25,1525678.2466960745]
[null,244,20,4,64,95837.041262126208,null,909.377839999407,0,0,-96.746419102125614,96649.672683023484,null,244,20,4,20,1408912.4661359461,{"$f":"IF($G$4=\"mensual\",S264,IF($G$4=\"trimestral\",S264,0))","v":3970.1181609320806},null,13406.550283271652,-271.65488800682522,null,-1426.2891345801497,1424591.1905575627,null,{"$f":"+Bono!J267","v":21058.499909233236},null,20.333333333333332,1542299.3631498194]
[null,245,20,5,64,96649.672683023484,null,917.08873128443724,0,0,-97.566761414307933,97469.194652893624,null,245,20,5,20,1424591.1905575627,{"$f":"IF($G$4=\"mensual\",S267,0)","v":3970.1181609320806},null,13555.322452786762,-271.65488800682522,null,-1442.1166311712818,1440402.8596521036,null,{"$f":"+Bono!J268","v":21189.065051305282},null,20.416666666666668,1559061.1193563025]
[null,246,20,6,64,97469.194652893624,null,924.86500556187661,0,{"$f":"-SUM(F269:H269)*$J$21","v":-885.54653692609963},-98.394059658455504,97410.119061870952,null,246,20,6,20,1440402.8596521036,{"$f":"IF($G$4=\"mensual\",S268,0)","v":3970.1181609320806},null,13705.356106775007,-271.65488800682522,null,-1458.0783339198108,1456348.6006978841,null,{"$f":"+Bono!J269","v":21128.363678957721},null,20.5,1574887.0834387129]
[null,247,20,7,64,97410.119061870952,null,924.30444951117431,0,0,-98.334423511382127,98236.089087870743,null,247,20,7,20,1456348.6006978841,{"$f":"+IF($G$4=\"mensual\",S264,IF($G$4=\"trimestral\",S264,IF($G$4=\"semestral\",S264,0)))","v":3970.1181609320806},null,13856.661941746901,-271.65488800682522,null,-1474.1753808005631,1472429.5505317557,null,{"$f":"+Bono!J270","v":21259.361984505755},null,20.583333333333332,1591925.0016041321]
[null,248,20,8,64,98236.089087870743,null,932.14190805805856,0,0,-99.168230995928795,99069.062764932867,null,248,20,8,20,1472429.5505317557,{"$f":"IF($G$4=\"mensual\",S270,0)","v":3970.1181609320806},null,14009.250744911926,-271.65488800682522,null,-1490.4089194375997,1488646.8556301552,null,{"$f":"+Bono!J271","v":21391.172494743052},null,20.666666666666668,1609107.0908898311]
[null,249,20,9,64,99069.062764932867,null,940.04582279965928,0,{"$f":"-SUM(F272:H272)*$J$21","v":-900.08197728959283},-100.00910858773253,99009.017501855196,null,249,20,9,20,1488646.8556301552,{"$f":"IF($G$4=\"mensual\",S271,0)","v":3970.1181609320806},null,14163.133394947596,-271.65488800682522,null,-1506.7801071860349,1505001.672190842,null,{"$f":"+Bono!J272","v":21329.892135113678},null,20.75,1625340.581827811]
[null,250,20,10,64,99009.017501855196,null,939.47606573161272,0,0,-99.948493567586809,99848.545074019217,null,250,20,10,20,1505001.672190842,{"$f":"IF($G$4=\"mensual\",S264,IF($G$4=\"trimestral\",S264,0))","v":3970.1181609320806},null,14318.320862775043,-271.65488800682522,null,-1523.2901112145491,1521495.1662153276,null,{"$f":"+Bono!J273","v":21462.139940465735},null,20.833333333333332,1642805.8512298125]
[null,251,20,11,64,99848.545074019217,null,947.44216902675032,0,0,-100.79598724304597,100695.19125580291,null,251,20,11,20,1521495.1662153276,{"$f":"IF($G$17=\"si\",S262*(1+$G$20),S262)","v":3970.1181609320806},null,14474.824212341169,-271.65488800682522,null,-1539.9401085886009,1538128.5135920052,null,{"$f":"+Bono!J274","v":21595.20769755077},null,20.916666666666668,1660418.912545359]
[null,252,20,12,64,100695.19125580291,null,955.47581933455115,0,{"$f":"-SUM(F275:H275)*$J$21","v":-914.85600367623726},-101.65066707513746,100634.16040438609,null,252,20,12,20,1538128.5135920052,{"$f":"IF($G$4=\"mensual\",S274,0)","v":3970.1181609320806},null,14632.654601407454,-271.65488800682522,null,-1556.7312863543448,1554902.9001799836,null,{"$f":"+Bono!J275","v":21533.342828091081},null,21,1677070.4034124606]
[null,253,21,1,65,100634.16040438609,null,954.89671022283562,0,0,-101.58905711460892,101487.4680574943,null,253,21,1,21,1554902.9001799836,{"$f":"IF($G$17=\"si\",S264*(1+$G$20),S264)","v":4168.1087476413959},null,14793.701974025707,{"$f":"(V275*(1+$G$18))","v":-285.20237160270318},null,-1573.8647109016506,1572005.6438191463,null,{"$f":"+Bono!J276","v":21666.852051338417},null,21.083333333333332,1695159.9639279791]
[null,254,21,2,65,101487.4680574943,null,962.99356985267445,0,0,-102.45046162734697,102348.01116571962,null,254,21,2,21,1572005.6438191463,{"$f":"IF($G$4=\"mensual\",S276,0)","v":4168.1087476413959},null,14955.986367030981,-285.20237160270318,null,-1591.1297389338188,1589253.4068232821,null,{"$f":"+Bono!J277","v":21801.189047256001},null,21.166666666666668,1713402.6070362579]
[null,255,21,3,65,102348.01116571962,null,971.15908521790709,0,{"$f":"-SUM(F278:H278)*$J$21","v":-929.8725322584379},-103.31917025093753,102285.97854842816,null,255,21,3,21,1589253.4068232821,{"$f":"IF($G$4=\"mensual\",S277,0)","v":4168.1087476413959},null,15119.646818761987,-285.20237160270318,null,-1608.5411623896855,1606647.418855693,null,{"$f":"+Bono!J278","v":21738.734092741834},null,21.25,1730672.131496863]
[null,256,21,4,65,102285.97854842816,null,970.57047055723808,0,0,-103.25654901898541,103153.29246996641,null,256,21,4,21,1606647.418855693,{"$f":"IF($G$4=\"mensual\",S276,IF($G$4=\"trimestral\",S276,0))","v":4168.1087476413959},null,15284.694997239179,-285.20237160270318,null,-1626.1002226005735,1624188.9200063702,null,{"$f":"+Bono!J279","v":21873.516765653916},null,21.333333333333332,1749215.7292419905]
[null,257,21,5,65,103153.29246996641,null,{"$f":"SUM(F280:G280)*$G$8","v":978.80023276799579},0,0,-104.13209270273441,{"$f":"SUM(F280:K280)","v":104027.96061003167},null,257,21,5,21,1624188.9200063702,{"$f":"IF($G$4=\"mensual\",S279,0)","v":4168.1087476413959},null,15451.142669419705,-285.20237160270318,null,-1643.8081714234313,{"$f":"SUM(R280:X280)","v":1641879.1608804052},null,{"$f":"+Bono!J280","v":22009.135106771875},null,21.416666666666668,1767916.2565972088]
[null,{"$f":"+B280+1","v":258},21,6,65,{"$f":"L280","v":104027.96061003167},null,987.09977763555196,0,{"$f":"-SUM(F281:H281)*$J$21","v":-945.13554348900516},{"$f":"-SUM(F281:H281)*0.1%","v":-105.01506038766723},103964.90978379056,null,{"$f":"+N280+1","v":258},21,6,21,{"$f":"Y280","v":1641879.1608804052},{"$f":"IF($G$4=\"mensual\",S280,0)","v":4168.1087476413959},null,15619.001702036321,-285.20237160270318,null,{"$f":"-SUM(R281:U281)*0.1%","v":-1661.6662713300827},1659719.4026871501,null,{"$f":"+Bono!J281","v":21946.084438800965},null,{"$f":"+B281/12","v":21.5},{"$f":"+AA281+Y281+L281","v":1785630.3969097417}]
[null,259,21,7,65,103964.90978379056,null,986.50150140099561,0,0,-104.95141128519155,104846.45987390637,null,259,21,7,21,1659719.4026871501,{"$f":"+IF($G$4=\"mensual\",S276,IF($G$4=\"trimestral\",S276,IF($G$4=\"semestral\",S276,0)))","v":4168.1087476413959},null,15788.284062443416,-285.20237160270318,null,-1679.6757954972347,1677710.9173301349,null,{"$f":"+Bono!J282","v":22082.152707909765},null,21.583333333333332,1804639.5299119509]
[null,260,21,8,65,104846.45987390637,null,994.86634766756754,0,0,-105.84132622157394,105735.48489535236,null,260,21,8,21,1677710.9173301349,{"$f":"IF($G$4=\"mensual\",S282,0)","v":4168.1087476413959},null,15959.001819470217,-285.20237160270318,null,-1697.8380278972465,1695854.9874977465,null,{"$f":"+Bono!J283","v":22219.064616069983},null,21.666666666666668,1823809.5370091686]
[null,261,21,9,65,105735.48489535236,null,1003.3021220097319,0,{"$f":"-SUM(F284:H284)*$J$21","v":-960.64908315625894},-106.7387870173621,105671.39914718848,null,261,21,9,21,1695854.9874977465,{"$f":"IF($G$4=\"mensual\",S283,0)","v":4168.1087476413959},null,16131.167144281229,-285.20237160270318,null,-1716.1542633896693,1714152.9067546767,null,{"$f":"+Bono!J284","v":22155.412552554735},null,21.75,1841979.7184544199]
[null,262,21,10,65,105671.39914718848,null,1002.694025615347,0,0,-106.67409317280382,106567.41907963103,null,262,21,10,21,1714152.9067546767,{"$f":"IF($G$4=\"mensual\",S276,IF($G$4=\"trimestral\",S276,0))","v":4168.1087476413959},null,16304.79231124396,-285.20237160270318,null,-1734.625807813562,1732605.9796341457,null,{"$f":"+Bono!J285","v":22292.778680249365},null,21.833333333333332,1861466.1773940262]
[null,263,21,11,65,106567.41907963103,null,1011.1961732195533,0,0,-107.57861525285058,107471.03663759773,null,263,21,11,21,1732605.9796341457,{"$f":"IF($G$17=\"si\",S274*(1+$G$20),S274)","v":4168.1087476413959},null,16479.889698804011,-285.20237160270318,null,-1753.2539780805912,1751215.521730908,null,{"$f":"+Bono!J286","v":22430.996493869188},null,21.916666666666668,1881117.5548623749]
[null,264,21,12,65,107471.03663759773,null,1019.770413119153,0,{"$f":"-SUM(F287:H287)*$J$21","v":-976.41726345645213},-108.4908070507169,107405.89898020972,null,264,21,12,21,1751215.521730908,{"$f":"IF($G$4=\"mensual\",S286,0)","v":4168.1087476413959},null,16656.471790367596,-285.20237160270318,null,-1772.0401022689168,1769982.8597950453,null,{"$f":"+Bono!J287","v":22366.737298524597},null,22,1899755.4960737797]
[null,265,22,1,66,107405.89898020972,null,1019.1523353759544,0,0,-108.42505131558568,108316.62626427009,null,265,22,1,22,1769982.8597950453,{"$f":"IF($G$17=\"si\",S276*(1+$G$20),S276)","v":4375.9731645080219},null,16836.523557601631,{"$f":"(V287*(1+$G$18))","v":-299.42547091500433},null,-1791.1953565171552,1789104.7356897232,null,{"$f":"+Bono!J288","v":22505.413664156393},null,22.083333333333332,1919926.7756181497]
[null,266,22,2,66,108316.62626427009,null,1027.7940379942784,0,0,-109.34442030226437,109235.0758819621,null,266,22,2,22,1789104.7356897232,{"$f":"IF($G$4=\"mensual\",S288,0)","v":4375.9731645080219},null,17017.967078487021,-299.42547091500433,null,-1810.4986759327182,1808388.7517858706,null,{"$f":"+Bono!J289","v":22644.94983934057},null,22.166666666666668,1940268.7775071734]
[null,267,22,3,66,109235.0758819621,null,1036.5090162374049,0,{"$f":"-SUM(F290:H290)*$J$21","v":-992.4442640837957},-110.27158489819951,109168.86904921751,null,267,22,3,22,1808388.7517858706,{"$f":"IF($G$4=\"mensual\",S289,0)","v":4375.9731645080219},null,17200.949114170533,-299.42547091500433,null,-1829.9656740645494,1827836.2829195699,null,{"$f":"+Bono!J290","v":22580.077721167294},null,22.25,1959585.2296899548]
[null,268,22,4,66,109168.86904921751,null,1035.8807933106368,0,0,-110.20474984252816,110094.54509268563,null,268,22,4,22,1827836.2829195699,{"$f":"IF($G$4=\"mensual\",S288,IF($G$4=\"trimestral\",S288,0))","v":4375.9731645080219},null,17385.482710187061,-299.42547091500433,null,-1849.5977387942651,1847448.7155845559,null,{"$f":"+Bono!J291","v":22720.076822165436},null,22.333333333333332,1980263.3374994069]
[null,269,{"$f":"C280+1","v":22},{"$f":"D280","v":5},{"$f":"E280+1","v":66},110094.54509268563,null,1044.6643416116099,0,0,-111.13920943429724,111028.07022486294,null,269,{"$f":"O280+1","v":22},{"$f":"P280","v":5},{"$f":"Q280+1","v":22},1847448.7155845559,{"$f":"IF($G$4=\"mensual\",S291,0)","v":4375.9731645080219},null,{"$f":"SUM(R292:T292)*$G$8","v":17571.581022688566},-299.42547091500433,null,-1869.3962697717527,1867227.448031066,null,{"$f":"+Bono!J292","v":22860.943933828657},null,22.416666666666668,2001116.4621897577]
[null,270,22,6,66,111028.07022486294,null,1053.5223682900696,0,{"$f":"-SUM(F293:H293)*$J$21","v":-1008.7343333383772},-112.081592593153,110960.77666722148,null,270,22,6,22,1867227.448031066,{"$f":"IF($G$4=\"mensual\",S292,0)","v":4375.9731645080219},null,17759.257319382021,-299.42547091500433,null,-1889.3626785149561,1887173.8903655261,null,{"$f":"+Bono!J293","v":22795.453046591116},null,22.5,2020930.1200793386]
[null,271,22,7,66,110960.77666722148,null,1052.8838336557785,0,0,-112.01366050087726,111901.64684037639,null,271,22,7,22,1887173.8903655261,{"$f":"+IF($G$4=\"mensual\",S288,IF($G$4=\"trimestral\",S288,IF($G$4=\"semestral\",S288,0)))","v":4375.9731645080219},null,17948.524980475311,-299.42547091500433,null,-1909.4983885105094,1907289.464651084,null,{"$f":"+Bono!J294","v":22936.787499588878},null,22.583333333333332,2042127.8989910493]
[null,272,22,8,66,111901.64684037639,null,1061.8115559071707,0,0,-112.96345839628356,112850.49493788727,null,272,22,8,22,1907289.464651084,{"$f":"IF($G$4=\"mensual\",S294,0)","v":4375.9731645080219},null,18139.397499631195,-299.42547091500433,null,-1929.8048353152233,1927575.6050089931,null,{"$f":"+Bono!J295","v":23078.998242589008},null,22.666666666666668,2063505.0981894692]
[null,273,22,9,66,112850.49493788727,null,1070.8149790308246,0,{"$f":"-SUM(F296:H296)*$J$21","v":-1025.291789252263},-113.92130991691809,112782.09681774891,null,273,22,9,22,1927575.6050089931,{"$f":"IF($G$4=\"mensual\",S295,0)","v":4375.9731645080219},null,18331.888484929284,-299.42547091500433,null,-1950.2834666584304,1948033.7577208572,null,{"$f":"+Bono!J296","v":23012.882684288539},null,22.75,2083828.7372228946]
[null,274,22,10,66,112782.09681774891,null,1070.1659634317168,0,0,-113.85226278118063,113738.41051839945,null,274,22,10,22,1948033.7577208572,{"$f":"IF($G$4=\"mensual\",S288,IF($G$4=\"trimestral\",S288,0))","v":4375.9731645080219},null,18526.01165983624,-299.42547091500433,null,-1970.9357425452015,1968665.3813317413,null,{"$f":"+Bono!J297","v":23155.5652262603},null,22.833333333333332,2105559.3570764014]
[null,275,22,11,66,113738.41051839945,null,1079.2402261176946,0,0,-114.81765074451715,114702.83309377263,null,275,22,11,22,1968665.3813317413,{"$f":"IF($G$17=\"si\",S286*(1+$G$20),S286)","v":4375.9731645080219},null,18721.780864184173,-299.42547091500433,null,-1991.7631353604338,1989471.9467541585,null,{"$f":"+Bono!J298","v":23299.132416542438},null,22.916666666666668,2127473.9122644733]
[null,276,22,12,66,114702.83309377263,null,1088.391432236848,0,{"$f":"-SUM(F299:H299)*$J$21","v":-1042.1210207340855},-115.79122452600949,114633.31228074938,null,276,22,12,22,1989471.9467541585,{"$f":"IF($G$4=\"mensual\",S298,0)","v":4375.9731645080219},null,18919.210055157346,-299.42547091500433,null,-2012.767129973824,2010454.9373729352,null,{"$f":"+Bono!J299","v":23232.3862288854},null,23,2148320.6358825699]
[null,277,23,1,67,114633.31228074938,null,1087.7317636374266,0,0,-115.7210440443868,115605.32300034241,null,277,23,1,23,2010454.9373729352,{"$f":"IF($G$17=\"si\",S288*(1+$G$20),S288)","v":4594.2038214166696},null,19120.384053802602,{"$f":"(V299*(1+$G$18))","v":-314.35787903462978},null,-2034.1695252481545,2031820.9978438716,null,{"$f":"+Bono!J300","v":23376.429718294497},null,23.083333333333332,2170802.7505625086]
[null,278,23,2,67,115605.32300034241,null,1096.9549720858399,0,0,-116.70227797242825,116585.57569445582,null,278,23,2,23,2031820.9978438716,{"$f":"IF($G$4=\"mensual\",S300,0)","v":4594.2038214166696},null,19323.122177439094,-314.35787903462978,null,-2055.7383238427274,2053368.22763985,null,{"$f":"+Bono!J301","v":23521.36629404594},null,23.166666666666668,2193475.1696283519]
[null,279,23,3,67,116585.57569445582,null,1106.2563869238493,0,{"$f":"-SUM(F302:H302)*$J$21","v":-1059.2264887324172},-117.69183208137967,116514.91376056588,null,279,23,3,23,2053368.22763985,{"$f":"IF($G$4=\"mensual\",S301,0)","v":4594.2038214166696},null,19527.579379287014,-314.35787903462978,null,-2077.4900108405536,2075098.1629506785,null,{"$f":"+Bono!J302","v":23453.983461906766},null,23.25,2215067.0601731511]
[null,280,23,4,67,116514.91376056588,null,1105.5858904648103,0,0,-117.62049965103068,117502.87915137965,null,280,23,4,23,2075098.1629506785,{"$f":"IF($G$4=\"mensual\",S300,IF($G$4=\"trimestral\",S300,0))","v":4594.2038214166696},null,19733.770235933349,-314.35787903462978,null,-2099.4261370080285,2097012.3529919859,null,{"$f":"+Bono!J303","v":23599.400879864283},null,23.333333333333332,2238114.6330232299]
[null,281,23,5,67,117502.87915137965,null,1114.9604894847766,0,0,-118.61783964086442,118499.22180122355,null,281,23,5,23,2097012.3529919859,{"$f":"IF($G$4=\"mensual\",S303,0)","v":4594.2038214166696},null,19941.709447564415,-314.35787903462978,null,-2121.548266260967,2119112.3601156715,null,{"$f":"+Bono!J304","v":23745.71990268051},null,23.416666666666668,2261357.301819576]
[null,282,23,6,67,118499.22180122355,null,1124.4145785810392,0,{"$f":"-SUM(F305:H305)*$J$21","v":-1076.6127274182415},-119.62363637980459,118427.40001600655,null,282,23,6,23,2119112.3601156715,{"$f":"IF($G$4=\"mensual\",S304,0)","v":4594.2038214166696},null,20151.411839013879,{"$f":"V304","v":-314.35787903462978},null,-2143.8579757761022,2141399.7599212909,null,{"$f":"+Bono!J305","v":23677.694353559615},null,23.5,2283504.854290857]
[null,283,23,7,67,118427.40001600655,null,1123.733076532923,0,0,-119.55113309253947,119431.58195944694,null,283,23,7,23,2141399.7599212909,{"$f":"+IF($G$4=\"mensual\",S300,IF($G$4=\"trimestral\",S300,IF($G$4=\"semestral\",S300,0)))","v":4594.2038214166696},null,20362.892360819667,-314.35787903462978,null,-2166.3568561035268,2163876.1413683887,null,{"$f":"+Bono!J306","v":23824.498804994237},null,23.583333333333332,2307132.2221328299]
[null,284,23,8,67,119431.58195944694,null,1133.2615510628759,0,0,-120.56484351050982,120444.27866699931,null,284,23,8,23,2163876.1413683887,{"$f":"IF($G$4=\"mensual\",S306,0)","v":4594.2038214166696},null,20576.16609028988,-314.35787903462978,null,-2189.0465112800953,2186543.1068897806,null,{"$f":"+Bono!J307","v":23972.213461056017},null,23.666666666666668,2330959.5990178357]
[null,285,23,9,67,120444.27866699931,null,1142.8708204263744,0,{"$f":"-SUM(F308:H308)*$J$21","v":-1094.2843453868311},-121.58714948742568,120371.27799255142,null,285,23,9,23,2186543.1068897806,{"$f":"IF($G$4=\"mensual\",S307,0)","v":4594.2038214166696},null,20791.248232577702,-314.35787903462978,null,-2211.928558943775,2209402.2725057965,null,{"$f":"+Bono!J308","v":23903.539064532557},null,23.75,2353677.0895628803]
[null,286,23,10,67,120371.27799255142,null,1142.1781321424535,0,0,-121.51345612469387,121391.94266856917,null,286,23,10,23,2209402.2725057965,{"$f":"IF($G$4=\"mensual\",S300,IF($G$4=\"trimestral\",S300,0))","v":4594.2038214166696},null,21008.154121765419,-314.35787903462978,null,-2235.0046304489783,2232455.2679394949,null,{"$f":"+Bono!J309","v":24051.743779371576},null,23.833333333333332,2377898.9543874357]
[null,287,23,11,67,121391.94266856917,null,1151.8630079088293,0,0,-122.543805676478,122421.26187080152,null,287,23,11,23,2232455.2679394949,{"$f":"IF($G$17=\"si\",S298*(1+$G$20),S298)","v":4594.2038214166696},null,21226.899221957672,-314.35787903462978,null,-2258.2763709828691,2255703.7367328517,null,{"$f":"+Bono!J310","v":24200.867380633281},null,23.916666666666668,2402325.8659842866]
[null,288,23,12,67,122421.26187080152,null,1161.6300046824024,0,{"$f":"-SUM(F311:H311)*$J$21","v":-1112.2460268793554},-123.58289187548392,122347.06295672909,null,288,23,12,23,2255703.7367328517,{"$f":"IF($G$4=\"mensual\",S310,0)","v":4594.2038214166696},null,21447.499128383948,-314.35787903462978,null,-2281.7454396826524,2279149.3363639349,null,{"$f":"+Bono!J311","v":24131.537947812685},null,24,2425627.9372684765]
[null,289,24,1,68,122347.06295672909,null,1160.925946550798,0,0,-123.50798890327988,123384.4809143766,null,289,24,1,24,2279149.3363639349,{"$f":"IF($G$17=\"si\",S300*(1+$G$20),S300)","v":4823.3176848314833},null,21672.143582518824,{"$f":"(V311*(1+$G$18))","v":-330.03496933366256},null,-2305.6447976312852,2303009.1178643205,null,{"$f":"+Bono!J312","v":24281.156282174274},null,24.083333333333332,2450674.7550608716]
[null,290,24,2,68,123384.4809143766,null,1170.7697907375334,0,0,-124.55525070511415,124430.69545440903,null,290,24,2,24,2303009.1178643205,{"$f":"IF($G$4=\"mensual\",S312,0)","v":4823.3176848314833},null,21898.544108640377,-330.03496933366256,null,-2329.7309796577924,2327071.2137088012,null,{"$f":"+Bono!J313","v":24431.702267563556},null,24.166666666666668,2475933.6114307735]
[null,291,24,3,68,124430.69545440903,null,1180.697103873051,0,{"$f":"-SUM(F314:H314)*$J$21","v":-1130.5025330245389},-125.61139255828208,124355.27863269926,null,291,24,3,24,2327071.2137088012,{"$f":"IF($G$4=\"mensual\",S313,0)","v":4823.3176848314833},null,22126.864353680743,-330.03496933366256,null,-2354.0213957473134,2351337.3393822326,null,{"$f":"+Bono!J314","v":24361.71155051978},null,24.25,2500054.3295654515]
[null,292,24,4,68,124355.27863269926,null,1179.9814892680629,0,0,-125.53526012196733,125409.72486184536,null,292,24,4,24,2351337.3393822326,{"$f":"IF($G$4=\"mensual\",S312,IF($G$4=\"trimestral\",S312,0))","v":4823.3176848314833},null,22357.120595520504,-330.03496933366256,null,-2378.5177776625846,2375809.2249155883,null,{"$f":"+Bono!J315","v":24512.75698791664},null,24.333333333333332,2525731.7067653504]
[null,293,24,5,68,125409.72486184536,null,1189.986911197082,0,0,-126.59971177304244,126473.11206126939,null,293,24,5,24,2375809.2249155883,{"$f":"IF($G$4=\"mensual\",S315,0)","v":4823.3176848314833},null,22589.329250065337,-330.03496933366256,null,-2403.2218718504851,2400488.6150093009,null,{"$f":"+Bono!J316","v":24664.738924545545},null,24.416666666666668,2551626.4659951162]
[null,294,24,6,68,126473.11206126939,null,1200.0771721417027,0,{"$f":"-SUM(F317:H317)*$J$21","v":-1149.0587031006999},-127.67318923341109,126396.45734107698,null,294,24,6,24,2400488.6150093009,{"$f":"IF($G$4=\"mensual\",S316,0)","v":4823.3176848314833},null,22823.506872416376,-330.03496933366256,null,-2428.1354395665489,2425377.269157649,null,{"$f":"+Bono!J317","v":24594.080615758015},null,24.5,2576367.8071144838]
[null,295,24,7,68,126396.45734107698,null,1199.3498113743385,0,0,-127.59580715245133,127468.21134529887,null,295,24,7,24,2425377.269157649,{"$f":"+IF($G$4=\"mensual\",S312,IF($G$4=\"trimestral\",S312,IF($G$4=\"semestral\",S312,0)))","v":4823.3176848314833},null,23059.6701580505,-330.03496933366256,null,-2453.2602570005311,2450476.9617741969,null,{"$f":"+Bono!J318","v":24746.566768312492},null,24.583333333333332,2602691.739887808]
[null,296,24,8,68,127468.21134529887,null,1209.5194631972104,0,0,-128.67773080849608,128549.05307768758,null,296,24,8,24,2450476.9617741969,{"$f":"IF($G$4=\"mensual\",S318,0)","v":4823.3176848314833},null,23297.835944010607,-330.03496933366256,null,-2478.5981154030392,2475789.4823183022,null,{"$f":"+Bono!J319","v":24899.99835270011},null,24.666666666666668,2629238.5337486896]
[null,297,24,9,68,128549.05307768758,null,1219.7753465909029,0,{"$f":"-SUM(F320:H320)*$J$21","v":-1167.9194558185065},-129.7688284242785,128471.1401400357,null,297,24,9,24,2475789.4823183022,{"$f":"IF($G$4=\"mensual\",S319,0)","v":4823.3176848314833},null,23538.021210106002,-330.03496933366256,null,-2504.1508212132399,2501316.6354226931,null,{"$f":"+Bono!J320","v":24828.6660844853},null,24.75,2654616.4416472139]
[null,298,24,10,68,128471.1401400357,null,1219.0360468585991,0,0,-129.69017618689429,129560.48601070741,null,298,24,10,24,2501316.6354226931,{"$f":"IF($G$4=\"mensual\",S312,IF($G$4=\"trimestral\",S312,0))","v":4823.3176848314833},null,23780.243080122964,-330.03496933366256,null,-2529.9201961876474,2527060.2410221263,null,{"$f":"+Bono!J321","v":24982.606694156118},null,24.833333333333332,2681603.33372699]
[null,299,24,11,68,129560.48601070741,null,1229.372624259546,0,0,-130.78985863496695,130659.06877633199,null,299,24,11,24,2527060.2410221263,{"$f":"IF($G$17=\"si\",S310*(1+$G$20),S310)","v":4823.3176848314833},null,24024.518823045561,-330.03496933366256,null,-2555.9080775300035,2553022.13448314,null,{"$f":"+Bono!J322","v":25137.501753462904},null,24.916666666666668,2708818.7050129347]
[null,300,24,12,68,130659.06877633199,null,1239.7968486440593,0,{"$f":"-SUM(F323:H323)*$J$21","v":-1187.0897906247847},-131.89886562497605,130579.8769687263,null,300,24,12,24,2553022.13448314,{"$f":"IF($G$4=\"mensual\",S322,0)","v":4823.3176848314833},null,24270.865854286825,-330.03496933366256,null,-2582.1163180222588,2579204.1667349027,null,{"$f":"+Bono!J323","v":25065.489097400463},null,25,2734849.5328010297]
[null,301,25,1,69,130579.8769687263,null,1239.0454139795734,0,0,-131.81892238270586,131687.10346032318,null,301,25,1,25,2579204.1667349027,{"$f":"IF($G$17=\"si\",S312*(1+$G$20),S312)","v":5063.8575024375659},null,24521.584169452162,{"$f":"(V323*(1+$G$18))","v":-346.49387926132619},null,-2608.7896084067925,2605834.3249191241,null,{"$f":"+Bono!J324","v":25220.898037221126},null,25.083333333333332,2762742.3264166685]
[null,302,25,2,69,131687.10346032318,null,1249.5516568900211,0,0,-132.93665511721321,132803.718462096,null,302,25,2,25,2605834.3249191241,{"$f":"IF($G$4=\"mensual\",S324,0)","v":5063.8575024375659},null,24774.272226277433,-346.49387926132619,null,-2635.672454647839,2632690.2883139299,null,{"$f":"+Bono!J325","v":25377.270530495},null,25.166666666666668,2790871.2773065208]
[null,303,25,3,69,132803.718462096,null,1260.1469854294926,0,{"$f":"-SUM(F326:H326)*$J$21","v":-1206.5747890277296},-134.0638654475255,132723.22679305021,null,303,25,3,25,2632690.2883139299,{"$f":"IF($G$4=\"mensual\",S325,0)","v":5063.8575024375659},null,25029.102901989485,-346.49387926132619,null,-2662.7832487183573,2659773.9715903774,null,{"$f":"+Bono!J326","v":25304.570996848452},null,25.25,2817801.7693802761]
[null,304,25,4,69,132723.22679305021,null,1259.3832166489581,0,0,-133.98261000969916,133848.62739968946,null,304,25,4,25,2659773.9715903774,{"$f":"IF($G$4=\"mensual\",S324,IF($G$4=\"trimestral\",S324,0))","v":5063.8575024375659},null,25286.094364505527,-346.49387926132619,null,-2690.1239234573209,2687087.3056546021,null,{"$f":"+Bono!J327","v":25461.462272177476},null,25.333333333333332,2846397.3953264691]
[null,305,25,5,69,133848.62739968946,null,1270.0619099738119,0,0,-135.1186893096633,134983.57062035362,null,305,25,5,25,2687087.3056546021,{"$f":"IF($G$4=\"mensual\",S327,0)","v":5063.8575024375659},null,25545.264935794046,-346.49387926132619,null,-2717.6964280928337,2714632.2377854795,null,{"$f":"+Bono!J328","v":25619.3262916118},null,25.416666666666668,2875235.1346974452]
[null,306,25,6,69,134983.57062035362,null,1280.831151187203,0,{"$f":"-SUM(F329:H329)*$J$21","v":-1226.3796159438677},-136.26440177154083,134901.75775382543,null,306,25,6,25,2714632.2377854795,{"$f":"IF($G$4=\"mensual\",S328,0)","v":5063.8575024375659},null,25806.633093181088,-346.49387926132619,null,-2745.5027283810982,2742410.7317734556,null,{"$f":"+Bono!J329","v":25545.933328743678},null,25.5,2902858.4228560245]
[null,307,25,7,69,134901.75775382543,null,1280.0548458373323,0,0,-136.18181259966275,136045.6307870631,null,307,25,7,25,2742410.7317734556,{"$f":"+IF($G$4=\"mensual\",S324,IF($G$4=\"trimestral\",S324,IF($G$4=\"semestral\",S324,0)))","v":5063.8575024375659},null,26070.217470667551,-346.49387926132619,null,-2773.5448067465609,2770424.7680605524,null,{"$f":"+Bono!J330","v":25704.321078526751},null,25.583333333333332,2932174.7199261421]
[null,308,25,8,69,136045.6307870631,null,1290.9088201931779,0,0,-137.33653960725627,137199.20306764901,null,308,25,8,25,2770424.7680605524,{"$f":"IF($G$4=\"mensual\",S330,0)","v":5063.8575024375659},null,26336.036860257707,-346.49387926132619,null,-2801.8246624232479,2798676.3438815633,null,{"$f":"+Bono!J331","v":25863.69085073032},null,25.666666666666668,2961739.237799943]
[null,309,25,9,69,137199.20306764901,null,1301.8548286987325,0,{"$f":"-SUM(F332:H332)*$J$21","v":-1246.5095210671298},-138.50105789634776,137116.04731738425,null,309,25,9,25,2798676.3438815633,{"$f":"IF($G$4=\"mensual\",S331,0)","v":5063.8575024375659},null,26604.110213298954,-346.49387926132619,null,-2830.3443115973,2827167.473406441,null,{"$f":"+Bono!J332","v":25789.59784451174},null,25.75,2990073.1185683371]
[null,310,25,10,69,137116.04731738425,null,1301.0657810031503,0,0,-138.4171130983874,138278.69598528903,null,310,25,10,25,2827167.473406441,{"$f":"IF($G$4=\"mensual\",S324,IF($G$4=\"trimestral\",S324,0))","v":5063.8575024375659},null,26874.456641832905,-346.49387926132619,null,-2859.1057875507117,2855900.1878838995,null,{"$f":"+Bono!J333","v":25949.496342555907},null,25.833333333333332,3020128.3802117445]
[null,311,25,11,69,138278.69598528903,null,1312.0979134685674,0,0,-139.5907938987576,139451.20310485884,null,311,25,11,25,2855900.1878838995,{"$f":"IF($G$17=\"si\",S322*(1+$G$20),S322)","v":5063.8575024375659},null,27147.095419958005,-346.49387926132619,null,-2888.1111408062957,2884876.5357862278,null,{"$f":"+Bono!J334","v":26110.386229835025},null,25.916666666666668,3050438.1251209215]
[null,312,25,12,69,139451.20310485884,null,1323.22359074049,0,{"$f":"-SUM(F335:H335)*$J$21","v":-1266.9698402603942},-140.77442669559935,139366.68242864334,null,312,25,12,25,2884876.5357862278,{"$f":"IF($G$4=\"mensual\",S334,0)","v":5063.8575024375659},null,27422.045985203637,-346.49387926132619,null,-2917.3624392738693,2914098.5829553339,null,{"$f":"+Bono!J335","v":26035.586503049624},null,26,3079500.8518870268]
[null,313,26,1,70,139366.68242864334,null,1322.42159154519,0,0,-140.68910402018852,140548.41491616835,null,313,26,1,26,2914098.5829553339,{"$f":"IF($G$17=\"si\",S324*(1+$G$20),S324)","v":5316.3930888556279},null,27701.72419780404,{"$f":"(V335*(1+$G$18))","v":-363.77359831886434},null,-2947.1167002419938,2943805.8099434329,null,{"$f":"+Bono!J336","v":26197.010159309644},null,26.083333333333332,3110551.2350189108]
[null,314,26,2,70,140548.41491616835,null,1333.6348064233846,0,0,-141.88204972259174,141740.16767286914,null,314,26,2,26,2943805.8099434329,{"$f":"IF($G$4=\"mensual\",S336,0)","v":5316.3930888556279},null,27983.609923354768,-363.77359831886434,null,-2977.1058129556436,2973764.9335443689,null,{"$f":"+Bono!J337","v":26359.434660962466},null,26.166666666666668,3141864.5358782005]
[null,315,26,3,70,141740.16767286914,null,1344.9431015609368,0,{"$f":"-SUM(F338:H338)*$J$21","v":-1287.7659969698707},-143.08511077443006,141654.25966668577,null,315,26,3,26,2973764.9335443689,{"$f":"IF($G$4=\"mensual\",S337,0)","v":5316.3930888556279},null,28267.88584370563,-363.77359831886434,null,-3007.3492124769305,3003978.0896661347,null,{"$f":"+Bono!J338","v":26283.92147270466},null,26.25,3171916.2708055251]
[null,316,26,4,70,141654.25966668577,null,1344.12793827884,0,0,-142.99838760496462,142855.38921735965,null,316,26,4,26,3003978.0896661347,{"$f":"IF($G$4=\"mensual\",S336,IF($G$4=\"trimestral\",S336,0))","v":5316.3930888556279},null,28554.572226045293,-363.77359831886434,null,-3037.8490549810358,3034447.4323277357,null,{"$f":"+Bono!J339","v":26446.884834581615},null,26.333333333333332,3203749.7063796767]
[null,317,26,5,70,142855.38921735965,null,1355.5252078727933,0,0,-144.21091442523246,144066.70351080722,null,317,26,5,26,3034447.4323277357,{"$f":"IF($G$4=\"mensual\",S339,0)","v":5316.3930888556279},null,28843.689509414085,-363.77359831886434,null,-3068.6075149260055,3065175.1338127605,null,{"$f":"+Bono!J340","v":26610.858588204788},null,26.416666666666668,3235852.6959117725]
[null,318,26,6,70,144066.70351080722,null,1367.019118382018,0,{"$f":"-SUM(F341:H341)*$J$21","v":-1308.9035036627033},-145.43372262918922,143979.38540289734,null,318,26,6,26,3065175.1338127605,{"$f":"IF($G$4=\"mensual\",S340,0)","v":5316.3930888556279},null,29135.258306161166,-363.77359831886434,null,-3099.6267852077772,3096163.3848242504,null,{"$f":"+Bono!J341","v":26534.625133272275},null,26.5,3266677.39536042]
[null,319,26,7,70,143979.38540289734,null,1366.1905749366217,0,0,-145.34557597783396,145200.23040185613,null,319,26,7,26,3096163.3848242504,{"$f":"+IF($G$4=\"mensual\",S336,IF($G$4=\"trimestral\",S336,IF($G$4=\"semestral\",S336,0)))","v":5316.3930888556279},null,29429.299403414076,-363.77359831886434,null,-3130.9090773165203,3127414.3946408848,null,{"$f":"+Bono!J342","v":26699.142886924576},null,26.583333333333332,3299313.7679296657]
[null,320,26,8,70,145200.23040185613,null,1377.7749203369629,0,0,-146.57800532219309,146431.42731687089,null,320,26,8,26,3127414.3946408848,{"$f":"IF($G$4=\"mensual\",S342,0)","v":5316.3930888556279},null,29725.833764560743,-363.77359831886434,null,-3162.4566214943011,3158930.3912744881,null,{"$f":"+Bono!J343","v":26864.680669732399},null,26.666666666666668,3332226.4992610915]
[null,321,26,9,70,146431.42731687089,null,{"$f":"SUM(F344:G344)*$G$8","v":1389.4574929252353},0,{"$f":"-SUM(F344:H344)*$J$21","v":-1330.3879632881651},-147.82088480979613,{"$f":"SUM(F344:K344)","v":146342.67596169814},null,321,26,9,26,3158930.3912744881,{"$f":"IF($G$4=\"mensual\",S343,0)","v":5316.3930888556279},null,30024.88253074402,-363.77359831886434,null,-3194.271666894088,{"$f":"SUM(R344:X344)","v":3190713.6216288749},null,{"$f":"+Bono!J344","v":26787.720078012891},null,26.75,3363844.0176685858]
[null,{"$f":"+B344+1","v":322},26,10,70,{"$f":"L344","v":146342.67596169814},null,1388.6153496933375,0,0,{"$f":"-SUM(F345:H345)*0.1%","v":-147.73129131139149},147583.5600200801,null,{"$f":"+N344+1","v":322},26,10,26,{"$f":"Y344","v":3190713.6216288749},{"$f":"IF($G$4=\"mensual\",S336,IF($G$4=\"trimestral\",S336,0))","v":5316.3930888556279},null,30326.46702236895,-363.77359831886434,null,{"$f":"-SUM(R345:U345)*0.1%","v":-3226.3564817400998},3222766.3516600407,null,{"$f":"+Bono!J345","v":26953.807049679781},null,{"$f":"+B345/12","v":26.833333333333332},{"$f":"+AA345+Y345+L345","v":3397303.7187298005}]
[null,323,26,11,70,147583.5600200801,null,1400.3898415791489,0,0,-148.98394986165926,148834.9659117976,null,323,26,11,26,3222766.3516600407,{"$f":"IF($G$17=\"si\",S334*(1+$G$20),S334)","v":5316.3930888556279},null,30630.608740622774,-363.77359831886434,null,-3258.7133534895192,3255090.8665377107,null,{"$f":"+Bono!J346","v":27120.923779835903},null,26.916666666666668,3431046.7562293443]
[null,324,26,12,70,148834.9659117976,null,1412.2641729627735,0,{"$f":"-SUM(F347:H347)*$J$21","v":-1352.2250707628436},-150.24723008476039,148744.75778391276,null,324,26,12,26,3255090.8665377107,{"$f":"IF($G$4=\"mensual\",S346,0)","v":5316.3930888556279},null,30937.329369007835,-363.77359831886434,null,-3291.3445889955742,3287689.4708082597,null,{"$f":"+Bono!J347","v":27043.229115687987},null,27,3463477.45770786]
[null,325,27,1,71,148744.75778391276,null,1411.4082067162578,0,0,-150.15616599062903,150006.0098246384,null,325,27,1,27,3287689.4708082597,{"$f":"IF($G$17=\"si\",S336*(1+$G$20),S336)","v":5581.5226754754758},null,31249.166534635755,{"$f":"(V347*(1+$G$18))","v":-381.91506042174575},null,-3324.5201600183709,3320813.7247979306,null,{"$f":"+Bono!J348","v":27210.900273025676},null,27.083333333333332,3498030.6348955943]
[null,326,27,2,71,150006.0098246384,null,1423.3759661690237,0,0,-151.42938579080743,151277.95640501662,null,326,27,2,27,3320813.7247979306,{"$f":"IF($G$4=\"mensual\",S348,0)","v":5581.5226754754758},null,31563.475721856277,-381.91506042174575,null,-3357.9587231952623,3354218.849411645,null,{"$f":"+Bono!J349","v":27379.611010987508},null,27.166666666666668,3532876.4168276489]
[null,327,27,3,71,151277.95640501662,null,1435.4452038940838,0,{"$f":"-SUM(F350:H350)*$J$21","v":-1374.4206144801965},-152.71340160891071,151186.26759282162,null,327,27,3,27,3354218.849411645,{"$f":"IF($G$4=\"mensual\",S349,0)","v":5581.5226754754758},null,31880.450032269757,-381.91506042174575,null,-3391.6808221193901,3387907.2262368486,null,{"$f":"+Bono!J350","v":27301.175272615616},null,27.25,3566394.669102286]
[null,328,27,4,71,151186.26759282162,null,1434.5751877407474,0,0,-152.62084278056238,152468.22193778181,null,328,27,4,27,3387907.2262368486,{"$f":"IF($G$4=\"mensual\",S348,IF($G$4=\"trimestral\",S348,0))","v":5581.5226754754758},null,32200.112064266323,-381.91506042174575,null,-3425.6888609765906,3421881.2570551918,null,{"$f":"+Bono!J351","v":27470.445726046157},null,27.333333333333332,3601819.9247190198]
[null,329,27,5,71,152468.22193778181,null,1446.7393870716637,0,0,-153.91496132485346,153761.04636352861,null,329,27,5,27,3421881.2570551918,{"$f":"IF($G$4=\"mensual\",S351,0)","v":5581.5226754754758},null,32522.484607854723,-381.91506042174575,null,-3459.9852643385225,3456143.3640137617,null,{"$f":"+Bono!J352","v":27640.765675922125},null,27.416666666666668,3637545.1760532125]
[null,330,27,6,71,153761.04636352861,null,1459.0067303483465,0,{"$f":"-SUM(F353:H353)*$J$21","v":-1396.9804778448927},-155.22005309387694,153667.85256293818,null,330,27,6,27,3456143.3640137617,{"$f":"IF($G$4=\"mensual\",S352,0)","v":5581.5226754754758},null,32847.590646287128,-381.91506042174575,null,-3494.5724773355241,3490695.9897977668,null,{"$f":"+Bono!J353","v":27561.581794745529},null,27.5,3671925.4241554509]
[null,331,27,7,71,153667.85256293818,null,1458.1224336717569,0,0,-155.12597499660993,154970.84902161334,null,331,27,7,27,3490695.9897977668,{"$f":"+IF($G$4=\"mensual\",S348,IF($G$4=\"trimestral\",S348,IF($G$4=\"semestral\",S348,0)))","v":5581.5226754754758},null,33175.45335769769,-381.91506042174575,null,-3529.4529658309398,3525541.597804687,null,{"$f":"+Bono!J354","v":27732.466798818565},null,27.583333333333332,3708244.9136251188]
[null,332,27,8,71,154970.84902161334,null,1470.4862972626206,0,0,-156.44133531887596,156284.89398355709,null,332,27,8,27,3525541.597804687,{"$f":"IF($G$4=\"mensual\",S354,0)","v":5581.5226754754758},null,33506.096116755005,-381.91506042174575,null,-3564.629216596918,3560682.6723198988,null,{"$f":"+Bono!J355","v":27904.411309738283},null,27.666666666666668,3744871.9776131939]
[null,333,{"$f":"C344+1","v":27},{"$f":"D344","v":9},{"$f":"E344+1","v":71},156284.89398355709,null,1482.9549978132368,0,{"$f":"-SUM(F356:H356)*$J$21","v":-1419.9106408323332},-157.76784898137035,156190.17049155664,null,333,{"$f":"O344+1","v":27},{"$f":"P344","v":9},{"$f":"Q344+1","v":27},3560682.6723198988,{"$f":"IF($G$4=\"mensual\",S355,0)","v":5581.5226754754758},null,{"$f":"SUM(R356:T356)*$G$8","v":33839.542496328599},-381.91506042174575,null,-3600.1037374917032,3596121.7186937896,null,{"$f":"+Bono!J356","v":27824.472149754089},null,27.75,3780136.3613351001]
[null,334,27,10,71,156190.17049155664,null,1482.056186211604,0,0,-157.67222667776826,157514.55445109049,null,334,27,10,27,3596121.7186937896,{"$f":"IF($G$4=\"mensual\",S348,IF($G$4=\"trimestral\",S348,0))","v":5581.5226754754758},null,34175.81626916954,-381.91506042174575,null,-3635.8790576384349,3631861.2635203744,null,{"$f":"+Bono!J357","v":27996.98710452157},null,27.833333333333332,3817372.8050759863]
[null,335,27,11,71,157514.55445109049,null,1494.6229913695038,0,0,-159.00917744246001,158850.16826501754,null,335,27,11,27,3631861.2635203744,{"$f":"IF($G$17=\"si\",S346*(1+$G$20),S346)","v":5581.5226754754758},null,34514.94140960525,-381.91506042174575,null,-3671.9577276054551,3667903.8548174277,null,{"$f":"+Bono!J358","v":28170.571672019105},null,27.916666666666668,3854924.5947544645]
[null,336,27,12,71,158850.16826501754,null,1507.2963542904263,0,{"$f":"-SUM(F359:H359)*$J$21","v":-1443.2171815737718},-160.35746461930796,158753.88997311488,null,336,27,12,27,3667903.8548174277,{"$f":"IF($G$4=\"mensual\",S358,0)","v":5581.5226754754758},null,34856.942095248793,-381.91506042174575,null,-3708.3423195881523,3704252.0622081421,null,{"$f":"+Bono!J359","v":28089.870029159152},null,28,3891095.8222104162]
[null,337,28,1,72,158753.88997311488,null,1506.3827895144668,0,0,-160.26027276262934,160100.01248986673,null,337,28,1,28,3704252.0622081421,{"$f":"IF($G$17=\"si\",S348*(1+$G$20),S348)","v":5859.8743276059731},null,35204.483929912625,{"$f":"(V359*(1+$G$18))","v":-400.96124086799028},null,-3745.3164204656609,3741170.142804327,null,{"$f":"+Bono!J360","v":28264.030481563193},null,28.083333333333332,3929534.1857757573]
[null,338,28,2,72,160100.01248986673,null,1519.1558673405048,0,0,-161.61916835720723,161457.54918885004,null,338,28,2,28,3741170.142804327,{"$f":"IF($G$4=\"mensual\",S360,0)","v":5859.8743276059731},null,35554.791952232074,-400.96124086799028,null,-3782.584809084165,3778401.2630342129,null,{"$f":"+Bono!J361","v":28439.270748973504},null,28.166666666666668,3968298.0829720362]
[null,339,28,3,72,161457.54918885004,null,1532.0372519782547,0,{"$f":"-SUM(F362:H362)*$J$21","v":-1466.906277967455},-162.9895864408283,161359.69057642005,null,339,28,3,28,3778401.2630342129,{"$f":"IF($G$4=\"mensual\",S361,0)","v":5859.8743276059731},null,35908.070342816027,-400.96124086799028,null,-3820.169207704635,3815948.0772560621,null,{"$f":"+Bono!J362","v":28357.799350455141},null,28.25,4005665.5671829372]
[null,340,28,4,72,161359.69057642005,null,1531.108691868041,0,0,-162.89079926828811,162727.90846901981,null,340,28,4,28,3815948.0772560621,{"$f":"IF($G$4=\"mensual\",S360,IF($G$4=\"trimestral\",S360,0))","v":5859.8743276059731},null,36264.344288320412,-400.96124086799028,null,-3858.0722958719884,3853813.2623352483,null,{"$f":"+Bono!J363","v":28533.620995729096},null,28.333333333333332,4045074.7917999974]
[null,341,28,5,72,162727.90846901981,null,1544.0914281403118,0,0,-164.27199989716013,164107.72789726296,null,341,28,5,28,3853813.2623352483,{"$f":"IF($G$4=\"mensual\",S363,0)","v":5859.8743276059731},null,36623.639188966474,-400.96124086799028,null,-3896.2967758518207,3891999.5178351006,null,{"$f":"+Bono!J364","v":28710.532755597796},null,28.416666666666668,4084817.7784879617]
[null,342,28,6,72,164107.72789726296,null,1557.1842489820258,0,{"$f":"-SUM(F365:H365)*$J$21","v":-1490.9842093162051},-165.664912146245,164008.26302478253,null,342,28,6,28,3891999.5178351006,{"$f":"IF($G$4=\"mensual\",S364,0)","v":5859.8743276059731},null,36985.980660351655,-400.96124086799028,null,-3934.8453728230584,3930509.566209367,null,{"$f":"+Bono!J365","v":28628.284259268461},null,28.5,4123146.1134934183]
[null,343,28,7,72,164008.26302478253,null,1556.2404474027942,0,0,-165.56450347218532,165398.93896871313,null,343,28,7,28,3930509.566209367,{"$f":"+IF($G$4=\"mensual\",S360,IF($G$4=\"trimestral\",S360,IF($G$4=\"semestral\",S360,0)))","v":5859.8743276059731},null,37351.394535275846,-400.96124086799028,null,-3973.720835072249,3969346.1529963082,null,{"$f":"+Bono!J366","v":28805.782942351365},null,28.583333333333332,4163550.8749073725]
[null,344,28,8,72,165398.93896871313,null,1569.4362834738577,0,0,-166.968375252187,166801.40687693481,null,344,28,8,28,3969346.1529963082,{"$f":"IF($G$4=\"mensual\",S366,0)","v":5859.8743276059731},null,37719.906865583092,-400.96124086799028,null,-4012.9259341894976,4008512.0470144399,null,{"$f":"+Bono!J367","v":28984.382137857956},null,28.666666666666668,4204297.8360292325]
[null,345,28,9,72,166801.40687693481,null,1582.744011052371,0,{"$f":"-SUM(F368:H368)*$J$21","v":-1515.4573579918847},-168.38415088798718,166700.30937910729,null,345,28,9,28,4008512.0470144399,{"$f":"IF($G$4=\"mensual\",S367,0)","v":5859.8743276059731},null,38091.543924018973,-400.96124086799028,null,-4052.4634652660648,4048010.0405599307,null,{"$f":"+Bono!J368","v":28901.349131533516},null,28.75,4243611.699070571]
[null,346,28,10,72,166700.30937910729,null,1581.7847178292811,0,0,-168.28209409693659,168113.81200283964,null,346,28,10,28,4048010.0405599307,{"$f":"IF($G$4=\"mensual\",S360,IF($G$4=\"trimestral\",S360,0))","v":5859.8743276059731},null,38466.332206103631,{"$f":"V368","v":-400.96124086799028},null,-4092.3362470936404,4087842.9496056787,null,{"$f":"+Bono!J369","v":29080.540848498025},null,28.833333333333332,4285037.3024570169]
[null,347,28,11,72,168113.81200283964,null,1595.1971515383673,0,0,-169.70900915437801,169539.30014522362,null,347,28,11,28,4087842.9496056787,{"$f":"IF($G$17=\"si\",S358*(1+$G$20),S358)","v":5859.8743276059731},null,38844.298432020812,-400.96124086799028,null,-4132.5471223653058,4128013.6140020723,null,{"$f":"+Bono!J370","v":29260.843574892671},null,28.916666666666668,4326813.7577221887]
[null,348,28,12,72,169539.30014522362,null,1608.7233133521522,0,{"$f":"-SUM(F371:H371)*$J$21","v":-1540.3322111271821},-171.14802345857578,169436.54322399001,null,348,28,12,28,4128013.6140020723,{"$f":"IF($G$4=\"mensual\",S370,0)","v":5859.8743276059731},null,39225.469548522822,-400.96124086799028,null,-4173.098957878201,4168524.8976794551,null,{"$f":"+Bono!J371","v":29177.018575689428},null,29,4367138.4594791345]
[null,349,29,1,73,169436.54322399001,null,1607.7482742039713,0,0,-171.04429149819399,170873.24720669579,null,349,29,1,29,4168524.8976794551,{"$f":"IF($G$17=\"si\",S360*(1+$G$20),S360)","v":6152.1074322985487},null,39612.645670270715,{"$f":"(V371*(1+$G$18))","v":-420.95725814232514},null,-4214.2896507820242,4209654.4038730999,null,{"$f":"+Bono!J372","v":29357.919475183382},null,29.083333333333332,4409885.5705549791]
[null,350,29,2,73,170873.24720669579,null,1621.380860804157,0,0,-172.49462806749995,172322.13343943242,null,350,29,2,29,4209654.4038730999,{"$f":"IF($G$4=\"mensual\",S372,0)","v":6152.1074322985487},null,40002.915038043866,-420.95725814232514,null,-4255.8094263434423,4251132.6596589563,null,{"$f":"+Bono!J373","v":29539.941981237407},null,29.166666666666668,4452994.7350796266]
[null,351,29,3,73,172322.13343943242,null,1635.1290422523632,0,{"$f":"-SUM(F374:H374)*$J$21","v":-1565.6153623351634},-173.95726248168481,172217.68985686795,null,351,29,3,29,4251132.6596589563,{"$f":"IF($G$4=\"mensual\",S373,0)","v":6152.1074322985487},null,40396.493618483524,-420.95725814232514,null,-4297.6812607097381,4292962.6221908862,null,{"$f":"+Bono!J374","v":29455.317434897745},null,29.25,4494635.6294826521]
[null,352,29,4,73,172217.68985686795,null,1634.1379987240628,0,0,-173.85182785559201,173677.97602773641,null,352,29,4,29,4292962.6221908862,{"$f":"IF($G$4=\"mensual\",S372,IF($G$4=\"trimestral\",S372,0))","v":6152.1074322985487},null,40793.409471410378,-420.95725814232514,null,-4339.9081390945948,4335147.2736973576,null,{"$f":"+Bono!J375","v":29637.943819599459},null,29.333333333333332,4538463.1935446933]
[null,353,29,5,73,173677.97602773641,null,1647.9943518246689,0,0,-175.32597037956108,175150.64440918152,null,353,29,5,29,4335147.2736973576,{"$f":"IF($G$4=\"mensual\",S375,0)","v":6152.1074322985487},null,41193.690894572828,-420.95725814232514,null,-4382.4930720242291,4377689.6216940619,null,{"$f":"+Bono!J376","v":29821.702509069673},null,29.416666666666668,4582661.9686123133]
[null,354,29,6,73,175150.64440918152,null,1661.9681971575092,0,{"$f":"-SUM(F377:H377)*$J$21","v":-1591.3135134570516},-176.81261260633903,175044.48648027566,null,354,29,6,29,4377689.6216940619,{"$f":"IF($G$4=\"mensual\",S376,0)","v":6152.1074322985487},null,41597.366425664528,-420.95725814232514,null,-4425.4390955520248,4420592.6991983298,null,{"$f":"+Bono!J377","v":29736.27078928128},null,29.5,4625373.4564678874]
[null,355,29,7,73,175044.48648027566,null,1660.9608865517571,0,0,-176.70544736682743,176528.74191946059,null,355,29,7,29,4420592.6991983298,{"$f":"+IF($G$4=\"mensual\",S372,IF($G$4=\"trimestral\",S372,IF($G$4=\"semestral\",S372,0)))","v":6152.1074322985487},null,42004.464844358896,-420.95725814232514,null,-4468.7492714749869,4463859.56494537,null,{"$f":"+Bono!J378","v":29920.639117368744},null,29.583333333333332,4670308.9459821992]
[null,356,29,8,73,176528.74191946059,null,1675.0446790762117,0,0,-178.20378659853679,178025.58281193825,null,356,29,8,29,4463859.56494537,{"$f":"IF($G$4=\"mensual\",S378,0)","v":6152.1074322985487},null,42415.01517436096,-420.95725814232514,null,-4512.4266875520298,4507493.3036063351,null,{"$f":"+Bono!J379","v":30106.150550475755},null,29.666666666666668,4715625.036968749]
[null,357,29,9,73,178025.58281193825,null,1689.2478923609485,0,{"$f":"-SUM(F380:H380)*$J$21","v":-1617.433476338693},-179.7148307042992,177917.68239725623,null,357,29,9,29,4507493.3036063351,{"$f":"IF($G$4=\"mensual\",S379,0)","v":6152.1074322985487},null,42829.046685476569,-420.95725814232514,null,-4556.4744577241099,4551497.0260082437,null,{"$f":"+Bono!J380","v":30019.90395818435},null,29.75,4759434.6123636849]
[null,358,29,10,73,177917.68239725623,null,1688.2240476684751,0,0,-179.6059064449247,179426.30053847979,null,358,29,10,29,4551497.0260082437,{"$f":"IF($G$4=\"mensual\",S372,IF($G$4=\"trimestral\",S372,0))","v":6152.1074322985487},null,43246.588895699155,-420.95725814232514,null,-4600.8957223362413,4595873.8693557624,null,{"$f":"+Bono!J381","v":30206.030844818426},null,29.833333333333332,4805506.2007390605]
[null,359,29,11,73,179426.30053847979,null,1702.5390128279012,0,0,-181.12883955130769,180947.7107117564,null,359,29,11,29,4595873.8693557624,{"$f":"IF($G$17=\"si\",S370*(1+$G$20),S370)","v":6152.1074322985487},null,43667.67157331419,-420.95725814232514,null,-4645.6936483613745,4640626.9974548705,null,{"$f":"+Bono!J382","v":30393.311739739016},null,29.916666666666668,4851968.0199063662]
[null,360,29,12,73,180947.7107117564,null,1716.9753589306911,0,{"$f":"-SUM(F383:H383)*$J$21","v":-1643.9821746361838},-182.66468607068708,180838.0392099802,null,360,29,12,29,4640626.9974548705,{"$f":"IF($G$4=\"mensual\",S382,0)","v":6152.1074322985487},null,44092.324739021496,-420.95725814232514,null,-4690.8714296261905,4685759.6009384217,null,{"$f":"+Bono!J383","v":30306.242502454494},null,30,4896903.8826508569]
[null,361,30,1,74,180838.0392099802,null,1715.934708759512,0,0,-182.5539739187397,182371.41994482095,null,361,30,1,30,4685759.6009384217,{"$f":"IF($G$17=\"si\",S372*(1+$G$20),S372)","v":6458.9142603687633},null,44523.489894538034,{"$f":"(V383*(1+$G$18))","v":-441.95048079733454},null,-4736.7420050933288,4731563.3126074383,null,{"$f":"+Bono!J384","v":30494.144721276261},null,30.083333333333332,4944428.8772735354]
[null,362,30,2,74,182371.41994482095,null,1730.4846410422947,0,0,-184.10190458586325,183917.80268127739,null,362,30,2,30,4731563.3126074383,{"$f":"IF($G$4=\"mensual\",S384,0)","v":6458.9142603687633},null,44958.11183020068,-441.95048079733454,null,-4782.9803386980084,4777755.4078785125,null,{"$f":"+Bono!J385","v":30683.211955650029},null,30.166666666666668,4992356.4225154398]
[null,363,30,3,74,183917.80268127739,null,1745.1579466261437,0,{"$f":"-SUM(F386:H386)*$J$21","v":-1670.9666456511318},-185.66296062790352,183806.3310216245,null,363,30,3,30,4777755.4078785125,{"$f":"IF($G$4=\"mensual\",S385,0)","v":6458.9142603687633},null,45396.419057442436,-441.95048079733454,null,-4829.6107411963239,4824339.1799743306,null,{"$f":"+Bono!J386","v":30595.312226746031},null,30.25,5038740.8232227014]
[null,364,30,4,74,183806.3310216245,null,1744.1002151296232,0,0,-185.55043123675412,185364.88080551737,null,364,30,4,30,4824339.1799743306,{"$f":"IF($G$4=\"mensual\",S384,IF($G$4=\"trimestral\",S384,0))","v":6458.9142603687633},null,45838.442824971455,-441.95048079733454,null,-4876.6365370596714,4871317.9500418147,null,{"$f":"+Bono!J387","v":30785.006711388418},null,30.333333333333332,5087467.8375587203]
[null,365,30,5,74,185364.88080551737,null,1758.8889713072217,0,0,-187.12376977682462,186936.64600704776,null,365,30,5,30,4871317.9500418147,{"$f":"IF($G$4=\"mensual\",S387,0)","v":6458.9142603687633},null,46284.214646463202,-441.95048079733454,null,-4924.0610789486473,4918695.0673889006,null,{"$f":"+Bono!J388","v":30975.877323838784},null,30.416666666666668,5136607.5907197874]
[null,366,30,6,74,186936.64600704776,null,1773.8031258463268,0,{"$f":"-SUM(F389:H389)*$J$21","v":-1698.3940421960469},-188.71044913289407,186823.34464156514,null,366,30,6,30,4918695.0673889006,{"$f":"IF($G$4=\"mensual\",S388,0)","v":6458.9142603687633},null,46733.76630280714,-441.95048079733454,null,-4971.887747952077,4966473.9097233275,null,{"$f":"+Bono!J389","v":30887.139181845552},null,30.5,5184184.3935467387]
[null,367,30,7,74,186823.34464156514,null,1772.7280326500565,0,0,-188.59607267421518,188407.47660154098,null,367,30,7,30,4966473.9097233275,{"$f":"+IF($G$4=\"mensual\",S384,IF($G$4=\"trimestral\",S384,IF($G$4=\"semestral\",S384,0)))","v":6458.9142603687633},null,47187.129844372612,-441.95048079733454,null,-5020.1199538280689,5014657.8833934432,null,{"$f":"+Bono!J390","v":31078.643027459388},null,30.583333333333332,5234144.0030224435]
[null,368,30,8,74,188407.47660154098,null,1787.7595327993226,0,0,-190.19523613434032,190005.04089820597,null,368,30,8,30,5014657.8833934432,{"$f":"IF($G$4=\"mensual\",S390,0)","v":6458.9142603687633},null,47644.337593293742,-441.95048079733454,null,-5068.7611352471058,5063250.4236310609,null,{"$f":"+Bono!J391","v":31271.334219129101},null,30.666666666666668,5284526.7987483954]
[null,369,30,9,74,190005.04089820597,null,1802.9184896100594,0,{"$f":"-SUM(F392:H392)*$J$21","v":-1726.2716344903445},-191.80795938781603,189889.87979393787,null,369,30,9,30,5063250.4236310609,{"$f":"IF($G$4=\"mensual\",S391,0)","v":6458.9142603687633},null,48105.422145773889,-441.95048079733454,null,-5117.8147600372031,5112254.9947963692,null,{"$f":"+Bono!J392","v":31181.749667019605},null,30.75,5333326.6242573271]
[null,370,30,10,74,189889.87979393787,null,1801.8257497375416,0,0,-191.6917055436754,191500.01383813174,null,370,30,10,30,5112254.9947963692,{"$f":"IF($G$4=\"mensual\",S384,IF($G$4=\"trimestral\",S384,0))","v":6458.9142603687633},null,48570.416374409542,-441.95048079733454,null,-5167.2843254311474,5161675.0906249192,null,{"$f":"+Bono!J393","v":31375.080131814218},null,30.833333333333332,5384550.184594865]
[null,371,30,11,74,191500.01383813174,null,1817.10397827982,0,0,-193.31711781641158,193123.80069859515,null,371,30,11,30,5161675.0906249192,{"$f":"IF($G$17=\"si\",S382*(1+$G$20),S382)","v":6458.9142603687633},null,49039.353430533898,-441.95048079733454,null,-5217.173358315822,5211514.2344767088,null,{"$f":"+Bono!J394","v":31569.609267915504},null,30.916666666666668,5436207.6444432195]
[null,372,30,12,74,193123.80069859515,null,1832.5117555686538,0,{"$f":"-SUM(F395:H395)*$J$21","v":-1754.6068120874743},-194.95631245416379,193006.74932962217,null,372,30,12,30,5211514.2344767088,{"$f":"IF($G$4=\"mensual\",S394,0)","v":6458.9142603687633},null,49512.266746580433,-441.95048079733454,null,-5267.4854154836585,5261775.979587377,null,{"$f":"+Bono!J395","v":31479.170232384746},null,31,5486261.8991493834]
[null,373,31,1,75,193006.74932962217,null,1831.4010793657599,0,0,-194.83815040898793,194643.31225857892,null,373,31,1,31,5261775.979587377,{"$f":"IF($G$17=\"si\",S384*(1+$G$20),S384)","v":6781.0216063162052},null,49992.246448374754,{"$f":"(V395*(1+$G$18))","v":-463.99063966479378},null,-5318.5492476420677,5312766.70775476,null,{"$f":"+Bono!J396","v":31674.344739183274},null,31.083333333333332,5539084.3647525217]
[null,374,31,2,75,194643.31225857892,null,1846.9300861230452,0,0,-196.49024234470198,196293.75210235728,null,374,31,2,31,5312766.70775476,{"$f":"IF($G$4=\"mensual\",S396,0)","v":6781.0216063162052},null,50476.086909538659,-463.99063966479378,null,-5370.0238162706155,5364189.8018146791,null,{"$f":"+Bono!J397","v":31870.729350562797},null,31.166666666666668,5592354.2832675995]
[null,375,31,3,75,196293.75210235728,null,1862.5907680516436,0,{"$f":"-SUM(F398:H398)*$J$21","v":-1783.4070858336806},-198.15634287040893,196174.77944170483,null,375,31,3,31,5364189.8018146791,{"$f":"IF($G$4=\"mensual\",S397,0)","v":6781.0216063162052},null,50964.03000112882,-463.99063966479378,null,-5421.9348534221244,5416048.9279290363,null,{"$f":"+Bono!J398","v":31779.427681300258},null,31.25,5644003.1350520412]
[null,376,31,4,75,196174.77944170483,null,1861.461861109836,0,0,-198.03624130281466,197838.20506151184,null,376,31,4,31,5416048.9279290363,{"$f":"IF($G$4=\"mensual\",S396,IF($G$4=\"trimestral\",S396,0))","v":6781.0216063162052},null,51456.110510596387,-463.99063966479378,null,-5474.286060045948,5468347.7833462367,null,{"$f":"+Bono!J399","v":31976.463819109773},null,31.333333333333332,5698162.4522268586]
[null,377,31,5,75,197838.20506151184,null,1877.2457623782652,0,0,-199.71545082389011,199515.73537306621,null,377,31,5,31,5468347.7833462367,{"$f":"IF($G$4=\"mensual\",S399,0)","v":6781.0216063162052},null,51952.363520365892,-463.99063966479378,null,-5527.0811684729188,5521090.0966647808,null,{"$f":"+Bono!J400","v":32174.721603828486},null,31.416666666666668,5752780.553641675]
[null,378,31,6,75,199515.73537306621,null,1893.1635001460913,0,{"$f":"-SUM(F401:H401)*$J$21","v":-1812.6800898589111},-201.40889887321231,199394.80988448017,null,378,31,6,31,5521090.0966647808,{"$f":"IF($G$4=\"mensual\",S400,0)","v":6781.0216063162052},null,52452.824410336463,-463.99063966479378,null,-5580.3239426814325,5574279.6280990858,null,{"$f":"+Bono!J401","v":32082.549072783626},null,31.5,5805756.9870563494]
[null,379,31,7,75,199394.80988448017,null,1892.0160632243851,0,0,-201.28682594770456,201085.53912175685,null,379,31,7,31,5574279.6280990858,{"$f":"+IF($G$4=\"mensual\",S396,IF($G$4=\"trimestral\",S396,IF($G$4=\"semestral\",S396,0)))","v":6781.0216063162052},null,52957.528860404076,-463.99063966479378,null,-5634.018178565806,5627920.1697475752,null,{"$f":"+Bono!J402","v":32281.464598380244},null,31.583333333333332,5861287.1734677125]
[null,380,31,8,75,201085.53912175685,null,1908.0590428653491,0,0,-202.9935981646222,202790.60456645759,null,380,31,8,31,5627920.1697475752,{"$f":"IF($G$4=\"mensual\",S402,0)","v":6781.0216063162052},null,53466.512853005472,-463.99063966479378,null,-5688.1677042068968,5682015.5458630249,null,{"$f":"+Bono!J403","v":32481.613423308336},null,31.666666666666668,5917287.7638527909]
[null,381,31,9,75,202790.60456645759,null,1924.2380558100272,0,{"$f":"-SUM(F404:H404)*$J$21","v":-1842.4335836004088},-204.71484262226764,202667.69419604496,null,381,31,9,31,5682015.5458630249,{"$f":"IF($G$4=\"mensual\",S403,0)","v":6781.0216063162052},null,53979.812675683366,-463.99063966479378,null,-5742.7763801450246,5736569.6131252144,null,{"$f":"+Bono!J404","v":32388.561723949086},null,31.75,5971625.8690452091]
[null,382,31,10,75,202667.69419604496,null,1923.0717847556689,0,0,-204.59076598080065,204386.17521481984,null,382,31,10,31,5736569.6131252144,{"$f":"IF($G$4=\"mensual\",S396,IF($G$4=\"trimestral\",S396,0))","v":6781.0216063162052},null,54497.464923673593,-463.99063966479378,null,-5797.8480996552034,5791586.2609158829,null,{"$f":"+Bono!J405","v":32589.374563478199},null,31.833333333333332,6028561.8106941804]
[null,383,31,11,75,204386.17521481984,null,1939.3780953048349,0,0,-206.32555331012466,206119.22775681454,null,383,31,11,31,5791586.2609158829,{"$f":"IF($G$17=\"si\",S394*(1+$G$20),S394)","v":6781.0216063162052},null,55019.506502514138,-463.99063966479378,null,-5853.3867890247129,5847069.4115960225,null,{"$f":"+Bono!J406","v":32791.432465905244},null,31.916666666666668,6085980.071818742]
[null,384,31,12,75,206119.22775681454,null,1955.8226720205753,0,{"$f":"-SUM(F407:H407)*$J$21","v":-1872.6754538595162},-208.07505042883511,205994.29992454677,null,384,31,12,31,5847069.4115960225,{"$f":"IF($G$4=\"mensual\",S406,0)","v":6781.0216063162052},null,55545.974630676254,-463.99063966479378,null,-5909.3964078330146,5903023.0207855161,null,{"$f":"+Bono!J407","v":32697.493212469424},null,32,6141714.8139225328]
[null,385,32,1,76,205994.29992454677,null,{"$f":"SUM(F408:G408)*$G$8","v":1954.6372576884203},0,0,-207.9489371822352,{"$f":"SUM(F408:K408)","v":207740.98824505295},null,385,32,1,32,5903023.0207855161,{"$f":"IF($G$17=\"si\",S396*(1+$G$20),S396)","v":7119.1925100275157},null,56080.11567589976,{"$f":"(V407*(1+$G$18))","v":-487.12994566300495},null,-5966.2223289714439,{"$f":"SUM(R408:X408)","v":5959768.9766968098},null,{"$f":"+Bono!J408","v":32900.2214630612},null,32.083333333333336,6200410.1864049239]
[null,{"$f":"+B408+1","v":386},32,2,76,{"$f":"L408","v":207740.98824505295},null,1971.2112214829581,0,0,{"$f":"-SUM(F409:H409)*0.1%","v":-209.71219946653591},209502.48726706937,null,{"$f":"+N408+1","v":386},32,2,32,{"$f":"Y408","v":5959768.9766968098},{"$f":"IF($G$4=\"mensual\",S408,0)","v":7119.1925100275157},null,56618.566301416999,-487.12994566300495,null,{"$f":"-SUM(R409:U409)*0.1%","v":-6023.5067355082538},6016996.0988270827,null,{"$f":"+Bono!J409","v":33104.206652321664},null,{"$f":"+B409/12","v":32.166666666666664},{"$f":"+AA409+Y409+L409","v":6259602.792746474}]
[null,387,32,3,76,209502.48726706937,null,1987.9257209573423,0,{"$f":"-SUM(F410:H410)*$J$21","v":-1903.4137168922407},-211.49041298802672,209375.50885814644,null,387,32,3,32,6016996.0988270827,{"$f":"IF($G$4=\"mensual\",S409,0)","v":7119.1925100275157},null,57161.582613553255,-487.12994566300495,null,-6081.2768739506628,6074708.4671310494,null,{"$f":"+Bono!J410","v":33009.37137906126},null,32.25,6317093.3473682571]
[null,388,32,4,76,209375.50885814644,null,1986.7208491279098,0,0,-211.36222970727437,211150.86747756708,null,388,32,4,32,6074708.4671310494,{"$f":"IF($G$4=\"mensual\",S408,IF($G$4=\"trimestral\",S408,0))","v":7119.1925100275157},null,57709.203326153991,-487.12994566300495,null,-6139.5368629672303,6132910.1961586,null,{"$f":"+Bono!J411","v":33214.033310461535},null,32.333333333333336,6377275.0969466288]
[null,389,32,5,76,211150.86747756708,null,2003.5668594522194,0,0,-213.15443433701932,212941.27990268229,null,389,32,5,32,6132910.1961586,{"$f":"IF($G$4=\"mensual\",S411,0)","v":7119.1925100275157},null,58261.467481331129,-487.12994566300495,null,-6198.2908561499589,6191605.4353481457,null,{"$f":"+Bono!J412","v":33419.964169575804},null,32.416666666666664,6437966.6794204041]
[null,390,32,6,76,212941.27990268229,null,2020.5557122216424,0,{"$f":"-SUM(F413:H413)*$J$21","v":-1934.6565205341358},-214.96183561490395,212812.21725875491,null,390,32,6,32,6191605.4353481457,{"$f":"IF($G$4=\"mensual\",S412,0)","v":7119.1925100275157},null,58818.41445224655,-487.12994566300495,null,-6257.5430423104199,6250798.3693224462,null,{"$f":"+Bono!J413","v":33324.224329994046},null,32.5,6496934.8109111954]
[null,391,32,7,76,212812.21725875491,null,2019.3310635178257,0,0,-214.83154832227277,214616.71677395047,null,391,32,7,32,6250798.3693224462,{"$f":"+IF($G$4=\"mensual\",S408,IF($G$4=\"trimestral\",S408,IF($G$4=\"semestral\",S408,0)))","v":7119.1925100275157},null,59380.083945919134,-487.12994566300495,null,-6317.2976457783925,6310493.2181869512,null,{"$f":"+Bono!J414","v":33530.83838621078},null,32.583333333333336,6558640.7733471124]
[null,392,32,8,76,214616.71677395047,null,2036.4535857680719,0,0,-216.65317035971853,216436.5171893588,null,392,32,8,32,6310493.2181869512,{"$f":"IF($G$4=\"mensual\",S414,0)","v":7119.1925100275157},null,59946.516006055652,-487.12994566300495,null,-6377.5589267030336,6370694.2378306678,null,{"$f":"+Bono!J415","v":33738.733473541812},null,32.666666666666664,6620869.4884935683]
[null,393,32,9,76,216436.5171893588,null,2053.7212950921498,0,{"$f":"-SUM(F416:H416)*$J$21","v":-1966.4121463600586},-218.49023848445094,216305.33609960641,null,393,32,9,32,6370694.2378306678,{"$f":"IF($G$4=\"mensual\",S415,0)","v":7119.1925100275157},null,60517.751015905647,-487.12994566300495,null,-6438.3311813566006,6431405.720229581,null,{"$f":"+Bono!J416","v":33642.080439622965},null,32.75,6681353.1367688095]
[null,394,32,10,76,216305.33609960641,null,2052.4765448945564,0,0,-218.357812644501,218139.45483185648,null,394,32,10,32,6431405.720229581,{"$f":"IF($G$4=\"mensual\",S408,IF($G$4=\"trimestral\",S408,0))","v":7119.1925100275157},null,61093.829701140516,-487.12994566300495,null,-6499.618742440749,6492631.9937526453,null,{"$f":"+Bono!J417","v":33850.665240588423},null,32.833333333333336,6744622.1138250902]
[null,395,32,11,76,218139.45483185648,null,2069.8801177623172,0,0,-220.20933494961878,219989.12561466917,null,395,32,11,32,6492631.9937526453,{"$f":"IF($G$17=\"si\",S406*(1+$G$20),S406)","v":7119.1925100275157},null,61674.793132757019,-487.12994566300495,null,-6561.4259793954297,6554377.4234703714,null,{"$f":"+Bono!J418","v":34060.543291514216},null,32.916666666666664,6808427.0923765544]
[null,396,32,12,76,219989.12561466917,null,2087.4312608175751,0,{"$f":"-SUM(F419:H419)*$J$21","v":-1998.6890118793808},-222.07655687548674,219855.79130673187,null,396,32,12,32,6554377.4234703714,{"$f":"IF($G$4=\"mensual\",S418,0)","v":7119.1925100275157},null,62260.68273000537,-487.12994566300495,null,-6623.757298710404,6616646.4114660304,null,{"$f":"+Bono!J419","v":33962.968352946038},null,33,6870465.1711257091]
[null,397,{"$f":"C408+1","v":33},{"$f":"D408","v":1},{"$f":"E408+1","v":77},219855.79130673187,null,2086.1660791784821,0,0,-221.94195738591037,221720.01542852444,null,397,{"$f":"O408+1","v":33},{"$f":"P408","v":1},{"$f":"Q408+1","v":33},6616646.4114660304,{"$f":"IF($G$17=\"si\",S408*(1+$G$20),S408)","v":7474.2280643410895},null,{"$f":"SUM(R420:T420)*$G$8","v":62854.909122201519},{"$f":"(V419*(1+$G$18))","v":-511.42321347920813},null,-6686.9755486525737,6679777.1498904414,null,{"$f":"+Bono!J420","v":34173.542696194796},null,33.083333333333336,6935670.7080151606]
[null,398,33,2,77,221720.01542852444,null,2103.8553158538266,0,0,-223.82387074437824,223600.04687363387,null,398,33,2,33,6679777.1498904414,{"$f":"IF($G$4=\"mensual\",S420,0)","v":7474.2280643410895},null,63453.943626918081,-511.42321347920813,null,-6750.7053215817014,6743443.1930466397,null,{"$f":"+Bono!J421","v":34385.422624796811},null,33.166666666666664,7001428.6625450701]
[null,399,33,3,77,223600.04687363387,null,2121.6945449469749,0,{"$f":"-SUM(F422:H422)*$J$21","v":-2031.4956727672279},-225.72174141858085,223464.52400439503,null,399,33,3,33,6743443.1930466397,{"$f":"IF($G$4=\"mensual\",S421,0)","v":7474.2280643410895},null,64058.057527391473,-511.42321347920813,null,-6814.9754786383728,6807649.0799462553,null,{"$f":"+Bono!J422","v":34286.916988185571},null,33.25,7065400.520938836]
[null,400,33,4,77,223464.52400439503,null,2120.4085965028671,0,0,-225.58493260089793,225359.34766829701,null,400,33,4,33,6807649.0799462553,{"$f":"IF($G$4=\"mensual\",S420,IF($G$4=\"trimestral\",S420,0))","v":7474.2280643410895},null,64667.293893363189,-511.42321347920813,null,-6879.7906019039601,6872399.3880885774,null,{"$f":"+Bono!J423","v":34499.499850548535},null,33.333333333333336,7132258.2356074229]
[null,401,33,5,77,225359.34766829701,null,2138.3881858971808,0,0,-227.49773585419419,227270.23811834,null,401,33,5,33,6872399.3880885774,{"$f":"IF($G$4=\"mensual\",S423,0)","v":7474.2280643410895},null,65281.696159776126,-511.42321347920813,null,-6945.1553123126951,6937698.7337869033,null,{"$f":"+Bono!J424","v":34713.400751316229},null,33.416666666666664,7199682.3726565596]
[null,402,33,6,77,227270.23811834,null,2156.5202296983111,0,{"$f":"-SUM(F425:H425)*$J$21","v":-2064.8408251323449},-229.42675834803831,227132.49076455791,null,402,33,6,33,6937698.7337869033,{"$f":"IF($G$4=\"mensual\",S424,0)","v":7474.2280643410895},null,65901.308129871293,-511.42321347920813,null,-7011.0742699811162,7003551.7724976558,null,{"$f":"+Bono!J425","v":34613.95553939425},null,33.5,7265298.2188016083]
[null,403,33,7,77,227132.49076455791,null,2155.2131735809858,0,0,-229.28770393813892,229058.41623420076,null,403,33,7,33,7003551.7724976558,{"$f":"+IF($G$4=\"mensual\",S420,IF($G$4=\"trimestral\",S420,IF($G$4=\"semestral\",S420,0)))","v":7474.2280643410895},null,66526.173978310704,-511.42321347920813,null,-7077.5521745403084,7069963.199152289,null,{"$f":"+Bono!J426","v":34828.566078708827},null,33.583333333333336,7333850.1814651983]
[null,404,33,8,77,229058.41623420076,null,2173.4878815698667,0,0,-231.23190411577062,231000.67221165486,null,404,33,8,33,7069963.199152289,{"$f":"IF($G$4=\"mensual\",S426,0)","v":7474.2280643410895},null,67156.338254326765,-511.42321347920813,null,-7144.5937654709578,7136937.7484920071,null,{"$f":"+Bono!J427","v":35044.507228260438},null,33.666666666666664,7402982.9279319225]
[null,405,33,9,77,231000.67221165486,null,2191.9175463658848,0,{"$f":"-SUM(F428:H428)*$J$21","v":-2098.7333078221868},-233.19258975802074,230860.66386044052,null,405,33,9,33,7136937.7484920071,{"$f":"IF($G$4=\"mensual\",S427,0)","v":7474.2280643410895},null,67791.845884898372,-511.42321347920813,null,-7212.2038224412472,7204480.1954053268,null,{"$f":"+Bono!J428","v":34944.113479086111},null,33.75,7470284.9727448532]
[null,406,33,10,77,230860.66386044052,null,2190.5890361120996,0,0,-233.05125289655263,232818.20164365607,null,406,33,10,33,7204480.1954053268,{"$f":"IF($G$4=\"mensual\",S420,IF($G$4=\"trimestral\",S420,0))","v":7474.2280643410895},null,68432.742177953929,-511.42321347920813,null,-7280.3871656476222,7272595.3552684952,null,{"$f":"+Bono!J429","v":35160.771035922728},null,33.833333333333336,7540574.3279480739]
[null,407,33,11,77,232818.20164365607,null,2209.1637067986544,0,0,-235.02736535045474,234792.33798510427,null,407,33,11,33,7272595.3552684952,{"$f":"IF($G$17=\"si\",S418*(1+$G$20),S418)","v":7474.2280643410895},null,69079.072825601557,-511.42321347920813,null,-7349.1486561584379,7341288.0842888001,null,{"$f":"+Bono!J430","v":35378.771894742458},null,33.916666666666664,7611459.1941686468]
[null,408,33,12,77,234792.33798510427,null,2227.8958777672919,0,{"$f":"-SUM(F431:H431)*$J$21","v":-2133.1821047658445},-237.02023386287158,234650.03152424286,null,408,33,12,33,7341288.0842888001,{"$f":"IF($G$4=\"mensual\",S430,0)","v":7474.2280643410895},null,69730.883907386655,-511.42321347920813,null,-7418.4931962605287,7410563.2798507893,null,{"$f":"+Bono!J431","v":35277.420560892562},null,34,7680490.7319359249]
[null,409,34,1,78,234650.03152424286,null,2226.5455612269247,0,0,-236.87657708546979,236639.70050838433,null,409,34,1,34,7410563.2798507893,{"$f":"IF($G$17=\"si\",S420*(1+$G$20),S420)","v":7846.9693127553919},null,70391.758758101496,{"$f":"(V431*(1+$G$18))","v":-536.9279914200589},null,-7488.8020079216467,7480776.2779223043,null,{"$f":"+Bono!J432","v":35496.144660297607},null,34.083333333333336,7752912.1230909862]
[null,410,34,2,78,236639.70050838433,null,2245.4251182258054,0,0,-238.88512562661012,238646.24050098352,null,410,34,2,34,7480776.2779223043,{"$f":"IF($G$4=\"mensual\",S432,0)","v":7846.9693127553919},null,71057.99535811838,{"$f":"V432","v":-536.9279914200589},null,-7559.6812425931785,7551584.6333591649,null,{"$f":"+Bono!J433","v":35716.224874489395},null,34.166666666666664,7825947.0987346377]
[null,411,34,3,78,238646.24050098352,null,2264.4647607305387,0,{"$f":"-SUM(F434:H434)*$J$21","v":-2168.196347355427},-240.91070526171407,238501.5982090969,null,411,34,3,34,7551584.6333591649,{"$f":"IF($G$4=\"mensual\",S433,0)","v":7846.9693127553919},null,71729.881180897108,-536.9279914200589,null,-7631.1614838528176,7622993.3943775445,null,{"$f":"+Bono!J434","v":35613.906822243764},null,34.25,7897108.8994088853]
[null,412,34,4,78,238501.5982090969,null,2263.092279973243,0,0,-240.76469048907015,240523.92579858107,null,412,34,4,34,7622993.3943775445,{"$f":"IF($G$4=\"mensual\",S432,IF($G$4=\"trimestral\",S432,0))","v":7846.9693127553919},null,72407.464127915635,-536.9279914200589,null,-7703.2478278182161,7695007.6519989772,null,{"$f":"+Bono!J435","v":35834.71717549918},null,34.333333333333336,7971366.2949730577]
[null,413,34,5,78,240523.92579858107,null,2282.2817277157528,0,0,-242.80620752629682,242563.40131877051,null,413,34,5,34,7695007.6519989772,{"$f":"IF($G$4=\"mensual\",S435,0)","v":7846.9693127553919},null,73090.792506823127,-536.9279914200589,null,-7775.9454138185556,7767632.5404133173,null,{"$f":"+Bono!J436","v":36056.896578557193},null,34.416666666666664,8046252.838310645]
[null,414,34,6,78,242563.40131877051,null,2301.6338886219814,0,{"$f":"-SUM(F437:H437)*$J$21","v":-2203.7853168665329},-244.86503520739251,242416.38485531858,null,414,34,6,34,7767632.5404133173,{"$f":"IF($G$4=\"mensual\",S436,0)","v":7846.9693127553919},null,73779.915034884005,-536.9279914200589,null,-7849.2594247609568,7840873.2373447753,null,{"$f":"+Bono!J437","v":35953.602587075606},null,34.5,8119243.2247871701]
[null,415,34,7,78,242416.38485531858,null,2300.2388798423112,0,0,-244.71662373516088,244471.90711142574,null,415,34,7,34,7840873.2373447753,{"$f":"+IF($G$4=\"mensual\",S432,IF($G$4=\"trimestral\",S432,IF($G$4=\"semestral\",S432,0)))","v":7846.9693127553919},null,74474.880842451166,-536.9279914200589,null,-7923.195087499982,7914734.9644210618,null,{"$f":"+Bono!J438","v":36176.519093475254},null,34.583333333333336,8195383.390625963]
[null,416,34,8,78,244471.90711142574,null,2319.7433049029391,0,0,-246.79165041632871,246544.85876591236,null,416,34,8,34,7914734.9644210618,{"$f":"IF($G$4=\"mensual\",S438,0)","v":7846.9693127553919},null,75175.739476468734,-536.9279914200589,null,-7997.7576732102862,7989222.9875456551,null,{"$f":"+Bono!J439","v":36400.817708071285},null,34.666666666666664,8272168.6640196387]
[null,417,34,9,78,246544.85876591236,null,2339.4131139157639,0,{"$f":"-SUM(F440:H440)*$J$21","v":-2239.9584469184533},-248.88427187982813,246395.42916102984,null,417,34,9,34,7989222.9875456551,{"$f":"IF($G$4=\"mensual\",S439,0)","v":7846.9693127553919},null,75882.540904004432,-536.9279914200589,null,-8072.9524977624151,8064342.617273232,null,{"$f":"+Bono!J440","v":36296.538468562459},null,34.75,8347034.5849028239]
[null,418,34,10,78,246395.42916102984,null,2337.9952073367372,0,0,-248.73342436836657,248484.6909439982,null,418,34,10,34,8064342.617273232,{"$f":"IF($G$4=\"mensual\",S432,IF($G$4=\"trimestral\",S432,0))","v":7846.9693127553919},null,76595.335515811952,-536.9279914200589,null,-8148.7849221017996,8140099.2091882778,null,{"$f":"+Bono!J441","v":36521.581217205421},null,34.833333333333336,8425105.4813494813]
[null,419,34,11,78,248484.6909439982,null,2357.8197797814619,0,0,-250.84251072377964,250591.66821305588,null,419,34,11,34,8140099.2091882778,{"$f":"IF($G$17=\"si\",S430*(1+$G$20),S430)","v":7846.9693127553919},null,77314.174129923529,-536.9279914200589,null,-8225.2603526309576,8216498.1642869059,null,{"$f":"+Bono!J442","v":36748.019256993313},null,34.916666666666664,8503837.8517569546]
[null,420,34,12,78,250591.66821305588,null,2377.8124508054234,0,{"$f":"-SUM(F443:H443)*$J$21","v":-2276.7253259747517},-252.9694806638613,250439.78585722268,null,420,34,12,34,8216498.1642869059,{"$f":"IF($G$4=\"mensual\",S442,0)","v":7846.9693127553919},null,78039.10799527292,-536.9279914200589,null,-8302.3842415949348,8293544.9293619189,null,{"$f":"+Bono!J443","v":36642.745371876023},null,35,8580627.4605910182]
[null,421,35,1,79,250439.78585722268,null,2376.3712705805056,0,0,-252.81615712780319,252563.3409706754,null,421,35,1,35,8293544.9293619189,{"$f":"IF($G$17=\"si\",S432*(1+$G$20),S432)","v":8238.2992417763653},null,78773.902044014772,{"$f":"(V443*(1+$G$18))","v":-563.70469773777552},null,-8380.5571306477104,8371612.8688193252,null,{"$f":"+Bono!J444","v":36869.934643477041},null,35.083333333333336,8661046.144433476]
[null,422,35,2,79,252563.3409706754,null,2396.5212453372333,0,0,-254.95986221601265,254704.90235379661,null,422,35,2,35,8371612.8688193252,{"$f":"IF($G$4=\"mensual\",S444,0)","v":8238.2992417763653},null,79514.672556355668,-563.70469773777552,null,-8459.3658406174582,8450342.7700791024,null,{"$f":"+Bono!J445","v":37098.532514914317},null,35.166666666666664,8742146.2049478143]
[null,423,35,3,79,254704.90235379661,null,2416.84207785837,0,{"$f":"-SUM(F446:H446)*$J$21","v":-2314.0956998848951},-257.12174443165497,254550.52698733844,null,423,35,3,35,8450342.7700791024,{"$f":"IF($G$4=\"mensual\",S445,0)","v":8238.2992417763653},null,80261.724287169855,-563.70469773777552,null,-8538.8427936080479,8529740.2461167015,null,{"$f":"+Bono!J446","v":36992.254496970483},null,35.25,8821283.0276010111]
[null,424,35,4,79,254550.52698733844,null,2415.377241971848,0,0,-256.9659042293103,256708.93832508096,null,424,35,4,35,8529740.2461167015,{"$f":"IF($G$4=\"mensual\",S444,IF($G$4=\"trimestral\",S444,0))","v":8238.2992417763653},null,81015.11049681915,-563.70469773777552,null,-8618.9936558552963,8609810.9575017039,null,{"$f":"+Bono!J447","v":37221.610765687641},null,35.333333333333336,8903741.506592473]
[null,425,35,5,79,256708.93832508096,null,2435.8579602233431,0,0,-259.14479628530432,258885.65148901899,null,425,35,5,35,8609810.9575017039,{"$f":"IF($G$4=\"mensual\",S447,0)","v":8238.2992417763653},null,81774.884897276192,-563.70469773777552,null,-8699.8241416407564,8690560.6128013786,null,{"$f":"+Bono!J448","v":37452.389069874524},null,35.416666666666664,8986898.6533602718]
[null,426,35,6,79,258885.65148901899,null,2456.5123407139322,0,{"$f":"-SUM(F449:H449)*$J$21","v":-2352.0794744675964},-261.3421638297329,258728.74219143557,null,426,35,6,35,8690560.6128013786,{"$f":"IF($G$4=\"mensual\",S448,0)","v":8238.2992417763653},null,82541.101655953767,-563.70469773777552,null,-8781.3400136991095,8771994.9689876717,null,{"$f":"+Bono!J449","v":37345.097341394227},null,35.5,9068068.8085205015]
[null,427,35,7,79,258728.74219143557,null,2455.0234608796522,0,0,-261.18376565231523,260922.5818866629,null,427,35,7,35,8771994.9689876717,{"$f":"+IF($G$4=\"mensual\",S444,IF($G$4=\"trimestral\",S444,IF($G$4=\"semestral\",S444,0)))","v":8238.2992417763653},null,83313.815399566578,-563.70469773777552,null,-8863.5470836290133,8854119.8318476472,null,{"$f":"+Bono!J450","v":37576.641276674047},null,35.583333333333336,9152619.0550109837]
[null,428,35,8,79,260922.5818866629,null,2475.8403514793331,0,0,-263.39842223814225,263135.0238159041,null,428,35,8,35,8854119.8318476472,{"$f":"IF($G$4=\"mensual\",S450,0)","v":8238.2992417763653},null,84093.081218025924,-563.70469773777552,null,-8946.4512123074492,8936941.0563974045,null,{"$f":"+Bono!J451","v":37809.620811210036},null,35.666666666666664,9237885.7010245193]
[null,429,35,9,79,263135.0238159041,null,2496.8337548256923,0,{"$f":"-SUM(F452:H452)*$J$21","v":-2390.6867181365683},-265.63185757072978,262975.53899502248,null,429,35,9,35,8936941.0563974045,{"$f":"IF($G$4=\"mensual\",S451,0)","v":8238.2992417763653},null,84878.95466836718,-563.70469773777552,null,-9030.0583103075478,9020464.5472995024,null,{"$f":"+Bono!J452","v":37701.30570312839},null,35.75,9321141.3919976521]
[null,430,35,10,79,262975.53899502248,null,2495.3204363841373,0,0,-265.47085943140661,265205.38857197517,null,430,35,10,35,9020464.5472995024,{"$f":"IF($G$4=\"mensual\",S444,IF($G$4=\"trimestral\",S444,0))","v":8238.2992417763653},null,85671.491778710712,-563.70469773777552,null,-9114.374338319989,9104696.2592839319,null,{"$f":"+Bono!J453","v":37935.058171568577},null,35.833333333333336,9407836.7060274761]
[null,431,35,11,79,265205.38857197517,null,2516.4790172951093,0,0,-267.72186758927029,267454.14572168101,null,431,35,11,35,9104696.2592839319,{"$f":"IF($G$17=\"si\",S442*(1+$G$20),S442)","v":8238.2992417763653},null,86470.749052256404,-563.70469773777552,null,-9199.4053075779648,9189642.1975726485,null,{"$f":"+Bono!J454","v":38170.259932426699},null,35.916666666666664,9495266.6032267567]
[null,432,35,12,79,267454.14572168101,null,2537.8170082488309,0,{"$f":"-SUM(F455:H455)*$J$21","v":-2429.927664569369},-269.99196272992981,267292.04310263053,null,432,35,12,35,9189642.1975726485,{"$f":"IF($G$4=\"mensual\",S454,0)","v":8238.2992417763653},null,87276.783471311908,-563.70469773777552,null,-9285.1572802857372,9275308.4183077142,null,{"$f":"+Bono!J455","v":38060.911683452476},null,36,9580661.3730937988]
[null,433,36,1,80,267292.04310263053,null,2536.2788500625074,0,0,-269.82832195269305,269558.49363074033,null,433,36,1,36,9275308.4183077142,{"$f":"IF($G$17=\"si\",S444*(1+$G$20),S444)","v":8649.1448726236013},null,88093.550930474434,{"$f":"(V455*(1+$G$18))","v":-591.81676375489792},null,-9372.0511141108127,9362087.2462329473,null,{"$f":"+Bono!J456","v":38296.893750682386},null,36.083333333333336,9669942.6336143706]
[null,434,36,2,80,269558.49363074033,null,2557.7847298202178,0,0,-272.11627836056056,271844.1620822,null,434,36,2,36,9362087.2462329473,{"$f":"IF($G$4=\"mensual\",S456,0)","v":8649.1448726236013},null,88916.977259762774,-591.81676375489792,null,-9459.6533683653342,9449601.8982332144,null,{"$f":"+Bono!J457","v":38534.338934101339},null,36.166666666666664,9759980.3992495164]
[null,435,36,3,80,271844.1620822,null,2579.4729644732274,0,{"$f":"-SUM(F458:H458)*$J$21","v":-2469.8127154200592},-274.42363504667327,271679.39869620651,null,435,36,3,36,9449601.8982332144,{"$f":"IF($G$4=\"mensual\",S457,0)","v":8649.1448726236013},null,89747.385671335403,-591.81676375489792,null,-9547.9984287771749,9537858.6135846432,null,{"$f":"+Bono!J458","v":38423.947689837274},null,36.25,9847961.9599706866]
[null,436,36,4,80,271679.39869620651,null,2577.9095588203345,0,0,-274.25730825502683,273983.05094677181,null,436,36,4,36,9537858.6135846432,{"$f":"IF($G$4=\"mensual\",S456,IF($G$4=\"trimestral\",S456,0))","v":8649.1448726236013},null,90584.835368391548,-591.81676375489792,null,-9637.0925938256587,9626863.6844680775,null,{"$f":"+Bono!J459","v":38662.18062241633},null,36.333333333333336,9939508.9160372652]
[null,437,36,5,80,273983.05094677181,null,2599.768438019235,0,0,-276.58281938479104,276306.2365654062,null,437,36,5,36,9626863.6844680775,{"$f":"IF($G$4=\"mensual\",S459,0)","v":8649.1448726236013},null,91429.386056132338,-591.81676375489792,null,-9726.9422153968353,9716623.4564176835,null,{"$f":"+Bono!J460","v":38901.890626810695},null,36.416666666666664,10031831.5836099]
[null,438,36,6,80,276306.2365654062,null,2621.8126653030581,0,{"$f":"-SUM(F461:H461)*$J$21","v":-2510.3524430763837},-278.92804923070929,276138.76873840217,null,438,36,6,36,9716623.4564176835,{"$f":"IF($G$4=\"mensual\",S460,0)","v":8649.1448726236013},null,92281.097946017559,-591.81676375489792,null,-9817.5536992363268,9807144.3287733346,null,{"$f":"+Bono!J461","v":38790.446438865438},null,36.5,10122073.543950602]
[null,439,36,7,80,276138.76873840217,null,2620.2235977694122,0,0,-278.75899233617156,278480.2333438354,null,439,36,7,36,9807144.3287733346,{"$f":"+IF($G$4=\"mensual\",S456,IF($G$4=\"trimestral\",S456,IF($G$4=\"semestral\",S456,0)))","v":8649.1448726236013},null,93140.031760058147,-591.81676375489792,null,-9908.9335054060175,9898432.7551368549,null,{"$f":"+Bono!J462","v":39030.951706199696},null,36.583333333333336,10215943.94018689]
[null,440,36,8,80,278480.2333438354,null,2642.4412705740233,0,0,-281.12267461440939,280841.55193979497,null,440,36,8,36,9898432.7551368549,{"$f":"IF($G$4=\"mensual\",S462,0)","v":8649.1448726236013},null,94006.24873514552,-591.81676375489792,null,-10001.088148744624,9990495.2438321244,null,{"$f":"+Bono!J463","v":39272.948134088314},null,36.666666666666664,10310609.743906008]
[null,441,36,9,80,280841.55193979497,null,2664.847333783664,0,{"$f":"-SUM(F464:H464)*$J$21","v":-2551.5575934622084},-283.50639927357867,280671.33528084285,null,441,36,9,36,9990495.2438321244,{"$f":"IF($G$4=\"mensual\",S463,0)","v":8649.1448726236013},null,94879.810627417333,-591.81676375489792,null,-10094.024199332167,10083338.358369078,null,{"$f":"+Bono!J464","v":39160.440959179869},null,36.75,10403170.134609101]
[null,442,36,10,80,280671.33528084285,null,2663.2321831528507,0,0,-283.33456746399571,283051.2328965317,null,442,36,10,36,10083338.358369078,{"$f":"IF($G$4=\"mensual\",S456,IF($G$4=\"trimestral\",S456,0))","v":8649.1448726236013},null,95760.779716660269,-591.81676375489792,null,-10187.748282958362,10176968.717911649,null,{"$f":"+Bono!J465","v":39403.240235456789},null,36.833333333333336,10499423.191043638]
[null,443,36,11,80,283051.2328965317,null,2685.8145388336302,0,0,-285.73704743536535,285451.31038792996,null,443,36,11,36,10176968.717911649,{"$f":"IF($G$17=\"si\",S454*(1+$G$20),S454)","v":8649.1448726236013},null,96649.218810750288,-591.81676375489792,null,-10282.267081595024,10271392.997749675,null,{"$f":"+Bono!J466","v":39647.544895409599},null,36.916666666666664,10596491.853033014]
[null,444,36,12,80,285451.31038792996,null,2708.5883771764616,0,{"$f":"-SUM(F467:H467)*$J$21","v":-2593.439088885958},-288.15989876510639,285278.29977745534,null,444,36,12,36,10271392.997749675,{"$f":"IF($G$4=\"mensual\",S466,0)","v":8649.1448726236013},null,97545.191250130432,-591.81676375489792,null,-10377.58733387243,10366617.929774802,null,{"$f":"+Bono!J467","v":39533.964594460245},null,37,10691430.194146719]
[null,445,37,1,81,285278.29977745534,null,2706.9467153181822,0,0,-287.98524649277351,287697.26124628074,null,445,37,1,37,10366617.929774802,{"$f":"IF($G$17=\"si\",S456*(1+$G$20),S456)","v":9080.4794572503142},null,98452.853756885641,{"$f":"(V467*(1+$G$18))","v":-621.33078412670739},null,-10474.151262988938,10463055.780941822,null,{"$f":"+Bono!J468","v":39779.079760601962},null,37.083333333333336,10790532.121948704]
[null,446,37,2,81,287697.26124628074,null,2729.8997398126016,0,0,-290.42716098609333,290136.73382510722,null,446,37,2,37,10463055.780941822,{"$f":"IF($G$4=\"mensual\",S468,0)","v":9080.4794572503142},null,99367.932557665627,-621.33078412670739,null,-10571.504192956736,10560311.357979652,null,{"$f":"+Bono!J469","v":40025.71466920535},null,37.166666666666664,10890473.806473965]
[null,447,37,3,81,290136.73382510722,null,2753.0473899826793,0,{"$f":"-SUM(F470:H470)*$J$21","v":-2636.0080309358095},-292.8897812150899,289960.88340293895,null,447,37,3,37,10560311.357979652,{"$f":"IF($G$4=\"mensual\",S469,0)","v":9080.4794572503142},null,100290.77058991099,-621.33078412670739,null,-10669.682608026813,10658391.594634658,null,{"$f":"+Bono!J470","v":39911.051006427893},null,37.25,10988263.529044025]
[null,448,37,4,81,289960.88340293895,null,2751.3787817392654,0,0,-292.71226218467825,292419.54992249358,null,448,37,4,37,10658391.594634658,{"$f":"IF($G$4=\"mensual\",S468,IF($G$4=\"trimestral\",S468,0))","v":9080.4794572503142},null,101221.43364650525,-621.33078412670739,null,-10768.693507738413,10757303.483446548,null,{"$f":"+Bono!J471","v":40158.50415206312},null,37.333333333333336,11089881.537521105]
[null,449,37,5,81,292419.54992249358,null,{"$f":"SUM(F472:G472)*$G$8","v":2774.7085592385115},0,0,-295.19425848173211,{"$f":"SUM(F472:K472)","v":294899.06422325037},null,449,37,5,37,10757303.483446548,{"$f":"IF($G$4=\"mensual\",S471,0)","v":9080.4794572503142},null,102159.98807820976,-621.33078412670739,null,-10868.543950982008,{"$f":"SUM(R472:X472)","v":10857054.076246899},null,{"$f":"+Bono!J472","v":40407.491535904075},null,37.416666666666664,11192360.632006053]
[null,{"$f":"+B472+1","v":450},37,6,81,{"$f":"L472","v":294899.06422325037},null,2798.23615701673,0,{"$f":"-SUM(F473:H473)*$J$21","v":-2679.2757034224041},{"$f":"-SUM(F473:H473)*0.1%","v":-297.69730038026711},294720.32737646444,null,{"$f":"+N472+1","v":450},37,6,37,{"$f":"Y472","v":10857054.076246899},{"$f":"IF($G$4=\"mensual\",S472,0)","v":9080.4794572503142},null,103106.50079839421,-621.33078412670739,null,{"$f":"-SUM(R473:U473)*0.1%","v":-10969.241056502544},10957650.484661914,null,{"$f":"+Bono!J473","v":40291.734177879422},null,{"$f":"+B473/12","v":37.5},{"$f":"+AA473+Y473+L473","v":11292662.546216259}]
[null,451,37,7,81,294720.32737646444,null,2796.5401600877981,0,0,-297.51686753655224,297219.35066901572,null,451,37,7,37,10957650.484661914,{"$f":"+IF($G$4=\"mensual\",S468,IF($G$4=\"trimestral\",S468,IF($G$4=\"semestral\",S468,0)))","v":9080.4794572503142},null,104061.03928780704,-621.33078412670739,null,-11070.792003406972,11059099.880619438,null,{"$f":"+Bono!J474","v":40541.547603334162},null,37.583333333333336,11396860.778891787]
[null,452,37,8,81,297219.35066901572,null,2820.2528746495173,0,0,-300.03960354366529,299739.56394012162,null,452,37,8,37,11059099.880619438,{"$f":"IF($G$4=\"mensual\",S474,0)","v":9080.4794572503142},null,105023.67159938651,-621.33078412670739,null,-11173.204031676074,11161409.496860271,null,{"$f":"+Bono!J475","v":40792.909901003295},null,37.666666666666664,11501941.970701395]
[null,453,37,9,81,299739.56394012162,null,2844.1666565300293,0,{"$f":"-SUM(F476:H476)*$J$21","v":-2723.2535753698653},-302.58373059665166,299557.89329068514,null,453,37,9,37,11161409.496860271,{"$f":"IF($G$4=\"mensual\",S475,0)","v":9080.4794572503142},null,105994.46636311243,-621.33078412670739,null,-11276.484442680632,11264586.627453825,null,{"$f":"+Bono!J476","v":40676.048415749196},null,37.75,11604820.569160258]
[null,454,37,10,81,299557.89329068514,null,2842.4428213552351,0,0,-302.40033611204041,302097.93577592837,null,454,37,10,37,11264586.627453825,{"$f":"IF($G$4=\"mensual\",S468,IF($G$4=\"trimestral\",S468,0))","v":9080.4794572503142},null,106973.49279089909,-621.33078412670739,null,-11380.640599701974,11368638.628318144,null,{"$f":"+Bono!J477","v":40928.24463405642},null,37.833333333333336,11711664.808728129]
[null,455,37,11,81,302097.93577592837,null,2866.5447585427519,0,0,-304.96448053447114,304659.51605393662,null,455,37,11,37,11368638.628318144,{"$f":"IF($G$17=\"si\",S466*(1+$G$20),S466)","v":9080.4794572503142},null,107960.82068152967,-621.33078412670739,null,-11485.679928456922,11473572.917744339,null,{"$f":"+Bono!J478","v":41182.004498170107},null,37.916666666666664,11819414.438296447]
[null,456,37,12,81,304659.51605393662,null,2890.8510633860838,0,{"$f":"-SUM(F479:H479)*$J$21","v":-2767.9533040559045},-307.55036711732271,304474.86344614945,null,456,37,12,37,11473572.917744339,{"$f":"IF($G$4=\"mensual\",S478,0)","v":9080.4794572503142},null,108956.52042563244,-621.33078412670739,null,-11591.609917627222,11579396.976925466,null,{"$f":"+Bono!J479","v":41064.028354201058},null,38,11924935.868725818]
[null,457,38,1,82,304474.86344614945,null,2889.0989330259604,0,0,-307.3639623791754,307056.59841679625,null,457,38,1,38,11579396.976925466,{"$f":"IF($G$17=\"si\",S468*(1+$G$20),S468)","v":9533.3247838792795},null,109964.95996623499,{"$f":"(V479*(1+$G$18))","v":-652.31667459726305},null,-11698.89526167558,11686544.049739307,null,{"$f":"+Bono!J480","v":41318.630093129577},null,38.083333333333336,12034919.278249232]
[null,458,38,2,82,307056.59841679625,null,2913.5964815744001,0,0,-309.97019489837066,309660.22470347228,null,458,38,2,38,11686544.049739307,{"$f":"IF($G$4=\"mensual\",S480,0)","v":9533.3247838792795},null,110981.65635371221,-652.31667459726305,null,-11807.059030876897,11794599.655171422,null,{"$f":"+Bono!J481","v":41574.810392371422},null,38.166666666666664,12145834.690267267]
[null,459,38,3,82,309660.22470347228,null,2938.3017522877062,0,{"$f":"-SUM(F482:H482)*$J$21","v":-2813.3867381018404},-312.59852645576001,309472.54119120241,null,459,38,3,38,11794599.655171422,{"$f":"IF($G$4=\"mensual\",S481,0)","v":9533.3247838792795},null,112006.97361907858,-652.31667459726305,null,-11916.13995357438,11903571.496946208,null,{"$f":"+Bono!J482","v":41455.708957749564},null,38.25,12254499.74709516]
[null,460,38,4,82,309472.54119120241,null,2936.5208623025419,0,0,-312.40906205350501,312096.6529914515,null,460,38,4,38,11903571.496946208,{"$f":"IF($G$4=\"mensual\",S480,IF($G$4=\"trimestral\",S480,0))","v":9533.3247838792795},null,113040.98486137966,-652.31667459726305,null,-12026.145806591467,12013467.344110277,null,{"$f":"+Bono!J483","v":41712.739161852223},null,38.333333333333336,12367276.736263581]
[null,461,{"$f":"C472+1","v":38},{"$f":"D472","v":5},{"$f":"E472+1","v":82},312096.6529914515,null,2961.4205158123013,0,0,-315.05807350726377,314743.01543375652,null,461,{"$f":"O472+1","v":38},{"$f":"P472","v":5},{"$f":"Q472+1","v":38},12013467.344110277,{"$f":"IF($G$4=\"mensual\",S483,0)","v":9533.3247838792795},null,{"$f":"SUM(R484:T484)*$G$8","v":114083.76379949009},-652.31667459726305,null,-12137.084432693646,12124295.031586355,null,{"$f":"+Bono!J484","v":41971.362983033978},null,38.416666666666664,12481009.410003144]
[null,462,38,6,82,314743.01543375652,null,2986.5313010571913,0,{"$f":"-SUM(F485:H485)*$J$21","v":-2859.5659206133237},-317.72954673481371,314552.25126746559,null,462,38,6,38,12124295.031586355,{"$f":"IF($G$4=\"mensual\",S484,0)","v":9533.3247838792795},null,115135.38477736928,-652.31667459726305,null,-12248.963741147601,12236062.460731857,null,{"$f":"+Bono!J485","v":41851.125524410927},null,38.5,12592465.837523732]
[null,463,38,7,82,314552.25126746559,null,2984.7211793839183,0,0,-317.53697244684952,317219.43547440268,null,463,38,7,38,12236062.460731857,{"$f":"+IF($G$4=\"mensual\",S480,IF($G$4=\"trimestral\",S480,IF($G$4=\"semestral\",S480,0)))","v":9533.3247838792795},null,116195.92276936163,-652.31667459726305,null,-12361.791708285098,12348777.599902214,null,{"$f":"+Bono!J486","v":42110.607357092362},null,38.583333333333336,12708107.64273371]
[null,464,38,8,82,317219.43547440268,null,3010.0295380419343,0,0,-320.22946501244462,319909.23554743215,null,464,38,8,38,12348777.599902214,{"$f":"IF($G$4=\"mensual\",S486,0)","v":9533.3247838792795},null,117265.45338554187,-652.31667459726305,null,-12475.576378071635,12462448.485018965,null,{"$f":"+Bono!J487","v":42371.69800723446},null,38.666666666666664,12824729.418573633]
[null,465,38,9,82,319909.23554743215,null,3035.5524939703378,0,{"$f":"-SUM(F488:H488)*$J$21","v":-2906.5030923726226},-322.94478804140249,319715.34016098845,null,465,38,9,38,12462448.485018965,{"$f":"IF($G$4=\"mensual\",S487,0)","v":9533.3247838792795},null,118344.05287710548,-652.31667459726305,null,-12590.325862679949,12577083.220142672,null,{"$f":"+Bono!J488","v":42250.313688884045},null,38.75,12939048.873992544]
[null,466,38,10,82,319715.34016098845,null,3033.7126607974023,0,0,-322.74905282178588,322426.30376896408,null,466,38,10,38,12577083.220142672,{"$f":"IF($G$4=\"mensual\",S480,IF($G$4=\"trimestral\",S480,0))","v":9533.3247838792795},null,119431.79814180512,-652.31667459726305,null,-12706.048343068356,12692689.97805069,null,{"$f":"+Bono!J489","v":42512.270534488183},null,38.833333333333336,13057628.552354142]
[null,467,38,11,82,322426.30376896408,null,3059.4364331266734,0,0,-325.48574020209077,325160.25446188869,null,467,38,11,38,12692689.97805069,{"$f":"IF($G$17=\"si\",S478*(1+$G$20),S478)","v":9533.3247838792795},null,120528.76672943277,-652.31667459726305,null,-12822.752069564001,12809277.00081984,null,{"$f":"+Bono!J490","v":42775.85154292018},null,38.916666666666664,13177213.106824648]
[null,468,38,12,82,325160.25446188869,null,3085.3783251451946,0,{"$f":"-SUM(F491:H491)*$J$21","v":-2954.2106950833049},-328.24563278703386,324963.17645916349,null,468,38,12,38,12809277.00081984,{"$f":"IF($G$4=\"mensual\",S490,0)","v":9533.3247838792795},null,121635.03684734875,-652.31667459726305,null,-12940.445362451068,12926852.600414019,null,{"$f":"+Bono!J491","v":42653.309425761938},null,39,13294469.086298944]
[null,469,39,1,83,324963.17645916349,null,3083.5082927853741,0,0,-328.04668475194887,327718.63806719694,null,469,39,1,39,12926852.600414019,{"$f":"IF($G$17=\"si\",S480*(1+$G$20),S480)","v":10008.753597516295},null,122755.19861162512,{"$f":"(V491*(1+$G$18))","v":-684.84783762276345},null,-13059.61655262316,13045872.088232914,null,{"$f":"+Bono!J492","v":42917.764891679326},null,39.083333333333336,13416508.49119179]
[null,470,39,2,83,327718.63806719694,null,3109.6542974231966,0,0,-330.82829236462015,330497.46407225553,null,470,39,2,39,13045872.088232914,{"$f":"IF($G$4=\"mensual\",S492,0)","v":10008.753597516295},null,123884.54988671874,-684.84783762276345,null,-13179.76539171715,13165900.778487809,null,{"$f":"+Bono!J493","v":43183.860012160345},null,39.166666666666664,13539582.102572225]
[null,471,39,3,83,330497.46407225553,null,3136.0220019864323,0,{"$f":"-SUM(F494:H494)*$J$21","v":-3002.7013746681782},-333.633486074242,330297.1512134996,null,471,39,3,39,13165900.778487809,{"$f":"IF($G$4=\"mensual\",S493,0)","v":10008.753597516295},null,125023.47727475665,-684.84783762276345,null,-13300.933009360082,13286947.228513099,null,{"$f":"+Bono!J494","v":43060.149052773704},null,39.25,13660304.528779373]
[null,472,39,4,83,330297.1512134996,null,3134.1212747475629,0,0,-333.43127248824715,333097.84121575888,null,472,39,4,39,13286947.228513099,{"$f":"IF($G$4=\"mensual\",S492,IF($G$4=\"trimestral\",S492,0))","v":10008.753597516295},null,126172.06197451298,-684.84783762276345,null,-13423.128044085128,13409020.068203419,null,{"$f":"+Bono!J495","v":43327.126971569043},null,39.333333333333336,13785445.036390748]
[null,473,39,5,83,333097.84121575888,null,3160.6964422529581,0,0,-336.25853765801185,335922.27912035381,null,473,39,5,39,13409020.068203419,{"$f":"IF($G$4=\"mensual\",S495,0)","v":10008.753597516295},null,127330.38587327098,-684.84783762276345,null,-13546.359207674208,13532128.000628909,null,{"$f":"+Bono!J496","v":43595.760184428436},null,39.416666666666664,13911646.039933691]
[null,474,39,6,83,335922.27912035381,null,3187.4969486862469,0,{"$f":"-SUM(F497:H497)*$J$21","v":-3051.9879846213607},-339.10977606904009,335718.67830834963,null,474,39,6,39,13532128.000628909,{"$f":"IF($G$4=\"mensual\",S496,0)","v":10008.753597516295},null,128498.53155266109,{"$f":"V496","v":-684.84783762276345},null,-13670.635285779088,13656279.802655684,null,{"$f":"+Bono!J497","v":43470.869234057463},null,39.5,14035469.35019809]
[null,475,39,7,83,335718.67830834963,null,3185.5650227398264,0,0,-338.90424333108945,338565.33908775833,null,475,39,7,39,13656279.802655684,{"$f":"+IF($G$4=\"mensual\",S492,IF($G$4=\"trimestral\",S492,IF($G$4=\"semestral\",S492,0)))","v":10008.753597516295},null,129676.5822945485,-684.84783762276345,null,-13795.965138547748,13781484.325571578,null,{"$f":"+Bono!J498","v":43740.393665617354},null,39.583333333333336,14163790.058324954]
[null,476,39,8,83,338565.33908775833,null,3212.5763974306342,0,0,-341.77791548518894,341436.13756970374,null,476,39,8,39,13781484.325571578,{"$f":"IF($G$4=\"mensual\",S498,0)","v":10008.753597516295},null,130864.62208697067,-684.84783762276345,null,-13922.357701256065,13907750.495717185,null,{"$f":"+Bono!J499","v":44011.58917991582},null,39.666666666666664,14293198.222466804]
[null,477,39,9,83,341436.13756970374,null,3239.8168097827297,0,{"$f":"-SUM(F500:H500)*$J$21","v":-3102.0835894153788},-344.67595437948648,341229.19483569165,null,477,39,9,39,13907750.495717185,{"$f":"IF($G$4=\"mensual\",S499,0)","v":10008.753597516295},null,132062.73563012516,-684.84783762276345,null,-14049.821984944827,14035087.315122258,null,{"$f":"+Bono!J500","v":43885.506983464533},null,39.75,14420202.016941413]
[null,478,39,10,83,341229.19483569165,null,3237.8531730303725,0,0,-344.46704800872203,344122.58096071333,null,478,39,10,39,14035087.315122258,{"$f":"IF($G$4=\"mensual\",S492,IF($G$4=\"trimestral\",S492,0))","v":10008.753597516295},null,133271.00834240831,-684.84783762276345,null,-14178.367077062183,14163503.862147497,null,{"$f":"+Bono!J501","v":44157.602217165753},null,39.833333333333336,14551784.045325376]
[null,479,39,11,83,344122.58096071333,null,3265.3079148504989,0,0,-347.38788887556382,347040.50098668825,null,479,39,11,39,14163503.862147497,{"$f":"IF($G$17=\"si\",S490*(1+$G$20),S490)","v":10008.753597516295},null,134489.52636650496,-684.84783762276345,null,-14308.00214211152,14293009.292131785,null,{"$f":"+Bono!J502","v":44431.384472877013},null,39.916666666666664,14684481.17759135]
[null,480,39,12,83,347040.50098668825,null,3292.995453776648,0,{"$f":"-SUM(F503:H503)*$J$21","v":-3153.0014679641845},-350.33349644046496,346830.16147606022,null,480,39,12,39,14293009.292131785,{"$f":"IF($G$4=\"mensual\",S502,0)","v":10008.753597516295},null,135718.37657553001,-684.84783762276345,null,-14438.736422304832,14423612.838044904,null,{"$f":"+Bono!J503","v":44304.099667895047},null,40,14814747.099188861]
[null,481,40,1,84,346830.16147606022,null,3290.9995857143372,0,0,-350.12116106177461,349771.03990071284,null,481,40,1,40,14423612.838044904,{"$f":"IF($G$17=\"si\",S492*(1+$G$20),S492)","v":10507.892141175153},null,136962.38280150833,{"$f":"(V503*(1+$G$18))","v":-719.00133625457818},null,-14571.083112987588,14555793.028538346,null,{"$f":"+Bono!J504","v":44578.790224793484},null,40.083333333333336,14950142.858663853]
[null,482,40,2,84,349771.03990071284,null,3318.9049721316487,0,0,-353.08994487284451,352736.85492797167,null,482,40,2,40,14555793.028538346,{"$f":"IF($G$4=\"mensual\",S504,0)","v":10507.892141175153},null,138216.61325915434,-719.00133625457818,null,-14704.517533938675,14689094.015068481,null,{"$f":"+Bono!J505","v":44855.18389500682},null,40.166666666666664,15086686.053891459]
[null,483,40,3,84,352736.85492797167,null,3347.0469768075823,0,{"$f":"-SUM(F506:H506)*$J$21","v":-3204.7551171430136},-356.08390190477928,352523.06288573146,null,483,40,3,40,14689094.015068481,{"$f":"IF($G$4=\"mensual\",S505,0)","v":10507.892141175153},null,139481.47871831444,-719.00133625457818,null,-14839.08338592797,14823525.301205788,null,{"$f":"+Bono!J506","v":44726.685010665467},null,40.25,15220775.049102185]
[null,484,40,4,84,352523.06288573146,null,3345.0183483877036,0,0,-355.86808123411913,355512.21315288503,null,484,40,4,40,14823525.301205788,{"$f":"IF($G$4=\"mensual\",S504,IF($G$4=\"trimestral\",S504,0))","v":10507.892141175153},null,140757.06935640104,-719.00133625457818,null,-14974.790262703364,14959096.471104406,null,{"$f":"+Bono!J507","v":45003.995645705945},null,40.333333333333336,15359612.679902997]
[null,485,40,5,84,355512.21315288503,null,3373.3817763230772,0,0,-358.88559492920814,358526.70933427889,null,485,40,5,40,14959096.471104406,{"$f":"IF($G$4=\"mensual\",S507,0)","v":10507.892141175153},null,142043.47611546819,-719.00133625457818,null,-15111.647839361049,15095817.190185433,null,{"$f":"+Bono!J508","v":45283.025638849715},null,40.416666666666664,15499626.925158562]
[null,486,40,6,84,358526.70933427889,null,3401.9857063904146,0,{"$f":"-SUM(F509:H509)*$J$21","v":-3257.358255366024},-361.92869504066931,358309.40809026256,null,486,40,6,40,15095817.190185433,{"$f":"IF($G$4=\"mensual\",S508,0)","v":10507.892141175153},null,143340.79070869536,-719.00133625457818,null,-15249.665873035303,15233697.205826012,null,{"$f":"+Bono!J509","v":45153.301094908195},null,40.5,15637159.915011182]
[null,487,40,7,84,358309.40809026256,null,3399.9237798815166,0,0,-361.70933187014407,361347.62253827392,null,487,40,7,40,15233697.205826012,{"$f":"+IF($G$4=\"mensual\",S504,IF($G$4=\"trimestral\",S504,IF($G$4=\"semestral\",S504,0)))","v":10507.892141175153},null,144649.10562692588,-719.00133625457818,null,-15388.854203594114,15372746.348054264,null,{"$f":"+Bono!J510","v":45433.256799155373},null,40.583333333333336,15779527.227391694]
[null,488,40,8,84,361347.62253827392,null,3428.7527676695549,0,0,-364.77637530594347,364411.59893063753,null,488,40,8,40,15372746.348054264,{"$f":"IF($G$4=\"mensual\",S510,0)","v":10507.892141175153},null,145968.51414526114,-719.00133625457818,null,-15529.222754340699,15512974.530250104,null,{"$f":"+Bono!J511","v":45714.948261241741},null,40.666666666666664,15923101.077441985]
[null,489,40,9,84,364411.59893063753,null,3457.826205213144,0,{"$f":"-SUM(F512:H512)*$J$21","v":-3310.8248262226566},-367.86942513585069,364190.73088449216,null,489,40,9,40,15512974.530250104,{"$f":"IF($G$4=\"mensual\",S511,0)","v":10507.892141175153},null,147299.11032971047,-719.00133625457818,null,-15670.781532720988,15654391.749852013,null,{"$f":"+Bono!J512","v":45583.986367003563},null,40.75,16064166.467103509]
[null,490,40,10,84,364190.73088449216,null,3455.7304340574046,0,0,-367.6464613185496,367278.81485723105,null,490,40,10,40,15654391.749852013,{"$f":"IF($G$4=\"mensual\",S504,IF($G$4=\"trimestral\",S504,0))","v":10507.892141175153},null,148640.98904389743,-719.00133625457818,null,-15813.540631037085,15797008.089069793,null,{"$f":"+Bono!J513","v":45866.612369894137},null,40.833333333333336,16210153.516296919]
[null,491,40,11,84,367278.81485723105,null,3485.0326234393283,0,0,-370.76384748067039,370393.08363318973,null,491,40,11,40,15797008.089069793,{"$f":"IF($G$17=\"si\",S502*(1+$G$20),S502)","v":10507.892141175153},null,149994.24595582322,-719.00133625457818,null,-15957.510227166791,15940833.71560337,null,{"$f":"+Bono!J514","v":46150.990686785219},null,40.916666666666664,16357377.789923346]
[null,492,40,12,84,370393.08363318973,null,3514.5832749970377,0,{"$f":"-SUM(F515:H515)*$J$21","v":-3365.1690021736813},-373.90766690818674,370168.59023910487,null,492,40,12,40,15940833.71560337,{"$f":"IF($G$4=\"mensual\",S514,0)","v":10507.892141175153},null,151358.97754468699,-719.00133625457818,null,-16102.700585289233,16085878.883367689,null,{"$f":"+Bono!J515","v":46018.779640044646},null,41,16502066.25324684]
[null,493,41,1,85,370168.59023910487,null,3512.4531036653848,0,0,-373.68104334277024,373307.36229942751,null,493,41,1,41,16085878.883367689,{"$f":"IF($G$17=\"si\",S504*(1+$G$20),S504)","v":11031.922823833986},null,152740.2535264036,{"$f":"(V515*(1+$G$18))","v":-754.85807669386122},null,-16249.651059717928,16232646.550581515,null,{"$f":"+Bono!J516","v":46304.101411660973},null,41.083333333333336,16652258.014292603]
[null,494,41,2,85,373307.36229942751,null,3542.2362618146408,0,0,-376.84959856124215,376472.74896268093,null,494,41,2,41,16232646.550581515,{"$f":"IF($G$4=\"mensual\",S516,0)","v":11031.922823833986},null,154132.90153008737,-754.85807669386122,null,-16397.811374935434,16380658.705483805,null,{"$f":"+Bono!J517","v":46591.192211356596},null,41.166666666666664,16803722.646657843]
[null,495,41,3,85,376472.74896268093,null,3572.2719604201434,0,{"$f":"-SUM(F518:H518)*$J$21","v":-3420.4051883079101},-380.04502092310105,376244.57071387005,null,495,41,3,41,16380658.705483805,{"$f":"IF($G$4=\"mensual\",S517,0)","v":11031.922823833986},null,155537.35821975666,-754.85807669386122,null,-16547.227986527396,16529925.900464173,null,{"$f":"+Bono!J518","v":46457.720097335034},null,41.25,16952628.191275377]
[null,496,41,4,85,376244.57071387005,null,3570.1068242650013,0,0,-379.81467753813502,379434.86286059691,null,496,41,4,41,16529925.900464173,{"$f":"IF($G$4=\"mensual\",S516,IF($G$4=\"trimestral\",S516,0))","v":11031.922823833986},null,156953.72372485138,-754.85807669386122,null,-16697.91154701286,16680458.777389152,null,{"$f":"+Bono!J519","v":46745.763350700501},null,41.333333333333336,17106639.403600451]
[null,497,41,5,85,379434.86286059691,null,3600.378845846119,0,0,-383.035241706443,382652.20646473655,null,497,41,5,41,16680458.777389152,{"$f":"IF($G$4=\"mensual\",S519,0)","v":11031.922823833986},null,158382.09902383958,-754.85807669386122,null,-16849.872799236826,16832268.068360895,null,{"$f":"+Bono!J520","v":47035.592505647786},null,41.416666666666664,17261955.867331281]
[null,498,41,6,85,382652.20646473655,null,3630.9075531052049,0,{"$f":"-SUM(F521:H521)*$J$21","v":-3476.5480261605762},-386.28311401784174,382420.28287766333,null,498,41,6,41,16832268.068360895,{"$f":"IF($G$4=\"mensual\",S520,0)","v":11031.922823833986},null,159822.58595141635,-754.85807669386122,null,-17003.12257713615,16985364.596482318,null,{"$f":"+Bono!J521","v":46900.847295920023},null,41.5,17414685.726655904]
[null,499,41,7,85,382420.28287766333,null,3628.7068782108213,0,0,-386.04898975587417,385662.94076611829,null,499,41,7,41,16985364.596482318,{"$f":"+IF($G$4=\"mensual\",S516,IF($G$4=\"trimestral\",S516,IF($G$4=\"semestral\",S516,0)))","v":11031.922823833986},null,161275.28720576409,-754.85807669386122,null,-17157.671806511917,17139759.27662871,null,{"$f":"+Bono!J522","v":47191.637989316288},null,41.583333333333336,17572613.855384145]
[null,500,41,8,85,385662.94076611829,null,3659.4757874720631,0,0,-389.32241655359036,388933.09413703677,null,500,41,8,41,17139759.27662871,{"$f":"IF($G$4=\"mensual\",S522,0)","v":11031.922823833986},null,162740.3063558744,-754.85807669386122,null,-17313.53150580842,17295463.116225917,null,{"$f":"+Bono!J523","v":47484.231618741243},null,41.666666666666664,17731880.441981692]
[null,501,41,9,85,388933.09413703677,null,3690.5055956730371,0,{"$f":"-SUM(F524:H524)*$J$21","v":-3533.6123975943888},-392.62359973270981,388697.36373538274,null,501,41,9,41,17295463.116225917,{"$f":"IF($G$4=\"mensual\",S523,0)","v":11031.922823833986},null,164217.74784893182,-754.85807669386122,null,-17470.712786898683,17452487.21603509,null,{"$f":"+Bono!J524","v":47348.201170151471},null,41.75,17888532.780940622]
[null,502,41,10,85,388697.36373538274,null,3688.268798703356,0,0,-392.38563253408608,391993.24690155196,null,502,41,10,41,17452487.21603509,{"$f":"IF($G$4=\"mensual\",S516,IF($G$4=\"trimestral\",S516,0))","v":11031.922823833986},null,165707.71701776035,-754.85807669386122,null,-17629.226855876685,17610842.770944111,null,{"$f":"+Bono!J525","v":47641.765509457815},null,41.833333333333336,18050477.783355121]
[null,503,41,11,85,391993.24690155196,null,3719.5427516037134,0,0,-395.71278965315565,395317.0768635025,null,503,41,11,41,17610842.770944111,{"$f":"IF($G$17=\"si\",S514*(1+$G$20),S514)","v":11031.922823833986},null,167210.32008833307,-754.85807669386122,null,-17789.085013856282,17770541.07076573,null,{"$f":"+Bono!J526","v":47937.149981719216},null,41.916666666666664,18213795.29761095]
[null,504,41,12,85,395317.0768635025,null,3751.0818858624252,0,{"$f":"-SUM(F527:H527)*$J$21","v":-3591.6134287442846},-399.0681587493649,395077.47716187121,null,504,41,12,41,17770541.07076573,{"$f":"IF($G$4=\"mensual\",S526,0)","v":11031.922823833986},null,168725.66418734536,-754.85807669386122,null,-17950.298657776912,17931593.501042437,null,{"$f":"+Bono!J527","v":47799.822035286685},null,42,18374470.800239593]
[null,505,42,1,86,395077.47716187121,null,3748.8083739064582,0,0,-398.82628553577769,398427.45925024193,null,505,42,1,42,17931593.501042437,{"$f":"IF($G$17=\"si\",S516*(1+$G$20),S516)","v":11582.087021443151},null,170259.07774400353,{"$f":"(V527*(1+$G$18))","v":-792.50299995019941},null,-18113.434665807883,18094528.728142127,null,{"$f":"+Bono!J528","v":48096.186476341645},null,42.083333333333336,18541052.373868711]
[null,506,42,2,86,398427.45925024193,null,3780.59566027757,0,0,-402.20805491051954,401805.84685560898,null,506,42,2,42,18094528.728142127,{"$f":"IF($G$4=\"mensual\",S528,0)","v":11582.087021443151},null,171805.13637570175,-792.50299995019941,null,-18277.915951539275,18258845.532587785,null,{"$f":"+Bono!J529","v":48394.388411307293},null,42.166666666666664,18709045.767854702]
[null,507,42,3,86,401805.84685560898,null,3812.6524807176597,0,{"$f":"-SUM(F530:H530)*$J$21","v":-3650.5664940269398},-405.61849933632664,401562.31434296339,null,507,42,3,42,18258845.532587785,{"$f":"IF($G$4=\"mensual\",S529,0)","v":11582.087021443151},null,173364.304508759,-792.50299995019941,null,-18443.791924117992,18424555.629193921,null,{"$f":"+Bono!J530","v":48255.750591121541},null,42.25,18874373.694128007]
[null,508,42,4,86,401562.31434296339,null,3810.3416511323271,0,0,-405.37265599409574,404967.28333810164,null,508,42,4,42,18424555.629193921,{"$f":"IF($G$4=\"mensual\",S528,IF($G$4=\"trimestral\",S528,0))","v":11582.087021443151},null,174936.69330262436,-792.50299995019941,null,-18611.074409517991,18591670.83210852,null,{"$f":"+Bono!J531","v":48554.941842107117},null,42.333333333333336,19045193.057288732]
[null,509,42,5,86,404967.28333810164,null,3842.650696875869,0,0,-408.80993403497752,408401.12410094251,null,509,42,5,42,18591670.83210852,{"$f":"IF($G$4=\"mensual\",S531,0)","v":11582.087021443151},null,176522.41485930182,-792.50299995019941,null,-18779.775333989266,18760203.055655327,null,{"$f":"+Bono!J532","v":48855.988113552834},null,42.416666666666664,19217460.167869821]
[null,510,42,6,86,408401.12410094251,null,3875.2337008447971,0,{"$f":"-SUM(F533:H533)*$J$21","v":-3710.4872202160864},-412.27635780178736,408153.59422376944,null,510,42,6,42,18760203.055655327,{"$f":"IF($G$4=\"mensual\",S532,0)","v":11582.087021443151},null,178121.58223134233,-792.50299995019941,null,-18949.906724908113,18930164.315183256,null,{"$f":"+Bono!J533","v":48716.027925658374},null,42.5,19387033.937332686]
[null,511,42,7,86,408153.59422376944,null,3872.8849410951789,0,0,-412.02647916486467,411614.4526856998,null,511,42,7,42,18930164.315183256,{"$f":"+IF($G$4=\"mensual\",S528,IF($G$4=\"trimestral\",S528,IF($G$4=\"semestral\",S528,0)))","v":11582.087021443151},null,179734.30942990378,-792.50299995019941,null,-19121.480711634602,19101566.727923017,null,{"$f":"+Bono!J534","v":49018.072949506946},null,42.583333333333336,19562199.253558222]
[null,512,42,8,86,411614.4526856998,null,3905.7243104163358,0,0,-415.52017699611611,415104.65681911999,null,512,42,8,42,19101566.727923017,{"$f":"IF($G$4=\"mensual\",S534,0)","v":11582.087021443151},null,181360.71143287933,-792.50299995019941,null,-19294.50952637734,19274422.513851013,null,{"$f":"+Bono!J535","v":49321.990687538426},null,42.666666666666664,19738849.161357671]
[null,513,42,9,86,415104.65681911999,null,{"$f":"SUM(F536:G536)*$G$8","v":3938.8421347377857},0,{"$f":"-SUM(F536:H536)*$J$21","v":-3771.39149058472},-419.04349895385775,{"$f":"SUM(F536:K536)","v":414853.06396431918},null,513,42,9,42,19274422.513851013,{"$f":"IF($G$4=\"mensual\",S535,0)","v":11582.087021443151},null,183000.90419309467,-792.50299995019941,null,-19469.005505065554,{"$f":"SUM(R536:X536)","v":19448743.996560536},null,{"$f":"+Bono!J536","v":49180.69551880881},null,42.75,19912777.756043665]
[null,{"$f":"+B536+1","v":514},42,10,86,{"$f":"L536","v":414853.06396431918},null,3936.4548222347603,0,0,{"$f":"-SUM(F537:H537)*0.1%","v":-418.78951878655397},418370.7292677674,null,{"$f":"+N536+1","v":514},42,10,42,{"$f":"Y536","v":19448743.996560536},{"$f":"IF($G$4=\"mensual\",S528,IF($G$4=\"trimestral\",S528,0))","v":11582.087021443151},null,184655.00464657485,-792.50299995019941,null,{"$f":"-SUM(R537:U537)*0.1%","v":-19644.981088228553},19624543.604140375,null,{"$f":"+Bono!J537","v":49485.621535633014},null,{"$f":"+B537/12","v":42.833333333333336},{"$f":"+AA537+Y537+L537","v":20092399.954943776}]
[null,515,42,11,86,418370.7292677674,null,3969.8332199123474,0,0,-422.34056248767979,421918.22192519211,null,515,42,11,42,19624543.604140375,{"$f":"IF($G$17=\"si\",S526*(1+$G$20),S526)","v":11582.087021443151},null,186323.1307208809,-792.50299995019941,null,-19822.448821882699,19801833.870060865,null,{"$f":"+Bono!J538","v":49792.438129130758},null,42.916666666666664,20273544.530115187]
[null,516,42,12,86,421918.22192519211,null,4003.4946431756043,0,{"$f":"-SUM(F539:H539)*$J$21","v":-3833.29544911531},-425.92171656836774,421662.49940268404,null,516,42,12,42,19801833.870060865,{"$f":"IF($G$4=\"mensual\",S538,0)","v":11582.087021443151},null,188005.40134351759,-792.50299995019941,null,-20001.421358425825,19980627.43406745,null,{"$f":"+Bono!J539","v":49649.795246131878},null,43,20451939.728716265]
[null,517,43,1,87,421662.49940268404,null,4001.0681451108162,0,0,-425.66356754779486,425237.90398024704,null,517,43,1,43,19980627.43406745,{"$f":"IF($G$17=\"si\",S528*(1+$G$20),S528)","v":12159.688017619925},null,189707.41718666375,{"$f":"(V539*(1+$G$18))","v":-832.02528305831584},null,-20182.494539271735,20161480.019449405,null,{"$f":"+Bono!J540","v":49957.629735677692},null,43.083333333333336,20636675.553165331]
[null,518,43,2,87,425237.90398024704,null,4034.9944188046716,0,0,-429.27289839905171,428843.62550065265,null,518,43,2,43,20161480.019449405,{"$f":"IF($G$4=\"mensual\",S540,0)","v":12159.688017619925},null,191423.48992103711,-832.02528305831584,null,-20365.063197388066,20343866.108907618,null,{"$f":"+Bono!J541","v":50267.372834765272},null,43.166666666666664,20822977.107243035]
[null,519,43,3,87,428843.62550065265,null,4069.2083636915704,0,{"$f":"-SUM(F542:H542)*$J$21","v":-3896.2155047790984},-432.91283386434424,428583.70552570082,null,519,43,3,43,20343866.108907618,{"$f":"IF($G$4=\"mensual\",S541,0)","v":12159.688017619925},null,193154.11375805442,-832.02528305831584,null,-20549.179910683295,20527798.705489554,null,{"$f":"+Bono!J542","v":50123.369382607831},null,43.25,21006505.780397862]
[null,520,43,4,87,428583.70552570082,null,4066.7420368696908,0,0,-432.65044756257049,432217.79711500794,null,520,43,4,43,20527798.705489554,{"$f":"IF($G$4=\"mensual\",S540,IF($G$4=\"trimestral\",S540,0))","v":12159.688017619925},null,194899.41208094062,-832.02528305831584,null,-20734.857805588115,20713290.92249947,null,{"$f":"+Bono!J543","v":50434.140086730993},null,43.333333333333336,21195942.859701212]
[null,521,43,5,87,432217.79711500794,null,4101.225179465936,0,0,-436.31902229447388,435882.70327217941,null,521,43,5,43,20713290.92249947,{"$f":"IF($G$4=\"mensual\",S543,0)","v":12159.688017619925},null,196659.50931912445,-832.02528305831584,null,-20922.110119836216,20900355.984433323,null,{"$f":"+Bono!J544","v":50746.837605266883},null,43.416666666666664,21386985.52531077]
[null,522,43,6,87,435882.70327217941,null,4136.0007151160144,0,{"$f":"-SUM(F545:H545)*$J$21","v":-3960.1683358856594},-440.01870398729545,435618.51694742247,null,522,43,6,43,20900355.984433323,{"$f":"IF($G$4=\"mensual\",S544,0)","v":12159.688017619925},null,198434.53095710973,-832.02528305831584,null,-21110.950203408054,21089007.22792159,null,{"$f":"+Bono!J545","v":50601.460606447938},null,43.5,21575227.205475461]
[null,523,43,7,87,435618.51694742247,null,4133.4939057842466,0,0,-439.75201085320674,439312.25884235353,null,523,43,7,43,21089007.22792159,{"$f":"+IF($G$4=\"mensual\",S540,IF($G$4=\"trimestral\",S540,IF($G$4=\"semestral\",S540,0)))","v":12159.688017619925},null,200224.60354342152,-832.02528305831584,null,-21301.391519482637,21279258.102680095,null,{"$f":"+Bono!J546","v":50915.195531614052},null,43.583333333333336,21769485.557054061]
[null,524,43,8,87,439312.25884235353,null,4168.5430577790421,0,0,-443.48080190013258,443037.32109823241,null,524,43,8,43,21279258.102680095,{"$f":"IF($G$4=\"mensual\",S546,0)","v":12159.688017619925},null,202029.85469962825,-832.02528305831584,null,-21493.447645397344,21471122.17246889,null,{"$f":"+Bono!J547","v":51230.875649707195},null,43.666666666666664,21965390.369216826]
[null,525,{"$f":"C536+1","v":43},{"$f":"D536","v":9},{"$f":"E536+1","v":87},443037.32109823241,null,4203.8894021935075,0,{"$f":"-SUM(F548:H548)*$J$21","v":-4025.1708945038336},-447.24121050042589,442768.79839542165,null,525,{"$f":"O536+1","v":43},{"$f":"P536","v":9},{"$f":"Q536+1","v":43},21471122.17246889,{"$f":"IF($G$4=\"mensual\",S547,0)","v":12159.688017619925},null,{"$f":"SUM(R548:T548)*$G$8","v":203850.41312944051},-832.02528305831584,null,-21687.132273615953,21664613.116059281,null,{"$f":"+Bono!J548","v":51084.112002940601},null,43.75,22158466.026457641]
[null,526,43,10,87,442768.79839542165,null,4201.3414458683019,0,0,-446.97013984128995,446523.16970144864,null,526,43,10,43,21664613.116059281,{"$f":"IF($G$4=\"mensual\",S540,IF($G$4=\"trimestral\",S540,0))","v":12159.688017619925},null,205686.40862788682,-832.02528305831584,null,-21882.459212704791,21859744.728209026,null,{"$f":"+Bono!J549","v":51400.839422749072},null,43.833333333333336,22357668.737333223]
[null,527,43,11,87,446523.16970144864,null,4236.965897790732,0,0,-450.76013559923939,450309.37546364014,null,527,43,11,43,21859744.728209026,{"$f":"IF($G$17=\"si\",S538*(1+$G$20),S538)","v":12159.688017619925},null,207537.97209056714,-832.02528305831584,null,-22079.442388317217,22056530.92064584,null,{"$f":"+Bono!J550","v":51719.530589298462},null,43.916666666666664,22558559.826698776]
[null,528,43,12,87,450309.37546364014,null,4272.8924202758926,0,{"$f":"-SUM(F551:H551)*$J$21","v":-4091.2404109552449},-454.58226788391602,450036.44520507683,null,528,43,12,43,22056530.92064584,{"$f":"IF($G$4=\"mensual\",S550,0)","v":12159.688017619925},null,209405.23552298508,-832.02528305831584,null,-22278.09584418645,22254985.723059203,null,{"$f":"+Bono!J551","v":51571.367068334213},null,44,22756593.535332616]
[null,529,44,1,88,450036.44520507683,null,4270.3026415668028,0,0,-454.30674784664365,453852.44109879696,null,529,44,1,44,22254985.723059203,{"$f":"IF($G$17=\"si\",S540*(1+$G$20),S540)","v":12766.094090996234},null,211294.08611162359,{"$f":"(V551*(1+$G$18))","v":-873.51855032949061},null,-22479.045903261824,22455693.338808231,null,{"$f":"+Bono!J552","v":51891.115526066213},null,44.083333333333336,22961436.895433094]
[null,530,44,2,88,453852.44109879696,null,4306.511836441533,0,0,-458.15895293523852,457700.79398230324,null,530,44,2,44,22455693.338808231,{"$f":"IF($G$4=\"mensual\",S552,0)","v":12766.094090996234},null,213198.55911785996,-873.51855032949061,null,-22681.657992017088,22658102.815474741,null,{"$f":"+Bono!J553","v":52212.846461324676},null,44.166666666666664,23168016.455918372]
[null,531,44,3,88,457700.79398230324,null,4343.0280600923288,0,{"$f":"-SUM(F554:H554)*$J$21","v":-4158.3943983815607},-462.04382204239562,457423.3838219716,null,531,44,3,44,22658102.815474741,{"$f":"IF($G$4=\"mensual\",S553,0)","v":12766.094090996234},null,215119.1807299458,-873.51855032949061,null,-22885.988090295679,22862228.583655056,null,{"$f":"+Bono!J554","v":52063.269713756978},null,44.25,23371715.237190783]
[null,532,44,4,88,457423.3838219716,null,4340.395772522993,0,0,-461.76377959449462,461302.01581490011,null,532,44,4,44,22862228.583655056,{"$f":"IF($G$4=\"mensual\",S552,IF($G$4=\"trimestral\",S552,0))","v":12766.094090996234},null,217056.08787682149,-873.51855032949061,null,-23092.050765622873,23068085.196306922,null,{"$f":"+Bono!J555","v":52386.068024947774},null,44.333333333333336,23581773.28014677]
[null,533,44,5,88,461302.01581490011,null,4377.1993083733405,0,0,-465.67921512327342,465213.53590815014,null,533,44,5,44,23068085.196306922,{"$f":"IF($G$4=\"mensual\",S555,0)","v":12766.094090996234},null,219009.41864848972,-873.51855032949061,null,-23299.860709046407,23275687.329787031,null,{"$f":"+Bono!J556","v":52710.867723110241},null,44.416666666666664,23793611.733418293]
[null,534,44,6,88,465213.53590815014,null,4414.3149125976506,0,{"$f":"-SUM(F557:H557)*$J$21","v":-4226.6506573867309},-469.62785082074782,464931.57231254026,null,534,44,6,44,23275687.329787031,{"$f":"IF($G$4=\"mensual\",S556,0)","v":12766.094090996234},null,220979.31230586013,-873.51855032949061,null,-23509.432736183888,23485049.784897372,null,{"$f":"+Bono!J557","v":52559.864269174162},null,44.5,24002541.221479088]
[null,535,44,7,88,464931.57231254026,null,4411.6394184238188,0,0,-469.34321173096407,468873.86851923313,null,535,44,7,44,23485049.784897372,{"$f":"+IF($G$4=\"mensual\",S552,IF($G$4=\"trimestral\",S552,IF($G$4=\"semestral\",S552,0)))","v":12766.094090996234},null,222965.9092906781,-873.51855032949061,null,-23720.781788279044,23696187.487940438,null,{"$f":"+Bono!J558","v":52885.741524209945},null,44.583333333333336,24217947.097983878]
[null,536,44,8,88,468873.86851923313,null,4449.0470508159196,0,0,-473.32291557004908,472849.59265447903,null,536,44,8,44,23696187.487940438,{"$f":"IF($G$4=\"mensual\",S558,0)","v":12766.094090996234},null,224969.35123553724,-873.51855032949061,null,-23933.922933266971,23909115.491783377,null,{"$f":"+Bono!J559","v":53213.639256026378},null,44.666666666666664,24435178.723693881]
[null,537,44,9,88,472849.59265447903,null,4486.7718739002921,0,{"$f":"-SUM(F560:H560)*$J$21","v":-4296.0272807554147},-477.33636452837936,472563.00088309555,null,537,44,9,44,23909115.491783377,{"$f":"IF($G$4=\"mensual\",S559,0)","v":12766.094090996234},null,226989.780973977,-873.51855032949061,null,-24148.871366848351,24123848.976931173,null,{"$f":"+Bono!J560","v":53061.195487383091},null,44.75,24649473.173301652]
[null,538,44,10,88,472563.00088309555,null,4484.0524639248788,0,0,-477.04705334702044,476570.00629367342,null,538,44,10,44,24123848.976931173,{"$f":"IF($G$4=\"mensual\",S552,IF($G$4=\"trimestral\",S552,0))","v":12766.094090996234},null,229027.34255066581,{"$f":"V560","v":-873.51855032949061},null,-24365.642413572834,24340403.252608933,null,{"$f":"+Bono!J561","v":53390.181054122593},null,44.833333333333336,24870363.439956728]
[null,539,44,11,88,476570.00629367342,null,4522.0741085536056,0,0,-481.092080402227,480610.98832182476,null,539,44,11,44,24340403.252608933,{"$f":"IF($G$17=\"si\",S550*(1+$G$20),S550)","v":12766.094090996234},null,231082.18123167066,-873.51855032949061,null,-24584.251527931599,24558793.757853337,null,{"$f":"+Bono!J562","v":53721.206369535845},null,44.916666666666664,25093125.952544697]
[null,540,44,12,88,480610.98832182476,null,4560.4181502711053,0,{"$f":"-SUM(F563:H563)*$J$21","v":-4366.5426582488635},-485.1714064720959,480319.69240737491,null,540,44,12,44,24558793.757853337,{"$f":"IF($G$4=\"mensual\",S562,0)","v":12766.094090996234},null,233154.44351481379,-873.51855032949061,null,-24804.714295459144,24779036.062613357,null,{"$f":"+Bono!J563","v":53567.308548046254},null,45,25312923.063568775]
[null,541,45,1,89,480319.69240737491,null,4557.6541036562012,0,0,-484.87734651103108,484392.46916452004,null,541,45,1,45,24779036.062613357,{"$f":"IF($G$17=\"si\",S552*(1+$G$20),S552)","v":13402.741756533034},null,235250.31815798755,{"$f":"(V563*(1+$G$18))","v":-917.08109513813235},null,-25027.689122527874,25001744.35231021,null,{"$f":"+Bono!J564","v":53899.432074467346},null,45.083333333333336,25540036.2535492]
[null,542,45,2,89,484392.46916452004,null,4596.299838973534,0,0,-488.98876900349359,488499.78023449011,null,542,45,2,45,25001744.35231021,{"$f":"IF($G$4=\"mensual\",S564,0)","v":13402.741756533034},null,237363.55100373612,-917.08109513813235,null,-25252.510645070477,25226341.053330272,null,{"$f":"+Bono!J565","v":54233.6148052762},null,45.166666666666664,25769074.448370039]
[null,543,45,3,89,488499.78023449011,null,4635.2732632344005,0,{"$f":"-SUM(F566:H566)*$J$21","v":-4438.2154814795213},-493.13505349772453,488203.70296274725,null,543,45,3,45,25226341.053330272,{"$f":"IF($G$4=\"mensual\",S565,0)","v":13402.741756533034},null,239494.70259350594,-917.08109513813235,null,-25479.238497680311,25452842.178087492,null,{"$f":"+Bono!J566","v":54078.249061762843},null,45.25,25995124.130112004]
[null,544,45,4,89,488203.70296274725,null,4632.4638473101959,0,0,-492.83616681005748,492343.33064324741,null,544,45,4,45,25452842.178087492,{"$f":"IF($G$4=\"mensual\",S564,IF($G$4=\"trimestral\",S564,0))","v":13402.741756533034},null,241643.92486577734,-917.08109513813235,null,-25707.888844709803,25681263.874769956,null,{"$f":"+Bono!J567","v":54413.540478634415},null,45.333333333333336,26228020.745891839]
[null,545,45,5,89,492343.33064324741,null,4671.7439171967308,0,0,-497.01507456044419,496518.05948588374,null,545,45,5,45,25681263.874769956,{"$f":"IF($G$4=\"mensual\",S567,0)","v":13402.741756533034},null,243811.37104736338,-917.08109513813235,null,-25938.477987573853,25911622.428491142,null,{"$f":"+Bono!J568","v":54750.910741181986},null,45.416666666666664,26462891.398718204]
[null,546,45,6,89,496518.05948588374,null,4711.3570547425379,0,{"$f":"-SUM(F569:H569)*$J$21","v":-4511.0647488656368},-501.22941654062629,496217.12237522,null,546,45,6,45,25911622.428491142,{"$f":"IF($G$4=\"mensual\",S568,0)","v":13402.741756533034},null,245997.19566433376,-917.08109513813235,null,-26171.022365912009,26143934.26245096,null,{"$f":"+Bono!J569","v":54594.063074179161},null,45.5,26694745.447900359]
[null,547,45,7,89,496217.12237522,null,4708.5015248131185,0,0,-500.92562390003314,500424.6982761331,null,547,45,7,45,26143934.26245096,{"$f":"+IF($G$4=\"mensual\",S564,IF($G$4=\"trimestral\",S564,IF($G$4=\"semestral\",S564,0)))","v":13402.741756533034},null,248201.55455303169,-917.08109513813235,null,-26405.538558760523,26378215.939106628,null,{"$f":"+Bono!J570","v":54932.552597758433},null,45.583333333333336,26933573.189980518]
[null,548,45,8,89,500424.6982761331,null,4748.4263412934242,0,0,-505.17312461742654,504667.95149280911,null,548,45,8,45,26378215.939106628,{"$f":"IF($G$4=\"mensual\",S570,0)","v":13402.741756533034},null,250424.60487118427,-917.08109513813235,null,-26642.043285734344,26614484.161353473,null,{"$f":"+Bono!J571","v":55273.14079564625},null,45.666666666666664,27174425.253641929]
[null,549,45,9,89,504667.95149280911,null,4788.689692435466,0,{"$f":"-SUM(F572:H572)*$J$21","v":-4585.1097706672017},-509.45664118524456,504362.07477339206,null,549,45,9,45,26614484.161353473,{"$f":"IF($G$4=\"mensual\",S571,0)","v":13402.741756533034},null,252666.50510910663,-917.08109513813235,null,-26880.553408219112,26852755.773715753,null,{"$f":"+Bono!J572","v":55114.797070138236},null,45.75,27412232.645559285]
[null,550,45,10,89,504362.07477339206,null,4785.7872915814087,0,0,-509.14786206497348,508638.71420290845,null,550,45,10,45,26852755.773715753,{"$f":"IF($G$4=\"mensual\",S564,IF($G$4=\"trimestral\",S564,0))","v":13402.741756533034},null,254927.41510100156,-917.08109513813235,null,-27121.085930573288,27093047.763547577,null,{"$f":"+Bono!J573","v":55456.515204893862},null,45.833333333333336,27657142.992955379]
[null,551,45,11,89,508638.71420290845,null,4826.3674375839628,0,0,-513.46508164049249,512951.61655885191,null,551,45,11,45,27093047.763547577,{"$f":"IF($G$17=\"si\",S562*(1+$G$20),S562)","v":13402.741756533034},null,257207.49603635466,-917.08109513813235,null,-27363.658001340464,27335377.262243986,null,{"$f":"+Bono!J574","v":55800.352031721828},null,45.916666666666664,27904129.230834562]
[null,552,45,12,89,512951.61655885191,null,4867.2916749865853,0,{"$f":"-SUM(F575:H575)*$J$21","v":-4660.370174104547},-517.81890823383856,512640.71915150015,null,552,45,12,45,27335377.262243986,{"$f":"IF($G$4=\"mensual\",S574,0)","v":13402.741756533034},null,259506.91047142621,-917.08109513813235,null,-27608.286914471944,27579761.546462335,null,{"$f":"+Bono!J575","v":55640.497977869003},null,46,28148042.763591703]
[null,553,46,1,90,512640.71915150015,null,4864.3416338643265,0,0,-517.50506078536444,516987.55572457908,null,553,46,1,46,27579761.546462335,{"$f":"IF($G$17=\"si\",S564*(1+$G$20),S564)","v":14071.139168479687},null,261832.16462548036,{"$f":"(V575*(1+$G$18))","v":-962.81611276888998},null,-27855.664850256293,27826846.369293269,null,{"$f":"+Bono!J576","v":55985.475519230087},null,46.083333333333336,28399819.400537077]
[null,554,46,2,90,516987.55572457908,null,4905.5878660267445,0,0,-521.89314359060586,521371.25044701522,null,554,46,2,46,27826846.369293269,{"$f":"IF($G$4=\"mensual\",S576,0)","v":14071.139168479687},null,264176.70134660124,-962.81611276888998,null,-28105.094209808351,28076026.299485773,null,{"$f":"+Bono!J577","v":56332.59196136253},null,46.166666666666664,28653730.141894151]
[null,555,46,3,90,521371.25044701522,null,4947.1838375363659,0,{"$f":"-SUM(F578:H578)*$J$21","v":-4736.8659085609643},-526.31843428455159,521055.24994170602,null,555,46,3,46,28076026.299485773,{"$f":"IF($G$4=\"mensual\",S577,0)","v":14071.139168479687},null,266541.11810765177,-962.81611276888998,null,-28356.638556761904,28327319.10209237,null,{"$f":"+Bono!J578","v":56171.213173215438},null,46.25,28904545.565207291]
[null,556,46,4,90,521055.24994170602,null,4944.1853741742634,0,0,-525.99943531588019,525473.43588056439,null,556,46,4,46,28327319.10209237,{"$f":"IF($G$4=\"mensual\",S576,IF($G$4=\"trimestral\",S576,0))","v":14071.139168479687},null,268925.5834775368,-962.81611276888998,null,-28610.315824738387,28580742.692800879,null,{"$f":"+Bono!J579","v":56519.481210346821},null,46.333333333333336,29162735.609891791]
[null,557,46,5,90,525473.43588056439,null,4986.1086256945764,0,0,-530.45954450625891,529929.08496175264,null,557,46,5,46,28580742.692800879,{"$f":"IF($G$4=\"mensual\",S579,0)","v":14071.139168479687},null,271330.2674545084,-962.81611276888998,null,-28866.144099423866,28836315.139211673,null,{"$f":"+Bono!J580","v":56869.908549705011},null,46.416666666666664,29423114.13272313]
[null,558,46,6,90,529929.08496175264,null,5028.3873572151369,0,{"$f":"-SUM(F581:H581)*$J$21","v":-4814.6172508707104},-534.9574723189678,529607.89759577811,null,558,46,6,46,28836315.139211673,{"$f":"IF($G$4=\"mensual\",S580,0)","v":14071.139168479687},null,273755.34147828526,-962.81611276888998,null,-29124.141619858437,29094054.662125811,null,{"$f":"+Bono!J581","v":56706.99048390604},null,46.5,29680369.550205495]
[null,559,46,7,90,529607.89759577811,null,5025.3396768062003,0,0,-534.63323727258432,534098.60403531173,null,559,46,7,46,29094054.662125811,{"$f":"+IF($G$4=\"mensual\",S576,IF($G$4=\"trimestral\",S576,IF($G$4=\"semestral\",S576,0)))","v":14071.139168479687},null,276200.97844227572,-962.81611276888998,null,-29384.326779736562,29353979.636844058,null,{"$f":"+Bono!J582","v":57058.58040251003},null,46.583333333333336,29945136.821281876]
[null,560,46,8,90,534098.60403531173,null,5067.9510603409335,0,0,-539.16655509565271,538627.388540557,null,560,46,8,46,29353979.636844058,{"$f":"IF($G$4=\"mensual\",S582,0)","v":14071.139168479687},null,278667.35270590388,-962.81611276888998,null,-29646.718128718439,29616108.594476953,null,{"$f":"+Bono!J583","v":57412.350219391265},null,46.666666666666664,30212148.333236903]
[null,561,46,9,90,538627.388540557,null,5110.923758756554,0,{"$f":"-SUM(F584:H584)*$J$21","v":-4893.6448106938233},-543.73831229931363,538300.92917632044,null,561,46,9,46,29616108.594476953,{"$f":"IF($G$4=\"mensual\",S583,0)","v":14071.139168479687},null,281154.64010704053,-962.81611276888998,null,-29911.33437375247,29880460.22326595,null,{"$f":"+Bono!J584","v":57247.878193864068},null,46.75,30476009.030636132]
[null,562,46,10,90,538300.92917632044,null,5107.8260534477577,0,0,-543.40875522976819,542865.34647453844,null,562,46,10,46,29880460.22326595,{"$f":"IF($G$4=\"mensual\",S576,IF($G$4=\"trimestral\",S576,0))","v":14071.139168479687},null,283663.01797453908,-962.81611276888998,null,-30178.194380408968,30147053.369915791,null,{"$f":"+Bono!J585","v":57602.821679008892},null,46.833333333333336,30747521.538069338]
[null,563,46,11,90,542865.34647453844,null,5151.1368640575774,0,0,-548.01648333859612,547468.46685525752,null,563,46,11,46,30147053.369915791,{"$f":"IF($G$17=\"si\",S574*(1+$G$20),S574)","v":14071.139168479687},null,286192.66514087835,-962.81611276888998,null,-30447.317174225147,30415907.040938154,null,{"$f":"+Bono!J586","v":57959.96585493251},null,46.916666666666664,31021335.473648343]
[null,564,46,12,90,547468.46685525752,null,5194.81492020318,0,{"$f":"-SUM(F587:H587)*$J$21","v":-4973.9695359791467},-552.66328177546075,547136.64895770617,null,564,46,12,46,30415907.040938154,{"$f":"IF($G$4=\"mensual\",S586,0)","v":14071.139168479687},null,288743.76195491204,-962.81611276888998,null,-30718.721942061544,30687040.404006716,null,{"$f":"+Bono!J587","v":57793.925047558841},null,47,31291970.978011981]
[null,565,47,1,91,547136.64895770617,null,5191.6663688813269,0,0,-552.32831532658759,551775.98701126094,null,565,47,1,47,30687040.404006716,{"$f":"IF($G$17=\"si\",S576*(1+$G$20),S576)","v":14772.869693039602},null,291323.14887037023,{"$f":"(V587*(1+$G$18))","v":-1010.8319448758971},null,-30993.136422570129,30961132.454202682,null,{"$f":"+Bono!J588","v":58152.254086534085},null,47.083333333333336,31571060.695300478]
[null,566,47,2,91,551775.98701126094,null,5235.6880870250388,0,0,-557.01167509828599,556454.66342318768,null,566,47,2,47,30961132.454202682,{"$f":"IF($G$4=\"mensual\",S588,0)","v":14772.869693039602},null,293923.9515796951,-1010.8319448758971,null,-31269.829275475418,31237548.614255067,null,{"$f":"+Bono!J589","v":58512.804807114575},null,47.166666666666664,31852516.08248537]
[null,567,47,3,91,556454.66342318768,null,5280.0830787057303,0,{"$f":"-SUM(F590:H590)*$J$21","v":-5055.6127185170408},-561.73474650189337,556117.39903687441,null,567,47,3,47,31237548.614255067,{"$f":"IF($G$4=\"mensual\",S589,0)","v":14772.869693039602},null,296546.80728620471,-1010.8319448758971,null,-31548.86829123431,31516308.590998203,null,{"$f":"+Bono!J590","v":58345.18025439851},null,47.25,32130771.170289475]
[null,568,47,4,91,556117.39903687441,null,5276.8828467797939,0,0,-561.39428188365423,560832.88760177058,null,568,47,4,47,31516308.590998203,{"$f":"IF($G$4=\"mensual\",S588,IF($G$4=\"trimestral\",S588,0))","v":14772.869693039602},null,299191.90298396954,-1010.8319448758971,null,-31830.273363675216,31797432.258366663,null,{"$f":"+Bono!J591","v":58706.927139597807},null,47.333333333333336,32416972.073108032]
[null,569,47,5,91,560832.88760177058,null,5321.6271413574877,0,0,-566.15451474312806,565588.36022838496,null,569,47,5,47,31797432.258366663,{"$f":"IF($G$4=\"mensual\",S591,0)","v":14772.869693039602},null,301859.42725263943,-1010.8319448758971,null,-32114.064555312343,32080939.658812154,null,{"$f":"+Bono!J592","v":59070.916897445379},null,47.416666666666664,32705598.935937986]
[null,570,47,6,91,565588.36022838496,null,5366.7508364175101,0,{"$f":"-SUM(F593:H593)*$J$21","v":-5138.5959995832236},-570.95511106480251,565245.55995415442,null,570,47,6,47,32080939.658812154,{"$f":"IF($G$4=\"mensual\",S592,0)","v":14772.869693039602},null,304549.57027088862,-1010.8319448758971,null,-32400.262098776086,32366851.004732434,null,{"$f":"+Bono!J593","v":58901.69349316485},null,47.5,32990998.258179754]
[null,571,47,7,91,565245.55995415442,null,5363.4980755974175,0,0,-570.60905802975185,570038.44897172216,null,571,47,7,47,32366851.004732434,{"$f":"+IF($G$4=\"mensual\",S588,IF($G$4=\"trimestral\",S588,IF($G$4=\"semestral\",S588,0)))","v":14772.869693039602},null,307262.52382997412,-1010.8319448758971,null,-32688.88639825545,32655186.679912318,null,{"$f":"+Bono!J594","v":59266.890824996044},null,47.583333333333336,33284492.019709036]
[null,572,47,8,91,570038.44897172216,null,5408.9768070435557,0,0,-575.44742577876571,574871.97835298697,null,572,47,8,47,32655186.679912318,{"$f":"IF($G$4=\"mensual\",S594,0)","v":14772.869693039602},null,309998.48134740925,-1010.8319448758971,null,-32979.958030952766,32945967.240976937,null,{"$f":"+Bono!J595","v":59634.35242264485},null,47.666666666666664,33580473.571752571]
[null,573,47,9,91,574871.97835298697,null,5454.8411664856003,0,{"$f":"-SUM(F596:H596)*$J$21","v":-5222.9413756752538},-580.32681951947256,574523.55132427777,null,573,47,9,47,32945967.240976937,{"$f":"IF($G$4=\"mensual\",S595,0)","v":14772.869693039602},null,312757.63788075326,-1010.8319448758971,null,-33273.497748550733,33239213.418857306,null,{"$f":"+Bono!J596","v":59463.514916490254},null,47.75,33873200.485098071]
[null,574,47,10,91,574523.55132427777,null,5451.5350145573666,0,0,-579.97508633883524,579395.11125249637,null,574,47,10,47,33239213.418857306,{"$f":"IF($G$4=\"mensual\",S588,IF($G$4=\"trimestral\",S588,0))","v":14772.869693039602},null,315540.19014151802,-1010.8319448758971,null,-33569.526478691871,33534946.1202683,null,{"$f":"+Bono!J597","v":59832.195606313311},null,47.833333333333336,34174173.427127108]
[null,575,47,11,91,579395.11125249637,null,5497.7602379846448,0,0,-584.89287149048096,584307.97861899051,null,575,47,11,47,33534946.1202683,{"$f":"IF($G$17=\"si\",S586*(1+$G$20),S586)","v":14772.869693039602},null,318346.33650919184,-1010.8319448758971,null,-33868.065326470532,33833186.429199189,null,{"$f":"+Bono!J598","v":60203.162159177584},null,47.916666666666664,34477697.569977351]
[null,576,47,12,91,584307.97861899051,null,5544.3774191403782,0,{"$f":"-SUM(F599:H599)*$J$21","v":-5308.6712043431789},-589.85235603813089,583953.83247774956,null,576,47,12,47,33833186.429199189,{"$f":"IF($G$4=\"mensual\",S598,0)","v":14772.869693039602},null,321176.27704538312,-1010.8319448758971,null,-34169.135575937617,34133955.608416803,null,{"$f":"+Bono!J599","v":60030.695155377456},null,48,34777940.136049926]
[null,577,48,1,92,583953.83247774956,null,{"$f":"SUM(F600:G600)*$G$8","v":5541.0169997375615},0,0,-589.49484947748715,{"$f":"SUM(F600:K600)","v":588905.35462800972},null,577,48,1,48,34133955.608416803,{"$f":"IF($G$17=\"si\",S588*(1+$G$20),S588)","v":15509.595659205424},null,324037.20414822601,{"$f":"(V599*(1+$G$18))","v":-1061.2423361332469},null,-34473.502408224231,{"$f":"SUM(R600:X600)","v":34437967.663479879},null,{"$f":"+Bono!J600","v":60402.892428470448},null,48.083333333333336,35087275.910536364]
[null,{"$f":"+B600+1","v":578},48,2,92,{"$f":"L600","v":588905.35462800972},null,5588.0009681323818,0,0,{"$f":"-SUM(F601:H601)*0.1%","v":-594.49335559614212},593898.86224054603,null,{"$f":"+N600+1","v":578},48,2,48,{"$f":"Y600","v":34437967.663479879},{"$f":"IF($G$4=\"mensual\",S600,0)","v":15509.595659205424},null,326921.91158833657,-1061.2423361332469,null,{"$f":"-SUM(R601:U601)*0.1%","v":-34780.399170727418},34744557.529220559,null,{"$f":"+Bono!J601","v":60777.397367828824},null,{"$f":"+B601/12","v":48.166666666666664},{"$f":"+AA601+Y601+L601","v":35399233.788828932}]
[null,579,48,3,92,593898.86224054603,null,5635.3833278850025,0,{"$f":"-SUM(F602:H602)*$J$21","v":-5395.8082101158798},-599.53424556843095,593538.90311274666,null,579,48,3,48,34744557.529220559,{"$f":"IF($G$4=\"mensual\",S601,0)","v":15509.595659205424},null,329831.0793401915,-1061.2423361332469,null,-35089.89820421995,35053747.063679598,null,{"$f":"+Bono!J602","v":60603.285323762364},null,48.25,35707889.252116106]
[null,580,48,4,92,593538.90311274666,null,5631.9677502564018,0,0,-599.17087086300307,598571.69999214006,null,580,48,4,48,35053747.063679598,{"$f":"IF($G$4=\"mensual\",S600,IF($G$4=\"trimestral\",S600,0))","v":15509.595659205424},null,332764.91481021343,-1061.2423361332469,null,-35402.02157414901,35365558.310238734,null,{"$f":"+Bono!J603","v":60979.032722315693},null,48.333333333333336,36025109.042953193]
[null,581,48,5,92,598571.69999214006,null,5679.7229177267809,0,0,-604.25142290986685,603647.17148695688,null,581,48,5,48,35365558.310238734,{"$f":"IF($G$4=\"mensual\",S603,0)","v":15509.595659205424},null,335723.62716348731,-1061.2423361332469,null,-35716.79153306142,35680013.49919223,null,{"$f":"+Bono!J604","v":61357.109798324054},null,48.416666666666664,36345017.780477516]
[null,582,48,6,92,603647.17148695688,null,5727.8830157864768,0,{"$f":"-SUM(F605:H605)*$J$21","v":-5484.3754905246915},-609.37505450274341,603281.30395771598,null,582,48,6,48,35680013.49919223,{"$f":"IF($G$4=\"mensual\",S604,0)","v":15509.595659205424},null,338707.42733867222,-1061.2423361332469,null,-36034.230522190112,35997135.049331784,null,{"$f":"+Bono!J605","v":61181.337023120432},null,48.5,36661597.690312624]
[null,583,48,7,92,603281.30395771598,null,5724.4113745600225,0,0,-609.00571533227594,608396.70961694373,null,583,48,7,48,35997135.049331784,{"$f":"+IF($G$4=\"mensual\",S600,IF($G$4=\"trimestral\",S600,IF($G$4=\"semestral\",S600,0)))","v":15509.595659205424},null,341716.52806304046,-1061.2423361332469,null,-36354.361173054036,36316945.569544844,null,{"$f":"+Bono!J606","v":61560.668409259626},null,48.583333333333336,36986902.947571047]
[null,584,48,8,92,608396.70961694373,null,5772.9503996368285,0,0,-614.16966001658056,613555.49035656406,null,584,48,8,48,36316945.569544844,{"$f":"IF($G$4=\"mensual\",S606,0)","v":15509.595659205424},null,344751.14386764343,-1061.2423361332469,null,-36677.206309071691,36639467.860426486,null,{"$f":"+Bono!J607","v":61942.351693992605},null,48.666666666666664,37314965.702477045]
[null,585,48,9,92,613555.49035656406,null,5821.901001870001,0,{"$f":"-SUM(F608:H608)*$J$21","v":-5574.3965222259076},-619.37739135843412,613183.61744484969,null,585,48,9,48,36639467.860426486,{"$f":"IF($G$4=\"mensual\",S607,0)","v":15509.595659205424},null,347811.4911026067,-1061.2423361332469,null,-37002.788947188295,36964724.915904976,null,{"$f":"+Bono!J608","v":61764.902347116928},null,48.75,37639673.435696945]
[null,586,48,10,92,613183.61744484969,null,5818.3723768127629,0,0,-619.00198982166239,618382.98783184076,null,586,48,10,48,36964724.915904976,{"$f":"IF($G$4=\"mensual\",S600,IF($G$4=\"trimestral\",S600,0))","v":15509.595659205424},null,350897.7879525543,-1061.2423361332469,null,-37331.132299516736,37292739.924881086,null,{"$f":"+Bono!J609","v":62147.851905954289},null,48.833333333333336,37973270.764618881]
[null,587,48,11,92,618382.98783184076,null,5867.7081258051239,0,0,-624.25069595764592,623626.4452616882,null,587,48,11,48,37292739.924881086,{"$f":"IF($G$17=\"si\",S598*(1+$G$20),S598)","v":15509.595659205424},null,354010.25445216399,-1061.2423361332469,null,-37662.259774992453,37623536.272881329,null,{"$f":"+Bono!J610","v":62533.175796475844},null,48.916666666666664,38309695.893939495]
[null,588,48,12,92,623626.4452616882,null,5917.4622076182477,0,{"$f":"-SUM(F611:H611)*$J$21","v":-5665.895167223759},-629.54390746930653,623248.46839461348,null,588,48,12,48,37623536.272881329,{"$f":"IF($G$4=\"mensual\",S610,0)","v":15509.595659205424},null,357149.1125018546,-1061.2423361332469,null,-37996.194981042383,37957137.543725207,null,{"$f":"+Bono!J611","v":62354.0338863016},null,49,38642740.046006121]
[null,589,{"$f":"C600+1","v":49},{"$f":"D600","v":1},{"$f":"E600+1","v":93},623248.46839461348,null,5913.8756633925132,0,0,-629.16234405800594,628533.18171394791,null,589,{"$f":"O600+1","v":49},{"$f":"P600","v":1},{"$f":"Q600+1","v":49},37957137.543725207,{"$f":"IF($G$17=\"si\",S600*(1+$G$20),S600)","v":16283.06229664913},null,{"$f":"SUM(R612:T612)*$G$8","v":360321.92514837044},{"$f":"(V611*(1+$G$18))","v":-1114.1667036846791},null,-38333.742531170225,38294294.621935368,null,{"$f":"+Bono!J612","v":62740.636129016937},null,49.083333333333336,38985568.439778328]
[null,590,49,2,93,628533.18171394791,null,5964.0212137983108,0,0,-634.49720292774623,633862.70572481852,null,590,49,2,49,38294294.621935368,{"$f":"IF($G$4=\"mensual\",S612,0)","v":16283.06229664913},null,363521.13884993567,-1114.1667036846791,null,-38674.098823081957,38634310.557555184,null,{"$f":"+Bono!J613","v":63129.635350480188},null,49.166666666666664,39331302.898630485]
[null,591,49,3,93,633862.70572481852,null,6014.5919635773498,0,{"$f":"-SUM(F614:H614)*$J$21","v":-5758.8956791955634},-639.87729768839586,633478.52471151191,null,591,49,3,49,38634310.557555184,{"$f":"IF($G$4=\"mensual\",S613,0)","v":16283.06229664913},null,366747.47965749062,-1114.1667036846791,null,-39017.341099509329,38977209.591706134,null,{"$f":"+Bono!J614","v":62948.7847328481},null,49.25,39673636.901150495]
[null,592,49,4,93,633478.52471151191,null,6010.9465494926853,0,0,-639.48947126100461,638849.98178974353,null,592,49,4,49,38977209.591706134,{"$f":"IF($G$4=\"mensual\",S612,IF($G$4=\"trimestral\",S612,0))","v":16283.06229664913},null,370001.17759001756,-1114.1667036846791,null,-39363.493831592808,39323016.17105753,null,{"$f":"+Bono!J615","v":63339.074499798851},null,49.333333333333336,40025205.227347076]
[null,593,49,5,93,638849.98178974353,null,6061.9151934650254,0,0,-644.91189698320863,644266.98508622544,null,593,49,5,49,39323016.17105753,{"$f":"IF($G$4=\"mensual\",S615,0)","v":16283.06229664913},null,373282.46461689938,-1114.1667036846791,null,-39712.581697971087,39671754.949569426,null,{"$f":"+Bono!J616","v":63731.784108575506},null,49.416666666666664,40379753.718764231]
[null,594,49,6,93,644266.98508622544,null,6113.3160160712969,0,{"$f":"-SUM(F617:H617)*$J$21","v":-5853.422709920671},-650.3803011022967,643876.49809127371,null,594,49,6,49,39671754.949569426,{"$f":"IF($G$4=\"mensual\",S616,0)","v":16283.06229664913},null,376591.57467445818,-1114.1667036846791,null,-40064.629586540534,40023450.790250309,null,{"$f":"+Bono!J617","v":63549.208485338633},null,49.5,40730876.496826917]
[null,595,49,7,93,643876.49809127371,null,6109.6107658325518,0,0,-649.98610885710627,649336.12274824921,null,595,49,7,49,40023450.790250309,{"$f":"+IF($G$4=\"mensual\",S612,IF($G$4=\"trimestral\",S612,IF($G$4=\"semestral\",S612,0)))","v":16283.06229664913},null,379928.74368263321,-1114.1667036846791,null,-40419.662596229595,40378128.766929671,null,{"$f":"+Bono!J618","v":63943.220949199669},null,49.583333333333336,41091408.110627122]
[null,596,49,8,93,649336.12274824921,null,6161.4160137031367,0,0,-655.49753876195234,654842.04122319038,null,596,49,8,49,40378128.766929671,{"$f":"IF($G$4=\"mensual\",S618,0)","v":16283.06229664913},null,383294.20956180053,-1114.1667036846791,null,-40777.706038788128,40735814.166045651,null,{"$f":"+Bono!J619","v":64339.676336039265},null,49.666666666666664,41454995.883604884]
[null,597,49,9,93,654842.04122319038,null,6213.6605340265487,0,{"$f":"-SUM(F620:H620)*$J$21","v":-5949.5013158149532},-661.05570175721698,654445.14473964483,null,597,49,9,49,40735814.166045651,{"$f":"IF($G$4=\"mensual\",S619,0)","v":16283.06229664913},null,386688.21224973578,-1114.1667036846791,null,-41138.785440592037,41096532.488447756,null,{"$f":"+Bono!J620","v":64155.359253594201},null,49.75,41815132.992440991]
[null,598,49,10,93,654445.14473964483,null,6209.8944654777206,0,0,-660.65503920512253,659994.38416591741,null,598,49,10,49,41096532.488447756,{"$f":"IF($G$4=\"mensual\",S612,IF($G$4=\"trimestral\",S612,0))","v":16283.06229664913},null,390110.99371871952,-1114.1667036846791,null,-41502.926544463131,41460309.451214977,null,{"$f":"+Bono!J621","v":64553.129922527558},null,49.833333333333336,42184856.965303421]
[null,599,49,11,93,659994.38416591741,null,6262.5500493380459,0,0,-666.25693421525546,665590.67728104023,null,599,49,11,49,41460309.451214977,{"$f":"IF($G$17=\"si\",S610*(1+$G$20),S610)","v":16283.06229664913},null,393562.79799278919,-1114.1667036846791,null,-41870.155311504415,41827170.989489228,null,{"$f":"+Bono!J622","v":64953.366815746842},null,49.916666666666664,42557715.03358601]
[null,600,49,12,93,665590.67728104023,null,6315.6521159086788,0,{"$f":"-SUM(F623:H623)*$J$21","v":-6047.1569645725413},-671.90632939694888,665187.26610297943,null,600,49,12,49,41827170.989489228,{"$f":"IF($G$4=\"mensual\",S622,0)","v":16283.06229664913},null,397043.87116513617,-1114.1667036846791,null,-42240.497922951014,42197143.258324377,null,{"$f":"+Bono!J623","v":64767.291663550954},null,50,42927097.816090904]
[null,601,50,1,94,665187.26610297943,null,6311.8242307725632,0,0,-671.49909033375195,670827.59124341828,null,601,50,1,50,42197143.258324377,{"$f":"IF($G$17=\"si\",S612*(1+$G$20),S612)","v":17095.10186999548},null,400562.16669101693,{"$f":"(V623*(1+$G$18))","v":-1169.7304200307747},null,-42614.800526885389,42571015.995938472,null,{"$f":"+Bono!J624","v":65168.856384405815},null,50.083333333333336,43307012.443566293]
[null,602,50,2,94,670827.59124341828,null,6365.3441081139108,0,0,-677.19293535153224,676515.74241618067,null,602,50,2,50,42571015.995938472,{"$f":"IF($G$4=\"mensual\",S624,0)","v":17095.10186999548},null,404109.76768212277,{"$f":"V624","v":-1169.7304200307747},null,-42992.220865490584,42948058.914205067,null,{"$f":"+Bono!J625","v":65572.910853108595},null,50.166666666666664,43690147.567474358]
[null,603,50,3,94,676515.74241618067,null,6419.3177967728589,0,{"$f":"-SUM(F626:H626)*$J$21","v":-6146.4155419165818},-682.93506021295354,676105.70961082389,null,603,50,3,50,42948058.914205067,{"$f":"IF($G$4=\"mensual\",S625,0)","v":17095.10186999548},null,407687.44986100541,-1169.7304200307747,null,-43372.841465936064,43328298.894050099,null,{"$f":"+Bono!J626","v":65385.060862183083},null,50.25,44069789.66452311]
[null,604,50,4,94,676105.70961082389,null,6415.427080386442,0,0,-682.52113669121036,681838.61555451911,null,604,50,4,50,43328298.894050099,{"$f":"IF($G$4=\"mensual\",S624,IF($G$4=\"trimestral\",S624,0))","v":17095.10186999548},null,411295.46829520492,-1169.7304200307747,null,-43756.689464215291,43711763.044331044,null,{"$f":"+Bono!J627","v":65790.455823726254},null,50.333333333333336,44459392.11570929]
[null,605,50,5,94,681838.61555451911,null,6469.8254377996063,0,0,-688.30844099231865,687620.1325513263,null,605,50,5,50,43711763.044331044,{"$f":"IF($G$4=\"mensual\",S627,0)","v":17095.10186999548},null,414934.08021505666,-1169.7304200307747,null,-44143.792226416095,44098478.703769647,null,{"$f":"+Bono!J628","v":66198.364281053888},null,50.416666666666664,44852297.200602025]
[null,606,50,6,94,687620.1325513263,null,6524.6850554300827,0,{"$f":"-SUM(F629:H629)*$J$21","v":-6247.3033584608074},-694.14481760675631,687203.36943068879,null,606,50,6,50,44098478.703769647,{"$f":"IF($G$4=\"mensual\",S628,0)","v":17095.10186999548},null,418603.54503203032,-1169.7304200307747,null,-44534.177350671671,44488473.442900971,null,{"$f":"+Bono!J629","v":66008.72252247257},null,50.5,45241685.534854136]
[null,607,50,7,94,687203.36943068879,null,6520.7304764755827,0,0,-693.72409990716437,693030.37580725714,null,607,50,7,50,44488473.442900971,{"$f":"+IF($G$4=\"mensual\",S624,IF($G$4=\"trimestral\",S624,IF($G$4=\"semestral\",S624,0)))","v":17095.10186999548},null,422304.12435722415,-1169.7304200307747,null,-44927.872669128184,44881775.066039026,null,{"$f":"+Bono!J630","v":66417.984258649813},null,50.583333333333336,45641223.426104933]
[null,608,50,8,94,693030.37580725714,null,6576.021733411334,0,0,-699.60639754066847,698906.79114312783,null,608,50,8,50,44881775.066039026,{"$f":"IF($G$4=\"mensual\",S630,0)","v":17095.10186999548},null,426036.08202001656,-1169.7304200307747,null,-45324.906249929038,45278411.613259077,null,{"$f":"+Bono!J631","v":66829.783465062777},null,50.666666666666664,46044148.187867269]
[null,609,50,9,94,698906.79114312783,null,6631.7818217310196,0,{"$f":"-SUM(F632:H632)*$J$21","v":-6349.8471566837306},-705.53857296485887,698483.18723521032,null,609,50,9,50,45278411.613259077,{"$f":"IF($G$4=\"mensual\",S631,0)","v":17095.10186999548},null,429799.68408687564,-1169.7304200307747,null,-45725.306399215944,45678411.362396695,null,{"$f":"+Bono!J632","v":66638.332848426464},null,50.75,46443532.882480338]
[null,610,50,10,94,698483.18723521032,null,6627.76233196251,0,0,-705.11094956717284,704405.83861760562,null,610,50,10,50,45678411.362396695,{"$f":"IF($G$4=\"mensual\",S624,IF($G$4=\"trimestral\",S624,0))","v":17095.10186999548},null,433595.19888032763,-1169.7304200307747,null,-46129.101663147019,46081802.831063837,null,{"$f":"+Bono!J633","v":67051.498241654888},null,50.833333333333336,46853260.1679231]
[null,611,50,11,94,704405.83861760562,null,6683.9611445537812,0,0,-711.08979976215937,710378.70996239723,null,611,50,11,50,46081802.831063837,{"$f":"IF($G$17=\"si\",S622*(1+$G$20),S622)","v":17095.10186999548},null,437422.89699808747,-1169.7304200307747,null,-46536.320829931916,46488614.778681949,null,{"$f":"+Bono!J634","v":67467.225308245557},null,50.916666666666664,47266460.713952594]
[null,612,50,12,94,710378.70996239723,null,6740.6364839694133,0,{"$f":"-SUM(F635:H635)*$J$21","v":-6454.0741180173009},-717.11934644636665,709948.15298190294,null,612,50,12,50,46488614.778681949,{"$f":"IF($G$4=\"mensual\",S634,0)","v":17095.10186999548},null,441283.05133235018,-1169.7304200307747,null,-46946.992931884291,46898876.208532371,null,{"$f":"+Bono!J635","v":67273.948580141878},null,51,47676098.310094409]
[null,613,51,1,95,709948.15298190294,null,6736.551017934964,0,0,-716.68470399983789,715968.01929583808,null,613,51,1,51,46898876.208532371,{"$f":"IF($G$17=\"si\",S624*(1+$G$20),S624)","v":17947.63801927253},null,445184.02662823658,{"$f":"(V635*(1+$G$18))","v":-1228.0651100237933},null,-47362.007873179879,47313417.800196677,null,{"$f":"+Bono!J636","v":67691.054864633799},null,51.083333333333336,48097076.874357149]
[null,614,51,2,95,715968.01929583808,null,6793.6722828817665,0,0,-722.76169157871993,722038.92988714122,null,614,51,2,51,47313417.800196677,{"$f":"IF($G$4=\"mensual\",S636,0)","v":17947.63801927253},null,449117.52595431166,-1228.0651100237933,null,-47780.48296417026,47731474.416096069,null,{"$f":"+Bono!J637","v":68110.747256470917},null,51.166666666666664,48521624.09323968]
[null,615,51,3,95,722038.92988714122,null,6851.2778964070085,0,{"$f":"-SUM(F638:H638)*$J$21","v":-6560.0118700519351},-728.89020778354825,721601.30570571276,null,615,51,3,51,47731474.416096069,{"$f":"IF($G$4=\"mensual\",S637,0)","v":17947.63801927253},null,453084.37861751352,-1228.0651100237933,null,-48202.506432732851,48153075.861190096,null,{"$f":"+Bono!J638","v":67915.626998919441},null,51.25,48942592.793894723]
[null,616,51,4,95,721601.30570571276,null,6847.1253711662675,0,0,-728.44843107687905,727719.9826458022,null,616,51,4,51,48153075.861190096,{"$f":"IF($G$4=\"mensual\",S636,IF($G$4=\"trimestral\",S636,0))","v":17947.63801927253},null,457084.86743093171,-1228.0651100237933,null,-48628.108366640299,48578252.193163641,null,{"$f":"+Bono!J639","v":68336.711764037871},null,51.333333333333336,49374308.887573481]
[null,617,51,5,95,727719.9826458022,null,6905.1842296843843,0,0,-734.62516687548657,733890.54170861107,null,617,51,5,51,48578252.193163641,{"$f":"IF($G$4=\"mensual\",S639,0)","v":17947.63801927253},null,461119.27760571422,-1228.0651100237933,null,-49057.319108788623,49007033.724569812,null,{"$f":"+Bono!J640","v":68760.407303542845},null,51.416666666666664,49809684.673581965]
[null,618,51,6,95,733890.54170861107,null,6963.7353869219924,0,{"$f":"-SUM(F641:H641)*$J$21","v":-6667.6884938597987},-740.85427709553312,733445.73432457773,null,618,51,6,51,49007033.724569812,{"$f":"IF($G$4=\"mensual\",S640,0)","v":17947.63801927253},null,465187.89677140082,-1228.0651100237933,null,-49490.169259360489,49439451.024991103,null,{"$f":"+Bono!J641","v":68563.425932425438},null,51.5,50241460.185248099]
[null,619,51,7,95,733445.73432457773,null,6959.5147017591271,0,0,-740.40524902633683,739664.84377731045,null,619,51,7,51,49439451.024991103,{"$f":"+IF($G$4=\"mensual\",S636,IF($G$4=\"trimestral\",S636,IF($G$4=\"semestral\",S636,0)))","v":17947.63801927253},null,469291.01499642979,-1228.0651100237933,null,-49926.689678006805,49875534.923218779,null,{"$f":"+Bono!J642","v":68988.52712607164},null,51.583333333333336,50684188.294122167]
[null,620,51,8,95,739664.84377731045,null,7018.5265435936153,0,0,-746.68337032090403,745936.68695058313,null,620,51,8,51,49875534.923218779,{"$f":"IF($G$4=\"mensual\",S642,0)","v":17947.63801927253},null,473428.92480881803,-1228.0651100237933,null,-50366.911486046869,50315316.509450801,null,{"$f":"+Bono!J643","v":69416.263996427122},null,51.666666666666664,51130669.460397817]
[null,621,51,9,95,745936.68695058313,null,7078.0387647829784,0,{"$f":"-SUM(F644:H644)*$J$21","v":-6777.1325314382957},-753.01472571536613,745484.57845821243,null,621,51,9,51,50315316.509450801,{"$f":"IF($G$4=\"mensual\",S643,0)","v":17947.63801927253},null,477601.92121701612,-1228.0651100237933,null,-50810.866068687086,50758827.137508385,null,{"$f":"+Bono!J644","v":69217.403759903187},null,51.75,51573529.119726501]
[null,622,51,10,95,745484.57845821243,null,7073.7488009149065,0,0,-752.55832725912728,751805.76893186814,null,622,51,10,51,50758827.137508385,{"$f":"IF($G$4=\"mensual\",S636,IF($G$4=\"trimestral\",S636,0))","v":17947.63801927253},null,481810.30173094146,-1228.0651100237933,null,-51258.585077258598,51206098.427071318,null,{"$f":"+Bono!J645","v":69646.559691936476},null,51.833333333333336,52027550.75569512]
[null,623,51,11,95,751805.76893186814,null,7133.7292684194845,0,0,-758.93949820028763,758180.55870208726,null,623,51,11,51,51206098.427071318,{"$f":"IF($G$17=\"si\",S634*(1+$G$20),S634)","v":17947.63801927253},null,486054.36638318805,-1228.0651100237933,null,-51710.10043147378,51657162.265932284,null,{"$f":"+Bono!J646","v":70078.376440527383},null,51.916666666666664,52485421.201074898]
[null,624,51,12,95,758180.55870208726,null,7194.2183285505917,0,{"$f":"-SUM(F647:H647)*$J$21","v":-6888.3729932757415},-765.3747770306378,757721.02926033142,null,624,51,12,51,51657162.265932284,{"$f":"IF($G$4=\"mensual\",S646,0)","v":17947.63801927253},null,490334.4177504179,-1228.0651100237933,null,-52165.444321701973,52112050.812270254,null,{"$f":"+Bono!J647","v":69877.619417434151},null,52,52939649.46094802]
[null,625,52,1,96,757721.02926033142,null,7189.8579488304258,0,0,-764.91088720916196,764145.97632195277,null,625,52,1,52,52112050.812270254,{"$f":"IF($G$17=\"si\",S636*(1+$G$20),S636)","v":18842.690316821256},null,494659.25394084945,{"$f":"(V647*(1+$G$18))","v":-1289.3089626737019},null,-52625.552756527926,52571637.894808725,null,{"$f":"+Bono!J648","v":70310.868763124425},null,52.083333333333336,53406094.739893802]
[null,626,52,2,96,764145.97632195277,null,7250.8229411138091,0,0,-771.39679926306667,770625.40246380353,null,626,52,2,52,52571637.894808725,{"$f":"IF($G$4=\"mensual\",S648,0)","v":18842.690316821256},null,499020.18060246611,-1289.3089626737019,null,-53089.500765728015,53035121.955999613,null,{"$f":"+Bono!J649","v":70746.804305011785},null,52.166666666666664,53876494.162768424]
[null,627,52,3,96,770625.40246380353,null,7312.304874108755,0,{"$f":"-SUM(F650:H650)*$J$21","v":-7001.4393660412115},-777.93770733791234,770158.33026453317,null,627,52,3,52,53035121.955999613,{"$f":"IF($G$4=\"mensual\",S649,0)","v":18842.690316821256},null,503418.08488758607,-1289.3089626737019,null,-53557.382731204016,53502536.039510138,null,{"$f":"+Bono!J650","v":70544.132403249227},null,52.25,54343238.502177916]
[null,628,52,4,96,770158.33026453317,null,7307.8729227243784,0,0,-777.46620318725752,776688.73698407027,null,628,52,4,52,53502536.039510138,{"$f":"IF($G$4=\"mensual\",S648,IF($G$4=\"trimestral\",S648,0))","v":18842.690316821256},null,507853.28034072532,-1289.3089626737019,null,-54029.232010167681,53973913.469194837,null,{"$f":"+Bono!J651","v":70981.514206762266},null,52.333333333333336,54821583.720385663]
[null,629,52,5,96,776688.73698407027,null,7369.8385998646754,0,0,-784.05857558393495,783274.51700835093,null,629,52,5,52,53973913.469194837,{"$f":"IF($G$4=\"mensual\",S651,0)","v":18842.690316821256},null,512326.08316503942,-1289.3089626737019,null,-54505.082242676697,54449287.85147135,null,{"$f":"+Bono!J652","v":71421.60782819023},null,52.416666666666664,55303983.976307891]
[null,630,52,6,96,783274.51700835093,null,7432.3297028277884,0,{"$f":"-SUM(F653:H653)*$J$21","v":-7116.3616204006103},-790.70684671117874,782799.77824406698,null,630,52,6,52,54449287.85147135,{"$f":"IF($G$4=\"mensual\",S652,0)","v":18842.690316821256},null,516836.81224486657,-1289.3089626737019,null,-54984.96735403304,54928693.077716336,null,{"$f":"+Bono!J653","v":71217.002783090662},null,52.5,55782709.858743489]
[null,631,52,7,96,782799.77824406698,null,7427.8250049954777,0,0,-790.22760324906244,789437.37564581342,null,631,52,7,52,54928693.077716336,{"$f":"+IF($G$4=\"mensual\",S648,IF($G$4=\"trimestral\",S648,IF($G$4=\"semestral\",S648,0)))","v":18842.690316821256},null,521385.78916846216,-1289.3089626737019,null,-55468.921557201618,55412163.326681741,null,{"$f":"+Bono!J654","v":71658.556461006854},null,52.583333333333336,56273259.258788563]
[null,632,52,8,96,789437.37564581342,null,7490.8077923237761,0,0,-796.92818343813724,796131.25525469903,null,632,52,8,52,55412163.326681741,{"$f":"IF($G$4=\"mensual\",S654,0)","v":18842.690316821256},null,525973.33825092623,-1289.3089626737019,null,-55956.979355249488,55899733.066931568,null,{"$f":"+Bono!J655","v":72102.847822943193},null,52.666666666666664,56767967.170009211]
[null,633,52,9,96,796131.25525469903,null,7554.3246298615195,0,{"$f":"-SUM(F656:H656)*$J$21","v":-7233.170218961046},-803.68557988456052,795648.7240857149,null,633,52,9,52,55899733.066931568,{"$f":"IF($G$4=\"mensual\",S655,0)","v":18842.690316821256},null,530599.78655732528,-1289.3089626737019,null,-56449.175543805715,56391437.059299231,null,{"$f":"+Bono!J656","v":71896.291195625177},null,52.75,57258982.074580573]
[null,634,52,10,96,795648.7240857149,null,7549.7459915145464,0,0,-803.19847007722944,802395.27160715219,null,634,52,10,52,56391437.059299231,{"$f":"IF($G$4=\"mensual\",S648,IF($G$4=\"trimestral\",S648,0))","v":18842.690316821256},null,535265.46392600983,-1289.3089626737019,null,-56945.545213542064,56887310.359365843,null,{"$f":"+Bono!J657","v":72342.056540491656},null,52.833333333333336,57762047.687513486]
[null,635,52,11,96,802395.27160715219,null,7613.7625839687898,0,0,-810.00903419112103,809199.02515692986,null,635,52,11,52,56887310.359365843,{"$f":"IF($G$17=\"si\",S646*(1+$G$20),S646)","v":18842.690316821256},null,539970.7029921303,-1289.3089626737019,null,-57446.123752674794,57387388.319959447,null,{"$f":"+Bono!J658","v":72790.585682201898},null,52.916666666666664,58269377.930798575]
[null,636,52,12,96,809199.02515692986,null,7678.3219925805643,0,{"$f":"-SUM(F659:H659)*$J$21","v":-7351.8961243455942},-816.87734714951046,808708.57367801527,null,636,52,12,52,57387388.319959447,{"$f":"IF($G$4=\"mensual\",S658,0)","v":18842.690316821256},null,544715.83921135159,-1289.3089626737019,null,-57950.94684948762,57891706.593675457,null,{"$f":"+Bono!J659","v":72582.058857908632},null,53,58772997.226211384]
[null,637,53,1,97,808708.57367801527,null,7673.6682000526835,0,0,-816.38224187806793,815565.85963618988,null,637,53,1,53,57891706.593675457,{"$f":"IF($G$17=\"si\",S648*(1+$G$20),S648)","v":19782.379051459193},null,549510.12739559519,{"$f":"(V659*(1+$G$18))","v":-1353.607058504032},null,-58460.999100122513,58401184.49396389,null,{"$f":"+Bono!J660","v":73032.076041825407},null,53.083333333333336,59289782.429641902]
[null,638,53,2,97,815565.85963618988,null,7738.7355666030262,0,0,-823.30459520279294,822481.29060759011,null,638,53,2,53,58401184.49396389,{"$f":"IF($G$4=\"mensual\",S660,0)","v":19782.379051459193},null,554344.45769617823,-1353.607058504032,null,-58975.311330711527,58914982.412322313,null,{"$f":"+Bono!J661","v":73484.883384481218},null,53.166666666666664,59810948.58631438]
[null,639,53,3,97,822481.29060759011,null,7804.3546591440454,0,{"$f":"-SUM(F662:H662)*$J$21","v":-7472.5708074006088},-830.28564526673415,821982.78881406679,null,639,53,3,53,58914982.412322313,{"$f":"IF($G$4=\"mensual\",S661,0)","v":19782.379051459193},null,559219.77975370106,-1353.607058504032,null,-59493.984571127476,59433136.979497842,null,{"$f":"+Bono!J662","v":73274.367570902963},null,53.25,60328394.13588281]
[null,640,53,4,97,821982.78881406679,null,7799.6244788477852,0,0,-829.78241329291461,828952.63087962172,null,640,53,4,53,59433136.979497842,{"$f":"IF($G$4=\"mensual\",S660,IF($G$4=\"trimestral\",S660,0))","v":19782.379051459193},null,564136.44114973827,-1353.607058504032,null,-60017.055799699046,59955685.136840843,null,{"$f":"+Bono!J663","v":73728.677149143128},null,53.333333333333336,60858366.444869608]
[null,641,53,5,97,828952.63087962172,null,{"$f":"SUM(F664:G664)*$G$8","v":7865.7598669945819},0,0,-836.81839074661627,{"$f":"SUM(F664:K664)","v":835981.57235586969},null,641,53,5,53,59955685.136840843,{"$f":"IF($G$4=\"mensual\",S663,0)","v":19782.379051459193},null,569094.79241311387,-1353.607058504032,null,-60544.562308305423,{"$f":"SUM(R664:X664)","v":60482664.138938613},null,{"$f":"+Bono!J664","v":74185.803499465037},null,53.416666666666664,61392831.514793947]
[null,{"$f":"+B664+1","v":642},53,6,97,{"$f":"L664","v":835981.57235586969},null,7932.4560372120013,0,{"$f":"-SUM(F665:H665)*$J$21","v":-7595.2262555377365},{"$f":"-SUM(F665:H665)*0.1%","v":-843.91402839308171},835474.88810915092,null,{"$f":"+N664+1","v":642},53,6,53,{"$f":"Y664","v":60482664.138938613},{"$f":"IF($G$4=\"mensual\",S664,0)","v":19782.379051459193},null,574095.18704489281,-1353.607058504032,null,{"$f":"-SUM(R665:U665)*0.1%","v":-61076.541705034972},61014111.556271434,null,{"$f":"+Bono!J665","v":73973.279725045519},null,{"$f":"+B665/12","v":53.5},{"$f":"+AA665+Y665+L665","v":61923559.724105626}]
[null,643,53,7,97,835474.88810915092,null,7927.6482153116722,0,0,-843.40253632446263,842559.13378813816,null,643,53,7,53,61014111.556271434,{"$f":"+IF($G$4=\"mensual\",S660,IF($G$4=\"trimestral\",S660,IF($G$4=\"semestral\",S660,0)))","v":19782.379051459193},null,579137.98154358286,-1353.607058504032,null,-61613.031916866479,61550065.277891114,null,{"$f":"+Bono!J666","v":74431.922639710174},null,53.583333333333336,62467056.334318966]
[null,644,53,8,97,842559.13378813816,null,7994.8691556572967,0,0,-850.55400294379547,849703.44894085161,null,644,53,8,53,61550065.277891114,{"$f":"IF($G$4=\"mensual\",S666,0)","v":19782.379051459193},null,584223.53543055116,-1353.607058504032,null,-62154.071192373129,62090563.514122248,null,{"$f":"+Bono!J667","v":74893.409193645028},null,53.666666666666664,63015160.372256741]
[null,645,53,9,97,849703.44894085161,null,8062.6600828007986,0,{"$f":"-SUM(F668:H668)*$J$21","v":-7719.8949812128722},-857.76610902365246,849188.44793341577,null,645,53,9,53,62090563.514122248,{"$f":"IF($G$4=\"mensual\",S667,0)","v":19782.379051459193},null,589352.21127565578,-1353.607058504032,null,-62699.698104449366,62635644.79928641,null,{"$f":"+Bono!J668","v":74678.858305871836},null,53.75,63559512.105525695]
[null,646,53,10,97,849188.44793341577,null,8057.7733448801382,0,0,-857.24622127829582,856388.97505701752,null,646,53,10,53,62635644.79928641,{"$f":"IF($G$4=\"mensual\",S660,IF($G$4=\"trimestral\",S660,0))","v":19782.379051459193},null,594524.37472309498,-1353.607058504032,null,-63249.951553060964,63185347.994449399,null,{"$f":"+Bono!J669","v":75141.875889579649},null,53.833333333333336,64116878.845395997]
[null,647,53,11,97,856388.97505701752,null,8126.097655775844,0,0,-864.51507271279343,863650.55764008057,null,647,53,11,53,63185347.994449399,{"$f":"IF($G$17=\"si\",S658*(1+$G$20),S658)","v":19782.379051459193},null,599740.39451747527,-1353.607058504032,null,-63804.870768018336,63739712.290191814,null,{"$f":"+Bono!J670","v":75607.764236013172},null,53.916666666666664,64678970.612067908]
[null,648,53,12,97,863650.55764008057,null,8195.0013092839035,0,{"$f":"-SUM(F671:H671)*$J$21","v":-7846.6100305442815},-871.84555894936443,863127.10335987073,null,648,53,12,53,63739712.290191814,{"$f":"IF($G$4=\"mensual\",S670,0)","v":19782.379051459193},null,605000.642530101,-1353.607058504032,null,-64364.495311773375,64298777.209403098,null,{"$f":"+Bono!J671","v":75391.166899691641},null,54,65237295.479662657]
[null,649,54,1,98,863127.10335987073,null,8190.0343600082715,0,0,-871.31713771987904,870445.82058215921,null,649,54,1,54,64298777.209403098,{"$f":"IF($G$17=\"si\",S660*(1+$G$20),S660)","v":20768.930251231272},null,610314.85496554023,{"$f":"(V671*(1+$G$18))","v":-1421.1117132330398},null,-64929.86099461987,64863510.021912016,null,{"$f":"+Bono!J672","v":75858.60087930382},null,54.083333333333336,65809814.443373479]
[null,650,54,2,98,870445.82058215921,null,8259.4801522773341,0,0,-878.70530073443661,877826.59543370223,null,650,54,2,54,64863510.021912016,{"$f":"IF($G$4=\"mensual\",S672,0)","v":20768.930251231272},null,615673.48768680205,-1421.1117132330398,null,-65499.952439850058,65433031.375696972,null,{"$f":"+Bono!J673","v":76328.933003808575},null,54.166666666666664,66387186.904134482]
[null,651,54,3,98,877826.59543370223,null,8329.514796540403,0,{"$f":"-SUM(F674:H674)*$J$21","v":-7975.4049920721845},-886.15611023024258,877294.5491279402,null,651,54,3,54,65433031.375696972,{"$f":"IF($G$4=\"mensual\",S673,0)","v":20768.930251231272},null,621077.55788469093,-1421.1117132330398,null,-66074.877863832895,66007381.874255836,null,{"$f":"+Bono!J674","v":76110.269699319353},null,54.25,66960786.6930831]
[null,652,54,4,98,877294.5491279402,null,8324.4663193134184,0,0,-885.61901544725356,884733.39643180638,null,652,54,4,54,66007381.874255836,{"$f":"IF($G$4=\"mensual\",S672,IF($G$4=\"trimestral\",S672,0))","v":20768.930251231272},null,626527.4508373905,-1421.1117132330398,null,-66654.678255344465,66586602.465375885,null,{"$f":"+Bono!J675","v":76582.162199699989},null,54.333333333333336,67547918.024007395]
[null,653,{"$f":"C664+1","v":54},{"$f":"D664","v":5},{"$f":"E664+1","v":98},884733.39643180638,null,8395.0520010517848,0,0,-893.12844843285825,892235.31998442532,null,653,{"$f":"O664+1","v":54},{"$f":"P664","v":5},{"$f":"Q664+1","v":54},66586602.465375885,{"$f":"IF($G$4=\"mensual\",S675,0)","v":20768.930251231272},null,{"$f":"SUM(R676:T676)*$G$8","v":632023.55508997547},-1421.1117132330398,null,-67239.394950717091,67170734.444053143,null,{"$f":"+Bono!J676","v":77056.980488319139},null,54.416666666666664,68140026.74452588]
[null,654,54,6,98,892235.31998442532,null,8466.2362002536574,0,{"$f":"-SUM(F677:H677)*$J$21","v":-8106.3140056621123},-900.70155618467902,891694.54062283225,null,654,54,6,54,67170734.444053143,{"$f":"IF($G$4=\"mensual\",S676,0)","v":20768.930251231272},null,637566.26248211216,-1421.1117132330398,null,-67829.069636786473,67759819.455436453,null,{"$f":"+Bono!J677","v":76836.231509859062},null,54.5,68728350.227569148]
[null,655,54,7,98,891694.54062283225,null,8461.1048568682054,0,0,-900.15564547970041,899255.48983422073,null,655,54,7,54,67759819.455436453,{"$f":"+IF($G$4=\"mensual\",S672,IF($G$4=\"trimestral\",S672,IF($G$4=\"semestral\",S672,0)))","v":20768.930251231272},null,643155.96817599493,-1421.1117132330398,null,-68423.744353863673,68353899.49779658,null,{"$f":"+Bono!J678","v":77312.625057671408},null,54.583333333333336,69330467.612688467]
[null,656,54,8,98,899255.48983422073,null,8532.8491383239689,0,0,-907.78833897254469,906880.55063357216,null,656,54,8,54,68353899.49779658,{"$f":"IF($G$4=\"mensual\",S678,0)","v":20768.930251231272},null,648793.07068451843,-1421.1117132330398,null,-69023.461498732329,68953016.92552036,null,{"$f":"+Bono!J679","v":77791.972300738416},null,54.666666666666664,69937689.448454678]
[null,657,54,9,98,906880.55063357216,null,8605.2017613626213,0,{"$f":"-SUM(F680:H680)*$J$21","v":-8239.3717715544135},-915.48575239493482,906330.89487098542,null,657,54,9,54,68953016.92552036,{"$f":"IF($G$4=\"mensual\",S679,0)","v":20768.930251231272},null,654477.97189968941,-1421.1117132330398,null,-69628.263827671282,69557214.452130377,null,{"$f":"+Bono!J680","v":77569.117754544699},null,54.75,70541114.464755908]
[null,658,54,10,98,906330.89487098542,null,8599.9861916461359,0,0,-914.93088106263156,914015.95018156886,null,658,54,10,54,69557214.452130377,{"$f":"IF($G$4=\"mensual\",S672,IF($G$4=\"trimestral\",S672,0))","v":20768.930251231272},null,660211.07712127909,-1421.1117132330398,null,-70238.194459502876,70166535.153330147,null,{"$f":"+Bono!J681","v":78050.055282083631},null,54.833333333333336,71158601.158793807]
[null,659,54,11,98,914015.95018156886,null,8672.9080901790803,0,0,-922.68885827174802,921766.16941347625,null,659,54,11,54,70166535.153330147,{"$f":"IF($G$17=\"si\",S670*(1+$G$20),S670)","v":20768.930251231272},null,665992.79508571874,-1421.1117132330398,null,-70853.296878667083,70781022.47007519,null,{"$f":"+Bono!J682","v":78533.974678078608},null,54.916666666666664,71781322.614166752]
[null,660,54,12,98,921766.16941347625,null,8746.4483156682727,0,{"$f":"-SUM(F683:H683)*$J$21","v":-8374.6135595623018},-930.51261772914449,921207.49155185313,null,660,54,12,54,70781022.47007519,{"$f":"IF($G$4=\"mensual\",S682,0)","v":20768.930251231272},null,671823.53799523995,-1421.1117132330398,null,-71473.614938321654,71400720.211670101,null,{"$f":"+Bono!J683","v":78308.994480635971},null,55,72400236.697702587]
[null,661,55,1,99,921207.49155185313,null,8741.1471371221942,0,0,-929.94863868897539,929018.69005028636,null,661,55,1,55,71400720.211670101,{"$f":"IF($G$17=\"si\",S672*(1+$G$20),S672)","v":21804.680956646225},null,677713.54957123834,{"$f":"(V683*(1+$G$18))","v":-1491.9828385943142},null,-72100.23844219798,72026646.22091718,null,{"$f":"+Bono!J684","v":78794.519329697054},null,55.083333333333336,73034459.430297166]
[null,662,55,2,99,929018.69005028636,null,8815.2659822447531,0,0,-937.83395603253109,936896.12207649858,null,662,55,2,55,72026646.22091718,{"$f":"IF($G$4=\"mensual\",S684,0)","v":21804.680956646225},null,683652.83186535386,-1491.9828385943142,null,-72732.10373373919,72657879.647166848,null,{"$f":"+Bono!J685","v":79283.054489139715},null,55.166666666666664,73674058.82373248]
[null,663,55,3,99,936896.12207649858,null,8890.0133035977342,0,{"$f":"-SUM(F686:H686)*$J$21","v":-8512.0752184208668},-945.78613538009631,936328.2740262954,null,663,55,3,55,72657879.647166848,{"$f":"IF($G$4=\"mensual\",S685,0)","v":21804.680956646225},null,689642.47514042433,-1491.9828385943142,null,-73369.326803263917,73294465.49362205,null,{"$f":"+Bono!J686","v":79055.928365370492},null,55.25,74309849.696013704]
[null,664,55,4,99,936328.2740262954,null,8884.6251110310495,0,0,-945.21289913732642,944267.68623818911,null,664,55,4,55,73294465.49362205,{"$f":"IF($G$4=\"mensual\",S684,IF($G$4=\"trimestral\",S684,0))","v":21804.680956646225},null,695682.90642252401,-1491.9828385943142,null,-74011.953081001222,73936449.145081624,null,{"$f":"+Bono!J687","v":79546.084291155901},null,55.333333333333336,74960262.915610969]
[null,665,55,5,99,944267.68623818911,null,8959.9605495320084,0,0,-953.22764678772114,952274.41914093331,null,665,55,5,55,73936449.145081624,{"$f":"IF($G$4=\"mensual\",S687,0)","v":21804.680956646225},null,701774.55635861144,-1491.9828385943142,null,-74660.028382396878,74583876.371175885,null,{"$f":"+Bono!J688","v":80039.279240535747},null,55.416666666666664,75616190.069557354]
[null,666,55,6,99,952274.41914093331,null,9035.9347801286622,0,{"$f":"-SUM(F689:H689)*$J$21","v":-8651.7931852895581},-961.31035392106196,951697.25038185134,null,666,55,6,55,74583876.371175885,{"$f":"IF($G$4=\"mensual\",S688,0)","v":21804.680956646225},null,707917.85924723139,{"$f":"V688","v":-1491.9828385943142},null,-75313.59891137977,75236793.329629794,null,{"$f":"+Bono!J689","v":79809.986721972702},null,55.5,76268300.566733629]
[null,667,55,7,99,951697.25038185134,null,9030.4581452854236,0,0,-960.72770852713677,959766.98081860959,null,667,55,7,55,75236793.329629794,{"$f":"+IF($G$4=\"mensual\",S684,IF($G$4=\"trimestral\",S684,IF($G$4=\"semestral\",S684,0)))","v":21804.680956646225},null,714113.25306947832,-1491.9828385943142,null,-75972.711263655918,75895246.569553658,null,{"$f":"+Bono!J690","v":80304.817897034402},null,55.583333333333336,76935318.368269309]
[null,668,55,8,99,959766.98081860959,null,9107.0301464377244,0,0,-968.87401096504732,967905.13695408229,null,668,55,8,55,75895246.569553658,{"$f":"IF($G$4=\"mensual\",S690,0)","v":21804.680956646225},null,720361.17952022119,-1491.9828385943142,null,-76637.412430030527,76559283.034761891,null,{"$f":"+Bono!J691","v":80802.717082778356},null,55.666666666666664,77607990.888798758]
[null,669,55,9,99,967905.13695408229,null,9184.251424876531,0,{"$f":"-SUM(F692:H692)*$J$21","v":-8793.8044954106299},-977.0893883789588,967318.49449516914,null,669,55,9,55,76559283.034761891,{"$f":"IF($G$4=\"mensual\",S691,0)","v":21804.680956646225},null,726662.08403959451,-1491.9828385943142,null,-77307.749799758138,77228950.067119777,null,{"$f":"+Bono!J692","v":80571.237505720084},null,55.75,78276839.799120665]
[null,670,55,10,99,967318.49449516914,null,9178.6848960572697,0,0,-976.49717939122638,975520.68221183517,null,670,55,10,55,77228950.067119777,{"$f":"IF($G$4=\"mensual\",S684,IF($G$4=\"trimestral\",S684,0))","v":21804.680956646225},null,733016.41584475525,-1491.9828385943142,null,-77983.771163921178,77904295.409918651,null,{"$f":"+Bono!J693","v":81070.788523940646},null,55.833333333333336,78960886.880654424]
[null,671,55,11,99,975520.68221183517,null,9256.513756911294,0,0,-984.77719596874647,983792.41877277766,null,671,55,11,55,77904295.409918651,{"$f":"IF($G$17=\"si\",S682*(1+$G$20),S682)","v":21804.680956646225},null,739424.62796190882,-1491.9828385943142,null,-78665.524718837201,78585367.211279765,null,{"$f":"+Bono!J694","v":81573.436816418514},null,55.916666666666664,79650733.066868961]
[null,672,55,12,99,983792.41877277766,null,9335.0025523474978,0,{"$f":"-SUM(F695:H695)*$J$21","v":-8938.1467919261268},-993.12742132512517,983196.14711187396,null,672,55,12,55,78585367.211279765,{"$f":"IF($G$4=\"mensual\",S694,0)","v":21804.680956646225},null,745887.17725860782,-1491.9828385943142,null,-79353.059069495022,79272214.027586922,null,{"$f":"+Bono!J695","v":81339.749320067262},null,56,80336749.92401886]
[null,673,56,1,100,983196.14711187396,null,9329.3446540244222,0,0,-992.52549176589844,991532.96627413249,null,673,56,1,56,79272214.027586922,{"$f":"IF($G$17=\"si\",S684*(1+$G$20),S684)","v":22892.084756890363},null,752414.84262582089,{"$f":"(V695*(1+$G$18))","v":-1566.3883211515804},null,-80047.520954969645,79965907.045693532,null,{"$f":"+Bono!J696","v":81844.06520067864},null,56.083333333333336,81039284.077168331]
[null,674,56,2,100,991532.96627413249,null,9408.4510047881577,0,0,-1000.9414172789207,999940.47586164169,null,674,56,2,56,79965907.045693532,{"$f":"IF($G$4=\"mensual\",S696,0)","v":22892.084756890363},null,758997.1520348005,-1566.3883211515804,null,-80747.796282485229,80665482.0978816,null,{"$f":"+Bono!J697","v":82351.507898246811},null,56.166666666666664,81747774.08164148]
[null,675,56,3,100,999940.47586164169,null,9488.2281223595546,0,{"$f":"-SUM(F698:H698)*$J$21","v":-9084.8583358560136},-1009.4287039840013,999334.41694416129,null,675,56,3,56,80665482.0978816,{"$f":"IF($G$4=\"mensual\",S697,0)","v":22892.084756890363},null,765635.27484721318,-1566.3883211515804,null,-81454.009457485707,81370989.059707075,null,{"$f":"+Bono!J698","v":82115.591422828453},null,56.25,82452439.068074062]
[null,676,56,4,100,999334.41694416129,null,9482.4773547854256,0,0,-1008.8168942989467,1007808.0774046477,null,676,56,4,56,81370989.059707075,{"$f":"IF($G$4=\"mensual\",S696,IF($G$4=\"trimestral\",S696,0))","v":22892.084756890363},null,772329.68432188197,-1566.3883211515804,null,-82166.210828785857,82082478.229635924,null,{"$f":"+Bono!J699","v":82624.717614469046},null,56.333333333333336,83172911.024655044]
[null,677,56,5,100,1007808.0774046477,null,9562.8821642929452,0,0,-1017.3709595689407,1016353.5886093718,null,677,56,5,56,82082478.229635924,{"$f":"IF($G$4=\"mensual\",S699,0)","v":22892.084756890363},null,779080.85773053509,-1566.3883211515804,null,-82884.451172123358,82800000.332630083,null,{"$f":"+Bono!J700","v":83137.000447552797},null,56.416666666666664,83899490.921687007]
[null,678,56,6,100,1016353.5886093718,null,9643.9687506347309,0,{"$f":"-SUM(F701:H701)*$J$21","v":-9233.9780162400602},-1025.9975573600066,1015737.5817864065,null,678,56,6,56,82800000.332630083,{"$f":"IF($G$4=\"mensual\",S700,0)","v":22892.084756890363},null,785889.27639183332,-1566.3883211515804,null,-83608.781693778816,83523606.523763895,null,{"$f":"+Bono!J701","v":82898.833732418992},null,56.5,84622242.93928273]
[null,679,56,7,100,1015737.5817864065,null,9638.1235894453221,0,0,-1025.3757053758518,1024350.329670476,null,679,56,7,56,83523606.523763895,{"$f":"+IF($G$4=\"mensual\",S696,IF($G$4=\"trimestral\",S696,IF($G$4=\"semestral\",S696,0)))","v":22892.084756890363},null,792755.42570568435,-1566.3883211515804,null,-84339.254034226484,84253348.39187111,null,{"$f":"+Bono!J702","v":83412.816117229537},null,56.583333333333336,85361111.537658811]
[null,680,56,8,100,1024350.329670476,null,9719.8481707150258,0,0,-1034.070177841191,1033036.1076633498,null,680,56,8,56,84253348.39187111,{"$f":"IF($G$4=\"mensual\",S702,0)","v":22892.084756890363},null,799679.79518784955,-1566.3883211515804,null,-85075.920271815849,84989277.963222891,null,{"$f":"+Bono!J703","v":83929.985252444181},null,56.666666666666664,86106244.056138679]
[null,681,56,9,100,1033036.1076633498,null,9802.2657195651645,0,{"$f":"-SUM(F704:H704)*$J$21","v":-9385.5453604462364},-1042.8383733829151,1032409.9896490859,null,681,56,9,56,84989277.963222891,{"$f":"IF($G$4=\"mensual\",S703,0)","v":22892.084756890363},null,806662.87850484299,-1566.3883211515804,null,-85818.832926484625,85731447.705237001,null,{"$f":"+Bono!J704","v":83689.546834156368},null,56.75,86847547.241720244]
[null,682,56,10,100,1032409.9896490859,null,9796.3246153752025,0,0,-1042.2063142644613,1041164.1079501967,null,682,56,10,56,85731447.705237001,{"$f":"IF($G$4=\"mensual\",S696,IF($G$4=\"trimestral\",S696,0))","v":22892.084756890363},null,813705.17350912781,-1566.3883211515804,null,-86568.044963503024,86479910.530218363,null,{"$f":"+Bono!J705","v":84208.431731914723},null,56.833333333333336,87605283.069900468]
[null,683,56,11,100,1041164.1079501967,null,9879.3906312592862,0,0,-1051.0434985814561,1049992.4550828745,null,683,56,11,56,86479910.530218363,{"$f":"IF($G$17=\"si\",S694*(1+$G$20),S694)","v":22892.084756890363},null,820807.18227460911,-1566.3883211515804,null,-87323.609797249868,87234719.799131468,null,{"$f":"+Bono!J706","v":84730.533776226119},null,56.916666666666664,88369442.78799057]
[null,684,56,12,100,1049992.4550828745,null,9963.1609891558855,0,{"$f":"-SUM(F707:H707)*$J$21","v":-9539.6005446482759},-1059.9556160720306,1049356.0599113102,null,684,56,12,56,87234719.799131468,{"$f":"IF($G$4=\"mensual\",S706,0)","v":22892.084756890363},null,827969.41113242949,-1566.3883211515804,null,-88085.581295020791,87995929.325404629,null,{"$f":"+Bono!J707","v":84487.801986621227},null,57,89129773.18730256]
[null,685,57,1,101,1049356.0599113102,null,9957.122367148344,0,0,-1059.3131822784585,1058253.86909618,null,685,57,1,57,87995929.325404629,{"$f":"IF($G$17=\"si\",S696*(1+$G$20),S696)","v":24033.717602133434},null,835203.20342474338,{"$f":"(V707*(1+$G$18))","v":-1644.5044200050738},null,-88855.166246431501,88764666.575765058,null,{"$f":"+Bono!J708","v":85011.636158916735},null,57.083333333333336,89907932.081020147]
[null,686,57,2,101,1058253.86909618,null,10041.551836075003,0,0,-1068.295420932255,1067227.1255113226,null,686,57,2,57,88764666.575765058,{"$f":"IF($G$4=\"mensual\",S708,0)","v":24033.717602133434},null,842497.59201451426,-1644.5044200050738,null,-89631.197885381713,89539922.183076322,null,{"$f":"+Bono!J709","v":85538.718163841477},null,57.166666666666664,90692688.026751488]
[null,687,57,3,101,1067227.1255113226,null,10126.697208147212,0,{"$f":"-SUM(F710:H710)*$J$21","v":-9696.1844044752306},-1077.3538227194699,1066580.2844922752,null,687,57,3,57,89539922.183076322,{"$f":"IF($G$4=\"mensual\",S709,0)","v":24033.717602133434},null,849853.83194366517,-1644.5044200050738,null,-90413.809732622118,90321751.418469489,null,{"$f":"+Bono!J710","v":85293.671128079208},null,57.25,91473625.374089837]
[null,688,57,4,101,1066580.2844922752,null,10120.559467655876,0,0,-1076.700843959931,1075624.143115971,null,688,57,4,57,90321751.418469489,{"$f":"IF($G$4=\"mensual\",S708,IF($G$4=\"trimestral\",S708,0))","v":24033.717602133434},null,857272.44766851433,-1644.5044200050738,null,-91203.057583740127,91110210.021736383,null,{"$f":"+Bono!J711","v":85822.501782526801},null,57.333333333333336,92271656.666634873]
[null,689,57,5,101,1075624.143115971,null,10206.374769465769,0,0,-1085.8305178854368,1084744.6873675513,null,689,57,5,57,91110210.021736383,{"$f":"IF($G$4=\"mensual\",S711,0)","v":24033.717602133434},null,864753.96809240454,-1644.5044200050738,null,-91998.997707430928,91905354.20530349,null,{"$f":"+Bono!J712","v":86354.61124837253},null,57.416666666666664,93076453.503919423]
[null,690,57,6,101,1084744.6873675513,null,10292.917725319716,0,{"$f":"-SUM(F713:H713)*$J$21","v":-9855.3384458358396},-1095.037605092871,1084087.2290419424,null,690,57,6,57,91905354.20530349,{"$f":"IF($G$4=\"mensual\",S712,0)","v":24033.717602133434},null,872298.92660341086,-1644.5044200050738,null,-92801.686849509031,92707240.658239514,null,{"$f":"+Bono!J713","v":86107.226882964067},null,57.5,93877435.114164427]
[null,691,57,7,101,1084087.2290419424,null,10286.679239404895,0,0,-1094.3739082813472,1093279.5343730659,null,691,57,7,57,92707240.658239514,{"$f":"+IF($G$4=\"mensual\",S708,IF($G$4=\"trimestral\",S708,IF($G$4=\"semestral\",S708,0)))","v":24033.717602133434},null,879907.86111236806,-1644.5044200050738,null,-93611.182236954017,93515926.550297052,null,{"$f":"+Bono!J714","v":86641.101677458559},null,57.583333333333336,94695847.186347574]
[null,692,57,8,101,1093279.5343730659,null,10373.903121283391,0,0,-1103.6534374943492,1102549.7840568549,null,692,57,8,57,93515926.550297052,{"$f":"IF($G$4=\"mensual\",S714,0)","v":24033.717602133434},null,887581.31409122061,-1644.5044200050738,null,-94427.541581990401,94331469.535988405,null,{"$f":"+Bono!J715","v":87178.286557604559},null,57.666666666666664,95521197.606602862]
[null,693,57,9,101,1102549.7840568549,null,10461.866600984747,0,{"$f":"-SUM(F716:H716)*$J$21","v":-10017.104855920557},-1113.0116506578397,1101881.5341512612,null,693,57,9,57,94331469.535988405,{"$f":"IF($G$4=\"mensual\",S715,0)","v":24033.717602133434},null,895319.83261169749,-1644.5044200050738,null,-95250.823086202232,95153927.75869602,null,{"$f":"+Bono!J716","v":86928.542568422316},null,57.75,96342737.835415691]
[null,694,57,10,101,1101881.5341512612,null,10455.525716002014,0,0,-1112.3370598672634,1111224.722807396,null,694,57,10,57,95153927.75869602,{"$f":"IF($G$4=\"mensual\",S708,IF($G$4=\"trimestral\",S708,0))","v":24033.717602133434},null,903123.96838431526,-1644.5044200050738,null,-96081.085444682467,95983359.854817763,null,{"$f":"+Bono!J717","v":87467.509615433373},null,57.833333333333336,97182052.087240592]
[null,695,57,11,101,1111224.722807396,null,10544.181298508822,0,0,-1121.7689041059048,1120647.1352017988,null,695,57,11,57,95983359.854817763,{"$f":"IF($G$17=\"si\",S706*(1+$G$20),S706)","v":24033.717602133434},null,910994.27779771166,-1644.5044200050738,null,-96918.387850217609,96819824.957947373,null,{"$f":"+Bono!J718","v":88009.818320652208},null,57.916666666666664,98028481.911469817]
[null,696,57,12,101,1120647.1352017988,null,10633.58861866356,0,{"$f":"-SUM(F719:H719)*$J$21","v":-10181.526514384163},-1131.2807238204623,1119967.9165822577,null,696,57,12,57,96819824.957947373,{"$f":"IF($G$4=\"mensual\",S718,0)","v":24033.717602133434},null,918931.32195831311,-1644.5044200050738,null,-97762.789997507833,97663382.70309031,null,{"$f":"+Bono!J719","v":87757.692200920748},null,58,98871108.311873481]
[null,697,58,1,102,1119967.9165822577,null,10627.14365382542,0,0,-1130.5950602360831,1129464.4651758471,null,697,58,1,58,97663382.70309031,{"$f":"IF($G$17=\"si\",S708*(1+$G$20),S708)","v":25232.283905695349},null,926947.0396778112,{"$f":"(V719*(1+$G$18))","v":-1726.5161843316109},null,-98615.562026673826,98515219.948462814,null,{"$f":"+Bono!J720","v":88301.800071828708},null,58.083333333333336,99732986.213710502]
[null,698,58,2,102,1129464.4651758471,null,10717.254437023195,0,0,-1140.1817196128704,1139041.5378932576,null,698,58,2,58,98515219.948462814,{"$f":"IF($G$4=\"mensual\",S720,0)","v":25232.283905695349},null,935029.9469131165,-1726.5161843316109,null,-99475.482179281636,99374280.180918023,null,{"$f":"+Bono!J721","v":88849.281474648888},null,58.166666666666664,100602171.00028592]
[null,699,58,3,102,1139041.5378932576,null,10808.129296958148,0,{"$f":"-SUM(F722:H722)*$J$21","v":-10348.647004711944},-1149.8496671902158,1138351.1705183138,null,699,58,3,58,99374280.180918023,{"$f":"IF($G$4=\"mensual\",S721,0)","v":25232.283905695349},null,943181.39157721878,-1726.5161843316109,null,-100342.69385640093,100240624.6463602,null,{"$f":"+Bono!J722","v":88594.750502916693},null,58.25,101467570.56738143]
[null,700,58,4,102,1138351.1705183138,null,10801.578543888516,0,0,-1149.1527490622022,1148003.5963131399,null,700,58,4,58,100240624.6463602,{"$f":"IF($G$4=\"mensual\",S720,IF($G$4=\"trimestral\",S720,0))","v":25232.283905695349},null,951401.95481982164,-1726.5161843316109,null,-101217.25888508573,101114315.11001632,null,{"$f":"+Bono!J723","v":89144.048232389774},null,58.333333333333336,102351462.75456184]
[null,701,58,5,102,1148003.5963131399,null,10893.168413572048,0,0,-1158.896764726712,1157737.8679619853,null,701,58,5,58,101114315.11001632,{"$f":"IF($G$4=\"mensual\",S723,0)","v":25232.283905695349},null,959692.22271837434,-1726.5161843316109,null,-102099.23961664039,101995413.86083941,null,{"$f":"+Bono!J724","v":89696.751671500184},null,58.416666666666664,103242848.48047289]
[null,702,58,6,102,1157737.8679619853,null,10985.534901616926,0,{"$f":"-SUM(F725:H725)*$J$21","v":-10518.51062577242},-1168.7234028636021,1157036.1688349661,null,702,58,6,58,101995413.86083941,{"$f":"IF($G$4=\"mensual\",S724,0)","v":25232.283905695349},null,968052.78631985444,-1726.5161843316109,null,-102988.69893106497,102883983.71594957,null,{"$f":"+Bono!J725","v":89439.792909591866},null,58.5,104130459.67769413]
[null,703,58,7,102,1157036.1688349661,null,10978.876623898263,0,0,-1168.0150454588645,1166847.0304134055,null,703,58,7,58,102883983.71594957,{"$f":"+IF($G$4=\"mensual\",S720,IF($G$4=\"trimestral\",S720,IF($G$4=\"semestral\",S720,0)))","v":25232.283905695349},null,976484.24168290722,-1726.5161843316109,null,-103885.70024153817,103780088.0251123,null,{"$f":"+Bono!J726","v":89994.330000005182},null,58.583333333333336,105036929.3855257]
[null,704,58,8,102,1166847.0304134055,null,11071.969857925931,0,0,-1177.9190002713315,1176741.0812710603,null,704,58,8,58,103780088.0251123,{"$f":"IF($G$4=\"mensual\",S726,0)","v":25232.283905695349},null,984987.18992033997,-1726.5161843316109,null,-104790.30749893835,104683790.67525508,null,{"$f":"+Bono!J727","v":90552.305284701375},null,58.666666666666664,105951084.06181085]
[null,705,58,9,102,1176741.0812710603,null,{"$f":"SUM(F728:G728)*$G$8","v":11165.85245779845},0,{"$f":"-SUM(F728:H728)*$J$21","v":-10691.162403559731},-1187.9069337288588,{"$f":"SUM(F728:K728)","v":1176027.8643915702},null,705,58,9,58,104683790.67525508,{"$f":"IF($G$4=\"mensual\",S727,0)","v":25232.283905695349},null,993562.23724197864,-1726.5161843316109,null,-105702.58519640275,{"$f":"SUM(R728:X728)","v":105595156.09502202},null,{"$f":"+Bono!J728","v":90292.895575650648},null,58.75,106861476.85498925]
[null,{"$f":"+B728+1","v":706},58,10,102,{"$f":"L728","v":1176027.8643915702},null,11159.08489051152,0,0,{"$f":"-SUM(F729:H729)*0.1%","v":-1187.1869492820817},1185999.7623327996,null,{"$f":"+N728+1","v":706},58,10,58,{"$f":"Y728","v":105595156.09502202},{"$f":"IF($G$4=\"mensual\",S720,IF($G$4=\"trimestral\",S720,0))","v":25232.283905695349},null,1002209.9949978866,-1726.5161843316109,null,{"$f":"-SUM(R729:U729)*0.1%","v":-106622.59837392562},106514249.25936736,null,{"$f":"+Bono!J729","v":90852.722001547314},null,{"$f":"+B729/12","v":58.833333333333336},{"$f":"+AA729+Y729+L729","v":107791101.74370171}]
[null,707,58,11,102,1185999.7623327996,null,11253.706165240641,0,0,-1197.2534684980403,1196056.2150295421,null,707,58,11,58,106514249.25936736,{"$f":"IF($G$17=\"si\",S718*(1+$G$20),S718)","v":25232.283905695349},null,1010931.0797219502,-1726.5161843316109,null,-107550.41262299502,107441135.6941877,null,{"$f":"+Bono!J730","v":91416.019416220384},null,58.916666666666664,108728607.92863345]
[null,708,58,12,102,1196056.2150295421,null,11349.129762536459,0,{"$f":"-SUM(F731:H731)*$J$21","v":-10866.648103128708},-1207.4053447920785,1195331.2913441577,null,708,58,12,58,107441135.6941877,{"$f":"IF($G$4=\"mensual\",S730,0)","v":25232.283905695349},null,1019726.1131758343,-1726.5161843316109,null,-108486.09409126925,108375881.48099364,null,{"$f":"+Bono!J731","v":91154.135382183042},null,59,109662366.90771998]
[null,709,59,1,103,1195331.2913441577,null,11342.251111792471,0,0,-1206.6735424559502,1205466.8689134941,null,709,59,1,59,108375881.48099364,{"$f":"IF($G$17=\"si\",S720*(1+$G$20),S720)","v":26490.622950529156},null,1028607.6625119477,{"$f":"(V731*(1+$G$18))","v":-1812.6178917474651},null,-109430.97976645612,109319736.16879791,null,{"$f":"+Bono!J732","v":91719.301594777848},null,59.083333333333336,110616922.33930618]
[null,710,59,2,103,1205466.8689134941,null,11438.425508620308,0,0,-1216.9052944221144,1215688.3891276922,null,710,59,2,59,109319736.16879791,{"$f":"IF($G$4=\"mensual\",S732,0)","v":26490.622950529156},null,1037563.7042048579,-1812.6178917474651,null,-110383.79049595329,110271594.0875656,null,{"$f":"+Bono!J733","v":92287.97190344597},null,59.166666666666664,111579570.44859673]
[null,711,59,3,103,1215688.3891276922,null,11535.41539740949,0,{"$f":"-SUM(F734:H734)*$J$21","v":-11045.014240725917},-1227.2238045251017,1214951.5664798508,null,711,59,3,59,110271594.0875656,{"$f":"IF($G$4=\"mensual\",S733,0)","v":26490.622950529156},null,1046595.6868991876,-1812.6178917474651,null,-111344.68039741532,111231523.09912615,null,{"$f":"+Bono!J734","v":92023.589943593193},null,59.25,112538498.25554958]
[null,712,59,4,103,1214951.5664798508,null,11528.423839874611,0,0,-1226.4799903197254,1225253.5103294055,null,712,59,4,59,111231523.09912615,{"$f":"IF($G$4=\"mensual\",S732,IF($G$4=\"trimestral\",S732,0))","v":26490.622950529156},null,1055704.2545217846,-1812.6178917474651,null,-112313.71797659846,112199591.64073011,null,{"$f":"+Bono!J735","v":92594.146875319231},null,59.333333333333336,113517439.29793485]
[null,713,59,5,103,1225253.5103294055,null,11626.176851886737,0,0,-1236.8796871812924,1235642.8074941111,null,713,59,5,59,112199591.64073011,{"$f":"IF($G$4=\"mensual\",S735,0)","v":26490.622950529156},null,1064890.0564595484,-1812.6178917474651,null,-113290.97232014018,113175868.7299283,null,{"$f":"+Bono!J736","v":93168.241326202478},null,59.416666666666664,114504679.7787486]
[null,714,59,6,103,1235642.8074941111,null,11724.75874141848,0,{"$f":"-SUM(F737:H737)*$J$21","v":-11226.308096119767},-1247.3675662355295,1234893.8905731742,null,714,59,6,59,113175868.7299283,{"$f":"IF($G$4=\"mensual\",S736,0)","v":26490.622950529156},null,1074153.7476057275,-1812.6178917474651,null,-114276.51310048455,114160423.96949232,null,{"$f":"+Bono!J737","v":92901.337614593911},null,59.5,115488219.19768009]
[null,715,59,7,103,1234893.8905731742,null,11717.652423830505,0,0,-1246.6115429970048,1245364.9314540077,null,715,59,7,59,114160423.96949232,{"$f":"+IF($G$4=\"mensual\",S732,IF($G$4=\"trimestral\",S732,IF($G$4=\"semestral\",S732,0)))","v":26490.622950529156},null,1083495.9884066093,-1812.6178917474651,null,-115270.41058084945,115153327.55237687,null,{"$f":"+Bono!J738","v":93477.336683692571},null,59.583333333333336,116492169.82051456]
[null,716,59,8,103,1245364.9314540077,null,11817.009962558288,0,0,-1257.1819414165661,1255924.7594751494,null,716,59,8,59,115153327.55237687,{"$f":"IF($G$4=\"mensual\",S738,0)","v":26490.622950529156},null,1092917.4449086064,-1812.6178917474651,null,-116272.735620236,116154650.26672402,null,{"$f":"+Bono!J739","v":94056.907013831413},null,59.666666666666664,117504631.93321301]
[null,717,{"$f":"C728+1","v":59},{"$f":"D728","v":9},{"$f":"E728+1","v":103},1255924.7594751494,null,11917.209984075709,0,{"$f":"-SUM(F740:H740)*$J$21","v":-11410.577725133027},-1267.8419694592253,1255163.5497646329,null,717,{"$f":"O728+1","v":59},{"$f":"P728","v":9},{"$f":"Q728+1","v":59},116154650.26672402,{"$f":"IF($G$4=\"mensual\",S739,0)","v":26490.622950529156},null,{"$f":"SUM(R740:T740)*$G$8","v":1102418.7888057411},-1812.6178917474651,null,-117283.55967848029,117164463.50091006,null,{"$f":"+Bono!J740","v":93787.45749726794},null,59.75,118513414.50817196]
[null,718,59,10,103,1255163.5497646329,null,11909.987022752824,0,0,-1267.0735367873858,1265806.4632505984,null,718,59,10,59,117164463.50091006,{"$f":"IF($G$4=\"mensual\",S732,IF($G$4=\"trimestral\",S732,0))","v":26490.622950529156},null,1112000.6974875343,-1812.6178917474651,null,-118302.95482134812,118182839.24863502,null,{"$f":"+Bono!J741","v":94368.950612422734},null,59.833333333333336,119543014.66249804]
[null,719,59,11,103,1265806.4632505984,null,12010.975425041832,0,0,-1277.8174386756402,1276539.6212369646,null,719,59,11,59,118182839.24863502,{"$f":"IF($G$17=\"si\",S730*(1+$G$20),S730)","v":26490.622950529156},null,1121663.8540872976,-1812.6178917474651,null,-119330.99372567284,119209850.11405542,null,{"$f":"+Bono!J742","v":94954.049052340517},null,59.916666666666664,120581343.78434473]
[null,720,59,12,103,1276539.6212369646,null,12112.820138708626,0,{"$f":"-SUM(F743:H743)*$J$21","v":-11597.871972381061},-1288.6524413756733,1275765.9169619165,null,720,59,12,59,119209850.11405542,{"$f":"IF($G$4=\"mensual\",S742,0)","v":26490.622950529156},null,1131408.9475308387,-1812.6178917474651,null,-120367.74968453679,120245569.3169605,null,{"$f":"+Bono!J743","v":94682.02944819667},null,60,121616017.26337062]
[null,721,60,1,104,1275765.9169619165,null,12105.478619050094,0,0,-1287.8713955809665,1286583.5241853856,null,721,60,1,60,120245569.3169605,{"$f":"IF($G$17=\"si\",S732*(1+$G$20),S732)","v":27811.715615196634},null,1141249.2081603187,{"$f":"(V743*(1+$G$18))","v":-1903.0135085324896},null,-121414.63024073602,121291312.59698676,null,{"$f":"+Bono!J744","v":95269.069013211149},null,60.083333333333336,122673165.19018535]
[null,722,60,2,104,1286583.5241853856,null,12208.124654041241,0,0,-1298.7916488394267,1297492.8571905873,null,722,60,2,60,121291312.59698676,{"$f":"IF($G$4=\"mensual\",S744,0)","v":27811.715615196634},null,1151172.0496072196,-1903.0135085324896,null,-122470.29636220918,122345923.05233844,null,{"$f":"+Bono!J745","v":95859.748291621087},null,60.166666666666664,123739275.65782066]
[null,723,60,3,104,1297492.8571905873,null,12311.641055982014,0,{"$f":"-SUM(F746:H746)*$J$21","v":-11788.240484219126},-1309.8044982465694,1296706.4532641037,null,723,60,3,60,122345923.05233844,{"$f":"IF($G$4=\"mensual\",S745,0)","v":27811.715615196634},null,1161179.029844698,-1903.0135085324896,null,-123534.91379779833,123409475.87049201,null,{"$f":"+Bono!J746","v":95585.134085656653},null,60.25,124801767.45784177]
[null,724,60,4,104,1296706.4532641037,null,12304.179031960668,0,0,-1309.0106322960644,1307701.6216637683,null,724,60,4,60,123409475.87049201,{"$f":"IF($G$4=\"mensual\",S744,IF($G$4=\"trimestral\",S744,0))","v":27811.715615196634},null,1171270.8623111495,-1903.0135085324896,null,-124608.55844841836,124482046.87646142,null,{"$f":"+Bono!J747","v":96177.773004177041},null,60.333333333333336,125885926.27112935]
[null,725,60,5,104,1307701.6216637683,null,12408.509908185955,0,0,-1320.1101315719543,1318790.0214403823,null,725,60,5,60,124482046.87646142,{"$f":"IF($G$4=\"mensual\",S747,0)","v":27811.715615196634},null,1181448.2664944306,-1903.0135085324896,null,-125691.30685857106,125563712.53820395,null,{"$f":"+Bono!J748","v":96774.086352734099},null,60.416666666666664,126979276.64599708]
[null,726,60,6,104,1318790.0214403823,null,12513.725437642124,0,{"$f":"-SUM(F749:H749)*$J$21","v":-11981.733721902221},-1331.3037468780244,1317990.7094092444,null,726,60,6,60,125563712.53820395,{"$f":"IF($G$4=\"mensual\",S748,0)","v":27811.715615196634},null,1191711.9679831543,-1903.0135085324896,null,-126783.23622180232,126654549.97207198,null,{"$f":"+Bono!J749","v":96496.852796884967},null,60.5,128069037.53427809]
[null,727,60,7,104,1317990.7094092444,null,12506.140931288533,0,0,-1330.4968503405328,1329166.3534901922,null,727,60,7,60,126654549.97207198,{"$f":"+IF($G$4=\"mensual\",S744,IF($G$4=\"trimestral\",S744,IF($G$4=\"semestral\",S744,0)))","v":27811.715615196634},null,1202062.6985184199,-1903.0135085324896,null,-127884.4243862056,127754636.94831087,null,{"$f":"+Bono!J750","v":97095.144477167778},null,60.583333333333336,129180898.44627823]
[null,728,60,8,104,1329166.3534901922,null,12612.184303883247,0,0,-1341.7785377940754,1340436.7592562814,null,728,60,8,60,127754636.94831087,{"$f":"IF($G$4=\"mensual\",S750,0)","v":27811.715615196634},null,1212501.1960459824,-1903.0135085324896,null,-128994.94985997205,128864051.89660354,null,{"$f":"+Bono!J751","v":97697.145635265886},null,60.666666666666664,130302185.80149509]
[null,729,60,9,104,1340436.7592562814,null,12719.126850486398,0,{"$f":"-SUM(F752:H752)*$J$21","v":-12178.402974960913},-1353.1558861067679,1339624.3272457004,null,729,60,9,60,128864051.89660354,{"$f":"IF($G$4=\"mensual\",S751,0)","v":27811.715615196634},null,1223028.2047688628,-1903.0135085324896,null,-130114.89181698761,129982873.91166209,null,{"$f":"+Bono!J752","v":97417.267745413701},null,60.75,131419915.5066532]
[null,730,60,10,104,1339624.3272457004,null,12711.417851364567,0,0,-1352.335745097065,1350983.4093519677,null,730,60,10,60,129982873.91166209,{"$f":"IF($G$4=\"mensual\",S744,IF($G$4=\"trimestral\",S744,0))","v":27811.715615196634},null,1233644.4752004063,{"$f":"V752","v":-1903.0135085324896},null,-131244.33010247769,131111182.75886668,null,{"$f":"+Bono!J753","v":98021.26610513893},null,60.833333333333336,132560187.4343238]
[null,731,60,11,104,1350983.4093519677,null,12819.201829397865,0,0,-1363.8026111813656,1362438.8085701843,null,731,60,11,60,131111182.75886668,{"$f":"IF($G$17=\"si\",S742*(1+$G$20),S742)","v":27811.715615196634},null,1244350.7642177888,{"$f":"V753","v":-1903.0135085324896},null,-132383.34523869967,132249058.87995245,null,{"$f":"+Bono!J754","v":98629.009324753933},null,60.916666666666664,133710126.6978474]
[null,732,60,12,104,1362438.8085701843,null,12927.899740562507,0,{"$f":"-SUM(F755:H755)*$J$21","v":-12378.300374796723},-1375.3667083107468,1361613.0412276394,null,732,60,12,60,132249058.87995245,{"$f":"IF($G$4=\"mensual\",S754,0)","v":27811.715615196634},null,1255147.835115978,{"$f":"V754","v":-1903.0135085324896},null,-133532.01843068362,133396583.39874442,null,{"$f":"+Bono!J755","v":98346.461878474627},null,61,134856542.90185055]

{"sheet":"Deducible 151","index":5,"n_rows":755,"n_cols":44,"rows_kept":755,"cut":false,"hidden":true,"merged":[[41,36,45,52],[21,2,21,11],[21,14,21,24],[31,36,35,52],[36,36,40,52]]}
[]
[null,null,null,null,null,"Edad",{"$f":"+'OptiMaxx plus'!T7","v":44},null,"Portafolio","Tasa"]
[null,null,null,null,null,"Aportación",{"$f":"+'OptiMaxx plus'!D12","v":1500},null,"Conservador Pesos",0.06,{"$f":"+J3","v":0.06},{"$f":"+'OptiMaxx plus'!F20","v":0}]
[null,null,null,null,null,"Periodicidad",{"$f":"+'OptiMaxx plus'!K12","v":"Mensual"},null,"Moderado Pesos",0.09,{"$f":"+J4","v":0.09},{"$f":"+'OptiMaxx plus'!#REF!","v":{"$error":"#REF!"}}]
[null,null,null,null,null,"Plazo",{"$f":"+'OptiMaxx plus'!D15","v":21},null,"Dinámico Pesos",0.12,0.12,{"$f":"+'OptiMaxx plus'!#REF!","v":{"$error":"#REF!"}}]
[null,null,null,null,null,"Portafolio",{"$f":"L20","v":0.12},null,"Conservador Dólares",0.03,0.03,{"$f":"+'OptiMaxx plus'!#REF!","v":{"$error":"#REF!"}}]
[null,null,null,null,null,"Interés Anual",{"$f":"+L20","v":0.12},null,"Moderado Dólares",0.06,0.06,{"$f":"+'OptiMaxx plus'!#REF!","v":{"$error":"#REF!"}}]
[null,null,null,null,null,"Interés Mensual",{"$f":"(1+G7)^(1/12)-1","v":9.4887929345830457E-3},null,"Dinámico Dólares",0.1,0.1,{"$f":"+'OptiMaxx plus'!N21","v":0}]
[null,null,null,null,null,"% Bono",{"$f":"+Bono!F9","v":0.55000000000000004},null,"Conservador Euros",0.03,0.03,{"$f":"+'OptiMaxx plus'!#REF!","v":{"$error":"#REF!"}}]
[null,null,null,null,null,null,null,null,"Moderado Euros",0.06,0.06,{"$f":"+'OptiMaxx plus'!#REF!","v":{"$error":"#REF!"}}]
[null,null,null,null,null,null,null,null,"Dinámico Euros",0.09,0.09,{"$f":"+'OptiMaxx plus'!#REF!","v":{"$error":"#REF!"}}]
[null,null,null,null,null,null,null,null,"Pesos Revaluables",0.08,0.08,{"$f":"+'OptiMaxx plus'!F24","v":5.4004451215870129E-2}]
[null,null,null,null,null,null,null,null,"BRIC",0.08,0.08,{"$f":"+'OptiMaxx plus'!F27","v":"BRIC"}]
[null,null,null,null,null,null,null,null,"China",0.08,0.08,{"$f":"+'OptiMaxx plus'!N24","v":0.16361327285762312}]
[null,null,null,null,null,null,null,null,"Brasil",0.08,0.08,{"$f":"+'OptiMaxx plus'!F25","v":4.5842632788561287E-2}]
[null,null,null,null,null,null,null,null,"Oro",0.08,0.08,{"$f":"+'OptiMaxx plus'!N26","v":0}]
[null,null,null,null,null,"Incremento Inflación",{"$f":"+'OptiMaxx plus'!K15","v":"Si"},null,"Mercado Emergentes",0.08,0.08,{"$f":"+'OptiMaxx plus'!N25","v":8.4681722070706816E-2}]
[null,null,null,null,null,"Inflación",{"$f":"+Rendimientos_UDI_Inflación!S36/100","v":4.9870199999999996E-2}]
[null,null,null,null,null,"Udi",{"$f":"+Rendimientos_UDI_Inflación!S17","v":6.8424887369862981}]
[null,null,null,null,null,null,{"$f":"+G18","v":4.9870199999999996E-2},null,"Tasa Ponderada Bruta",null,null,{"$f":"+'OptiMaxx plus'!D20","v":0.12}]
[null,null,null,null,null,null,null,null,null,{"$f":"3.6%/4","v":9.0000000000000011E-3}]
[null,null,"Saldo Inicial",null,null,null,null,null,null,null,null,null,null,null,"Saldo Comprometido",null,null,null,null,null,null,null,null,null,null,null,"Bono"]
[null,null,"Año","Mes","Edad","Saldo Anterior","Aportación","Interés","Cargo Fijo","Cargo Administrativo","Cargo Gestión Inversión","Saldo Final",null,null,"Año","Mes","Edad","Saldo Anterior","Aportación","Bono","Interés","Cargo Fijo","Cargo Administrativo","Cargo Gestión Inversión","Saldo Final",null,"Saldo Final",null,null,"Saldo Fondo"]
[{"$f":"+B24/12","v":8.3333333333333329E-2},1,0,1,{"$f":"G2","v":44},0,{"$f":"G3","v":1500},{"$f":"SUM(F24:G24)*$G$8","v":14.233189401874569},-500,0,{"$f":"-SUM(F24:J24)*0.1%*1.16","v":-1.1765104997061744},{"$f":"SUM(F24:K24)","v":1013.0566789021684},null,1,0,1,{"$f":"S9","v":0},0,null,{"$f":"S24*$G$9","v":0},{"$f":"SUM(R24:T24)*$G$8","v":0},0,null,{"$f":"-SUM(R24:U24)*0.1%","v":0},{"$f":"SUM(R24:X24)","v":0},null,{"$f":"+Bono!J24","v":830.11509569407701},null,{"$f":"+B24/12","v":8.3333333333333329E-2},{"$f":"+AA24+Y24+L24","v":1843.1717745962455},null,"Edad","Año","Aportación Anual","Aportación Acum."]
[{"$f":"+B25/12","v":0.16666666666666666},{"$f":"+B24+1","v":2},0,2,{"$f":"E24","v":44},{"$f":"L24","v":1013.0566789021684},{"$f":"IF($G$4=\"mensual\",$G$3,0)","v":1500},23.845874458973633,0,0,{"$f":"-SUM(F25:J25)*0.1%*1.16","v":-2.942806961898925},{"$f":"SUM(F25:K25)","v":2533.9597463992432},null,{"$f":"+N24+1","v":2},0,2,{"$f":"Q24","v":0},{"$f":"Y24","v":0},null,0,0,0,null,{"$f":"-SUM(R25:U25)*0.1%","v":0},{"$f":"SUM(R25:X25)","v":0},null,{"$f":"+Bono!J25","v":1665.3770012688487},null,0.16666666666666666,{"$f":"+AA25+Y25+L25","v":4199.3367476680924},null,{"$f":"+'OptiMaxx plus'!T7+1","v":45},1,{"$f":"VLOOKUP(G4,$AK$25:$AL$28,2,0)*G3","v":18000},{"$f":"+AH25","v":18000},null,"Mensual",12]
[0.25,3,0,3,44,2533.9597463992432,{"$f":"IF($G$4=\"mensual\",$G$3,0)","v":1500},38.277408740025557,0,{"$f":"-SUM(F26:H26)*$J$21*1.16","v":-42.514155899653971},-4.6744786791179536,4025.0485205604973,null,3,0,3,0,0,null,0,0,0,null,0,0,null,{"$f":"+Bono!J26","v":2483.2426939611041},null,0.25,6508.2912145216014,null,{"$f":"+AF25+1","v":46},{"$f":"+AG25+1","v":2},{"$f":"IF($G$17=\"Si\",(1+$G$20)*AH25,AH25)","v":18897.6636},{"$f":"+AI25+AH26","v":36897.6636},null,"Trimestral",4,null,null,null,"SMG","5 SMG","15 SMG"]
[0.33333333333333331,4,0,4,44,4025.0485205604973,{"$f":"IF($G$4=\"mensual\",$G$3,IF($G$4=\"trimestral\",G3,0))","v":1500},52.426041365122956,0,0,-6.4698704918337189,5571.0046914337863,null,4,0,4,0,0,null,0,{"$f":"SUM(R27:T27)*$G$8","v":0},0,null,0,0,null,{"$f":"+Bono!J27","v":3328.7541823960642},null,0.33333333333333331,8899.7588738298509,null,{"$f":"+AF26+1","v":47},3,19840.093863264719,{"$f":"+AI26+AH27","v":56737.757463264716},null,"Semestral",2,null,null,null,67.290000000000006,{"$f":"+AP27*5*365","v":122804.25000000001},{"$f":"AQ27*3","v":368412.75000000006}]
[0.41666666666666669,5,0,5,44,5571.0046914337863,{"$f":"IF($G$4=\"mensual\",$G$3,0)","v":1500},67.095299356480481,0,0,-8.2801959893167094,7129.8197948009501,null,5,0,5,0,0,null,0,0,0,null,0,0,null,{"$f":"+Bono!J28","v":4179.5079401325838},null,0.41666666666666669,11309.327734933533,null,48,4,20829.523312244502,77567.280775509222,null,"Anual",1]
[0.5,6,0,6,44,7129.8197948009501,{"$f":"IF($G$4=\"mensual\",$G$3,0)","v":1500},81.886573095632173,0,{"$f":"-SUM(F29:H29)*$J$21*1.16","v":-90.95021448084033},-10.000077137962258,8610.7560762777794,null,6,0,6,0,0,null,0,0,0,null,0,0,null,{"$f":"+Bono!J29","v":4990.1712764263393},null,0.5,13600.927352704119,null,49,5,21868.295805730799,99435.57658124002]
[0.58333333333333337,7,0,7,44,8610.7560762777794,{"$f":"IF($G$4=\"mensual\",$G$3,IF($G$4=\"trimestral\",$G$3,IF(G4=\"semestral\",$G$3,0)))","v":1500},95.938870819877195,0,0,-11.83976613863328,10194.855180959023,null,7,0,7,0,0,null,0,{"$f":"SUM(R30:T30)*$G$8","v":0},0,null,0,0,null,{"$f":"+Bono!J30","v":5851.2260128583011},null,0.58333333333333337,16046.081193817325,null,50,6,22958.872091221754,122394.44867246177]
[0.66666666666666663,8,0,8,44,10194.855180959023,{"$f":"IF($G$4=\"mensual\",$G$3,0)","v":1500},110.9700592120559,0,0,-13.69475727859845,11792.130482892479,null,8,0,8,0,0,null,0,0,0,null,0,0,null,{"$f":"+Bono!J31","v":6717.6193885323082},null,0.66666666666666663,18509.749871424785,null,51,7,24103.835634185401,146498.28430664717]
[0.75,9,0,9,44,11792.130482892479,{"$f":"IF($G$4=\"mensual\",$G$3,0)","v":1500},126.12627381162608,0,{"$f":"-SUM(F32:H32)*$J$21*1.16","v":-140.08660053999085},-15.402677381150371,13262.767478782962,null,9,0,9,0,0,null,0,0,0,null,0,0,null,{"$f":"+Bono!J32","v":7521.011670264862},null,0.75,20783.779149047823,null,52,8,25305.898738029355,171804.18304467652,null,"De acuerdo con la Ley del Impuesto Sobre la Renta, el monto total de las deducciones personales no podrá exceder de la cantidad que resulte menor entre 5 UMA´s anuales y el 10% de los ingresos anuales percibidos. El fondo exento a edad 65 será el equivalente a 15 UMA´s anuales (dicha exención se podrá realizar cada año) o 90 UMA´s anuales en una sola exhibición. Sobre excedente se retendrá 20%."]
[0.83333333333333337,10,0,10,44,13262.767478782962,{"$f":"IF($G$4=\"mensual\",$G$3,IF($G$4=\"trimestral\",$G$3,0))","v":1500},140.08084374756814,0,0,-17.287304054135415,14885.561018476394,null,10,0,10,0,0,null,0,{"$f":"SUM(R33:T33)*$G$8","v":0},0,null,0,0,null,{"$f":"+Bono!J33","v":8397.7579106979392},null,0.83333333333333337,23283.318929174333,null,53,9,26567.908969274624,198372.09201395116]
[0.91666666666666663,11,0,11,44,14885.561018476394,{"$f":"IF($G$4=\"mensual\",$G$3,0)","v":1500},155.47919562129817,0,0,-19.18760664835332,16521.852607449338,null,11,0,11,0,0,null,0,0,0,null,0,0,null,{"$f":"+Bono!J34","v":9279.9400795179699},null,0.91666666666666663,25801.79268696731,null,54,10,27892.855903154141,226264.94791710531]
[1,12,0,12,44,16521.852607449338,{"$f":"IF($G$4=\"mensual\",$G$3,0)","v":1500},171.00562768966233,0,{"$f":"-SUM(F35:H35)*$J$21*1.16","v":-189.93343997485118},-20.883392762390411,17982.041402401759,null,12,0,12,0,0,null,0,0,0,null,0,0,null,{"$f":"+Bono!J35","v":10075.991953263632},null,1,28058.033355665393,null,55,11,29283.878205615616,255548.82612272093]
[1.0833333333333333,13,{"$f":"C24+1","v":1},{"$f":"D24","v":1},{"$f":"E24+1","v":45},17982.041402401759,{"$f":"IF(AND(G4=\"Anual\",$G$17=\"si\"),G24*(1+$G$20)/2,IF(AND(G4=\"Anual\",$G$17=\"No\"),G24/2,IF(G17=\"Si\",G24*(1+$G$20),G24)))","v":1574.8053},185.57086881247355,0,0,-22.901204382608508,19719.516366831624,null,13,{"$f":"O24+1","v":1},{"$f":"P24","v":1},{"$f":"Q24+1","v":1},0,{"$f":"IF(G4=\"Anual\",G36,0)","v":0},null,{"$f":"SUM(R36:T36)*$G$8","v":0},0,null,0,0,null,{"$f":"+Bono!J36","v":10138.464272116595},null,1.0833333333333333,29857.980638948218,null,56,12,30744.271068505306,286293.09719122626]
[1.1666666666666667,14,1,2,45,19719.516366831624,{"$f":"+IF($G$4=\"mensual\",G36,0)","v":1574.8053},202.05740897897059,0,0,-24.935799727940289,21471.443276082653,null,14,1,2,1,0,null,null,0,0,null,0,0,null,{"$f":"+Bono!J37","v":10201.323926592786},null,1.1666666666666667,31672.767202675437,null,57,13,32277.494015545879,318570.59120677214,null,"Las tasas de crecimiento elegidas tienen fines ilustrativos únicamente. La tasa anual proyectada está expresada antes de cargos. La ganancia real podría ser otra, ya que, debido a la naturaleza de este tipo de inversiones, su rendimiento puede indistintamente subir o bajar. El saldo proyectado se expresa después de los cargos del producto. Si se rescata de forma anticipada el Saldo Sujeto a Retiro, el valor ilustrado le da una estimación de lo que podrá recibir, por lo tanto, para obtener los máximos beneficios de esta inversión, la aportación debería ser realizada por la duración del plazo contratado. En caso de fallecimiento se entregará a los beneficiarios el Saldo del Fondo menos el Bono de fidelidad después de aplicar la retención de impuestos. Dicha retención actualmente es del 20%."]
[1.25,15,1,3,45,21471.443276082653,{"$f":"+G37","v":1574.8053},218.68108065737766,0,{"$f":"-SUM(F38:H38)*$J$21*1.16","v":-242.88586561636595},-26.705570797703452,22995.338220325961,null,15,1,3,1,0,null,null,0,0,null,0,0,null,{"$f":"+Bono!J38","v":10172.099684720539},null,1.25,33167.4379050465,null,58,14,33887.179097599954,352457.77030437207]
[1.3333333333333333,16,1,4,45,22995.338220325961,{"$f":"IF($G$4=\"mensual\",G36,IF($G$4=\"trimestral\",G36,0))","v":1574.8053},233.14100423736039,0,0,-28.77181004849345,24774.512714514829,null,16,1,4,1,0,null,null,0,0,null,0,0,null,{"$f":"+Bono!J39","v":10235.16788265634},null,1.3333333333333333,35009.680597171173,null,59,15,35577.139496633084,388034.90980100515]
[1.4166666666666667,17,1,5,45,24774.512714514829,{"$f":"+IF($G$4=\"mensual\",G39,0)","v":1574.8053},250.02322260721007,0,0,-30.855235835061563,26568.486001286979,null,17,1,5,1,0,null,null,0,0,null,0,0,null,{"$f":"+Bono!J40","v":10298.6271107348},null,1.4166666666666667,36867.113112021776,null,60,16,37351.378558758071,425386.28835976322]
[1.5,18,1,6,45,26568.486001286979,{"$f":"+G40","v":1574.8053},267.0458636555644,0,{"$f":"-SUM(F41:H41)*$J$21*1.16","v":-296.60392000200017},-32.611930564131029,28081.121314376414,null,18,1,6,1,0,0,null,0,0,null,0,0,null,{"$f":"+Bono!J41","v":10269.124119573855},null,1.5,38350.245433950273,null,61,17,39214.099277759051,464600.38763752225]
[1.5833333333333333,19,1,7,45,28081.121314376414,null,266.4559455230243,0,0,-32.883189621483346,28314.694070277954,null,19,1,7,1,0,{"$f":"+IF($G$4=\"mensual\",G36,IF($G$4=\"trimestral\",G36,IF(G4=\"semestral\",G36,0)))","v":1574.8053},null,14.943001403983933,{"$f":"-15*G19*(1+$G$20)*1.16","v":-124.9968153270774},null,{"$f":"-SUM(R42:V42)*0.1%*1.16","v":-1.6991117238492115},{"$f":"SUM(R42:X42)","v":1463.0523743530573},null,{"$f":"+Bono!J42","v":10332.793880259886},null,1.5833333333333333,40110.540324890899,null,62,18,41169.714251560748,505770.10188908299,null,"Todo retiro es acumulable al ingreso del (los) beneficiario(s), por lo que la retención representa un pago provisional de los impuestos. La presente ilustración se ofrece únicamente a modo de guía y no debe ser considerada como un contrato desde el punto de vista legal. Para mayores detalles vea el folleto del cliente y las Condiciones de la Póliza."]
[1.6666666666666667,20,1,8,45,28314.694070277954,null,268.6722690389339,0,0,-33.156704953607587,28550.20963436328,null,20,1,8,1,1463.0523743530573,{"$f":"IF($G$4=\"mensual\",G36,0)","v":1574.8053},null,28.825602436670174,{"$f":"+V42","v":-124.9968153270774},null,{"$f":"-SUM(R43:V43)*0.1%*1.16","v":-3.4123562952966737},2938.2741051673534,null,{"$f":"+Bono!J43","v":10396.858400847403},null,1.6666666666666667,41885.342140378038,null,63,19,43222.856135228933,548992.95802431193]
[1.75,21,1,9,45,28550.20963436328,null,270.9070274594111,0,{"$f":"-SUM(F44:H44)*$J$21*1.16","v":-300.89245794942889},-33.083460076492983,28487.140743796768,null,21,1,9,1,2938.2741051673534,{"$f":"IF($G$4=\"mensual\",G36,0)","v":1574.8053},null,42.823675972964232,{"$f":"+V43","v":-124.9968153270774},null,-5.1398512683433584,4425.7664145448962,null,{"$f":"+Bono!J44","v":10367.074001606257},null,1.75,43279.981159947922,null,64,20,45378.388615264026,594371.3466395759]
[1.8333333333333333,22,1,10,45,28487.140743796768,null,270.30857981621159,0,0,-33.358641215391053,28724.090682397586,null,22,1,10,1,4425.7664145448962,{"$f":"IF($G$4=\"mensual\",G36,IF($G$4=\"trimestral\",G36,0))","v":1574.8053},null,56.938182488432481,{"$f":"+V44","v":-124.9968153270774},null,-6.8817151747792504,5925.6313665314719,null,{"$f":"+Bono!J45","v":10431.351062922371},null,1.8333333333333333,45081.07311185143,null,65,21,47641.417931184966,642012.76457076089]
[1.9166666666666667,23,1,11,45,28724.090682397586,null,272.5569487194569,0,0,-33.636111252095766,28963.011519864944,null,23,1,11,1,5925.6313665314719,{"$f":"IF($G$4=\"mensual\",G36,0)","v":1574.8053},null,71.170090447671441,{"$f":"+V45","v":-124.9968153270774},null,-8.6380675323163967,7437.9718741197494,null,{"$f":"+Bono!J46","v":10496.026649474321},null,1.9166666666666667,46897.010043459013,null,66,22,50017.304971696743,692030.06954245758]
[2,24,1,12,45,28963.011519864944,null,274.82401907394183,0,{"$f":"-SUM(F47:H47)*$J$21*1.16","v":-305.24300302652199},-33.561807341658344,28899.030728570706,null,24,1,12,1,7437.9718741197494,{"$f":"IF($G$4=\"mensual\",G36,0)","v":1574.8053},null,85.520376370758839,{"$f":"+V46","v":-124.9968153270774},null,-10.409028852789582,8962.8917063106437,null,{"$f":"+Bono!J47","v":10465.958158001149},null,2,48327.880592882502,null,67,23,52511.677974096252,744541.74751655385]
[2.0833333333333335,25,2,1,46,28899.030728570706,null,274.21691859356002,0,0,-33.84096727071055,29139.406679893556,null,25,2,1,2,8962.8917063106437,{"$f":"IF(AND($G$17=\"si\",$G$4=\"Anual\"),G36*(1+$G$20)*2,IF(AND($G$17=\"no\",$G$4=\"Anual\"),G36*2,IF($G$17=\"si\",G36*(1+$G$20),G36)))","v":1653.34115527206},null,100.7352353688743,{"$f":"V47*(1+$G$18)","v":-131.23043150680181},null,-12.27945569191594,10573.45820975286,null,{"$f":"+Bono!J48","v":10530.848312556764},null,2.0833333333333335,50243.71320220318,null,68,24,55130.445857000028,799672.19337355392]
[2.1666666666666665,26,2,2,46,29139.406679893556,null,276.49779622211599,0,0,-34.122449192294177,29381.782026923378,null,26,2,2,2,10573.45820975286,{"$f":"IF($G$4=\"mensual\",S48,0)","v":1653.34115527206},null,116.01756742741293,{"$f":"V48","v":-131.23043150680181},null,-14.165440341096815,12197.421060604433,null,{"$f":"+Bono!J49","v":10596.140793597415},null,2.1666666666666665,52175.343881125227,null,69,25,57879.812217977793,857552.00559153175]
[2.25,27,2,3,46,29381.782026923378,null,278.79764570252968,0,{"$f":"-SUM(F50:H50)*$J$21*1.16","v":-309.6564517822145},-34.047070936178685,29316.876149907512,null,27,2,3,2,12197.421060604433,{"$f":"IF($G$4=\"mensual\",S49,0)","v":1653.34115527206},null,131.42701465259867,-131.23043150680181,null,-16.067112206865854,13834.891686815425,null,{"$f":"+Bono!J50","v":10565.785500138174},null,2.25,53717.553336861107,null,70,{"$f":"+AG49+1","v":26},{"$f":"IF($G$17=\"Si\",(1+$G$20)*AH49,AH49)","v":60766.290029250791},918318.29562078253]
[2.3333333333333335,28,2,4,46,29316.876149907512,null,278.18176727528862,0,0,-34.330267183932044,29560.727649998866,null,28,2,4,2,13834.891686815425,{"$f":"IF($G$4=\"mensual\",S48,IF($G$4=\"trimestral\",S48,0))","v":1653.34115527206},null,146.96463436117679,-131.23043150680181,null,-17.984601772132557,15485.982443169727,null,{"$f":"+Bono!J51","v":10631.294595794292},null,2.3333333333333335,55678.004688962887,null,71,27,63796.717066267534,982115.01268705004]
[2.4166666666666665,29,2,5,46,29560.727649998866,null,280.4956236664429,0,0,-34.615818997451754,29806.607454667857,null,29,2,5,2,15485.982443169727,{"$f":"IF($G$4=\"mensual\",S51,0)","v":1653.34115527206},null,162.6314926644269,-131.23043150680181,null,-19.918040605135317,17150.806618994277,null,{"$f":"+Bono!J52","v":10697.209855442063},null,2.4166666666666665,57654.6239291042,null,72,28,66978.272105705706,1049093.2847927557]
[2.5,30,2,6,46,29806.607454667857,null,282.82872621974269,0,{"$f":"-SUM(F53:H53)*$J$21*1.16","v":-314.13371372846655},-34.539350861904587,29740.763116297225,null,30,2,6,2,17150.806618994277,{"$f":"IF($G$4=\"mensual\",S52,0)","v":1653.34115527206},null,178.42866454131394,-131.23043150680181,null,-21.86756136846898,18829.478445932378,null,{"$f":"+Bono!J53","v":10666.56502439629},null,2.5,59236.806586625891,null,73,29,70318.491931271667,1119411.7767240275]
[2.5833333333333335,31,2,7,46,29740.763116297225,null,282.20394292702917,0,0,-34.826641788700137,29988.140417435556,null,31,2,7,2,18829.478445932378,{"$f":"+IF($G$4=\"mensual\",S48,IF($G$4=\"trimestral\",S48,IF($G$4=\"semestral\",S48,0)))","v":1653.34115527206},null,194.35723391224781,-131.23043150680181,null,-23.833297828187462,20522.113105781697,null,{"$f":"+Bono!J54","v":10732.698964792509},null,2.5833333333333335,61242.95248800976,null,74,30,73825.289187582574,1193237.0659116101]
[2.6666666666666665,32,2,8,46,29988.140417435556,null,284.55125491424678,0,0,-35.116322339925773,30237.575350009876,null,32,2,8,2,20522.113105781697,{"$f":"IF($G$4=\"mensual\",S54,0)","v":1653.34115527206},null,210.41829371345639,{"$f":"V54","v":-131.23043150680181},null,-25.815384862982075,22228.826738397431,null,{"$f":"+Bono!J55","v":10799.242943290248},null,2.6666666666666665,63265.645031697553,null,75,31,77506.971124425152,1270744.0370360352]
[2.75,33,2,9,46,30237.575350009876,null,286.91809134009617,0,{"$f":"-SUM(F56:H56)*$J$21*1.16","v":-318.67571152769375},-35.038748566593846,30170.778981255688,null,33,2,9,2,22228.826738397431,{"$f":"IF($G$4=\"mensual\",S55,0)","v":1653.34115527206},null,226.61294597197713,{"$f":"V55","v":-131.23043150680181},null,-27.813958473436212,23949.736449661232,null,{"$f":"+Bono!J56","v":10768.305812964529},null,2.75,64888.821243881452,null,76,32,81372.259275794451,1352116.2963118297]
[2.8333333333333335,34,2,10,46,30170.778981255688,null,286.28427442820561,0,0,-35.330193376593314,30421.733062307299,null,34,2,10,2,23949.736449661232,{"$f":"IF($G$4=\"mensual\",S48,IF($G$4=\"trimestral\",S48,0))","v":1653.34115527206},null,242.94230188127244,{"$f":"V56","v":-131.23043150680181},null,-29.829155791357003,25684.960319516405,null,{"$f":"+Bono!J57","v":10835.070558051073},null,2.8333333333333335,66941.763939874771,null,77,33,85430.310120330178,1437546.6064321599]
[2.9166666666666665,35,2,11,46,30421.733062307299,null,288.66552573939293,0,0,-35.624062362134161,30674.774525684559,null,35,2,11,2,25684.960319516405,{"$f":"IF($G$4=\"mensual\",S57,0)","v":1653.34115527206},null,259.40748187747408,{"$f":"V57","v":-131.23043150680181},null,-31.861115089184601,27434.617410069954,null,{"$f":"+Bono!J58","v":10902.249252301384},null,2.9166666666666665,69011.641188055888,null,78,34,89690.736772093063,1527237.3432042529]
[3,36,2,12,46,30674.774525684559,null,291.06658378924362,0,{"$f":"-SUM(F59:H59)*$J$21*1.16","v":-323.28338118290651},-35.54536696481744,30607.01236132608,null,36,2,12,2,27434.617410069954,{"$f":"IF($G$4=\"mensual\",S58,0)","v":1653.34115527206},null,276.00961571626169,{"$f":"V58","v":-131.23043150680181},null,-33.909975789479709,29198.827773761994,null,{"$f":"+Bono!J59","v":10871.017034660472},null,3,70676.857169748546,null,79,35,94163.631753064692,1621400.9749573176]
[3.0833333333333335,37,3,1,47,30607.01236132608,null,290.42360264284684,0,0,-35.841025718203952,30861.594938250724,null,37,3,1,3,29198.827773761994,{"$f":"IF($G$17=\"si\",S48*(1+$G$20),S48)","v":1735.7936093537087},null,293.53221681410992,{"$f":"V59*(1+$G$18)","v":-137.7749193721323},null,-36.064839269446914,31054.313841288236,null,{"$f":"+Bono!J60","v":10938.418601235295},null,3.0833333333333335,72854.327380774252,null,80,36,98859.590901316376,1720260.565858634]
[3.1666666666666665,38,3,2,47,30861.594938250724,null,292.83928400003737,0,0,-36.13914369781088,31118.29507855295,null,38,3,2,3,31054.313841288236,{"$f":"IF($G$4=\"mensual\",S60,0)","v":1735.7936093537087},null,311.13853990187016,{"$f":"V60","v":-137.7749193721323},null,-38.237626442559147,32925.233444729121,null,{"$f":"+Bono!J61","v":11006.23806534098},null,3.1666666666666665,75049.766588623053,null,81,37,103789.7384714832,1824050.3043301171]
[3.25,39,3,3,47,31118.29507855295,null,295.2750584776436,0,{"$f":"-SUM(F62:H62)*$J$21*1.16","v":-327.95767223059943},-36.059310459167989,31049.553154340825,null,39,3,3,3,32925.233444729121,{"$f":"IF($G$4=\"mensual\",S61,0)","v":1735.7936093537087},null,328.89130861617292,-137.7749193721323,null,-40.42848639425916,34811.714956932607,null,{"$f":"+Bono!J62","v":10974.707945756541},null,3.25,76835.97605702997,null,82,38,108965.75348700376,1933016.0578171208]
[3.3333333333333335,40,3,4,47,31049.553154340825,null,294.62278059286996,0,0,-36.359244084523084,31307.816690849169,null,40,3,4,3,34811.714956932607,{"$f":"IF($G$4=\"mensual\",S60,IF($G$4=\"trimestral\",S60,0))","v":1735.7936093537087},null,346.7917410603909,-137.7749193721323,null,-42.637569450050499,36713.887818524519,null,{"$f":"+Bono!J63","v":11042.752408007562},null,3.3333333333333335,79064.456917381249,null,83,39,114399.89740655133,2047415.9552236721]
[3.4166666666666665,41,3,5,47,31307.816690849169,null,297.07338981335073,0,0,-36.661672493568524,31568.22840816895,null,41,3,5,3,36713.887818524519,{"$f":"IF($G$4=\"mensual\",S63,0)","v":1735.7936093537087},null,364.84106546981985,-137.7749193721323,null,-44.865027185812053,38631.882546790097,null,{"$f":"+Bono!J64","v":11111.218753817207},null,3.4166666666666665,81311.329708776262,null,84,40,120105.04317019552,2167520.9983938676]
[3.5,42,3,6,47,31568.22840816895,null,299.54438267673731,0,{"$f":"-SUM(F65:H65)*$J$21*1.16","v":-332.69954793642898},-36.580684961774736,31498.492557947484,null,42,3,6,3,38631.882546790097,{"$f":"IF($G$4=\"mensual\",S64,0)","v":1735.7936093537087},null,383.0405202959538,-137.7749193721323,null,-47.111012438198443,40565.830744629427,null,{"$f":"+Bono!J65","v":11079.387890814167},null,3.5,83143.711193391078,null,85,41,126094.70569410181,2293615.7040879694]
[3.5833333333333335,43,3,7,47,31498.492557947484,null,298.88267363386871,0,0,-36.884955268634364,31760.490276312717,null,43,3,7,3,40565.830744629427,{"$f":"+IF($G$4=\"mensual\",S60,IF($G$4=\"trimestral\",S60,IF($G$4=\"semestral\",S60,0)))","v":1735.7936093537087},null,401.39135429146125,-137.7749193721323,null,-49.375679315126852,42515.865109587336,null,{"$f":"+Bono!J66","v":11148.081380866666},null,3.5833333333333335,85424.43676676671,null,86,42,132383.0738860078,2425998.7779739774]
[3.6666666666666665,44,3,8,47,31760.490276312717,null,301.36871573276966,0,0,-37.191756430772763,32024.667235614714,null,44,3,8,3,42515.865109587336,{"$f":"IF($G$4=\"mensual\",S66,0)","v":1735.7936093537087},null,419.89482659586798,-137.7749193721323,null,-51.659183206351145,44482.119442958428,null,{"$f":"+Bono!J67","v":11217.200778525443},null,3.6666666666666665,87723.987457098585,null,87,43,138985.04425731779,2564983.8222312951]
[3.75,45,3,9,47,32024.667235614714,null,303.87543619767405,0,{"$f":"-SUM(F68:H68)*$J$21*1.16","v":-337.50998549372133},-37.109597916129651,31953.923088402538,null,45,3,9,3,44482.119442958428,{"$f":"IF($G$4=\"mensual\",S67,0)","v":1735.7936093537087},null,438.55220682195289,-137.7749193721323,null,-53.961680794123865,46464.728658967826,null,{"$f":"+Bono!J68","v":11185.066303525913},null,3.75,89603.718050896277,null,88,44,145916.25621143906,2710900.0784427342]
[3.8333333333333335,46,3,10,47,31953.923088402538,null,303.20415963344408,0,0,-37.418267607721738,32219.708980428262,null,46,3,10,3,46464.728658967826,{"$f":"IF($G$4=\"mensual\",S60,IF($G$4=\"trimestral\",S60,0))","v":1735.7936093537087},null,457.36477514286213,-137.7749193721323,null,-56.28333006394702,48463.828794028319,null,{"$f":"+Bono!J69","v":11254.415011995163},null,3.8333333333333335,91937.952786451744,null,89,45,153193.12909195476,2864093.207534689]
[3.9166666666666665,47,3,11,47,32219.708980428262,null,305.72614692780962,0,0,-37.729504747733039,32487.705622608337,null,47,3,11,3,48463.828794028319,{"$f":"IF($G$17=\"si\",S58*(1+$G$20),S58)","v":1735.7936093537087},null,476.33382237994812,-137.7749193721323,null,-58.624290315412217,50479.557016074432,null,{"$f":"+Bono!J70","v":11324.193690500873},null,3.9166666666666665,94291.456329183638,null,90,46,160832.90107839636,3024926.1086130855]
[4,48,3,12,47,32487.705622608337,null,308.26911157261986,0,{"$f":"-SUM(F71:H71)*$J$21*1.16","v":-342.38997622484919},-37.64615831922908,32415.93859963688,null,48,3,12,3,50479.557016074432,{"$f":"IF($G$4=\"mensual\",S70,0)","v":1735.7936093537087},null,495.46065009133895,-137.7749193721323,null,-60.984722173130912,52512.05163397421,null,{"$f":"+Bono!J71","v":11291.75270756564},null,4,96219.742941176723,null,91,47,168853.6700217562,3193779.7786348416]
[4.083333333333333,49,4,1,48,32415.93859963688,null,307.58812915211223,0,0,-37.959291005395222,32685.567437783597,null,49,4,1,4,52512.05163397421,{"$f":"IF($G$17=\"si\",S60*(1+$G$20),S60)","v":1822.3579838108999},null,515.56796208598041,{"$f":"V71*(1+$G$18)","v":-144.6457821562044},null,-63.458184885349262,54641.873612829535,null,{"$f":"+Bono!J72","v":11361.762884114793},null,4.083333333333333,98689.203934727921,null,92,48,177274.43631647518,3371054.2149513168]
[4.166666666666667,50,4,2,48,32685.567437783597,null,310.14658136647864,0,0,-38.275028262214079,32957.438990887858,null,50,4,2,4,54641.873612829535,{"$f":"IF($G$4=\"mensual\",S72,0)","v":1822.3579838108999},null,535.77740183086257,-144.6457821562044,null,-65.952221330925497,56789.410994984166,null,{"$f":"+Bono!J73","v":11432.207131879228},null,4.166666666666667,101179.05711775125,null,93,49,186115.14791046505,3557169.3628617818]
[4.25,51,4,3,48,32957.438990887858,null,312.72631423868847,0,{"$f":"-SUM(F74:H74)*$J$21*1.16","v":-347.34052578552115},-38.190476744035593,32884.634302596991,null,51,4,3,4,56789.410994984166,{"$f":"IF($G$4=\"mensual\",S73,0)","v":1822.3579838108999},null,556.15493936940436,-144.6457821562044,null,-68.467002637769582,58954.811133370495,null,{"$f":"+Bono!J74","v":11399.456717446768},null,4.25,103238.90215341427,null,94,50,195396.74755978951,3752566.1104215714]
[4.333333333333333,52,4,4,48,32884.634302596991,null,312.0354856268296,0,0,-38.508136954339633,33158.161651269482,null,52,4,4,4,58954.811133370495,{"$f":"IF($G$4=\"mensual\",S72,IF($G$4=\"trimestral\",S72,0))","v":1822.3579838108999},null,576.70197290306976,-144.6457821562044,null,-71.002701357196784,61138.222606571064,null,{"$f":"+Bono!J75","v":11470.134671350075},null,4.333333333333333,105766.51892919061,null,95,51,205141.22243994573,3957707.3328615171]
[4.416666666666667,53,4,5,48,33158.161651269482,null,314.63093000032836,0,0,-38.828439394272976,33433.964141875535,null,53,4,5,4,61138.222606571064,{"$f":"IF($G$4=\"mensual\",S75,0)","v":1822.3579838108999},null,597.41991226326286,-144.6457821562044,null,-73.55949147576726,63339.795229013253,null,{"$f":"+Bono!J76","v":11541.250836765717},null,4.416666666666667,108315.0102076545,null,96,52,215371.65623127032,4173078.9890927873]
[4.5,54,4,6,48,33433.964141875535,null,317.24796272453148,0,{"$f":"-SUM(F77:H77)*$J$21*1.16","v":-352.36265437202474},-38.742665362264525,33360.106784865777,null,54,4,6,4,63339.795229013253,{"$f":"IF($G$4=\"mensual\",S76,0)","v":1822.3579838108999},null,618.31017900806376,-144.6457821562044,null,-76.137548427224161,65559.680061248786,null,{"$f":"+Bono!J77","v":11508.188039388733},null,4.5,110427.9748855033,null,97,53,226112.283801855,4399191.2728946423]
[4.583333333333333,55,4,7,48,33360.106784865777,null,316.54714555717032,0,0,-39.064918559290611,33637.589011863653,null,55,4,7,4,65559.680061248786,{"$f":"+IF($G$4=\"mensual\",S72,IF($G$4=\"trimestral\",S72,IF($G$4=\"semestral\",S72,0)))","v":1822.3579838108999},null,639.37420651976834,-144.6457821562044,null,-78.737049104530982,67798.029420318722,null,{"$f":"+Bono!J78","v":11579.540140100135},null,4.583333333333333,113015.1585722825,null,98,54,237388.54861751027,4636579.8215121524]
[4.666666666666667,56,4,8,48,33637.589011863653,null,319.18011695218013,0,0,-39.389852189426357,33917.379276626401,null,56,4,8,4,67798.029420318722,{"$f":"IF($G$4=\"mensual\",S78,0)","v":1822.3579838108999},null,660.61344010323967,-144.6457821562044,null,-81.358171872008924,70054.996890204653,null,{"$f":"+Bono!J79","v":11651.334632112277},null,4.666666666666667,115623.71079894333,null,99,55,249227.16301477523,4885806.9845269276]
[4.75,57,4,9,48,33917.379276626401,null,321.83498883962602,0,{"$f":"-SUM(F80:H80)*$J$21*1.16","v":-357.45739693146538},-39.302837967500089,33842.45403056706,null,57,4,9,4,70054.996890204653,{"$f":"IF($G$4=\"mensual\",S79,0)","v":1822.3579838108999},null,682.02933708507703,-144.6457821562044,null,-84.001096577575524,72330.737332366843,null,{"$f":"+Bono!J80","v":11617.956472191707},null,4.75,117791.14783512562,null,100,56,261656.17147975467,5147463.1560066827]
[4.833333333333333,58,4,10,48,33842.45403056706,null,321.12403869419626,0,0,-39.629750560343055,34123.94831870091,null,58,4,10,4,72330.737332366843,{"$f":"IF($G$4=\"mensual\",S72,IF($G$4=\"trimestral\",S72,0))","v":1822.3579838108999},null,703.62336691361054,-144.6457821562044,null,-86.666004565084776,74625.40689637007,null,{"$f":"+Bono!J81","v":11689.989149918834},null,4.833333333333333,120439.34436498981,null,101,57,274705.01708268432,5422168.1730893673]
[4.916666666666667,59,4,11,48,34123.94831870091,null,323.79507970656618,0,0,-39.959382342152665,34407.784016065321,null,59,4,11,4,74625.40689637007,{"$f":"IF($G$17=\"si\",S70*(1+$G$20),S70)","v":1822.3579838108999},null,725.39701125972704,-144.6457821562044,null,-89.353078686770004,76939.163030597731,null,{"$f":"+Bono!J82","v":11762.468438603146},null,4.916666666666667,123109.41548526619,null,102,58,288404.61122560123,5710572.7843149686]
[5,60,4,12,48,34407.784016065321,null,326.48833786630007,0,{"$f":"-SUM(F83:H83)*$J$21*1.16","v":-362.62580337504613},-39.871109998645615,34331.775440557925,null,60,4,12,4,76939.163030597731,{"$f":"IF($G$4=\"mensual\",S82,0)","v":1822.3579838108999},null,747.35176411853467,-144.6457821562044,null,-92.062503315790309,79272.16449305517,null,{"$f":"+Bono!J83","v":11728.771908119652},null,5,125332.71184173276,null,103,59,302787.40686834417,6013360.1911833128]
[5.083333333333333,61,5,1,49,34331.775440557925,null,325.76710823205775,0,0,-40.202749356596378,34617.339799433386,null,61,5,1,5,79272.16449305517,{"$f":"IF($G$17=\"si\",S72*(1+$G$20),S72)","v":1913.2393409351462},null,770.35148629123864,{"$f":"V83*(1+$G$18)","v":-151.85929624149074},null,-94.892519387886495,81709.003504652195,null,{"$f":"+Bono!J84","v":11801.491654403329},null,5.083333333333333,128127.83495848891,null,104,60,317887.47540634987,6331247.6665896624]
[5.166666666666667,62,5,2,49,34617.339799433386,null,328.47676930292397,0,0,-40.537147219734109,34905.27942151657,null,62,5,2,5,81709.003504652195,{"$f":"IF($G$4=\"mensual\",S84,0)","v":1913.2393409351462},null,793.4741470871968,-151.85929624149074,null,-97.746074927862352,84166.111621505188,null,{"$f":"+Bono!J85","v":11874.662271548934},null,5.166666666666667,130946.05331457069,null,105,61,333740.5873823596,6664988.2539720219]
[5.25,63,5,3,49,34905.27942151657,null,331.20896875453343,0,{"$f":"-SUM(F86:H86)*$J$21*1.16","v":-367.86893879443033},-40.44759856371293,34828.171852912958,null,63,5,3,5,84166.111621505188,{"$f":"IF($G$4=\"mensual\",S85,0)","v":1913.2393409351462},null,816.78913722589823,-151.85929624149074,null,-100.62336573197271,86643.657437692789,null,{"$f":"+Bono!J86","v":11840.644333791819},null,5.25,133312.47362439756,null,106,62,350384.29722323536,7015372.5511952573]
[5.333333333333333,64,5,4,49,34828.171852912958,null,330.47731100236456,0,0,-40.784033030141778,35117.865130885184,null,64,5,4,5,86643.657437692789,{"$f":"IF($G$4=\"mensual\",S84,IF($G$4=\"trimestral\",S84,0))","v":1913.2393409351462},null,840.29805646164482,-151.85929624149074,null,-103.52458922506378,89141.810949623032,null,{"$f":"+Bono!J87","v":11914.057702091062},null,5.333333333333333,136173.73378259927,null,107,63,367858.03220261756,7383230.5833978746]
[5.416666666666667,65,5,5,49,35117.865130885184,null,{"$f":"SUM(F88:G88)*$G$8","v":333.22615053158364},0,0,-41.123265886443448,{"$f":"SUM(F88:K88)","v":35409.968015530321},null,65,5,5,5,89141.810949623032,{"$f":"IF($G$4=\"mensual\",S87,0)","v":1913.2393409351462},null,864.0025178551524,-151.85929624149074,null,-106.44994447411935,{"$f":"SUM(R88:X88)","v":91660.743567697733},null,{"$f":"+Bono!J88","v":11987.926241789184},null,{"$f":"+B88/12","v":5.416666666666667},{"$f":"+AA88+Y88+L88","v":139058.63782501724},null,108,64,386203.1858401685,7769433.7692380436]
[{"$f":"+B89/12","v":5.5},{"$f":"+B88+1","v":66},5,6,49,{"$f":"L88","v":35409.968015530321},null,335.99785431957577,0,{"$f":"-SUM(F89:H89)*$J$21*1.16","v":-373.18788368123296},{"$f":"-SUM(F89:J89)*0.1%*1.16","v":-41.032422463955648},35331.74556370471,null,{"$f":"+N88+1","v":66},5,6,5,{"$f":"Y88","v":91660.743567697733},{"$f":"IF($G$4=\"mensual\",S88,0)","v":1913.2393409351462},null,887.90414788423038,-151.85929624149074,null,-109.39963220191973,94200.628128073702,null,{"$f":"+Bono!J89","v":11953.58383108272},null,5.5,141485.95752286114,null,109,65,405463.21595865488,8174896.9851966985]
[5.583333333333333,67,5,7,49,35331.74556370471,null,335.25561767136713,0,0,-41.373721370396247,35625.627460005686,null,67,5,7,5,94200.628128073702,{"$f":"+IF($G$4=\"mensual\",S84,IF($G$4=\"trimestral\",S84,IF($G$4=\"semestral\",S84,0)))","v":1913.2393409351462},null,912.00458655538239,-151.85929624149074,null,-112.37385480081439,96761.63890452194,null,{"$f":"+Bono!J90","v":12027.697437365337},null,5.583333333333333,144414.96380189297,null,110,66,425683.74763115618,8600580.7328278553]
[5.666666666666667,68,5,8,49,35625.627460005686,null,338.0442021325897,0,0,-41.717859128080399,35921.95380301019,null,68,5,8,5,96761.63890452194,{"$f":"IF($G$4=\"mensual\",S90,0)","v":1913.2393409351462},null,936.30548751633557,-151.85929624149074,null,-115.37281634660906,99343.951620385327,null,{"$f":"+Bono!J91","v":12102.270556603553},null,5.666666666666667,147368.17597999907,null,{"$f":"+AF90+1","v":111},67,446912.68126227148,{"$f":"+AI90+AH91","v":9047493.4140901268}]
[5.75,69,5,9,49,35921.95380301019,null,340.85598144242164,0,{"$f":"-SUM(F92:H92)*$J$21*1.16","v":-378.58373414968531},-41.625702218351393,35842.600348084576,null,69,5,9,5,99343.951620385327,{"$f":"IF($G$4=\"mensual\",S91,0)","v":1913.2393409351462},null,960.80851816950394,-151.85929624149074,null,-118.39672261256825,101947.74346063593,null,{"$f":"+Bono!J92","v":12067.600578030711},null,5.75,149857.94438675122,null,112,{"$f":"+AG91+1","v":68},{"$f":"IF($G$17=\"Si\",(1+$G$20)*AH91,AH91)","v":469200.30605935719},9516693.7201494835]
[5.833333333333333,70,5,10,49,35842.600348084576,null,340.10301293998873,0,0,-41.971935898788495,36140.731425125778,null,70,5,10,5,101947.74346063593,{"$f":"IF($G$4=\"mensual\",S84,IF($G$4=\"trimestral\",S84,0))","v":1913.2393409351462},null,985.5153597863989,-151.85929624149074,null,-121.44578108353454,104573.19308403246,null,{"$f":"+Bono!J93","v":12142.421101369531},null,5.833333333333333,152856.34561052779,null,113,69,492599.41916259855,10009293.139312083]
[5.916666666666667,71,5,11,49,36140.731425125778,null,342.93191699739691,0,0,-42.321049476862875,36441.34229264631,null,71,5,11,5,104573.19308403246,{"$f":"IF($G$17=\"si\",S82*(1+$G$20),S82)","v":1913.2393409351462},null,1010.4277076229877,-151.85929624149074,null,-124.52020097016498,107220.48063537896,null,{"$f":"+Bono!J94","v":12217.705520631695},null,5.916666666666667,155879.52844865696,null,114,70,517165.45071612118,10526458.590028204]
[6,72,5,12,49,36441.34229264631,null,345.78435127318465,0,{"$f":"-SUM(F95:H95)*$J$21*1.16","v":-384.05760216251957},-42.227560088438089,36360.84148166854,null,72,5,12,5,107220.48063537896,{"$f":"IF($G$4=\"mensual\",S94,0)","v":1913.2393409351462},null,1035.5472710360139,-151.85929624149074,null,-127.62019322328602,109889.78775788537,null,{"$f":"+Bono!J95","v":12182.704849755233},null,6,158433.33408930915,null,115,71,542956.59517642425,11069415.185204629]
[6.083333333333333,73,6,1,50,36360.84148166854,null,345.02049574675056,0,0,-42.57879989380173,36663.283177521487,null,73,6,1,6,109889.78775788537,{"$f":"IF($G$17=\"si\",S84*(1+$G$20),S84)","v":2008.65296951545},null,1061.7811337650205,{"$f":"V95*(1+$G$18)","v":-159.43254971691312},null,-130.84891560128074,112669.94039584763,null,{"$f":"+Bono!J96","v":12258.239032930014},null,6.083333333333333,161591.46260629914,null,116,72,570033.94916919153,11639449.134373821]
[6.166666666666667,74,6,2,50,36663.283177521487,null,347.89030237348334,0,0,-42.93296123667816,36968.240518658291,null,74,6,2,6,112669.94039584763,{"$f":"IF($G$4=\"mensual\",S96,0)","v":2008.65296951545},null,1088.1614264731793,-159.43254971691312,null,-134.10449380085842,115473.21774831848,null,{"$f":"+Bono!J97","v":12334.241536801901},null,6.166666666666667,164775.69980377867,null,117,73,598461.65622104891,12237910.79059487]
[6.25,75,6,3,50,36968.240518658291,null,350.78397943741146,0,{"$f":"-SUM(F98:H98)*$J$21*1.16","v":-389.61061576011917},-42.838120103509269,36886.575762232074,null,75,6,3,6,115473.21774831848,{"$f":"IF($G$4=\"mensual\",S97,0)","v":2008.65296951545},null,1114.7611448089813,-159.43254971691312,null,-137.38715120299415,118299.81216172301,null,{"$f":"+Bono!J98","v":12298.907019382785},null,6.25,167485.29494333785,null,118,74,628307.05870912387,12866217.849303994]
[6.333333333333333,76,6,4,50,36886.575762232074,null,350.00907947362992,0,0,-43.194438416378617,37193.390403289326,null,76,6,4,6,118299.81216172301,{"$f":"IF($G$4=\"mensual\",S96,IF($G$4=\"trimestral\",S96,0))","v":2008.65296951545},null,1141.5821139078262,-159.43254971691312,null,-140.69711304669806,121149.91758238267,null,{"$f":"+Bono!J99","v":12375.161669487872},null,6.333333333333333,170718.46965515986,null,119,75,659640.85738835961,13525858.706692355]
[6.416666666666667,77,{"$f":"C88+1","v":6},{"$f":"D88","v":5},{"$f":"E88+1","v":50},37193.390403289326,null,352.92038007192059,0,0,-43.553720508699037,37502.757062852543,null,77,{"$f":"O88+1","v":6},{"$f":"P88","v":5},{"$f":"Q88+1","v":6},121149.91758238267,{"$f":"IF($G$4=\"mensual\",S99,0)","v":2008.65296951545},null,{"$f":"SUM(R100:T100)*$G$8","v":1168.6261740861983},-159.43254971691312,null,-144.03460644447017,124023.72956982291,null,{"$f":"+Bono!J100","v":12451.889107268604},null,6.416666666666667,173978.37573994405,null,120,76,692537.27887448855,14218395.985566843]
[6.5,78,6,6,50,37502.757062852543,null,355.8558962453796,0,{"$f":"-SUM(F101:H101)*$J$21*1.16","v":-395.24391929298235},-43.457508086173732,37419.911531718768,null,78,6,6,6,124023.72956982291,{"$f":"IF($G$4=\"mensual\",S100,0)","v":2008.65296951545},null,1195.8951809679415,-159.43254971691312,null,-147.39986039788369,126921.4453101915,null,{"$f":"+Bono!J101","v":12416.217558981756},null,6.5,176757.57440089202,null,121,77,727074.25147941511,14945470.237046259]
[6.583333333333333,79,6,7,50,37419.911531718768,null,355.06979215489571,0,0,-43.818978335693444,37731.162345537967,null,79,6,7,6,126921.4453101915,{"$f":"+IF($G$4=\"mensual\",S96,IF($G$4=\"trimestral\",S96,IF($G$4=\"semestral\",S96,0)))","v":2008.65296951545},null,1223.391005611581,-159.43254971691312,null,-150.79310581329787,129843.26362978831,null,{"$f":"+Bono!J102","v":12493.19954803954},null,6.583333333333333,180067.62552336583,null,122,78,763333.58981554385,15708803.826861802]
[6.666666666666667,80,6,8,50,37731.162345537967,null,358.02318667794651,0,0,-44.183455217370451,38045.002076998542,null,80,6,8,6,129843.26362978831,{"$f":"IF($G$4=\"mensual\",S102,0)","v":2008.65296951545},null,1251.1155346387068,-159.43254971691312,null,-154.21457551770166,132789.38500870788,null,{"$f":"+Bono!J103","v":12570.658834358839},null,6.666666666666667,183405.04592006525,null,123,79,801401.18860636291,16510205.015468165]
[6.75,81,6,9,50,38045.002076998542,null,361.00114690442109,0,{"$f":"-SUM(F104:H104)*$J$21*1.16","v":-400.95867365754697},-44.085851678284676,37960.958698567134,null,81,6,9,6,132789.38500870788,{"$f":"IF($G$4=\"mensual\",S103,0)","v":2008.65296951545},null,1279.0706703634226,-159.43254971691312,null,-157.66450427468902,135760.01159459515,null,{"$f":"+Bono!J104","v":12534.647040506165},null,6.75,186255.61733366846,null,124,80,841367.22616239998,17351572.241630565]
[6.833333333333333,82,6,10,50,37960.958698567134,null,360.20367668896262,0,0,-44.452548355297075,38276.709826900798,null,82,6,10,6,135760.01159459515,{"$f":"IF($G$4=\"mensual\",S96,IF($G$4=\"trimestral\",S96,0))","v":2008.65296951545},null,1307.2583309228744,-159.43254971691312,null,-161.14312880056721,138755.34721651601,null,{"$f":"+Bono!J105","v":12612.363306086367},null,6.833333333333333,189644.42034950317]
[6.916666666666667,83,6,11,50,38276.709826900798,null,363.19977376458172,0,0,-44.822295136771835,38595.087305528607,null,83,6,11,6,138755.34721651601,{"$f":"IF($G$17=\"si\",S94*(1+$G$20),S94)","v":2008.65296951545},null,1335.6804504088618,-159.43254971691312,null,-164.65068778059916,141775.5973989428,null,{"$f":"+Bono!J106","v":12690.561421527696},null,6.916666666666667,193061.24612599911]
[7,84,6,12,50,38595.087305528607,null,366.22079173431564,0,{"$f":"-SUM(F107:H107)*$J$21*1.16","v":-406.75605653542493},-44.723280367243909,38509.828760360258,null,84,6,12,6,141775.5973989428,{"$f":"IF($G$4=\"mensual\",S106,0)","v":2008.65296951545},null,1364.3389790005463,-159.43254971691312,null,{"$f":"-SUM(R107:V107)*0.1%*1.16","v":-168.18742188538059},144820.96937585651,null,{"$f":"+Bono!J107","v":12654.20613674838},null,7,195985.00427296513]
[7.083333333333333,85,7,1,51,38509.828760360258,null,365.4117910533094,0,0,-45.095279039639735,38830.145272373928,null,85,7,1,7,144820.96937585651,{"$f":"IF($G$17=\"si\",S96*(1+$G$20),S96)","v":2108.8248948357791},null,1394.1863937554854,{"$f":"V107*(1+$G$18)","v":-167.38348285780552},null,-171.86165273064432,147984.73552885931,null,{"$f":"+Bono!J108","v":12732.663682593282},null,7.083333333333333,199547.54448382652]
[7.166666666666667,86,7,2,51,38830.145272373928,null,368.45120810933497,0,0,-45.47037191736058,39153.126108565899,null,86,7,2,7,147984.73552885931,{"$f":"IF($G$4=\"mensual\",S108,0)","v":2108.8248948357791},null,1424.2067156747712,-167.38348285780552,null,-175.56644504155395,151174.81721147048,null,{"$f":"+Bono!J109","v":12811.607674322935},null,7.166666666666667,203139.55099435931]
[7.25,87,7,3,51,39153.126108565899,null,371.5159063857991,0,{"$f":"-SUM(F110:H110)*$J$21*1.16","v":-412.63726263609578},-45.369925512686102,39066.634826802918,null,87,7,3,7,151174.81721147048,{"$f":"IF($G$4=\"mensual\",S109,0)","v":2108.8248948357791},null,1454.4767402054749,-167.38348285780552,null,-179.30205302183853,154391.43331063207,null,{"$f":"+Bono!J110","v":12774.905622300967},null,7.25,206232.97375973593]
[7.333333333333333,88,7,4,51,39066.634826802918,null,370.69520852250349,0,0,-45.74730284097749,39391.582732484443,null,88,7,4,7,154391.43331063207,{"$f":"IF($G$4=\"mensual\",S108,IF($G$4=\"trimestral\",S108,0))","v":2108.8248948357791},null,1484.9985443204655,-167.38348285780552,null,-183.06873298963936,157634.80453394086,null,{"$f":"+Bono!J111","v":12854.111518956568},null,7.333333333333333,209880.49878538187]
[7.416666666666667,89,7,5,51,39391.582732484443,null,373.77857191404189,0,0,-46.127819113102241,39719.233485285389,null,89,7,5,7,157634.80453394086,{"$f":"IF($G$4=\"mensual\",S111,0)","v":2108.8248948357791},null,1515.7742222684278,-167.38348285780552,null,-186.86674339509719,160905.15342479214,null,{"$f":"+Bono!J112","v":12933.80850135875},null,7.416666666666667,213558.19541143629]
[7.5,90,7,6,51,39719.233485285389,null,376.88758206223031,0,{"$f":"-SUM(F113:H113)*$J$21*1.16","v":-418.60350394310916},-46.025920373549226,39631.49164303096,null,90,7,6,7,160905.15342479214,{"$f":"IF($G$4=\"mensual\",S112,0)","v":2108.8248948357791},null,1546.805885717559,-167.38348285780552,null,-190.69634483808568,164202.70437764956,null,{"$f":"+Bono!J113","v":12896.756374527669},null,7.5,216730.95239520818]
[7.583333333333333,91,7,7,51,39631.49164303096,null,376.0550178893792,0,0,-46.408754126667603,39961.137906793672,null,91,7,7,7,164202.70437764956,{"$f":"+IF($G$4=\"mensual\",S108,IF($G$4=\"trimestral\",S108,IF($G$4=\"semestral\",S108,0)))","v":2108.8248948357791},null,1578.0956639004601,-167.38348285780552,null,-194.55780008609244,167527.68365344187,null,{"$f":"+Bono!J114","v":12976.717759980889},null,7.583333333333333,220465.53932021643]
[7.666666666666667,92,7,8,51,39961.137906793672,null,379.18296302788252,0,0,-46.794772208993002,40293.526097612557,null,92,7,8,7,167527.68365344187,{"$f":"IF($G$4=\"mensual\",S114,0)","v":2108.8248948357791},null,1609.6457037602333,-167.38348285780552,null,-198.45137409224887,170880.3193950878,null,{"$f":"+Bono!J115","v":13057.174915298865},null,7.666666666666667,224231.02040799923]
[7.75,93,7,9,51,40293.526097612557,null,382.3369257444636,0,{"$f":"-SUM(F116:H116)*$J$21*1.16","v":-424.65600996384734},-46.691400135536085,40204.515613257645,null,93,7,9,7,170880.3193950878,{"$f":"IF($G$4=\"mensual\",S115,0)","v":2108.8248948357791},null,1641.4581700977938,-167.38348285780552,null,-202.37733401350968,174260.84164315002,null,{"$f":"+Bono!J116","v":13019.769374543686},null,7.75,227485.12663095136]
[7.833333333333333,94,7,10,51,40204.515613257645,null,381.4923236894129,0,0,-47.079769206858579,40538.928167740196,null,94,7,10,7,174260.84164315002,{"$f":"IF($G$4=\"mensual\",S108,IF($G$4=\"trimestral\",S108,0))","v":2108.8248948357791},null,1673.5352457204074,-167.38348285780552,null,-206.33594922898411,177669.4823516194,null,{"$f":"+Bono!J117","v":13100.493454865631},null,7.833333333333333,231308.90397422525]
[7.916666666666667,95,7,11,51,40538.928167740196,null,384.66549517362279,0,0,-47.471368648980025,40876.122294264838,null,95,7,11,7,177669.4823516194,{"$f":"IF($G$17=\"si\",S106*(1+$G$20),S106)","v":2108.8248948357791},null,1705.8791315914636,-167.38348285780552,null,-210.32749135841902,181106.47540383041,null,{"$f":"+Bono!J118","v":13181.718033848985},null,7.916666666666667,235164.31573194423]
[8,96,7,12,51,40876.122294264838,null,387.86506041897269,0,{"$f":"-SUM(F119:H119)*$J$21*1.16","v":-430.79602798289903},-47.366501938973059,40785.824824761941,null,96,7,12,7,181106.47540383041,{"$f":"IF($G$4=\"mensual\",S118,0)","v":2108.8248948357791},null,1738.4920469814945,-167.38348285780552,null,-214.35223428083623,184572.05662850902,null,{"$f":"+Bono!J119","v":13143.955708205276},null,8,238501.83716147623]
[8.0833333333333339,97,8,1,52,40785.824824761941,null,387.00824642834289,0,0,-47.760486362580721,41125.0725848277,null,97,8,1,8,184572.05662850902,{"$f":"IF($G$17=\"si\",S108*(1+$G$20),S108)","v":2213.9924141062183},null,1772.3741424342495,{"$f":"V119*(1+$G$18)","v":-175.73093062462084},null,-218.52392301513282,188164.16833140972,null,{"$f":"+Bono!J120","v":13225.449758200646},null,8.0833333333333339,242514.69067443805]
[8.1666666666666661,98,8,2,52,41125.0725848277,null,390.22729817712798,0,0,-48.157747864285597,41467.142135140544,null,98,8,2,8,188164.16833140972,{"$f":"IF($G$4=\"mensual\",S120,0)","v":2213.9924141062183},null,1806.4589465809668,-175.73093062462084,null,-222.73031096330783,191786.15845050896,null,{"$f":"+Bono!J121","v":13307.449080758712},null,8.1666666666666661,246560.7496664082]
[8.25,99,8,3,52,41467.142135140544,null,393.47312530927252,0,{"$f":"-SUM(F122:H122)*$J$21*1.16","v":-437.02482331909619},-48.051364907071637,41375.539072223655,null,99,8,3,8,191786.15845050896,{"$f":"IF($G$4=\"mensual\",S121,0)","v":2213.9924141062183},null,1840.8272608322054,-175.73093062462084,null,-226.97168674599439,195438.27550807677,null,{"$f":"+Bono!J122","v":13269.326567108797},null,8.25,250083.14114740922]
[8.3333333333333339,100,8,4,52,41375.539072223655,null,392.60392281308054,0,0,-48.451045874242617,41719.691949162494,null,100,8,4,8,195438.27550807677,{"$f":"IF($G$4=\"mensual\",S120,IF($G$4=\"trimestral\",S120,0))","v":2213.9924141062183},null,1875.4814433643251,-175.73093062462084,null,-231.2483413845103,199120.77009353816,null,{"$f":"+Bono!J123","v":13351.597930971488},null,8.3333333333333339,254192.05997367212]
[8.4166666666666661,101,8,5,52,41719.691949162494,null,395.86951820019425,0,0,-48.854051302140725,42066.707416060548,null,101,8,5,8,199120.77009353816,{"$f":"IF($G$4=\"mensual\",S123,0)","v":2213.9924141062183},null,1910.4238719684913,-175.73093062462084,null,-235.56056832082635,202833.89488066742,null,{"$f":"+Bono!J124","v":13434.379386833014},null,8.4166666666666661,258334.981683561]
[8.5,102,8,6,52,42066.707416060548,null,399.16227611068751,0,{"$f":"-SUM(F125:H125)*$J$21*1.16","v":-443.34367958626768},-48.746130174598562,41973.779882410367,null,102,8,6,8,202833.89488066742,{"$f":"IF($G$4=\"mensual\",S124,0)","v":2213.9924141062183},null,1945.6569442138286,{"$f":"V124","v":-175.73093062462084},null,-239.90866343770088,206577.90464492515,null,{"$f":"+Bono!J125","v":13395.893249599305},null,8.5,261947.57777693481]
[8.5833333333333339,103,8,7,52,41973.779882410367,null,398.28050598595945,0,0,-49.151590050539738,42322.908798345787,null,103,8,7,8,206577.90464492515,{"$f":"+IF($G$4=\"mensual\",S120,IF($G$4=\"trimestral\",S120,IF($G$4=\"semestral\",S120,0)))","v":2213.9924141062183},null,1981.1830776119273,-175.73093062462084,null,-244.29292507898163,210353.05628093969,null,{"$f":"+Bono!J126","v":13478.949341574264},null,8.5833333333333339,266154.91442085977]
[8.6666666666666661,104,8,8,52,42322.908798345787,null,401.59331797674611,0,0,-49.560422454934134,42674.9416938676,null,104,8,8,8,210353.05628093969,{"$f":"IF($G$4=\"mensual\",S126,0)","v":2213.9924141062183},null,2017.0047097827219,-175.73093062462084,null,-248.71365407007661,214159.60882013393,null,{"$f":"+Bono!J127","v":13562.520390953378},null,8.6666666666666661,270397.07090495492]
[8.75,105,8,9,52,42674.9416938676,null,404.93368522851432,0,{"$f":"-SUM(F128:H128)*$J$21*1.16","v":-449.7538989577634},-49.450940916960484,42580.670539221384,null,105,8,9,8,214159.60882013393,{"$f":"IF($G$4=\"mensual\",S127,0)","v":2213.9924141062183},null,2053.1242986217471,-175.73093062462084,null,-253.17115373859522,217997.82344849868,null,{"$f":"+Bono!J128","v":13523.667161788748},null,8.75,274102.16114950879]
[8.8333333333333339,106,8,10,52,42580.670539221384,null,404.03916576237231,0,0,-49.862263257781152,42934.847441725971,null,106,8,10,8,217997.82344849868,{"$f":"IF($G$4=\"mensual\",S120,IF($G$4=\"trimestral\",S120,0))","v":2213.9924141062183},null,2089.5443224687879,-175.73093062462084,null,-257.66572993516087,221867.96352451388,null,{"$f":"+Bono!J129","v":13607.515466840136},null,8.8333333333333339,278410.32643307996]
[8.9166666666666661,107,8,11,52,42934.847441725971,null,407.39987705245034,0,0,-50.27700688978296,43291.970311888639,null,107,8,11,8,221867.96352451388,{"$f":"IF($G$17=\"si\",S118*(1+$G$20),S118)","v":2213.9924141062183},null,2126.2672802779275,-175.73093062462084,null,-262.19769105439713,225770.29459721901,null,{"$f":"+Bono!J130","v":13691.883641108643},null,8.9166666666666661,282754.14855021628]
[9,108,8,12,52,43291.970311888639,null,410.78854201962787,0,{"$f":"-SUM(F131:H131)*$J$21*1.16","v":-456.25680243480235},-50.165942379709215,43196.336109093754,null,108,8,12,8,225770.29459721901,{"$f":"IF($G$4=\"mensual\",S130,0)","v":2213.9924141062183},null,2163.295691789016,-175.73093062462084,null,-266.76734805608794,229705.08442443353,null,{"$f":"+Bono!J131","v":13652.659818583867},null,9,286554.08035211114]
[9.0833333333333339,109,9,1,53,43196.336109093754,null,409.8810888718433,0,0,-50.583211949640088,43555.633986015957,null,109,9,1,9,229705.08442443353,{"$f":"IF($G$17=\"si\",S120*(1+$G$20),S120)","v":2324.4046585961783},null,2201.679776625966,{"$f":"V131*(1+$G$18)","v":-184.49466728105679},null,-271.49414206315458,233775.18005031146,null,{"$f":"+Bono!J132","v":13737.307893069607},null,9.0833333333333339,291068.12192939705]
[9.1666666666666661,110,9,2,53,43555.633986015957,null,413.29039202779342,0,0,-51.003952278530747,43917.920425765224,null,110,9,2,9,233775.18005031146,{"$f":"IF($G$4=\"mensual\",S132,0)","v":2324.4046585961783},null,2240.3000712438743,-184.49466728105679,null,-276.26025253092973,237879.12986033954,null,{"$f":"+Bono!J133","v":13822.480795435729},null,9.1666666666666661,295619.53108154051]
[9.25,111,9,3,53,43917.920425765224,null,416.7280530375815,0,{"$f":"-SUM(F134:H134)*$J$21*1.16","v":-462.85373011870126},-50.891281908473559,43820.903466775628,null,111,9,3,9,237879.12986033954,{"$f":"IF($G$4=\"mensual\",S133,0)","v":2324.4046585961783},null,2279.2416012051522,-184.49466728105679,null,-281.06600648531736,242017.2154463745,null,{"$f":"+Bono!J134","v":13782.882844723928},null,9.25,299621.00175787404]
[9.3333333333333339,112,9,4,53,43820.903466775628,null,415.80747920258625,0,0,-51.31458469733473,44185.39636128088,null,112,9,4,9,242017.2154463745,{"$f":"IF($G$4=\"mensual\",S132,IF($G$4=\"trimestral\",S132,0))","v":2324.4046585961783},null,2318.5070384766204,-184.49466728105679,null,-285.91173367235285,246189.7207424939,null,{"$f":"+Bono!J135","v":13868.338317076674},null,9.3333333333333339,304243.45542085147]
[9.4166666666666661,113,9,5,53,44185.39636128088,null,419.26607680467345,0,0,-51.741408428179234,44552.921029657373,null,113,9,5,9,246189.7207424939,{"$f":"IF($G$4=\"mensual\",S135,0)","v":2324.4046585961783},null,2358.0990772499486,-184.49466728105679,null,-290.79776658082841,250396.93204447813,null,{"$f":"+Bono!J136","v":13954.323623270227},null,9.4166666666666661,308904.1766974057]
[9.5,114,9,6,53,44552.921029657373,null,422.75344228124925,0,{"$f":"-SUM(F137:H137)*$J$21*1.16","v":-469.54604148703925},-51.627108979323829,44454.501321472257,null,114,9,6,9,250396.93204447813,{"$f":"IF($G$4=\"mensual\",S136,0)","v":2324.4046585961783},null,2398.0204341265144,-184.49466728105679,null,-295.72444046510691,254639.13802945468,null,{"$f":"+Bono!J137","v":13914.347975828328},null,9.5,313007.9873267553]
[9.5833333333333339,115,9,7,53,44454.501321472257,null,421.81955804959864,0,0,-52.056532220245352,44824.264347301607,null,115,9,7,9,254639.13802945468,{"$f":"+IF($G$4=\"mensual\",S132,IF($G$4=\"trimestral\",S132,IF($G$4=\"semestral\",S132,0)))","v":2324.4046585961783},null,2438.2738483038061,-184.49466728105679,null,-300.69209336812537,258916.62977570549,null,{"$f":"+Bono!J138","v":14000.618547242933},null,9.5833333333333339,317741.51267025003]
[9.6666666666666661,116,9,8,53,44824.264347301607,null,425.32816283655819,0,0,-52.48952731176027,45197.102982826407,null,116,9,8,9,258916.62977570549,{"$f":"IF($G$4=\"mensual\",S138,0)","v":2324.4046585961783},null,2478.8620817633678,-184.49466728105679,null,-305.70106614458945,263229.70078263944,null,{"$f":"+Bono!J139","v":14087.424006207075},null,9.6666666666666661,322514.22777167294]
[9.75,117,9,9,53,45197.102982826407,null,428.86595144706553,0,{"$f":"-SUM(F140:H140)*$J$21*1.16","v":-476.33511567381504},-52.3735752295756,45097.260243370081,null,117,9,9,9,263229.70078263944,{"$f":"IF($G$4=\"mensual\",S139,0)","v":2324.4046585961783},null,2519.7879194603179,-184.49466728105679,null,-310.75170248436132,267578.64699093055,null,{"$f":"+Bono!J140","v":14047.067059454203},null,9.75,326722.97429375484]
[9.8333333333333339,118,9,10,53,45097.260243370081,null,427.91856436634293,0,0,-52.809207416974246,45472.369600319449,null,118,9,10,9,267578.64699093055,{"$f":"IF($G$4=\"mensual\",S132,IF($G$4=\"trimestral\",S132,0))","v":2324.4046585961783},null,2561.0541695144325,-184.49466728105679,null,-315.84434893604174,271963.7668028241,null,{"$f":"+Bono!J141","v":14134.160504581747},null,9.8333333333333339,331570.29690772528]
[9.9166666666666661,119,9,11,53,45472.369600319449,null,431.47789938226009,0,0,-53.248463099653982,45850.599036602056,null,119,9,11,9,271963.7668028241,{"$f":"IF($G$17=\"si\",S130*(1+$G$20),S130)","v":2324.4046585961783},null,2602.6636634028282,-184.49466728105679,null,-320.97935493074885,276385.36110261135,null,{"$f":"+Bono!J142","v":14221.793939171297},null,9.9166666666666661,336457.75407838472]
[10,120,9,12,53,45850.599036602056,null,435.06684018490978,0,{"$f":"-SUM(F143:H143)*$J$21*1.16","v":-483.22235175365597},-53.130834489038641,45749.31269054427,null,120,9,12,9,276385.36110261135,{"$f":"IF($G$4=\"mensual\",S142,0)","v":2324.4046585961783},null,2644.6192561542421,-184.49466728105679,null,-326.15707280609359,280843.73327727464,null,{"$f":"+Bono!J143","v":14181.052056164115},null,10,340774.09802398307]
[10.083333333333334,121,10,1,54,45749.31269054427,null,434.10575502006691,0,0,-53.572765396854628,46129.845680167477,null,121,10,1,10,280843.73327727464,{"$f":"IF($G$17=\"si\",S132*(1+$G$20),S132)","v":2440.3231838013012},null,2688.0237534278822,{"$f":"V143*(1+$G$18)","v":-193.69545323729653},null,-331.50292632306923,285446.88183494349,null,{"$f":"+Bono!J144","v":14268.976223812559},null,10.083333333333334,345845.70373892353]
[10.166666666666666,122,10,2,54,46129.845680167477,null,437.71655376337941,0,0,-54.018372191359788,46513.543861739498,null,122,10,2,10,285446.88183494349,{"$f":"IF($G$4=\"mensual\",S144,0)","v":2440.3231838013012},null,2731.7020769387263,-193.69545323729653,null,-336.89324550523764,290088.318396941,null,{"$f":"+Bono!J145","v":14357.445531498994},null,10.166666666666666,350959.3077901795]
[10.25,123,10,3,54,46513.543861739498,null,441.35738635769235,0,{"$f":"-SUM(F146:H146)*$J$21*1.16","v":-490.20916903013466},-53.899042811717784,46410.793036255338,null,123,10,3,10,290088.318396941,{"$f":"IF($G$4=\"mensual\",S145,0)","v":2440.3231838013012},null,2775.7437073945239,-193.69545323729653,null,-342.32840020848346,294768.36143469106,null,{"$f":"+Bono!J146","v":14316.315040603948},null,10.25,355495.46951155033]
[10.333333333333334,124,10,4,54,46410.793036255338,null,440.38240505081569,0,0,-54.347363511915141,46796.828077794242,null,124,10,4,10,294768.36143469106,{"$f":"IF($G$4=\"mensual\",S144,IF($G$4=\"trimestral\",S144,0))","v":2440.3231838013012},null,2820.1516667046712,-193.69545323729653,null,-347.80876336507333,299487.3320685947,null,{"$f":"+Bono!J147","v":14405.077854445453},null,10.333333333333334,360689.23800083436]
[10.416666666666666,125,10,5,54,46796.828077794242,null,444.0454116254715,0,0,-54.799413247726861,47186.074076171986,null,125,10,5,10,299487.3320685947,{"$f":"IF($G$4=\"mensual\",S147,0)","v":2440.3231838013012},null,2864.9290019141608,-193.69545323729653,null,-353.33471100924459,304245.55409006367,null,{"$f":"+Bono!J148","v":14494.391008028626},null,10.416666666666666,365926.01917426428]
[10.5,126,10,6,54,47186.074076171986,null,447.73888630469298,0,{"$f":"-SUM(F149:H149)*$J$21*1.16","v":-497.2970073282566},-54.67835850797217,47081.837596640449,null,126,10,6,10,304245.55409006367,{"$f":"IF($G$4=\"mensual\",S148,0)","v":2440.3231838013012},null,2910.0787854126534,-193.69545323729653,null,-358.90662230300683,309043.35398373735,null,{"$f":"+Bono!J149","v":14452.868202591053},null,10.5,370578.05978296883]
[10.583333333333334,127,10,7,54,47081.837596640449,null,446.74980793418831,0,0,-55.133161389306572,47473.454243185333,null,127,10,7,10,309043.35398373735,{"$f":"+IF($G$4=\"mensual\",S144,IF($G$4=\"trimestral\",S144,IF($G$4=\"semestral\",S144,0)))","v":2440.3231838013012},null,2955.6041151452873,-193.69545323729653,null,-364.52487956215811,313881.06094988453,null,{"$f":"+Bono!J150","v":14542.477661876066},null,10.583333333333334,375896.99285494594]
[10.666666666666666,128,10,8,54,47473.454243185333,null,450.46577720298848,0,0,-55.591747223650451,47868.328273164676,null,128,10,8,10,313881.06094988453,{"$f":"IF($G$4=\"mensual\",S150,0)","v":2440.3231838013012},null,3001.508114825248,-193.69545323729653,null,-370.18986828251758,318759.00692699128,null,{"$f":"+Bono!J151","v":14632.642710202701},null,10.666666666666666,381259.97791035869]
[10.75,129,10,9,54,47868.328273164676,null,{"$f":"SUM(F152:G152)*$G$8","v":454.21265510870683},0,{"$f":"-SUM(F152:H152)*$J$21*1.16","v":-504.48732729117415},-55.468942177139361,{"$f":"SUM(F152:K152)","v":47762.58465880507},null,129,10,9,10,318759.00692699128,{"$f":"IF($G$4=\"mensual\",S151,0)","v":2440.3231838013012},null,3047.793934148096,-193.69545323729653,null,-375.90197716637596,{"$f":"SUM(R152:X152)","v":323677.52661453706},null,{"$f":"+Bono!J152","v":14590.723848212798},null,{"$f":"+B152/12","v":10.75},{"$f":"+AA152+Y152+L152","v":386030.8351215549}]
[{"$f":"+B153/12","v":10.833333333333334},{"$f":"+B152+1","v":130},10,10,54,{"$f":"L152","v":47762.58465880507},null,453.20927584789411,0,0,{"$f":"-SUM(F153:J153)*0.1%*1.16","v":-55.930320964197442},48159.863613688773,null,{"$f":"+N152+1","v":130},10,10,10,{"$f":"Y152","v":323677.52661453706},{"$f":"IF($G$4=\"mensual\",S144,IF($G$4=\"trimestral\",S144,0))","v":2440.3231838013012},null,3094.4647490078883,-193.69545323729653,null,-381.66159814916642,328636.95749595982,null,{"$f":"+Bono!J153","v":14681.188028490931},null,10.833333333333334,391478.00913813955]
[10.916666666666666,131,10,11,54,48159.863613688773,null,456.97897358805312,0,0,-56.395537401241114,48560.447049875584,null,131,10,11,10,328636.95749595982,{"$f":"IF($G$17=\"si\",S142*(1+$G$20),S142)","v":2440.3231838013012},null,3141.5237617150856,-193.69545323729653,null,-387.46912642635715,333637.63986181258,null,{"$f":"+Bono!J154","v":14772.213097179983},null,10.916666666666666,396970.30000886816]
[11,132,10,12,54,48560.447049875584,null,460.78002686705355,0,{"$f":"-SUM(F155:H155)*$J$21*1.16","v":-511.78161068119317},-56.27095674063127,48453.174509320808,null,132,10,12,10,333637.63986181258,{"$f":"IF($G$4=\"mensual\",S154,0)","v":2440.3231838013012},null,3188.9742012162833,-193.69545323729653,null,-393.32496048056782,338679.91683311237,null,{"$f":"+Bono!J155","v":14729.894400935567},null,11,401862.98574336874]
[11.083333333333334,133,11,1,55,48453.174509320808,null,459.76213994216261,0,0,-56.739006513145043,48856.197642749823,null,133,11,1,11,338679.91683311237,{"$f":"IF($G$17=\"si\",S144*(1+$G$20),S144)","v":2562.0225890421088},null,3237.9741037723547,{"$f":"V155*(1+$G$18)","v":-203.35508422933114},null,-399.36080779236909,343877.19763390516,null,{"$f":"+Bono!J156","v":14821.221454783366},null,11.083333333333334,407554.61673143832]
[11.166666666666666,134,11,2,55,48856.197642749823,null,463.58634300311735,0,0,-57.210949423473409,49262.573036329464,null,134,11,2,11,343877.19763390516,{"$f":"IF($G$4=\"mensual\",S156,0)","v":2562.0225890421088},null,3287.2900251139617,-203.35508422933114,null,-405.44685999004497,349117.70830384182,null,{"$f":"+Bono!J157","v":14913.114746958305},null,11.166666666666666,413293.3960871296]
[11.25,135,11,3,55,49262.573036329464,null,467.4423549665043,0,{"$f":"-SUM(F158:H158)*$J$21*1.16","v":-519.1813606851299},-57.084567475508571,49153.749463135326,null,135,11,3,11,349117.70830384182,{"$f":"IF($G$4=\"mensual\",S157,0)","v":2562.0225890421088},null,3337.0161457324639,-203.35508422933114,null,-411.583534667089,354401.80841971998,null,{"$f":"+Bono!J158","v":14870.392402724377},null,11.25,418425.95028557966]
[11.333333333333334,136,11,4,55,49153.749463135326,null,466.40975061406368,0,0,-57.55938468794929,49562.599829061437,null,136,11,4,11,354401.80841971998,{"$f":"IF($G$4=\"mensual\",S156,IF($G$4=\"trimestral\",S156,0))","v":2562.0225890421088},null,3387.155877577638,-203.35508422933114,null,-417.77125289044807,359729.86054921994,null,{"$f":"+Bono!J159","v":14962.590560480026},null,11.333333333333334,424255.05093876139]
[11.416666666666666,137,11,5,55,49562.599829061437,null,470.28924707756505,0,0,-58.038151328321234,49974.850924810678,null,137,11,5,11,359729.86054921994,{"$f":"IF($G$4=\"mensual\",S159,0)","v":2562.0225890421088},null,3437.7126609791271,-203.35508422933114,null,-424.01043922941369,365102.23027578241,null,{"$f":"+Bono!J160","v":15055.360357508083},null,11.416666666666666,430132.44155810116]
[11.5,138,11,6,55,49974.850924810678,null,474.20101236218454,0,{"$f":"-SUM(F161:H161)*$J$21*1.16","v":-526.68810222408479},-57.909942048540586,49864.453892900237,null,138,11,6,11,365102.23027578241,{"$f":"IF($G$4=\"mensual\",S160,0)","v":2562.0225890421088},null,3488.689964882501,-203.35508422933114,null,-430.30152178475407,370519.28622369294,null,{"$f":"+Bono!J161","v":15012.230515173138},null,11.5,435395.97063176631]
[11.583333333333334,139,11,7,55,49864.453892900237,null,473.15347778579383,0,0,-58.391624549995797,50279.21574613604,null,139,11,7,11,370519.28622369294,{"$f":"+IF($G$4=\"mensual\",S156,IF($G$4=\"trimestral\",S156,IF($G$4=\"semestral\",S156,0)))","v":2562.0225890421088},null,3540.0912870872753,-203.35508422933114,null,-436.64493221808789,375981.40008337493,null,{"$f":"+Bono!J162","v":15105.308085678173},null,11.583333333333334,441365.92391518911]
[11.666666666666666,140,11,8,55,50279.21574613604,null,477.08906712831225,0,0,-58.877313583386645,50697.427499680969,null,140,11,8,11,375981.40008337493,{"$f":"IF($G$4=\"mensual\",S162,0)","v":2562.0225890421088},null,3591.9201544869143,-203.35508422933114,null,-443.04110578150249,381488.94663689309,null,{"$f":"+Bono!J163","v":15198.962747916668},null,11.666666666666666,447385.33688449074]
[11.75,141,{"$f":"C152+1","v":11},{"$f":"D152","v":9},{"$f":"E152+1","v":55},50697.427499680969,null,481.05739186050897,0,{"$f":"-SUM(F164:H164)*$J$21*1.16","v":-534.30338226769311},-58.747250550757585,50585.434258723028,null,141,{"$f":"O152+1","v":11},{"$f":"P152","v":9},{"$f":"Q152+1","v":11},381488.94663689309,{"$f":"IF($G$4=\"mensual\",S163,0)","v":2562.0225890421088},null,{"$f":"SUM(R164:T164)*$G$8","v":3644.1801233108245},-203.35508422933114,null,-449.49048134741929,387042.30378366925,null,{"$f":"+Bono!J164","v":15155.421520645712},null,11.75,452783.15956303803]
[11.833333333333334,142,11,10,55,50585.434258723028,null,479.99471118698619,0,0,-59.235897605095616,51006.193072304915,null,142,11,10,11,387042.30378366925,{"$f":"IF($G$4=\"mensual\",S156,IF($G$4=\"trimestral\",S156,0))","v":2562.0225890421088},null,3696.8747793683701,-203.35508422933114,null,-455.9935014387064,392641.85256641166,null,{"$f":"+Bono!J165","v":15249.386891993805},null,11.833333333333334,458897.43253071036]
[11.916666666666666,143,11,11,55,51006.193072304915,null,483.98720444446559,0,0,-59.728609121029272,51430.451667628353,null,143,11,11,11,392641.85256641166,{"$f":"IF($G$17=\"si\",S154*(1+$G$20),S154)","v":2562.0225890421088},null,3750.0077382949094,-203.35508422933114,null,-462.5506122590424,398287.9771972603,null,{"$f":"+Bono!J166","v":15343.934859543564},null,11.916666666666666,465062.36372443225]
[12,144,11,12,55,51430.451667628353,null,488.01290640620675,0,{"$f":"-SUM(F167:H167)*$J$21*1.16","v":-542.02877015292086},-59.596665532502691,51316.839138349133,null,144,11,12,11,398287.9771972603,{"$f":"IF($G$4=\"mensual\",S166,0)","v":2562.0225890421088},null,3803.5826457998814,-203.35508422933114,null,-469.16226372353265,403981.06508414942,null,{"$f":"+Bono!J167","v":15299.978323427855},null,12,470597.88254592638]
[12.083333333333334,145,12,1,56,51316.839138349133,null,486.93486064110198,0,0,-60.092377838828661,51743.681621151401,null,145,12,1,12,403981.06508414942,{"$f":"IF($G$17=\"si\",S156*(1+$G$20),S156)","v":2689.7911679621566},null,3858.8155475058734,{"$f":"V167*(1+$G$18)","v":-213.49644295086472},null,-475.96676341373319,409840.20859325281,null,{"$f":"+Bono!J168","v":15394.839963720749},null,12.083333333333334,476978.73017812497]
[12.166666666666666,146,12,2,56,51743.681621151401,null,490.98508057609604,0,0,-60.59221337400389,52174.074488353494,null,146,12,2,12,409840.20859325281,{"$f":"IF($G$4=\"mensual\",S168,0)","v":2689.7911679621566},null,3914.4117470377619,-213.49644295086472,null,-482.82786147575013,415748.08720382612,null,{"$f":"+Bono!J169","v":15490.289757186729},null,12.166666666666666,483412.45144936634]
[12.25,147,12,3,56,52174.074488353494,null,495.06898937349814,0,{"$f":"-SUM(F170:H170)*$J$21*1.16","v":-549.86585790746983},-60.458362038990643,52058.819257780531,null,147,12,3,12,415748.08720382612,{"$f":"IF($G$4=\"mensual\",S169,0)","v":2689.7911679621566},null,3970.4703838561441,-213.49644295086472,null,-489.7460286827245,421705.10628401081,null,{"$f":"+Bono!J170","v":15445.913950890139},null,12.25,489209.83949268144]
[12.333333333333334,148,12,4,56,52058.819257780531,null,493.9753563559637,0,0,-60.96124175239833,52491.833372384099,null,148,12,4,12,421705.10628401081,{"$f":"IF($G$4=\"mensual\",S168,IF($G$4=\"trimestral\",S168,0))","v":2689.7911679621566},null,4026.9953044153772,-213.49644295086472,null,{"$f":"-SUM(R171:V171)*0.1%*1.16","v":-496.7217397235874},427711.67457371386,null,{"$f":"+Bono!J171","v":15541.680409000783},null,12.333333333333334,495745.18835509871]
[12.416666666666666,149,12,5,56,52491.833372384099,null,498.08413762718874,0,0,-61.468304311613089,52928.449205699668,null,149,12,5,12,427711.67457371386,{"$f":"IF($G$4=\"mensual\",S171,0)","v":2689.7911679621566},null,4083.9903871638021,-213.49644295086472,null,-503.7554732356312,433768.20421265333,null,{"$f":"+Bono!J172","v":15638.040630259935},null,12.416666666666666,502334.69404861296]
[12.5,150,12,6,56,52928.449205699668,null,502.22709486148062,0,{"$f":"-SUM(F173:H173)*$J$21*1.16","v":-557.81626057785843},-61.332517646380616,52811.52752233691,null,150,12,6,12,433768.20421265333,{"$f":"IF($G$4=\"mensual\",S172,0)","v":2689.7911679621566},null,4141.4595428098637,-213.49644295086472,null,-510.84771183735035,439875.11076863715,null,{"$f":"+Bono!J173","v":15593.241554661969},null,12.5,508279.87984563602]
[12.583333333333334,151,12,7,56,52811.52752233691,null,501.11764921848851,0,0,-61.84266839900426,53250.802503156396,null,151,12,7,12,439875.11076863715,{"$f":"+IF($G$4=\"mensual\",S168,IF($G$4=\"trimestral\",S168,IF($G$4=\"semestral\",S168,0)))","v":2689.7911679621566},null,4199.4067145904419,-213.49644295086472,null,-517.99894216155701,446032.81326607731,null,{"$f":"+Bono!J174","v":15689.921461004942},null,12.583333333333334,514973.53723023867]
[12.666666666666666,152,12,8,56,53250.802503156396,null,505.28583855282756,0,0,-62.357062476382701,53693.731279232845,null,152,12,8,12,446032.81326607731,{"$f":"IF($G$4=\"mensual\",S174,0)","v":2689.7911679621566},null,4257.8358785414166,-213.49644295086472,null,-525.20965488877073,452241.73421474121,null,{"$f":"+Bono!J175","v":15787.200793981418},null,12.666666666666666,521722.66628795548]
[12.75,153,12,9,56,53693.731279232845,null,509.48869799378531,0,{"$f":"-SUM(F176:H176)*$J$21*1.16","v":-565.88161656224611},-62.219312498370684,53575.119048166016,null,153,12,9,12,452241.73421474121,{"$f":"IF($G$4=\"mensual\",S175,0)","v":2689.7911679621566},null,4316.7510437704832,-213.49644295086472,null,-532.48034478088664,458502.29963874206,null,{"$f":"+Bono!J176","v":15741.974411816807},null,12.75,527819.39309872489]
[12.833333333333334,154,12,10,56,53575.119048166016,null,508.36321109368322,0,0,-62.736839420741241,54020.745419838953,null,154,12,10,12,458502.29963874206,{"$f":"IF($G$4=\"mensual\",S168,IF($G$4=\"trimestral\",S168,0))","v":2689.7911679621566},null,4376.1562527322376,-213.49644295086472,null,-539.81151071512318,464814.93910577043,null,{"$f":"+Bono!J177","v":15839.576479126084},null,12.833333333333334,534675.26100473548]
[12.916666666666666,155,12,11,56,54020.745419838953,null,512.59166746067729,0,0,-63.258671021267574,54470.07841627836,null,155,12,11,12,464814.93910577043,{"$f":"IF($G$17=\"si\",S166*(1+$G$20),S166)","v":2689.7911679621566},null,4436.0555815055459,-213.49644295086472,null,-547.20365571825312,471180.08575656899,null,{"$f":"+Bono!J178","v":15937.783690573819},null,12.916666666666666,541587.94786342117]
[13,156,12,12,56,54470.07841627836,null,516.85529522256661,0,{"$f":"-SUM(F179:H179)*$J$21*1.16","v":-574.06358794806965},-63.118929343321312,54349.751194209537,null,156,12,12,12,471180.08575656899,{"$f":"IF($G$4=\"mensual\",S178,0)","v":2689.7911679621566},null,4496.4531400732285,-213.49644295086472,null,-554.65728700111799,477598.17633465235,null,{"$f":"+Bono!J179","v":15892.125926068689},null,13,547840.05345493054]
[13.083333333333334,157,13,1,57,54349.751194209537,null,515.7135351279619,0,0,-63.643939086031502,54801.82079025147,null,157,13,1,13,477598.17633465235,{"$f":"IF($G$17=\"si\",S168*(1+$G$20),S168)","v":2823.9315914666627},null,4558.6259033068518,{"$f":"V179*(1+$G$18)","v":-224.14355326011292},null,-562.31764472035218,484194.27263144538,null,{"$f":"+Bono!J180","v":15990.658950182828},null,13.083333333333334,554986.75237187964]
[13.166666666666666,158,13,2,57,54801.82079025147,null,520.00312991682438,0,0,-64.173315747395222,55257.650604420902,null,158,13,2,13,484194.27263144538,{"$f":"IF($G$4=\"mensual\",S180,0)","v":2823.9315914666627},null,4621.2148952436901,-224.14355326011292,null,-570.04171965527883,490845.23384524032,null,{"$f":"+Bono!J181","v":16089.802890475596},null,13.166666666666666,562192.68734013685]
[13.25,159,13,3,57,55257.650604420902,null,524.32840463688763,0,{"$f":"-SUM(F182:H182)*$J$21*1.16","v":-582.36386085456331},-64.031553571915737,55135.583594631309,null,159,13,3,13,490845.23384524032,{"$f":"IF($G$4=\"mensual\",S181,0)","v":2823.9315914666627},null,4684.3244890173337,-224.14355326011292,null,-577.83004179205841,497551.51633067208,null,{"$f":"+Bono!J182","v":16043.709628980161},null,13.25,568730.80955428351]
[13.333333333333334,160,13,4,57,55135.583594631309,null,523.17013605685042,0,0,-64.56415432759826,55594.189576360557,null,160,13,4,13,497551.51633067208,{"$f":"IF($G$4=\"mensual\",S180,IF($G$4=\"trimestral\",S180,0))","v":2823.9315914666627},null,4747.9590148824163,-224.14355326011292,null,-585.68314552516279,504313.58023823582,null,{"$f":"+Bono!J183","v":16143.182489634972},null,13.333333333333334,576050.95230423135]
[13.416666666666666,161,13,5,57,55594.189576360557,null,527.52175325604048,0,0,-65.101185142355249,56056.610144474245,null,161,13,5,13,504313.58023823582,{"$f":"IF($G$4=\"mensual\",S183,0)","v":2823.9315914666627},null,4812.1228391117065,-224.14355326011292,null,-593.60156969404272,511131.88954586,null,{"$f":"+Bono!J184","v":16243.272093563977},null,13.416666666666666,583431.77178389812]
[13.5,162,13,6,57,56056.610144474245,null,531.90956627556352,0,{"$f":"-SUM(F185:H185)*$J$21*1.16","v":-590.78414578022807},-64.957373255364715,55932.77819171422,null,162,13,6,13,511131.88954586,{"$f":"IF($G$4=\"mensual\",S184,0)","v":2823.9315914666627},null,4876.8203642956923,-224.14355326011292,null,-601.58585762010011,518006.91209074209,null,{"$f":"+Bono!J185","v":16196.739181181731},null,13.5,590136.42946363799]
[13.583333333333334,163,13,7,57,55932.77819171422,null,530.73455051713859,0,0,-65.497674780988376,56398.015067450375,null,163,13,7,13,518006.91209074209,{"$f":"+IF($G$4=\"mensual\",S180,IF($G$4=\"trimestral\",S180,IF($G$4=\"semestral\",S180,0)))","v":2823.9315914666627},null,4942.0560296446693,-224.14355326011292,null,-609.63655714396816,524939.11960144923,null,{"$f":"+Bono!J186","v":16297.160842810519},null,13.583333333333334,597634.29551171011]
[13.666666666666666,164,13,8,57,56398.015067450375,null,535.14908689653123,0,0,-66.042470419042417,56867.121683927864,null,164,13,8,13,524939.11960144923,{"$f":"IF($G$4=\"mensual\",S186,0)","v":2823.9315914666627},null,5007.8343112933308,-224.14355326011292,null,-617.75422066310091,531928.98773028597,null,{"$f":"+Bono!J187","v":16398.205130389597},null,13.666666666666666,605194.31454460334]
[13.75,165,13,9,57,56867.121683927864,null,539.60034244452902,0,{"$f":"-SUM(F188:H188)*$J$21*1.16","v":-599.32617795532781},-65.896579184163798,56741.499269232903,null,165,13,9,13,531928.98773028597,{"$f":"IF($G$4=\"mensual\",S187,0)","v":2823.9315914666627},null,5074.1597226079039,-224.14355326011292,null,-625.93940516967643,538976.99608593073,null,{"$f":"+Bono!J188","v":16351.22837360296},null,13.75,612069.72372876655]
[13.833333333333334,166,13,10,57,56741.499269232903,null,538.40833736354625,0,0,-66.444692823651877,57213.462913772797,null,166,13,10,13,538976.99608593073,{"$f":"IF($G$4=\"mensual\",S180,IF($G$4=\"trimestral\",S180,0))","v":2823.9315914666627},null,5141.0368144958284,{"$f":"V188","v":-224.14355326011292},null,-634.19267228881426,546083.6282663442,null,{"$f":"+Bono!J189","v":16452.607886144397},null,13.833333333333334,619749.69906626141]
[13.916666666666666,167,13,11,57,57213.462913772797,null,542.88670265923645,0,0,-66.997365555061151,57689.352250876967,null,167,13,11,13,546083.6282663442,{"$f":"IF($G$17=\"si\",S178*(1+$G$20),S178)","v":2823.9315914666627},null,5208.4701757180155,{"$f":"V189","v":-224.14355326011292},null,-642.51458831711159,553249.37189195154,null,{"$f":"+Bono!J190","v":16554.615963422886},null,13.916666666666666,627493.34010625142]
[14,168,13,12,57,57689.352250876967,null,547.40231803879385,0,{"$f":"-SUM(F191:H191)*$J$21*1.16","v":-607.99171769948066},-66.849364907410887,57561.913486308877,null,168,13,12,13,553249.37189195154,{"$f":"IF($G$4=\"mensual\",S190,0)","v":2823.9315914666627},null,5276.4644332037124,{"$f":"V190","v":-224.14355326011292},null,-650.90572426149959,560474.7186391002,null,{"$f":"+Bono!J191","v":16507.191128715298},null,14,634543.82325412438]
[14.083333333333334,169,14,1,58,57561.913486308877,null,546.19307798996817,0,0,-67.40540361458666,58040.701160684257,null,169,14,1,14,560474.7186391002,{"$f":"IF($G$17=\"si\",S180*(1+$G$20),S180)","v":2964.7616247194233},null,5346.3605593924749,{"$f":"V191*(1+$G$18)","v":-235.32163708990541},null,-659.51860225590156,567891.00058386626,null,{"$f":"+Bono!J192","v":16609.537628428992},null,14.083333333333334,642541.2393729795]
[14.166666666666666,170,14,2,58,58040.701160684257,null,550.73619509174671,0,0,-67.966067332700163,58523.471288443303,null,170,14,2,14,567891.00058386626,{"$f":"IF($G$4=\"mensual\",S192,0)","v":2964.7616247194233},null,5416.7321231108463,{"$f":"V192","v":-235.32163708990541},null,-668.2031203257435,575368.96957428078,null,{"$f":"+Bono!J193","v":16712.518688312372},null,14.166666666666666,650604.95955103647]
[14.25,171,14,3,58,58523.471288443303,null,555.31710086905457,0,{"$f":"-SUM(F194:H194)*$J$21*1.16","v":-616.78255078442112},-67.815926772692407,58394.189911755238,null,171,14,3,14,575368.96957428078,{"$f":"IF($G$4=\"mensual\",S193,0)","v":2964.7616247194233},null,5487.6890224321232,-235.32163708990541,null,-676.95987435783695,582909.13870998449,null,{"$f":"+Bono!J194","v":16664.641501786755},null,14.25,657967.97012352652]
[14.333333333333334,172,14,4,58,58394.189911755238,null,554.09037665536368,0,0,-68.380005134556299,58879.900283276045,null,172,14,4,14,582909.13870998449,{"$f":"IF($G$4=\"mensual\",S192,IF($G$4=\"trimestral\",S192,0))","v":2964.7616247194233},null,5559.2361260525495,-235.32163708990541,null,-685.78946519545309,590512.02535847097,null,{"$f":"+Bono!J195","v":16767.964212076604},null,14.333333333333334,666159.8898538237]
[14.416666666666666,173,14,5,58,58879.900283276045,null,558.69918179690399,0,0,-68.948775379484616,59369.650689693466,null,173,14,5,14,590512.02535847097,{"$f":"IF($G$4=\"mensual\",S195,0)","v":2964.7616247194233},null,5631.3783431651436,-235.32163708990541,null,-694.69249867954795,598178.15119058604,null,{"$f":"+Bono!J196","v":16871.92753515494},null,14.416666666666666,674419.72941543453]
[14.5,174,14,6,58,59369.650689693466,null,563.34632199302678,0,{"$f":"-SUM(F197:H197)*$J$21*1.16","v":-625.70048880200704},-68.796463966546,59238.50005891794,null,174,14,6,14,598178.15119058604,{"$f":"IF($G$4=\"mensual\",S196,0)","v":2964.7616247194233},null,5704.1206237965416,-235.32163708990541,null,-703.66958569033397,605908.04221632169,null,{"$f":"+Bono!J197","v":16823.593682148559},null,14.5,681970.13595738821]
[14.583333333333334,175,14,7,58,59238.50005891794,null,562.10186081435791,0,0,-69.368698226889464,59731.233221505405,null,175,14,7,14,605908.04221632169,{"$f":"+IF($G$4=\"mensual\",S192,IF($G$4=\"trimestral\",S192,IF($G$4=\"semestral\",S192,0)))","v":2964.7616247194233},null,5777.4679591466393,-235.32163708990541,null,-712.72134218919336,613702.22882090847,null,{"$f":"+Bono!J198","v":16927.901914393966},null,14.583333333333334,690361.36395680788]
[14.666666666666666,176,14,8,58,59731.233221505405,null,566.77730376615261,0,0,-69.945692209314998,60228.064833062243,null,176,14,8,14,613702.22882090847,{"$f":"IF($G$4=\"mensual\",S198,0)","v":2964.7616247194233},null,5851.4253819310643,-235.32163708990541,null,-721.8483892609438,621561.24580120796,null,{"$f":"+Bono!J199","v":17032.856869778298},null,14.666666666666666,698822.16750404844]
[14.75,177,14,9,58,60228.064833062243,null,571.49163605157059,0,{"$f":"-SUM(F200:H200)*$J$21*1.16","v":-634.74736953754825},-69.791178555508466,60095.017921020757,null,177,14,9,14,621561.24580120796,{"$f":"IF($G$4=\"mensual\",S199,0)","v":2964.7616247194233},null,5925.9979667264979,-235.32163708990541,null,-731.05135315645418,629485.63240240747,null,{"$f":"+Bono!J200","v":16984.061994473908},null,14.75,706564.71231790213]
[14.833333333333334,178,14,10,58,60095.017921020757,null,570.22918145262327,0,0,-70.371686638869122,60594.875415834511,null,178,14,10,14,629485.63240240747,{"$f":"IF($G$4=\"mensual\",S192,IF($G$4=\"trimestral\",S192,0))","v":2964.7616247194233},null,6001.1908303188648,-235.32163708990541,null,-740.33086533561254,637475.93235502008,null,{"$f":"+Bono!J201","v":17089.365148868903},null,14.833333333333334,715160.17291972344]
[14.916666666666666,179,14,11,58,60594.875415834511,null,574.97222571771044,0,0,-70.957023264200572,61098.890618288024,null,179,14,11,14,637475.93235502008,{"$f":"IF($G$17=\"si\",S190*(1+$G$20),S190)","v":2964.7616247194233},null,6077.0091320544143,-235.32163708990541,null,-749.68756251065645,645532.6939121933,null,{"$f":"+Bono!J202","v":17195.321195035554},null,14.916666666666666,723826.90572551696]
[15,180,14,12,58,61098.890618288024,null,579.75472160967377,0,{"$f":"-SUM(F203:H203)*$J$21*1.16","v":-643.92505734853194},-70.800275527757023,60963.920007021406,null,180,14,12,14,645532.6939121933,{"$f":"IF($G$4=\"mensual\",S202,0)","v":2964.7616247194233},null,6153.4580741937398,-235.32163708990541,null,-759.12208668985909,653656.4698873267,null,{"$f":"+Bono!J203","v":17146.060900068864},null,15,731766.45079441695]
[15.083333333333334,181,15,1,59,60963.920007021406,null,578.47401342711066,0,0,-71.389177063720282,61471.004843384799,null,181,15,1,15,653656.4698873267,{"$f":"IF($G$17=\"si\",S192*(1+$G$20),S192)","v":3112.614879896506},null,6231.945851191801,{"$f":"V203*(1+$G$18)","v":-247.05717419590641},null,-768.79460919529413,661985.17883502378,null,{"$f":"+Bono!J204","v":17252.368466469256},null,15.083333333333334,740708.55214487785]
[15.166666666666666,182,15,2,59,61471.004843384799,null,583.28563643962991,0,0,-71.982976956596332,61982.307502867829,null,182,15,2,15,661985.17883502378,{"$f":"IF($G$4=\"mensual\",S204,0)","v":3112.614879896506},null,6310.9752458089079,-247.05717419590641,null,-778.54758567237866,670383.16420086101,null,{"$f":"+Bono!J205","v":17359.335152112246},null,15.166666666666666,749724.80685584107]
[15.25,183,15,3,59,61982.307502867829,null,588.13728150236591,0,{"$f":"-SUM(F206:H206)*$J$21*1.16","v":-653.23544354882483},-71.823962835352788,61845.385377986015,null,183,15,3,15,670383.16420086101,{"$f":"IF($G$4=\"mensual\",S205,0)","v":3112.614879896506},null,6390.6619900129963,-247.05717419590641,null,-788.38168532002646,678851.00221125456,null,{"$f":"+Bono!J206","v":17309.60499817563},null,15.25,758005.9925874162]
[15.333333333333334,184,15,4,59,61845.385377986015,null,586.8380558111993,0,0,-72.421379183204763,62359.802054614003,null,184,15,4,15,678851.00221125456,{"$f":"IF($G$4=\"mensual\",S204,IF($G$4=\"trimestral\",S204,0))","v":3112.614879896506},null,6471.0115514972122,-247.05717419590641,null,-798.29758290340465,687389.27388554893,null,{"$f":"+Bono!J207","v":17416.926556954226},null,15.333333333333334,767166.00249711727]
[15.416666666666666,185,15,5,59,62359.802054614003,null,591.71924913781868,0,0,-73.023764712352104,62878.497539039468,null,185,15,5,15,687389.27388554893,{"$f":"IF($G$4=\"mensual\",S207,0)","v":3112.614879896506},null,6552.0294434338066,-247.05717419590641,null,-808.29595880023271,695998.56507588318,null,{"$f":"+Bono!J208","v":17524.913521845781},null,15.416666666666666,776401.97613676847]
[15.5,186,15,6,59,62878.497539039468,null,596.64104318563511,0,{"$f":"-SUM(F209:H209)*$J$21*1.16","v":-662.68044679843013},-72.862451437094933,62739.595683989573,null,186,15,6,15,695998.56507588318,{"$f":"IF($G$4=\"mensual\",S208,0)","v":3112.614879896506},null,6633.7212248524183,-247.05717419590641,null,-818.3774990474659,704679.46650738874,null,{"$f":"+Bono!J209","v":17474.709027288209},null,15.5,784893.77121866657]
[15.583333333333334,187,15,7,59,62739.595683989573,null,595.32303224483724,0,0,-73.46850571083192,63261.450210523581,null,187,15,7,15,704679.46650738874,{"$f":"+IF($G$4=\"mensual\",S204,IF($G$4=\"trimestral\",S204,IF($G$4=\"semestral\",S204,0)))","v":3112.614879896506},null,6716.0925010215005,-247.05717419590641,null,-828.54289538836849,713432.57381872251,null,{"$f":"+Bono!J210","v":17583.054250198187},null,15.583333333333334,794277.07827944425]
[15.666666666666666,188,15,8,59,63261.450210523581,null,600.27480178909332,0,0,-74.079601014282701,63787.645411298392,null,188,15,8,15,713432.57381872251,{"$f":"IF($G$4=\"mensual\",S210,0)","v":3112.614879896506},null,6799.1489238329314,-247.05717419590641,null,-838.792845319977,722258.4876029361,null,{"$f":"+Bono!J211","v":17692.071226057473},null,15.666666666666666,803738.20424029196]
[15.75,189,15,9,59,63787.645411298392,null,605.26775909241678,0,{"$f":"-SUM(F212:H212)*$J$21*1.16","v":-672.26201349888004},-73.915955341994632,63646.735201549927,null,189,15,9,15,722258.4876029361,{"$f":"IF($G$4=\"mensual\",S211,0)","v":3112.614879896506},null,6882.8961921898162,-247.05717419590641,null,-849.12805214095874,731157.81344868557,null,{"$f":"+Bono!J212","v":17641.387866480633},null,15.75,812445.93651671614]
[15.833333333333334,190,15,10,59,63646.735201549927,null,603.93069128974503,0,0,-74.530772435694018,64176.135120403975,null,190,15,10,15,731157.81344868557,{"$f":"IF($G$4=\"mensual\",S204,IF($G$4=\"trimestral\",S204,0))","v":3112.614879896506},null,6967.340052397516,-247.05717419590641,null,-859.54922499986912,740131.16198178392,null,{"$f":"+Bono!J213","v":17750.76651752715},null,15.833333333333334,822058.06361971505]
[15.916666666666666,191,15,11,59,64176.135120403975,null,608.95405749933605,0,0,-75.150703446367842,64709.938474456947,null,191,15,11,15,740131.16198178392,{"$f":"IF($G$17=\"si\",S202*(1+$G$20),S202)","v":3112.614879896506},null,7052.4862985579311,-247.05717419590641,null,-870.05707894380919,749179.14890709869,null,{"$f":"+Bono!J214","v":17860.823328897295},null,15.916666666666666,831749.91071045282]
[16,192,15,12,59,64709.938474456947,null,614.01920699373068,0,{"$f":"-SUM(F215:H215)*$J$21*1.16","v":-681.98211819434516},-74.984691653377354,64566.990871602953,null,192,15,12,15,749179.14890709869,{"$f":"IF($G$4=\"mensual\",S214,0)","v":3112.614879896506},null,7138.340772967058,-247.05717419590641,null,-880.65233496748897,758302.39505079889,null,{"$f":"+Bono!J215","v":17809.656536747843},null,16,840679.04245914961]
[16.083333333333332,193,16,1,60,64566.990871602953,null,{"$f":"SUM(F216:G216)*$G$8","v":612.66280678975409},0,0,-75.608398266935538,{"$f":"SUM(F216:K216)","v":65104.045280125771},null,193,16,1,16,758302.39505079889,{"$f":"IF($G$17=\"si\",S204*(1+$G$20),S204)","v":3267.8416064799208},null,7226.3822807823253,{"$f":"V215*(1+$G$18)","v":-259.37796488449112},null,-891.50319952888492,{"$f":"SUM(R216:X216)","v":767645.73777364776},null,{"$f":"+Bono!J216","v":17920.078473067973},null,{"$f":"+B216/12","v":16.083333333333332},{"$f":"+AA216+Y216+L216","v":850669.86152684153}]
[{"$f":"+B217/12","v":16.166666666666668},{"$f":"+B216+1","v":194},16,2,60,{"$f":"L216","v":65104.045280125771},null,617.75880486683207,0,0,{"$f":"-SUM(F217:J217)*0.1%*1.16","v":-76.237292738591407},65645.566792254016,null,{"$f":"+N216+1","v":194},16,2,16,{"$f":"Y216","v":767645.73777364776},{"$f":"IF($G$4=\"mensual\",S216,0)","v":3267.8416064799208},null,7315.0393251962814,-259.37796488449112,null,-902.44431925890979,777066.7964211806,null,{"$f":"+Bono!J217","v":18031.185038201442},null,16.166666666666668,860743.54825163598]
[16.25,195,16,3,60,65645.566792254016,null,622.89719036503936,0,{"$f":"-SUM(F218:H218)*$J$21*1.16","v":-691.84276397854296},-76.068880613623008,65500.552338026893,null,195,16,3,16,777066.7964211806,{"$f":"IF($G$4=\"mensual\",S217,0)","v":3267.8416064799208},null,7404.4337999272839,-259.37796488449112,null,-913.4764448807357,786566.21741782257,null,{"$f":"+Bono!J218","v":17979.530202359398},null,16.25,870046.29995820893]
[16.333333333333332,196,16,4,60,65500.552338026893,null,621.5211782363566,0,0,-76.701605278865372,66045.371910984381,null,196,16,4,16,786566.21741782257,{"$f":"IF($G$4=\"mensual\",S216,IF($G$4=\"trimestral\",S216,0))","v":3267.8416064799208},null,7494.5718387628503,-259.37796488449112,null,-924.60033336188974,796144.65256481897,null,{"$f":"+Bono!J219","v":18091.005375110446},null,16.333333333333332,880281.02985091379]
[16.416666666666668,197,16,5,60,66045.371910984381,null,626.69085835085809,0,0,-77.339592812428876,66594.723176522821,null,197,16,5,16,796144.65256481897,{"$f":"IF($G$4=\"mensual\",S219,0)","v":3267.8416064799208},null,7585.4596265100317,-259.37796488449112,null,-935.81674796619222,805802.75908495823,null,{"$f":"+Bono!J220","v":18203.171706862871},null,16.416666666666668,890600.65396834398]
[16.5,198,16,6,60,66594.723176522821,null,631.90353875790356,0,{"$f":"-SUM(F221:H221)*$J$21*1.16","v":-701.84598290753081},-77.168745649552903,66447.611986723641,null,198,16,6,16,805802.75908495823,{"$f":"IF($G$4=\"mensual\",S220,0)","v":3267.8416064799208},null,7677.1033994197796,-259.37796488449112,null,-947.12645830612917,815541.19966766739,null,{"$f":"+Bono!J221","v":18151.024172226047},null,16.5,900139.83582661708]
[16.583333333333332,199,16,7,60,66447.611986723641,null,630.50763113953894,0,0,-77.810618756721283,67000.308999106463,null,199,16,7,16,815541.19966766739,{"$f":"+IF($G$4=\"mensual\",S216,IF($G$4=\"trimestral\",S216,IF($G$4=\"semestral\",S216,0)))","v":3267.8416064799208},null,7769.5094456148472,-259.37796488449112,null,-958.5302403956581,825360.64251448202,null,{"$f":"+Bono!J222","v":18263.562627482337},null,16.583333333333332,910624.51414107089]
[16.666666666666668,200,16,8,60,67000.308999106463,null,635.75205864560223,0,0,-78.457830826992392,67557.603226925072,null,200,16,8,16,825360.64251448202,{"$f":"IF($G$4=\"mensual\",S222,0)","v":3267.8416064799208},null,7862.6841055212435,-259.37796488449112,null,-970.02887670345456,835261.7613848953,null,{"$f":"+Bono!J223","v":18376.798834214871},null,16.666666666666668,921196.16344603524]
[16.75,201,16,9,60,67557.603226925072,null,641.04010817701135,0,{"$f":"-SUM(F224:H224)*$J$21*1.16","v":-711.99383641846578},-78.284513418472997,67408.364985265143,null,201,16,9,16,835261.7613848953,{"$f":"IF($G$4=\"mensual\",S223,0)","v":3267.8416064799208},null,7956.6337723032875,-259.37796488449112,null,-981.62315620660092,845245.23564258742,null,{"$f":"+Bono!J224","v":18324.153901279376},null,16.75,930977.75452913193]
[16.833333333333332,202,16,10,60,67408.364985265143,null,639.62401740397911,0,0,-78.935667243096177,67969.053335426026,null,202,16,10,16,845245.23564258742,{"$f":"IF($G$4=\"mensual\",S216,IF($G$4=\"trimestral\",S216,0))","v":3267.8416064799208},null,8051.3648923022683,-259.37796488449112,null,-993.31387444472273,855311.75030204048,null,{"$f":"+Bono!J225","v":18437.765780937603},null,16.833333333333332,941718.56941840413]
[16.916666666666668,203,16,11,60,67969.053335426026,null,644.94427305948864,0,0,-79.592237225843192,68534.405371259665,null,203,16,11,16,855311.75030204048,{"$f":"IF($G$17=\"si\",S214*(1+$G$20),S214)","v":3267.8416064799208},null,8146.8839654787635,-259.37796488449112,null,-1005.101833574573,865461.99607554008,null,{"$f":"+Bono!J226","v":18552.082067427877},null,16.916666666666668,952548.48351422767]
[17,204,16,12,60,68534.405371259665,null,650.308781462659,0,{"$f":"-SUM(F227:H227)*$J$21*1.16","v":-722.28841575442118},-79.416413854882776,68383.00932311303,null,204,16,12,16,865461.99607554008,{"$f":"IF($G$4=\"mensual\",S226,0)","v":3267.8416064799208},null,8243.1975458586276,-259.37796488449112,null,-1016.9878424250733,875696.66942056909,null,{"$f":"+Bono!J227","v":18498.934991864578},null,17,962578.61373554671]
[17.083333333333332,205,{"$f":"C216+1","v":17},{"$f":"D216","v":1},{"$f":"E216+1","v":61},68383.00932311303,null,648.87221571068142,0,0,-80.076982585035495,68951.804556238683,null,205,{"$f":"O216+1","v":17},{"$f":"P216","v":1},{"$f":"Q216+1","v":17},875696.66942056909,{"$f":"IF($G$17=\"si\",S216*(1+$G$20),S216)","v":3430.8095209633957},null,{"$f":"SUM(R228:T228)*$G$8","v":8341.8586107782176},{"$f":"V227*(1+$G$18)","v":-272.31319586887366},null,-1029.1485482534724,886167.87580818834,null,{"$f":"+Bono!J228","v":18613.630534557786},null,17.083333333333332,973733.31089898478]
[17.166666666666668,206,17,2,61,68951.804556238683,null,654.26939589998869,0,0,-80.743045784480856,69525.330906354196,null,206,17,2,17,886167.87580818834,{"$f":"IF($G$4=\"mensual\",S228,0)","v":3430.8095209633957},null,8441.2177199656198,-272.31319586887366,null,-1041.4104042297681,896726.17944901867,null,{"$f":"+Bono!J229","v":18729.037202919553},null,17.166666666666668,984980.54755829251]
[17.25,207,17,3,61,69525.330906354196,null,659.711468678762,0,{"$f":"-SUM(F230:H230)*$J$21*1.16","v":-732.73184239534419},-80.564680217859646,69371.745852419772,null,207,17,3,17,896726.17944901867,{"$f":"IF($G$4=\"mensual\",S229,0)","v":3430.8095209633957},null,8541.4032769539135,-272.31319586887366,null,-1053.7742516992378,907372.30479936791,null,{"$f":"+Bono!J230","v":18675.383195146536},null,17.25,995419.43384693423]
[17.333333333333332,208,17,4,61,69371.745852419772,null,658.25413190413144,0,0,-81.234799981815726,69948.76518434209,null,208,17,4,17,907372.30479936791,{"$f":"IF($G$4=\"mensual\",S228,IF($G$4=\"trimestral\",S228,0))","v":3430.8095209633957},null,8642.4221559589932,-272.31319586887366,null,-1066.2409390052887,918106.98234141606,null,{"$f":"+Bono!J231","v":18791.172737166817},null,17.333333333333332,1006846.920262925]
[17.416666666666668,209,17,5,61,69948.76518434209,null,663.72934886399378,0,0,-81.910493658519059,70530.584039547568,null,209,17,5,17,918106.98234141606,{"$f":"IF($G$4=\"mensual\",S231,0)","v":3430.8095209633957},null,8744.2812883750066,-272.31319586887366,null,-1078.8113215476671,928930.94863333786,null,{"$f":"+Bono!J232","v":18907.68018777838},null,17.416666666666668,1018369.2128606639]
[17.5,210,17,6,61,70530.584039547568,null,669.25010750647471,0,{"$f":"-SUM(F233:H233)*$J$21*1.16","v":-743.32626849524434},-81.729549139128196,70374.778329419671,null,210,17,6,17,928930.94863333786,{"$f":"IF($G$4=\"mensual\",S232,0)","v":3430.8095209633957},null,8846.98766324996,-272.31319586887366,null,-1091.4862618411514,939844.94635984115,null,{"$f":"+Bono!J233","v":18853.514412529315},null,17.5,1029073.2391017901]
[17.583333333333332,211,17,7,61,70374.778329419671,null,667.77169938504539,0,0,-82.409358033413483,70960.140670771303,null,211,17,7,17,939844.94635984115,{"$f":"+IF($G$4=\"mensual\",S228,IF($G$4=\"trimestral\",S228,IF($G$4=\"semestral\",S228,0)))","v":3430.8095209633957},null,8950.5483277652602,-272.31319586887366,null,-1104.2666295747331,950849.72438312625,null,{"$f":"+Bono!J234","v":18970.408388759311},null,17.583333333333332,1040780.273442657]
[17.666666666666668,212,17,8,61,70960.140670771303,null,673.32608143383379,0,0,-83.09482143255795,71550.37193077257,null,212,17,8,17,950849.72438312625,{"$f":"IF($G$4=\"mensual\",S234,0)","v":3430.8095209633957},null,9054.9703877192624,-272.31319586887366,null,{"$f":"-SUM(R235:V235)*0.1%*1.16","v":-1117.1533016712904},961946.03779426869,null,{"$f":"+Bono!J235","v":19088.027121200794},null,17.666666666666668,1052584.4368462421]
[17.75,213,17,9,61,71550.37193077257,null,678.92666364350384,0,{"$f":"-SUM(F236:H236)*$J$21*1.16","v":-754.07387732570385},-82.91126067182482,71392.313456418546,null,213,17,9,17,961946.03779426869,{"$f":"IF($G$4=\"mensual\",S235,0)","v":3430.8095209633957},null,9160.2610080148297,-272.31319586887366,null,-1130.1471623477585,973134.64796503016,null,{"$f":"+Bono!J236","v":19033.344697089171},null,17.75,1063560.3061185379]
[17.833333333333332,214,17,10,61,71392.313456418546,null,677.42687950880236,0,0,-83.600898789675725,71986.139437137666,null,214,17,10,17,973134.64796503016,{"$f":"IF($G$4=\"mensual\",S228,IF($G$4=\"trimestral\",S228,0))","v":3430.8095209633957},null,9266.4274131509555,-272.31319586887366,null,-1143.2491031757995,984416.32260009972,null,{"$f":"+Bono!J237","v":19151.35364194246},null,17.833333333333332,1075553.81567918]
[17.916666666666668,215,17,11,61,71986.139437137666,null,683.06157127902179,0,0,-84.296273169763339,72584.904735246921,null,215,17,11,17,984416.32260009972,{"$f":"IF($G$17=\"si\",S226*(1+$G$20),S226)","v":3430.8095209633957},null,9373.476887718467,-272.31319586887366,null,-1156.4600231429786,995791.83578976966,null,{"$f":"+Bono!J238","v":19270.094255942029},null,17.916666666666668,1087646.8347809587]
[18,216,17,12,61,72584.904735246921,null,688.74313120919442,0,{"$f":"-SUM(F239:H239)*$J$21*1.16","v":-764.97688372580183},-84.110058339967154,72424.560924390345,null,216,17,12,17,995791.83578976966,{"$f":"IF($G$4=\"mensual\",S238,0)","v":3430.8095209633957},null,9481.4167768998632,-272.31319586887366,null,-1169.7808287144462,1007261.9680630495,null,{"$f":"+Bono!J239","v":19214.890255021259},null,18,1098901.4192424612]
[18.083333333333332,217,18,1,62,72424.560924390345,null,687.22166198963441,0,0,-84.809667800200785,73026.972918579777,null,217,18,1,18,1007261.9680630495,{"$f":"IF($G$17=\"si\",S228*(1+$G$20),S228)","v":3601.9046779357445},null,9591.8779734899163,{"$f":"V239*(1+$G$18)","v":-285.89350940949356},null,-1183.397034357876,1018986.4601707078,null,{"$f":"+Bono!J240","v":19334.024803391705},null,18.083333333333332,1111347.4578926791]
[18.166666666666668,218,18,2,62,73026.972918579777,null,692.93782466380719,0,0,-85.51509646216256,73634.395646781428,null,218,18,2,18,1018986.4601707078,{"$f":"IF($G$4=\"mensual\",S240,0)","v":3601.9046779357445},null,9703.1292513626395,-285.89350940949356,null,-1197.1264966850922,1030808.4740939116,null,{"$f":"+Bono!J241","v":19453.897999780806},null,18.166666666666668,1123896.7677404738]
[18.25,219,18,3,62,73634.395646781428,null,698.70153315547225,0,{"$f":"-SUM(F242:H242)*$J$21*1.16","v":-776.03753455854132},-85.326189188638907,73471.73345618973,null,219,18,3,18,1030808.4740939116,{"$f":"IF($G$4=\"mensual\",S241,0)","v":3601.9046779357445},null,9815.3058935496774,-285.89350940949356,null,-1210.9701577409453,1042728.8209982465,null,{"$f":"+Bono!J242","v":19398.167447100132},null,18.25,1135598.7219015365]
[18.333333333333332,220,18,4,62,73471.73345618973,null,697.15806531066187,0,0,-86.035914164940451,74082.855607335456,null,220,18,4,18,1042728.8209982465,{"$f":"IF($G$4=\"mensual\",S240,IF($G$4=\"trimestral\",S240,0))","v":3601.9046779357445},null,9928.4155970333104,-285.89350940949356,null,-1224.9289674060153,1054748.3187964002,null,{"$f":"+Bono!J243","v":19518.438335320308},null,18.333333333333332,1148349.6127390559]
[18.416666666666668,221,18,5,62,74082.855607335456,null,702.9568768606207,0,0,-86.751542481667457,74699.060941714415,null,221,18,5,18,1054748.3187964002,{"$f":"IF($G$4=\"mensual\",S243,0)","v":3601.9046779357445},null,10042.466122817666,-285.89350940949356,null,-1239.0038834617833,1066867.7922042825,null,{"$f":"+Bono!J244","v":19639.454916998009},null,18.416666666666668,1161206.3080629949]
[18.5,222,18,6,62,74699.060941714415,null,708.80392168372805,0,{"$f":"-SUM(F245:H245)*$J$21*1.16","v":-787.25810917387673},-86.55990383490014,74534.046850389364,null,222,18,6,18,1066867.7922042825,{"$f":"IF($G$4=\"mensual\",S244,0)","v":3601.9046779357445},null,10157.465296461245,-285.89350940949356,null,-1253.1958716563531,1079088.0727976137,null,{"$f":"+Bono!J245","v":19583.192790154128},null,18.5,1173205.3124381572]
[18.583333333333332,223,18,7,62,74534.046850389364,null,707.23813713985635,0,0,-87.279890585533877,75154.005096943685,null,223,18,7,18,1079088.0727976137,{"$f":"+IF($G$4=\"mensual\",S240,IF($G$4=\"trimestral\",S240,IF($G$4=\"semestral\",S240,0)))","v":3601.9046779357445},null,10273.42100861387,-285.89350940949356,null,-1267.5059057707144,1091409.9990689831,null,{"$f":"+Bono!J246","v":19704.610856962852},null,18.583333333333332,1186268.6150228896]
[18.666666666666668,224,18,8,62,75154.005096943685,null,713.12079256949744,0,0,-88.005866031835282,75779.120023481344,null,224,18,8,18,1091409.9990689831,{"$f":"IF($G$4=\"mensual\",S246,0)","v":3601.9046779357445},null,10390.341215558094,-285.89350940949356,null,-1281.9349676855584,1103834.416485382,null,{"$f":"+Bono!J247","v":19826.781729869414},null,18.666666666666668,1199440.3182387326]
[18.75,225,18,9,62,75779.120023481344,null,719.05237866773041,0,{"$f":"-SUM(F248:H248)*$J$21*1.16","v":-798.64091987843642},-87.811456519433946,75611.720025751201,null,225,18,9,18,1103834.416485382,{"$f":"IF($G$4=\"mensual\",S247,0)","v":3601.9046779357445},null,10508.23393975513,-285.89350940949356,null,-1296.4840474486496,1116362.1775462148,null,{"$f":"+Bono!J248","v":19769.982958553905},null,18.75,1211743.8805305199]
[18.833333333333332,226,18,10,62,75611.720025751201,null,717.46395475201939,0,0,-88.54185341738372,76240.642127085841,null,226,18,10,18,1116362.1775462148,{"$f":"IF($G$4=\"mensual\",S240,IF($G$4=\"trimestral\",S240,0))","v":3601.9046779357445},null,10627.107270395303,-285.89350940949356,null,-1311.1541433427581,1128994.1418417937,null,{"$f":"+Bono!J249","v":19892.559146073025},null,18.833333333333332,1225127.3431149526]
[18.916666666666668,227,18,11,62,76240.642127085841,null,723.43166634356669,0,0,-89.27832560037811,76874.795467829026,null,227,18,11,18,1128994.1418417937,{"$f":"IF($G$17=\"si\",S238*(1+$G$20),S238)","v":3601.9046779357445},null,10746.969363953098,-285.89350940949356,null,-1325.9462619541564,1141731.1761123186,null,{"$f":"+Bono!J250","v":20015.895320172724},null,18.916666666666668,1238621.8669003204]
[19,228,18,12,62,76874.795467829026,null,729.44901608265286,0,{"$f":"-SUM(F251:H251)*$J$21*1.16","v":-810.18831241203804},-89.081105158939579,76704.975066340703,null,228,18,12,18,1141731.1761123186,{"$f":"IF($G$4=\"mensual\",S250,0)","v":3601.9046779357445},null,10867.828444746798,-285.89350940949356,null,-1340.8614182416864,1154574.1543073501,null,{"$f":"+Bono!J251","v":19958.554785715081},null,19,1251237.684159406]
[19.083333333333332,229,19,1,63,76704.975066340703,null,727.83762545686238,0,0,-89.822062722485171,77342.990629075081,null,229,19,1,19,1154574.1543073501,{"$f":"IF($G$17=\"si\",S240*(1+$G$20),S240)","v":3781.5323846053357},null,10991.397255616719,{"$f":"V251*(1+$G$18)","v":-300.15107590244691},null,-1356.0944421311367,1167690.8384295385,null,{"$f":"+Bono!J252","v":20082.300140435578},null,19.083333333333332,1265116.1291990492]
[19.166666666666668,230,19,2,63,77342.990629075081,null,733.8916230206903,0,0,-90.569183412431087,77986.313068683347,null,230,19,2,19,1167690.8384295385,{"$f":"IF($G$4=\"mensual\",S252,0)","v":3781.5323846053357},null,11115.858755240499,-300.15107590244691,null,-1371.4541710524391,1180916.6243224295,null,{"$f":"+Bono!J253","v":20206.812730708916},null,19.166666666666668,1279109.7501218216]
[19.25,231,19,3,63,77986.313068683347,null,739.99597644030393,0,{"$f":"-SUM(F254:H254)*$J$21*1.16","v":-821.90266643109101},-90.369111399283355,77814.037267293272,null,231,19,3,19,1180916.6243224295,{"$f":"IF($G$4=\"mensual\",S253,0)","v":3781.5323846053357},null,11241.35549897527,-300.15107590244691,null,-1386.9416589109251,1194252.4194711971,null,{"$f":"+Bono!J254","v":20148.925265615286},null,19.25,1292215.3820041057]
[19.333333333333332,232,19,4,63,77814.037267293272,null,738.36128703327415,0,0,-91.120782323018787,78461.277772003523,null,232,19,4,19,1194252.4194711971,{"$f":"IF($G$4=\"mensual\",S252,IF($G$4=\"trimestral\",S252,0))","v":3781.5323846053357},null,11367.896097759944,-300.15107590244691,null,-1402.5579683780857,1207699.1389092819,null,{"$f":"+Bono!J255","v":20273.850939392774},null,19.333333333333332,1306434.2676206783]
[19.416666666666668,233,19,5,63,78461.277772003523,null,744.50281816134475,0,0,-91.878705484591237,79113.901884680279,null,233,19,5,19,1207699.1389092819,{"$f":"IF($G$4=\"mensual\",S255,0)","v":3781.5323846053357},null,11495.489234157363,-300.15107590244691,null,-1418.3041709644851,1221257.7052811778,null,{"$f":"+Bono!J256","v":20399.551166838162},null,19.416666666666668,1320771.1583326964]
[19.5,234,19,6,63,79113.901884680279,null,750.69543323065056,0,{"$f":"-SUM(F257:H257)*$J$21*1.16","v":-833.78639599899009},-91.675740669417834,78939.135181242513,null,234,19,6,19,1221257.7052811778,{"$f":"IF($G$4=\"mensual\",S256,0)","v":3781.5323846053357},null,11624.143662950084,{"$f":"V256","v":-300.15107590244691},null,-1434.1813470932836,1234929.0489057375,null,{"$f":"+Bono!J257","v":20341.111554325624},null,19.5,1334209.2956413056]
[19.583333333333332,235,19,7,63,78939.135181242513,null,749.03710816986984,0,0,-92.438279855718349,79595.734009556661,null,235,19,7,19,1234929.0489057375,{"$f":"+IF($G$4=\"mensual\",S252,IF($G$4=\"trimestral\",S252,IF($G$4=\"semestral\",S252,0)))","v":3781.5323846053357},null,11753.868211741063,-300.15107590244691,null,-1450.1905861743705,1248714.1078400072,null,{"$f":"+Bono!J258","v":20467.228805385344},null,19.583333333333332,1348777.0706549492]
[19.666666666666668,236,19,8,63,79595.734009556661,null,755.26743849283264,0,0,-93.207161679737411,80257.794286369768,null,236,19,8,19,1248714.1078400072,{"$f":"IF($G$4=\"mensual\",S258,0)","v":3781.5323846053357},null,11884.671781559371,-300.15107590244691,null,-1466.3329866791125,1262613.8279435905,null,{"$f":"+Bono!J259","v":20594.127998030333},null,19.666666666666668,1363465.7502279906]
[19.75,237,19,9,63,80257.794286369768,null,761.54959136972502,0,{"$f":"-SUM(F260:H260)*$J$21*1.16","v":-845.84195008360041},-93.001262236080834,80080.500665419808,null,237,19,9,19,1262613.8279435905,{"$f":"IF($G$4=\"mensual\",S259,0)","v":3781.5323846053357},null,12016.563347470936,-300.15107590244691,null,-1482.6096562157265,1276629.1629435488,null,{"$f":"+Bono!J260","v":20535.13097155678},null,19.75,1377244.7945805253]
[19.833333333333332,238,19,10,63,80080.500665419808,null,759.86728891190842,0,0,-93.774826827024782,80746.59312750469,null,238,19,10,19,1276629.1629435488,{"$f":"IF($G$4=\"mensual\",S252,IF($G$4=\"trimestral\",S252,0))","v":3781.5323846053357},null,12149.551959194354,-300.15107590244691,null,-1499.0217116052772,1290761.0744998406,null,{"$f":"+Bono!J261","v":20662.451165508195},null,19.833333333333332,1392170.1187928536]
[19.916666666666668,239,19,11,63,80746.59312750469,null,766.18770235991838,0,0,-94.554825762642935,81418.226004101976,null,239,19,11,19,1290761.0744998406,{"$f":"IF($G$17=\"si\",S250*(1+$G$20),S250)","v":3781.5323846053357},null,12283.646741721848,-300.15107590244691,null,-1515.5702789583079,1305010.532271307,null,{"$f":"+Bono!J262","v":20790.560759430336},null,19.916666666666668,1407219.3190348393]
[20,240,19,12,63,81418.226004101976,null,772.56068765400846,0,{"$f":"-SUM(F263:H263)*$J$21*1.16","v":-858.07181306193263},-94.345949259285092,81238.368929434771,null,240,19,12,19,1305010.532271307,{"$f":"IF($G$4=\"mensual\",S262,0)","v":3781.5323846053357},null,12418.856895945377,-300.15107590244691,null,-1532.2564937521079,1319378.5139822031,null,{"$f":"+Bono!J263","v":20731.001002219862},null,20,1421347.8839138579]
[20.083333333333332,241,20,1,64,81238.368929434771,null,770.85406111467148,0,0,-95.130698669037358,81914.092291880414,null,241,20,1,20,1319378.5139822031,{"$f":"IF($G$17=\"si\",S252*(1+$G$20),S252)","v":3970.1181609320806},null,12556.981150669919,{"$f":"V263*(1+$G$18)","v":-315.11967008791709},null,-1549.284972603512,1334041.2086511138,null,{"$f":"+Bono!J264","v":20859.535613080905},null,20.083333333333332,1436814.8365560751]
[20.166666666666668,242,20,2,64,81914.092291880414,null,777.26586018197838,0,0,-95.921975456392374,82595.436176605988,null,242,20,2,20,1334041.2086511138,{"$f":"IF($G$4=\"mensual\",S264,0)","v":3970.1181609320806},null,12696.112424246228,-315.11967008791709,null,-1566.4550906967968,1348825.8644755075,null,{"$f":"+Bono!J265","v":20988.867153438379},null,20.166666666666668,1452410.1678055518]
[20.25,243,20,3,64,82595.436176605988,null,783.73099122138376,0,{"$f":"-SUM(F266:H266)*$J$21*1.16","v":-870.47850523211775},-95.710078848610479,82412.978583746633,null,243,20,3,20,1348825.8644755075,{"$f":"IF($G$4=\"mensual\",S265,0)","v":3970.1181609320806},null,12836.400961972977,-315.11967008791709,null,-1583.7680261568566,1363733.4959021679,null,{"$f":"+Bono!J266","v":20928.739298002121},null,20.25,1467075.2137839166]
[20.333333333333332,244,20,4,64,82412.978583746633,null,781.99968890339892,0,0,-96.506174796274038,83098.472097853752,null,244,20,4,20,1363733.4959021679,{"$f":"IF($G$4=\"mensual\",S264,IF($G$4=\"trimestral\",S264,0))","v":3970.1181609320806},null,12977.856389725639,-315.11967008791709,null,-1601.2249669079754,1378765.1258158297,null,{"$f":"+Bono!J267","v":21058.499909233236},null,20.333333333333332,1482922.0978229167]
[20.416666666666668,245,20,5,64,83098.472097853752,null,788.50419491676109,0,0,-97.308892499613791,83789.667400270904,null,245,20,5,20,1378765.1258158297,{"$f":"IF($G$4=\"mensual\",S267,0)","v":3970.1181609320806},null,13120.488413445661,-315.11967008791709,null,-1618.8271107553385,1393921.7856093643,null,{"$f":"+Bono!J268","v":21189.065051305282},null,20.416666666666668,1498900.5180609406]
[20.5,246,20,6,64,83789.667400270904,null,795.06280401875392,0,{"$f":"-SUM(F269:H269)*$J$21*1.16","v":-883.0645833327842},-97.093932120309972,83604.571688836571,null,246,20,6,20,1393921.7856093643,{"$f":"IF($G$4=\"mensual\",S268,0)","v":3970.1181609320806},null,13264.30681980643,-315.11967008791709,null,-1636.575665467217,1409204.5152545476,null,{"$f":"+Bono!J269","v":21128.363678957721},null,20.5,1513937.4506223421]
[20.583333333333332,247,20,7,64,83604.571688836571,null,793.30646913987414,0,0,-97.90153866325268,84299.976619313195,null,247,20,7,20,1409204.5152545476,{"$f":"+IF($G$4=\"mensual\",S264,IF($G$4=\"trimestral\",S264,IF($G$4=\"semestral\",S264,0)))","v":3970.1181609320806},null,13409.32147688479,-315.11967008791709,null,-1654.4718488578408,1424614.3633734188,null,{"$f":"+Bono!J270","v":21259.361984505755},null,20.583333333333332,1530173.7019772378]
[20.666666666666668,248,20,8,64,84299.976619313195,null,799.90502253085504,0,0,-98.715862704539092,85001.165779139512,null,248,20,8,20,1424614.3633734188,{"$f":"IF($G$4=\"mensual\",S270,0)","v":3970.1181609320806},null,13555.542334838132,-315.11967008791709,null,-1672.516888870957,1440152.3873102302,null,{"$f":"+Bono!J271","v":21391.172494743052},null,20.666666666666668,1546544.7255841128]
[20.75,249,20,9,64,85001.165779139512,null,806.55846127642121,0,{"$f":"-SUM(F272:H272)*$J$21*1.16","v":-895.83264106994238},-98.497794255241345,84813.39380509076,null,249,20,9,20,1440152.3873102302,{"$f":"IF($G$4=\"mensual\",S271,0)","v":3970.1181609320806},null,13702.97942658713,-315.11967008791709,null,-1690.7120236640874,1455819.6532039975,null,{"$f":"+Bono!J272","v":21329.892135113678},null,20.75,1561962.939144202]
[20.833333333333332,250,20,10,64,84813.39380509076,null,804.77673189575466,0,0,-99.317077822904352,85518.853459163598,null,250,20,10,20,1455819.6532039975,{"$f":"IF($G$4=\"mensual\",S264,IF($G$4=\"trimestral\",S264,0))","v":3970.1181609320806},null,13851.642868504145,-315.11967008791709,null,-1709.0585016934813,1471617.2360616524,null,{"$f":"+Bono!J273","v":21462.139940465735},null,20.833333333333332,1578598.2294612818]
[20.916666666666668,251,20,11,64,85518.853459163598,null,811.47069247695435,0,0,-100.14317601590304,86230.180975624651,null,251,20,11,20,1471617.2360616524,{"$f":"IF($G$17=\"si\",S262*(1+$G$20),S262)","v":3970.1181609320806},null,14001.542861107349,-315.11967008791709,null,-1727.5575817997806,1487546.219831804,null,{"$f":"+Bono!J274","v":21595.20769755077},null,20.916666666666668,1595371.6085049794]
[21,252,20,12,64,86230.180975624651,null,818.22033198932456,0,{"$f":"-SUM(F275:H275)*$J$21*1.16","v":-908.78530965149002},-99.921954557636482,86039.694043404859,null,252,20,12,20,1487546.219831804,{"$f":"IF($G$4=\"mensual\",S274,0)","v":3970.1181609320806},null,14152.689689760653,-315.11967008791709,null,-1746.2105332943941,1503607.6974791144,null,{"$f":"+Bono!J275","v":21533.342828091081},null,21,1611180.7343506103]
[21.083333333333332,253,21,1,65,86039.694043404859,null,816.41284093274703,0,0,-100.75308398583164,86755.353800351775,null,253,21,1,21,1503607.6974791144,{"$f":"IF($G$17=\"si\",S264*(1+$G$20),S264)","v":4168.1087476413959},null,14306.972417059695,{"$f":"V275*(1+$G$18)","v":-330.8347510591355},null,-1765.2322549155972,1519986.7116378406,null,{"$f":"+Bono!J276","v":21666.852051338417},null,21.083333333333332,1628408.9174895308]
[21.166666666666668,254,21,2,65,86755.353800351775,null,823.20358817803026,0,0,-101.59112657069457,87476.966261959111,null,254,21,2,21,1519986.7116378406,{"$f":"IF($G$4=\"mensual\",S276,0)","v":4168.1087476413959},null,14462.389490884452,-330.8347510591355,null,-1784.4121951453565,1536501.962930162,null,{"$f":"+Bono!J277","v":21801.189047256001},null,21.166666666666668,1645780.1182393772]
[21.25,255,21,3,65,87476.966261959111,null,830.05081940523712,0,{"$f":"-SUM(F278:H278)*$J$21*1.16","v":-921.92525832944375},-101.36670651472049,87283.725116520189,null,255,21,3,21,1536501.962930162,{"$f":"IF($G$4=\"mensual\",S277,0)","v":4168.1087476413959},null,14619.099290659895,-330.8347510591355,null,-1803.7516700121887,1553154.5845473919,null,{"$f":"+Bono!J278","v":21738.734092741834},null,21.25,1662177.0437566538]
[21.333333333333332,256,21,4,65,87283.725116520189,null,828.21719418972555,0,0,-102.2098530804235,88009.732457629492,null,256,21,4,21,1553154.5845473919,{"$f":"IF($G$4=\"mensual\",S276,IF($G$4=\"trimestral\",S276,0))","v":4168.1087476413959},null,14777.11256900375,-330.8347510591355,null,-1823.2520064910545,1569945.719106487,null,{"$f":"+Bono!J279","v":21873.516765653916},null,21.333333333333332,1679828.9683297703]
[21.416666666666668,257,21,5,65,88009.732457629492,null,{"$f":"SUM(F280:G280)*$G$8","v":835.10612751849885},0,0,-103.06001275877166,{"$f":"SUM(F280:K280)","v":88741.77857238923},null,257,21,5,21,1569945.719106487,{"$f":"IF($G$4=\"mensual\",S279,0)","v":4168.1087476413959},null,14936.440167971725,-330.8347510591355,null,-1842.9145425944075,{"$f":"SUM(R280:X280)","v":1586876.5187284464},null,{"$f":"+Bono!J280","v":22009.135106771875},null,{"$f":"+B280/12","v":21.416666666666668},{"$f":"+AA280+Y280+L280","v":1697627.4324076076}]
[{"$f":"+B281/12","v":21.5},{"$f":"+B280+1","v":258},21,6,65,{"$f":"L280","v":88741.77857238923},null,842.0523615200201,0,{"$f":"-SUM(F281:H281)*$J$21*1.16","v":-935.25519495001265},{"$f":"-SUM(F281:J281)*0.1%*1.16","v":-102.83234785719272},88545.743391102034,null,{"$f":"+N280+1","v":258},21,6,21,{"$f":"Y280","v":1586876.5187284464},{"$f":"IF($G$4=\"mensual\",S280,0)","v":4168.1087476413959},null,15097.093019801416,-330.8347510591355,null,-1862.7406274640027,1603948.1451173662,null,{"$f":"+Bono!J281","v":21946.084438800965},null,21.5,1714439.9729472692]
[21.583333333333332,259,21,7,65,88545.743391102034,null,840.19222427689238,0,0,-103.68768531383955,89282.247930065088,null,259,21,7,21,1603948.1451173662,{"$f":"+IF($G$4=\"mensual\",S276,IF($G$4=\"trimestral\",S276,IF($G$4=\"semestral\",S276,0)))","v":4168.1087476413959},null,15259.082147662439,-330.8347510591355,null,-1882.7316214634686,1621161.7696401475,null,{"$f":"+Bono!J282","v":22082.152707909765},null,21.583333333333332,1732526.1702781222]
[21.666666666666668,260,21,8,65,89282.247930065088,null,847.18076334249338,0,0,-104.55013728435279,90024.878556123222,null,260,21,8,21,1621161.7696401475,{"$f":"IF($G$4=\"mensual\",S282,0)","v":4168.1087476413959},null,15422.418666412772,-330.8347510591355,null,-1902.8888962716453,1638518.5734068709,null,{"$f":"+Bono!J283","v":22219.064616069983},null,21.666666666666668,1750762.5165790641]
[21.75,261,21,9,65,90024.878556123222,null,854.2274315800388,0,{"$f":"-SUM(F284:H284)*$J$21*1.16","v":-948.77786651162216},-104.3191806205823,89826.008940571061,null,261,21,9,21,1638518.5734068709,{"$f":"IF($G$4=\"mensual\",S283,0)","v":4168.1087476413959},null,15587.113783361401,-330.8347510591355,null,-1923.2138349767049,1656019.7473518378,null,{"$f":"+Bono!J284","v":22155.412552554735},null,21.75,1768001.1688449634]
[21.833333333333332,262,21,10,65,89826.008940571061,null,852.34039897708419,0,0,-105.18688523387584,90573.162454314268,null,262,21,10,21,1656019.7473518378,{"$f":"IF($G$4=\"mensual\",S276,IF($G$4=\"trimestral\",S276,0))","v":4168.1087476413959},null,15753.178799037312,-330.8347510591355,null,-1943.7078321710503,1673666.4923152863,null,{"$f":"+Bono!J285","v":22292.778680249365},null,21.833333333333332,1786532.43344985]
[21.916666666666668,263,21,11,65,90573.162454314268,null,859.42998395933967,0,0,-106.06180722839738,91326.530631045214,null,263,21,11,21,1673666.4923152863,{"$f":"IF($G$17=\"si\",S274*(1+$G$20),S274)","v":4168.1087476413959},null,15920.62510796487,-330.8347510591355,null,-1964.3722940470066,1691460.0191257866,null,{"$f":"+Bono!J286","v":22430.996493869188},null,21.916666666666668,1805217.546250701]
[22,264,21,12,65,91326.530631045214,null,866.57853859184388,0,{"$f":"-SUM(F287:H287)*$J$21*1.16","v":-962.49605973101097},-105.827511207491,91124.785598698552,null,264,21,12,21,1691460.0191257866,{"$f":"IF($G$4=\"mensual\",S286,0)","v":4168.1087476413959},null,16089.46419944566,-330.8347510591355,null,-1985.208638493305,1709401.5486833213,null,{"$f":"+Bono!J287","v":22366.737298524597},null,22,1822893.0715805446]
[22.083333333333332,265,22,1,66,91124.785598698552,null,864.66422175432569,0,0,-106.70776179172533,91882.742058661155,null,265,22,1,22,1709401.5486833213,{"$f":"IF($G$17=\"si\",S276*(1+$G$20),S276)","v":4375.9731645080219},null,16261.680040756926,{"$f":"V287*(1+$G$18)","v":-347.33354626140476},null,-2006.4425672770969,1727685.4257750481,null,{"$f":"+Bono!J288","v":22505.413664156393},null,22.083333333333332,1842073.5814978655]
[22.166666666666668,266,22,2,66,91882.742058661155,null,871.85631365634038,0,0,-107.59533411188829,92647.003038205614,null,266,22,2,22,1727685.4257750481,{"$f":"IF($G$4=\"mensual\",S288,0)","v":4375.9731645080219},null,16435.171964521687,-347.33354626140476,null,-2027.8531153350673,1746121.3842424816,null,{"$f":"+Bono!J289","v":22644.94983934057},null,22.166666666666668,1861413.3371200277]
[22.25,267,22,3,66,92647.003038205614,null,879.10822783921935,0,{"$f":"-SUM(F290:H290)*$J$21*1.16","v":-976.41260161750802},-107.35765045073568,92442.341013976577,null,267,22,3,22,1746121.3842424816,{"$f":"IF($G$4=\"mensual\",S289,0)","v":4375.9731645080219},null,16610.106956969736,-347.33354626140476,null,-2049.4417517485299,1764710.6890659495,null,{"$f":"+Bono!J290","v":22580.077721167294},null,22.25,1879733.1078010935]
[22.333333333333332,268,22,4,66,92442.341013976577,null,877.16623226973741,0,0,-108.25062840564573,93211.256617840671,null,268,22,4,22,1764710.6890659495,{"$f":"IF($G$4=\"mensual\",S288,IF($G$4=\"trimestral\",S288,0))","v":4375.9731645080219},null,16786.497021237468,-347.33354626140476,null,-2071.2099578183029,1783454.6157476155,null,{"$f":"+Bono!J291","v":22720.076822165436},null,22.333333333333332,1899385.9491876215]
[22.416666666666668,269,{"$f":"C280+1","v":22},{"$f":"D280","v":5},{"$f":"E280+1","v":66},93211.256617840671,null,884.46231321897369,0,0,-109.15103396002918,93986.567897099609,null,269,{"$f":"O280+1","v":22},{"$f":"P280","v":5},{"$f":"Q280+1","v":22},1783454.6157476155,{"$f":"IF($G$4=\"mensual\",S291,0)","v":4375.9731645080219},null,{"$f":"SUM(R292:T292)*$G$8","v":16964.354260300803},-347.33354626140476,null,-2093.159227166349,1802354.4503989967,null,{"$f":"+Bono!J292","v":22860.943933828657},null,22.416666666666668,1919201.962229925]
[22.5,270,22,6,66,93986.567897099609,null,891.8190814077085,0,{"$f":"-SUM(F293:H293)*$J$21*1.16","v":-990.53036005561637},-108.90991367740395,93778.946704774295,null,270,22,6,22,1802354.4503989967,{"$f":"IF($G$4=\"mensual\",S292,0)","v":4375.9731645080219},null,17143.690877805617,-347.33354626140476,null,-2115.2910658382571,1821411.489829211,null,{"$f":"+Bono!J293","v":22795.453046591116},null,22.5,1937985.8895805764]
[22.583333333333332,271,22,7,66,93778.946704774295,null,889.84900690490235,0,0,-109.81580302554786,94558.979908653651,null,271,22,7,22,1821411.489829211,{"$f":"+IF($G$4=\"mensual\",S288,IF($G$4=\"trimestral\",S288,IF($G$4=\"semestral\",S288,0)))","v":4375.9731645080219},null,17324.519178905106,-347.33354626140476,null,-2137.606992406581,1840627.0416339564,null,{"$f":"+Bono!J294","v":22936.787499588878},null,22.583333333333332,1958122.809042199]
[22.666666666666668,272,22,8,66,94558.979908653651,null,897.25058045861294,0,0,-110.72922736737021,95345.501261744896,null,272,22,8,22,1840627.0416339564,{"$f":"IF($G$4=\"mensual\",S294,0)","v":4375.9731645080219},null,17506.851571104089,-347.33354626140476,null,-2160.108538075036,1860002.4242852321,null,{"$f":"+Bono!J295","v":23078.998242589008},null,22.666666666666668,1978426.9237895659]
[22.75,273,22,9,66,95345.501261744896,null,904.71371871672386,0,{"$f":"-SUM(F296:H296)*$J$21*1.16","v":-1004.8522443960194},-110.48462077383608,95134.878115291765,null,273,22,9,22,1860002.4242852321,{"$f":"IF($G$4=\"mensual\",S295,0)","v":4375.9731645080219},null,17690.700565110357,-347.33354626140476,null,-2182.7972467835634,1879538.9672218058,null,{"$f":"+Bono!J296","v":23012.882684288539},null,22.75,1997686.7280213861]
[22.833333333333332,274,22,10,66,95134.878115291765,null,902.71515929279974,0,0,-111.40360819851809,95926.189666386039,null,274,22,10,22,1879538.9672218058,{"$f":"IF($G$4=\"mensual\",S288,IF($G$4=\"trimestral\",S288,0))","v":4375.9731645080219},null,17876.078775693095,-347.33354626140476,null,-2205.6746753142652,1899238.0109404316,null,{"$f":"+Bono!J297","v":23155.5652262603},null,22.833333333333332,2018319.765833078]
[22.916666666666668,275,22,11,66,95926.189666386039,null,910.22375074787703,0,0,-112.33023956387532,96724.083177570035,null,275,22,11,22,1899238.0109404316,{"$f":"IF($G$17=\"si\",S286*(1+$G$20),S286)","v":4375.9731645080219},null,18062.998922548435,-347.33354626140476,null,-2228.7423933982232,1919100.9070878287,null,{"$f":"+Bono!J298","v":23299.132416542438},null,22.916666666666668,2039124.1226819411]
[23,276,22,12,66,96724.083177570035,null,917.79479705934943,0,{"$f":"-SUM(F299:H299)*$J$21*1.16","v":-1019.3812060551309},-112.08209625154613,96510.414672322717,null,276,22,12,22,1919100.9070878287,{"$f":"IF($G$4=\"mensual\",S298,0)","v":4375.9731645080219},null,18251.473831172214,-347.33354626140476,null,{"$f":"-SUM(R299:V299)*0.1%*1.16","v":-2252.001983823207},1939129.0185534244,null,{"$f":"+Bono!J299","v":23232.3862288854},null,23,2058871.8194546327]
[23.083333333333332,277,23,1,67,96510.414672322717,null,915.76734085641567,0,0,-113.01437113528779,97313.167642043845,null,277,23,1,23,1939129.0185534244,{"$f":"IF($G$17=\"si\",S288*(1+$G$20),S288)","v":4594.2038214166696},null,18443.587179255381,{"$f":"V299*(1+$G$18)","v":-364.65513968017024},null,-2275.6904991207225,1959526.4639152957,null,{"$f":"+Bono!J300","v":23376.429718294497},null,23.083333333333332,2080216.061275634]
[23.166666666666668,278,23,2,67,97313.167642043845,null,923.38449756372108,0,0,-113.95440048194477,98122.597739125616,null,278,23,2,23,1959526.4639152957,{"$f":"IF($G$4=\"mensual\",S300,0)","v":4594.2038214166696},null,18637.13431468865,-364.65513968017024,null,-2299.576050417596,1980093.5708613032,null,{"$f":"+Bono!J301","v":23521.36629404594},null,23.166666666666668,2101737.5348944748]
[23.25,279,23,3,67,98122.597739125616,null,931.06501214994944,0,{"$f":"-SUM(F302:H302)*$J$21*1.16","v":-1034.1202391233169},-113.7026693140966,97905.839842838148,null,279,23,3,23,1980093.5708613032,{"$f":"IF($G$4=\"mensual\",S301,0)","v":4594.2038214166696},null,18832.29133376274,-364.65513968017024,null,-2323.6602766170909,2000831.7506001852,null,{"$f":"+Bono!J302","v":23453.983461906766},null,23.25,2122191.5739049301]
[23.333333333333332,280,23,4,67,97905.839842838148,null,929.00824135514188,0,0,-114.64842377766422,98720.19966041563,null,280,23,4,23,2000831.7506001852,{"$f":"IF($G$4=\"mensual\",S300,IF($G$4=\"trimestral\",S300,0))","v":4594.2038214166696},null,19029.071627145157,-364.65513968017024,null,-2347.9448302545175,2021742.4260788125,null,{"$f":"+Bono!J303","v":23599.400879864283},null,23.333333333333332,2144062.0266190926]
[23.416666666666668,281,23,5,67,98720.19966041563,null,936.73553303837946,0,0,-115.60204482440663,99541.333148629594,null,281,23,5,23,2021742.4260788125,{"$f":"IF($G$4=\"mensual\",S303,0)","v":4594.2038214166696},null,19227.488696884113,-364.65513968017024,null,-2372.4313776106223,2042827.0320798224,null,{"$f":"+Bono!J304","v":23745.71990268051},null,23.416666666666668,2166114.0851311325]
[23.5,282,23,6,67,99541.333148629594,null,944.52709867969361,0,{"$f":"-SUM(F305:H305)*$J$21*1.16","v":-1049.072380981909},-115.34667392493976,99321.441192402446,null,282,23,6,23,2042827.0320798224,{"$f":"IF($G$4=\"mensual\",S304,0)","v":4594.2038214166696},null,19427.556157334966,-364.65513968017024,null,-2397.1215988259169,2064087.0153200678,null,{"$f":"+Bono!J305","v":23677.694353559615},null,23.5,2187086.1508660298]
[23.583333333333332,283,23,7,67,99321.441192402446,null,942.44058943907385,0,0,-116.30610286693617,100147.57567897459,null,283,23,7,23,2064087.0153200678,{"$f":"+IF($G$4=\"mensual\",S300,IF($G$4=\"trimestral\",S300,IF($G$4=\"semestral\",S300,0)))","v":4594.2038214166696},null,19629.28773609436,-364.65513968017024,null,-2422.0171880159619,2085523.8345498827,null,{"$f":"+Bono!J306","v":23824.498804994237},null,23.583333333333332,2209495.9090338512]
[23.666666666666668,284,23,8,67,100147.57567897459,null,950.27960851827504,0,0,-117.27351213349174,100980.58177535939,null,284,23,8,23,2085523.8345498827,{"$f":"IF($G$4=\"mensual\",S306,0)","v":4594.2038214166696},null,19832.697274942162,-364.65513968017024,null,-2447.1198533876109,2107138.9606531737,null,{"$f":"+Bono!J307","v":23972.213461056017},null,23.666666666666668,2232091.755889589]
[23.75,285,23,9,67,100980.58177535939,null,958.18383088011558,0,{"$f":"-SUM(F308:H308)*$J$21*1.16","v":-1064.2407129291405},-117.01444887624001,100757.51044443411,null,285,23,9,23,2107138.9606531737,{"$f":"IF($G$4=\"mensual\",S307,0)","v":4594.2038214166696},null,20037.79873079119,-364.65513968017024,null,-2472.4313173562136,2128933.8767483449,null,{"$f":"+Bono!J308","v":23903.539064532557},null,23.75,2253594.9262573114]
[23.833333333333332,286,23,10,67,100757.51044443411,null,956.06715321132378,0,0,-117.98775001326871,101595.58984763216,null,286,23,10,23,2128933.8767483449,{"$f":"IF($G$4=\"mensual\",S300,IF($G$4=\"trimestral\",S300,0))","v":4594.2038214166696},null,20244.60617664488,-364.65513968017024,null,-2497.9533166638025,2150910.0782900625,null,{"$f":"+Bono!J309","v":24051.743779371576},null,23.833333333333332,2276557.4119170662]
[23.916666666666668,287,23,11,67,101595.58984763216,null,964.01951513100903,0,0,-118.96914686080527,102440.64021590236,null,287,23,11,23,2150910.0782900625,{"$f":"IF($G$17=\"si\",S298*(1+$G$20),S298)","v":4594.2038214166696},null,20453.133802562901,-364.65513968017024,null,-2523.6876024982598,2173069.0731718638,null,{"$f":"+Bono!J310","v":24200.867380633281},null,23.916666666666668,2299710.5807683999]
[24,288,23,12,67,102440.64021590236,null,972.03802309481807,0,{"$f":"-SUM(F311:H311)*$J$21*1.16","v":-1079.6283608151305},-118.70633785869117,102214.34354032336,null,288,23,12,23,2173069.0731718638,{"$f":"IF($G$4=\"mensual\",S310,0)","v":4594.2038214166696},null,20663.3959166348,-364.65513968017024,null,-2549.6359406134725,2195412.3818296213,null,{"$f":"+Bono!J311","v":24131.537947812685},null,24,2321758.2633177573]
[24.083333333333332,289,24,1,68,102214.34354032336,null,969.89074079846444,0,0,-119.69371176610132,103064.54056935573,null,289,24,1,24,2195412.3818296213,{"$f":"IF($G$17=\"si\",S300*(1+$G$20),S300)","v":4823.3176848314833},null,20877.580959970124,{"$f":"V311*(1+$G$18)","v":-382.84056442704826},null,-2576.0473102955953,2218154.3925997005,null,{"$f":"+Bono!J312","v":24281.156282174274},null,24.083333333333332,2345500.0894512306]
[24.166666666666668,290,24,2,68,103064.54056935573,null,977.95808436055029,0,0,-120.68929843831087,103921.80935527796,null,290,24,2,24,2218154.3925997005,{"$f":"IF($G$4=\"mensual\",S312,0)","v":4823.3176848314833},null,21093.375191083465,-382.84056442704826,null,-2602.6783640969784,2241085.5665470916,null,{"$f":"+Bono!J313","v":24431.702267563556},null,24.166666666666668,2369439.0781699331]
[24.25,291,24,3,68,103921.80935527796,null,986.09253035944778,0,{"$f":"-SUM(F314:H314)*$J$21*1.16","v":-1095.2384956860546},-120.42268953234357,103692.24070041902,null,291,24,3,24,2241085.5665470916,{"$f":"IF($G$4=\"mensual\",S313,0)","v":4823.3176848314833},null,21310.964352417162,-382.84056442704826,null,-2629.5309293030991,2264207.4770906102,null,{"$f":"+Bono!J314","v":24361.71155051978},null,24.25,2392261.4293415491]
[24.333333333333332,292,24,4,68,103692.24070041902,null,983.91420092922056,0,0,-121.42433968556395,104554.73056166268,null,292,24,4,24,2264207.4770906102,{"$f":"IF($G$4=\"mensual\",S312,IF($G$4=\"trimestral\",S312,0))","v":4823.3176848314833},null,21530.363373816566,-382.84056442704826,null,-2656.6068483984041,2287521.710736433,null,{"$f":"+Bono!J315","v":24512.75698791664},null,24.333333333333332,2416589.1982860123]
[24.416666666666668,293,24,5,68,104554.73056166268,null,992.09818863073895,0,0,-122.43432135034037,105424.39442894308,null,293,24,5,24,2287521.710736433,{"$f":"IF($G$4=\"mensual\",S315,0)","v":4823.3176848314833},null,21751.587309310267,-382.84056442704826,null,-2683.9079791927315,2311029.8671869552,null,{"$f":"+Bono!J316","v":24664.738924545545},null,24.416666666666668,2441119.0005404442]
[24.5,294,24,6,68,105424.39442894308,null,1000.3502489900513,0,{"$f":"-SUM(F317:H317)*$J$21*1.16","v":-1111.0743344376219},-122.1638575984548,105191.50648589706,null,294,24,6,24,2311029.8671869552,{"$f":"IF($G$4=\"mensual\",S316,0)","v":4823.3176848314833},null,21974.651338143052,-382.84056442704826,null,-2711.4361949487834,2334733.5594505542,null,{"$f":"+Bono!J317","v":24594.080615758015},null,24.5,2464519.1465522093]
[24.583333333333332,295,24,7,68,105191.50648589706,null,998.1404235215266,0,0,-123.17999041492556,106066.46691900367,null,295,24,7,24,2334733.5594505542,{"$f":"+IF($G$4=\"mensual\",S312,IF($G$4=\"trimestral\",S312,IF($G$4=\"semestral\",S312,0)))","v":4823.3176848314833},null,22199.570765817421,-382.84056442704826,null,-2739.1933845106605,2358634.4139522659,null,{"$f":"+Bono!J318","v":24746.566768312492},null,24.583333333333332,2489447.4476395817]
[24.666666666666668,296,24,8,68,106066.46691900367,null,1006.4427418972283,0,0,-124.20457520664505,106948.70508569425,null,296,24,8,24,2358634.4139522659,{"$f":"IF($G$4=\"mensual\",S318,0)","v":4823.3176848314833},null,22426.361025143764,-382.84056442704826,null,-2767.1814524334645,2382734.0706453808,null,{"$f":"+Bono!J319","v":24899.99835270011},null,24.666666666666668,2514582.774083775]
[24.75,297,24,9,68,106948.70508569425,null,1014.8141171799415,0,{"$f":"-SUM(F320:H320)*$J$21*1.16","v":-1127.1391404780065},-123.93020087237957,106712.44986152381,null,297,24,9,24,2382734.0706453808,{"$f":"IF($G$4=\"mensual\",S319,0)","v":4823.3176848314833},null,22655.037677299268,-382.84056442704826,null,-2795.4023191139781,2407034.1831239704,null,{"$f":"+Bono!J320","v":24828.6660844853},null,24.75,2538575.2990699792]
[24.833333333333332,298,24,10,68,106712.44986152381,null,1012.5723402780746,0,0,-124.96102575409019,107600.06117604779,null,298,24,10,24,2407034.1831239704,{"$f":"IF($G$4=\"mensual\",S312,IF($G$4=\"trimestral\",S312,0))","v":4823.3176848314833},null,22885.616412895684,{"$f":"V320","v":-382.84056442704826},null,-2823.857920922434,2431536.4187363484,null,{"$f":"+Bono!J321","v":24982.606694156118},null,24.833333333333332,2564119.0866065524]
[24.916666666666668,299,24,11,68,107600.06117604779,null,1020.9947002479857,0,0,-126.0004248165031,108495.05545147927,null,299,24,11,24,2431536.4187363484,{"$f":"IF($G$17=\"si\",S310*(1+$G$20),S310)","v":4823.3176848314833},null,23118.113053055906,{"$f":"V321","v":-382.84056442704826},null,-2852.5502103353783,2456242.4586994736,null,{"$f":"+Bono!J322","v":25137.501753462904},null,24.916666666666668,2589875.0159044159]
[25,300,24,12,68,108495.05545147927,null,1029.4871156051922,0,{"$f":"-SUM(F323:H323)*$J$21*1.16","v":-1143.4362244003619},-125.72208335751357,108255.3842593266,null,300,24,12,24,2456242.4586994736,{"$f":"IF($G$4=\"mensual\",S322,0)","v":4823.3176848314833},null,23352.543550499533,{"$f":"V322","v":-382.84056442704826},null,-2881.4811560696385,2481153.9982143082,null,{"$f":"+Bono!J323","v":25065.489097400463},null,25,2614474.8715710351]
[25.083333333333332,301,25,1,69,108255.3842593266,null,1027.2129252904708,0,0,-126.7678127341558,109155.82937188292,null,301,25,1,25,2481153.9982143082,{"$f":"IF($G$17=\"si\",S312*(1+$G$20),S312)","v":5063.8575024375659},null,23591.206423159267,{"$f":"V323*(1+$G$18)","v":-401.93289994313801},null,-2910.9122699183558,2506496.2169700437,null,{"$f":"+Bono!J324","v":25220.898037221126},null,25.083333333333332,2640872.9443791481]
[25.166666666666668,302,25,2,69,109155.82937188292,null,1035.7570625124752,0,0,-127.82224026389866,110063.76419413151,null,302,25,2,25,2506496.2169700437,{"$f":"IF($G$4=\"mensual\",S324,0)","v":5063.8575024375659},null,23831.67348943535,{"$f":"V324","v":-401.93289994313801},null,-2940.5881854718896,2532049.2268765019,null,{"$f":"+Bono!J325","v":25377.270530495},null,25.166666666666668,2667490.2616011281]
[25.25,303,25,3,69,110063.76419413151,null,1044.3722680388894,0,{"$f":"-SUM(F326:H326)*$J$21*1.16","v":-1159.9689446650591},-127.53987432030618,109820.62764318503,null,303,25,3,25,2532049.2268765019,{"$f":"IF($G$4=\"mensual\",S325,0)","v":5063.8575024375659},null,24074.140709293082,-401.93289994313801,null,-2970.5109389384156,2557814.7812493513,null,{"$f":"+Bono!J326","v":25304.570996848452},null,25.25,2692939.9798893849]
[25.333333333333332,304,25,4,69,109820.62764318503,null,1042.0651956521297,0,0,-128.60072369305109,110734.09211514411,null,304,25,4,25,2557814.7812493513,{"$f":"IF($G$4=\"mensual\",S324,IF($G$4=\"trimestral\",S324,0))","v":5063.8575024375659},null,24318.624719581789,-401.93289994313801,null,-3000.6825834628557,2583794.6479879646,null,{"$f":"+Bono!J327","v":25461.462272177476},null,25.333333333333332,2719990.2023752863]
[25.416666666666668,305,25,5,69,110734.09211514411,null,1050.7328708796476,0,0,-129.67039698378755,111655.15458903997,null,305,25,5,25,2583794.6479879646,{"$f":"IF($G$4=\"mensual\",S327,0)","v":5063.8575024375659},null,24565.142295532551,-401.93289994313801,null,-3031.1051892677501,2609990.609696724,null,{"$f":"+Bono!J328","v":25619.3262916118},null,25.416666666666668,2747265.0905773761]
[25.5,306,25,6,69,111655.15458903997,null,1059.4726419742601,0,{"$f":"-SUM(F329:H329)*$J$21*1.16","v":-1176.7407082917887},-129.38394836635803,111408.50257435608,null,306,25,6,25,2609990.609696724,{"$f":"IF($G$4=\"mensual\",S328,0)","v":5063.8575024375659},null,24813.710351909238,-401.93289994313801,null,-3061.7808437953076,2636404.4638073323,null,{"$f":"+Bono!J329","v":25545.933328743678},null,25.5,2773358.8997104322]
[25.583333333333332,307,25,7,69,111408.50257435608,null,1057.1322120800271,0,0,-130.46013635226589,112335.17465008385,null,307,25,7,25,2636404.4638073323,{"$f":"+IF($G$4=\"mensual\",S324,IF($G$4=\"trimestral\",S324,IF($G$4=\"semestral\",S324,0)))","v":5063.8575024375659},null,25064.345944169083,-401.93289994313801,null,-3092.7116518506355,2663038.0227021454,null,{"$f":"+Bono!J330","v":25704.321078526751},null,25.583333333333332,2801077.5184307559]
[25.666666666666668,308,25,8,69,112335.17465008385,null,1065.925211524868,0,0,-131.54527583946609,113269.55458576925,null,308,25,8,25,2663038.0227021454,{"$f":"IF($G$4=\"mensual\",S330,0)","v":5063.8575024375659},null,25317.066269632989,-401.93289994313801,null,-3123.8997357461562,2689893.1138385269,null,{"$f":"+Bono!J331","v":25863.69085073032},null,25.666666666666668,2829026.3592750267]
[25.75,309,25,9,69,113269.55458576925,null,1074.7913492568159,0,{"$f":"-SUM(F332:H332)*$J$21*1.16","v":-1193.7549715616724},-131.2546855176187,113019.33627794677,null,309,25,9,25,2689893.1138385269,{"$f":"IF($G$4=\"mensual\",S331,0)","v":5063.8575024375659},null,25571.88866866547,-401.93289994313801,null,-3155.3472354472369,2716971.5798742399,null,{"$f":"+Bono!J332","v":25789.59784451174},null,25.75,2855780.5139966984]
[25.833333333333332,310,25,10,69,113019.33627794677,null,1072.4170795454465,0,0,-132.34643389469096,113959.40692359752,null,310,25,10,25,2716971.5798742399,{"$f":"IF($G$4=\"mensual\",S324,IF($G$4=\"trimestral\",S324,0))","v":5063.8575024375659},null,25828.830625864488,-401.93289994313801,null,-3187.0563087190149,2744275.2787938803,null,{"$f":"+Bono!J333","v":25949.496342555907},null,25.833333333333332,2884184.182060034]
[25.916666666666668,311,25,11,69,113959.40692359752,null,1081.3372152459065,0,0,-133.44726320105835,114907.29687564237,null,311,25,11,25,2744275.2787938803,{"$f":"IF($G$17=\"si\",S322*(1+$G$20),S322)","v":5063.8575024375659},null,26087.909771261155,-401.93289994313801,null,-3219.0291312744575,2771806.0840363614,null,{"$f":"+Bono!J334","v":26110.386229835025},null,25.916666666666668,2912823.7671418386]
[26,312,25,12,69,114907.29687564237,null,1090.3315467256318,0,{"$f":"-SUM(F335:H335)*$J$21*1.16","v":-1211.0152407295218},-133.15247129070062,114653.46071034778,null,312,25,12,25,2771806.0840363614,{"$f":"IF($G$4=\"mensual\",S334,0)","v":5063.8575024375659},null,26349.143881529391,-401.93289994313801,null,-3251.2678969236472,2799565.8846234619,null,{"$f":"+Bono!J335","v":26035.586503049624},null,26,2940254.9318368593]
[26.083333333333332,313,26,1,70,114653.46071034778,null,1087.9229479138428,0,0,-134.26000504358348,115607.12365321803,null,313,26,1,26,2799565.8846234619,{"$f":"IF($G$17=\"si\",S324*(1+$G$20),S324)","v":5316.3930888556279},null,26614.947139093842,{"$f":"V335*(1+$G$18)","v":-421.97737404988226},null,-3284.0472870737394,2827791.2001902875,null,{"$f":"+Bono!J336","v":26197.010159309644},null,26.083333333333332,2969595.3340028152]
[26.166666666666668,314,26,2,70,115607.12365321803,null,1096.9720581081237,0,0,-135.37675102513833,116568.71896030102,null,314,26,2,26,2827791.2001902875,{"$f":"IF($G$4=\"mensual\",S336,0)","v":5316.3930888556279},null,26882.771314020712,-421.97737404988226,null,-3317.0993291741725,2856251.2878899402,null,{"$f":"+Bono!J337","v":26359.434660962466},null,26.166666666666668,2999179.4415112035]
[26.25,315,26,3,70,116568.71896030102,null,1106.0964368639011,0,{"$f":"-SUM(F338:H338)*$J$21*1.16","v":-1228.5250727464017},-135.07769677632547,116311.21262764219,null,315,26,3,26,2856251.2878899402,{"$f":"IF($G$4=\"mensual\",S337,0)","v":5316.3930888556279},null,27152.823193102791,-421.97737404988226,null,-3350.4262910855045,2884948.1005067634,null,{"$f":"+Bono!J338","v":26283.92147270466},null,26.25,3027543.2346071103]
[26.333333333333332,316,26,4,70,116311.21262764219,null,1103.6530125939576,0,0,-136.20124414267394,117278.66439609347,null,316,26,4,26,2884948.1005067634,{"$f":"IF($G$4=\"mensual\",S336,IF($G$4=\"trimestral\",S336,0))","v":5316.3930888556279},null,27425.121305906356,-421.97737404988226,null,-3384.0304595318712,2913883.6070679436,null,{"$f":"+Bono!J339","v":26446.884834581615},null,26.333333333333332,3057609.1562986188]
[26.416666666666668,317,26,5,70,117278.66439609347,null,1112.832962098988,0,0,-137.33413693550324,118254.16322125695,null,317,26,5,26,2913883.6070679436,{"$f":"IF($G$4=\"mensual\",S339,0)","v":5316.3930888556279},null,27699.684336122664,-421.97737404988226,null,-3417.9141402578916,2943059.7929786141,null,{"$f":"+Bono!J340","v":26610.858588204788},null,26.416666666666668,3087924.8147880756]
[26.5,318,26,6,70,118254.16322125695,null,1122.0892684588932,0,{"$f":"-SUM(F341:H341)*$J$21*1.16","v":-1246.2880759926334},-137.03075871991891,117992.93365500329,null,318,26,6,26,2943059.7929786141,{"$f":"IF($G$4=\"mensual\",S340,0)","v":5316.3930888556279},null,27976.531122849916,-421.97737404988226,null,-3452.0796581868731,2972478.6601580828,null,{"$f":"+Bono!J341","v":26534.625133272275},null,26.5,3117006.2189463582]
[26.583333333333332,319,26,7,70,117992.93365500329,null,1119.6105151963213,0,0,-138.17055123743154,118974.37361896218,null,319,26,7,26,2972478.6601580828,{"$f":"+IF($G$4=\"mensual\",S336,IF($G$4=\"trimestral\",S336,IF($G$4=\"semestral\",S336,0)))","v":5316.3930888556279},null,28255.680661885897,-421.97737404988226,null,-3486.5293575803385,3002142.2271771943,null,{"$f":"+Bono!J342","v":26699.142886924576},null,26.583333333333332,3147815.7436830811]
[26.666666666666668,320,26,8,70,118974.37361896218,null,1128.923195792052,0,0,-139.31982430511491,119963.97699044913,null,320,26,8,26,3002142.2271771943,{"$f":"IF($G$4=\"mensual\",S342,0)","v":5316.3930888556279},null,28537.152107031372,-421.97737404988226,null,-3521.2656021988769,3032052.5293968329,null,{"$f":"+Bono!J343","v":26864.680669732399},null,26.666666666666668,3178881.1870570146]
[26.75,321,26,9,70,119963.97699044913,null,{"$f":"SUM(F344:G344)*$G$8","v":1138.3133372714567},0,{"$f":"-SUM(F344:H344)*$J$21*1.16","v":-1264.3079110214028},-139.01205960337103,{"$f":"SUM(F344:K344)","v":119698.97035709581},null,321,26,9,26,3032052.5293968329,{"$f":"IF($G$4=\"mensual\",S343,0)","v":5316.3930888556279},null,28820.96477140432,-421.97737404988226,null,-3556.2907754643297,{"$f":"SUM(R344:X344)","v":3062211.6191075789},null,{"$f":"+Bono!J344","v":26787.720078012891},null,{"$f":"+B344/12","v":26.75},{"$f":"+AA344+Y344+L344","v":3208698.3095426876}]
[{"$f":"+B345/12","v":26.833333333333332},{"$f":"+B344+1","v":322},26,10,70,{"$f":"L344","v":119698.97035709581},null,1135.7987442012761,0,0,{"$f":"-SUM(F345:J345)*0.1%*1.16","v":-140.16833215750464},120694.60076913958,null,{"$f":"+N344+1","v":322},26,10,26,{"$f":"Y344","v":3062211.6191075789},{"$f":"IF($G$4=\"mensual\",S336,IF($G$4=\"trimestral\",S336,0))","v":5316.3930888556279},null,29107.138128765106,-421.97737404988226,null,-3591.6072806233333,3092621.5656705266,null,{"$f":"+Bono!J345","v":26953.807049679781},null,26.833333333333332,3240269.9734893455]
[26.916666666666668,323,26,11,70,120694.60076913958,null,1145.246075020533,0,0,-141.33422233922573,121698.51262182089,null,323,26,11,26,3092621.5656705266,{"$f":"IF($G$17=\"si\",S334*(1+$G$20),S334)","v":5316.3930888556279},null,29395.691814852649,-421.97737404988226,null,-3627.2175409122146,3123284.4556592731,null,{"$f":"+Bono!J346","v":27120.923779835903},null,26.916666666666668,3272103.8920609299]
[27,324,26,12,70,121698.51262182089,null,1154.7719867151998,0,{"$f":"-SUM(F347:H347)*$J$21*1.16","v":-1282.588291313117},-141.02200772797866,121429.67430949499,null,324,26,12,26,3123284.4556592731,{"$f":"IF($G$4=\"mensual\",S346,0)","v":5316.3930888556279},null,29686.645628731767,-421.97737404988226,null,-3663.1239997232606,3154202.3930030875,null,{"$f":"+Bono!J347","v":27043.229115687987},null,27,3302675.2964282702]
[27.083333333333332,325,27,1,71,121429.67430949499,null,1152.2210356366566,0,0,-142.1949986003527,122439.7003465313,null,325,27,1,27,3154202.3930030875,{"$f":"IF($G$17=\"si\",S336*(1+$G$20),S336)","v":5581.5226754754758},null,29982.535293899899,{"$f":"V347*(1+$G$18)","v":-443.02147008922469},null,-3699.615178222753,3185623.8143241508,null,{"$f":"+Bono!J348","v":27210.900273025676},null,27.083333333333332,3335274.4149437076]
[27.166666666666668,326,27,2,71,122439.7003465313,null,1161.8049635606314,0,0,-143.37774615970665,123458.12756393223,null,326,27,2,27,3185623.8143241508,{"$f":"IF($G$4=\"mensual\",S348,0)","v":5581.5226754754758},null,30280.686654525762,-443.02147008922469,null,-3736.4098825335127,3217306.5923015294,null,{"$f":"+Bono!J349","v":27379.611010987508},null,27.166666666666668,3368144.3308764491]
[27.25,327,27,3,71,123458.12756393223,null,1171.4686085454925,0,{"$f":"-SUM(F350:H350)*$J$21*1.16","v":-1301.1329840406675},-143.06101729858696,123185.40217113846,null,327,27,3,27,3217306.5923015294,{"$f":"IF($G$4=\"mensual\",S349,0)","v":5581.5226754754758},null,30581.317974345475,-443.02147008922469,null,-3773.5106373182621,3249252.9008439425,null,{"$f":"+Bono!J350","v":27301.175272615616},null,27.25,3399739.4782876968]
[27.333333333333332,328,27,4,71,123185.40217113846,null,1168.8807737652696,0,0,-144.25096821608832,124210.03197668763,null,328,27,4,27,3249252.9008439425,{"$f":"IF($G$4=\"mensual\",S348,IF($G$4=\"trimestral\",S348,0))","v":5581.5226754754758},null,30884.449881128734,-443.02147008922469,null,-3810.91998823933,3281464.931942218,null,{"$f":"+Bono!J351","v":27470.445726046157},null,27.333333333333332,3433145.409644952]
[27.416666666666668,329,27,5,71,124210.03197668763,null,1178.6032738247279,0,0,-145.45081689059433,125243.18443362178,null,329,27,5,27,3281464.931942218,{"$f":"IF($G$4=\"mensual\",S351,0)","v":5581.5226754754758},null,31190.103174222622,-443.02147008922469,null,-3848.6405021333185,3313944.8958196933,null,{"$f":"+Bono!J352","v":27640.765675922125},null,27.416666666666668,3466828.8459292371]
[27.5,330,27,6,71,125243.18443362178,null,1188.4066435584316,0,{"$f":"-SUM(F353:H353)*$J$21*1.16","v":-1319.9458108457616},-145.12950850894794,124966.51575782549,null,330,27,6,27,3313944.8958196933,{"$f":"IF($G$4=\"mensual\",S352,0)","v":5581.5226754754758},null,31498.29882597872,-443.02147008922469,null,-3886.6747671872272,3346695.0210838709,null,{"$f":"+Bono!J353","v":27561.581794745529},null,27.5,3499223.1186364423]
[27.583333333333332,331,27,7,71,124966.51575782549,null,1185.7813917823153,0,0,-146.33666469354506,126005.96048491426,null,331,27,7,27,3346695.0210838709,{"$f":"+IF($G$4=\"mensual\",S348,IF($G$4=\"trimestral\",S348,IF($G$4=\"semestral\",S348,0)))","v":5581.5226754754758},null,31809.05798319216,-443.02147008922469,null,-3925.025393116041,3379717.5548793334,null,{"$f":"+Bono!J354","v":27732.466798818565},null,27.583333333333332,3533455.9821630665]
[27.666666666666668,332,27,8,71,126005.96048491426,null,1195.6444675646048,0,0,-147.55386174487549,127054.05109073399,null,332,27,8,27,3379717.5548793334,{"$f":"IF($G$4=\"mensual\",S354,0)","v":5581.5226754754758},null,32122.401968552575,-443.02147008922469,null,-3963.6950113417956,3413014.7630419303,null,{"$f":"+Bono!J355","v":27904.411309738283},null,27.666666666666668,3567973.2254424025]
[27.75,333,{"$f":"C344+1","v":27},{"$f":"D344","v":9},{"$f":"E344+1","v":71},127054.05109073399,null,1205.58958229991,0,{"$f":"-SUM(F356:H356)*$J$21*1.16","v":-1339.0306486264742},-147.22790762831261,126773.38211677912,null,333,{"$f":"O344+1","v":27},{"$f":"P344","v":9},{"$f":"Q344+1","v":27},3413014.7630419303,{"$f":"IF($G$4=\"mensual\",S355,0)","v":5581.5226754754758},null,{"$f":"SUM(R356:T356)*$G$8","v":32438.352282107164},-443.02147008922469,null,-4002.6862751741314,3446588.9302542498,null,{"$f":"+Bono!J356","v":27824.472149754089},null,27.75,3601186.784520783]
[27.833333333333332,334,27,10,71,126773.38211677912,null,1202.9263725228902,0,0,-148.45251784759031,127827.85597145442,null,334,27,10,27,3446588.9302542498,{"$f":"IF($G$4=\"mensual\",S348,IF($G$4=\"trimestral\",S348,0))","v":5581.5226754754758},null,32756.930602735931,-443.02147008922469,null,-4042.001859992351,3480442.3602023795,null,{"$f":"+Bono!J357","v":27996.98710452157},null,27.833333333333332,3636267.2032783558]
[27.916666666666668,335,27,11,71,127827.85597145442,null,1212.9320565848359,0,0,-149.68731411252554,128891.10071392673,null,335,27,11,27,3480442.3602023795,{"$f":"IF($G$17=\"si\",S346*(1+$G$20),S346)","v":5581.5226754754758},null,33078.158789639143,-443.02147008922469,null,-4081.6444634289896,3514577.3757339763,null,{"$f":"+Bono!J358","v":28170.571672019105},null,27.916666666666668,3671639.0481199222]
[28,336,27,12,71,128891.10071392673,null,1223.0209657849398,0,{"$f":"-SUM(F359:H359)*$J$21*1.16","v":-1358.3914303361901},-149.35664708927553,128606.3736022862,null,336,27,12,27,3514577.3757339763,{"$f":"IF($G$4=\"mensual\",S358,0)","v":5581.5226754754758},null,33402.058883837242,-443.02147008922469,null,-4121.6168055549115,3548996.319017645,null,{"$f":"+Bono!J359","v":28089.870029159152},null,28,3705692.5626490903]
[28.083333333333332,337,28,1,72,128606.3736022862,null,1220.3192491797208,0,0,-150.59896370770048,129676.09388775822,null,337,28,1,28,3548996.319017645,{"$f":"IF($G$17=\"si\",S348*(1+$G$20),S348)","v":5859.8743276059731},null,33731.294330873199,{"$f":"V359*(1+$G$18)","v":-465.11503940686833},null,-4162.221952258592,3583960.1506844587,null,{"$f":"+Bono!J360","v":28264.030481563193},null,28.083333333333332,3741900.2750537805]
[28.166666666666668,338,28,2,72,129676.09388775822,null,1230.4696034664878,0,0,-151.85161364982065,130754.71187757488,null,338,28,2,28,3583960.1506844587,{"$f":"IF($G$4=\"mensual\",S360,0)","v":5859.8743276059731},null,34063.05888975921,-465.11503940686833,null,-4203.1648438804041,3619214.8040185366,null,{"$f":"+Bono!J361","v":28439.270748973504},null,28.166666666666668,3778408.7866450846]
[28.25,339,28,3,72,130754.71187757488,null,1240.7043862273745,0,{"$f":"-SUM(F362:H362)*$J$21*1.16","v":-1378.0321457940956},-151.51616557688948,130465.86795243128,null,339,28,3,28,3619214.8040185366,{"$f":"IF($G$4=\"mensual\",S361,0)","v":5859.8743276059731},null,34397.582995226789,-465.11503940686833,null,-4244.4482897102762,3654762.6980122523,null,{"$f":"+Bono!J362","v":28357.799350455141},null,28.25,3813586.3653151384]
[28.333333333333332,340,28,4,72,130465.86795243128,null,1237.9636060312746,0,0,-152.77644460781656,131551.05511385473,null,340,28,4,28,3654762.6980122523,{"$f":"IF($G$4=\"mensual\",S360,IF($G$4=\"trimestral\",S360,0))","v":5859.8743276059731},null,34734.889600593662,-465.11503940686833,null,{"$f":"-SUM(R363:V363)*0.1%*1.16","v":-4286.0751224052119},3690606.2717786399,null,{"$f":"+Bono!J363","v":28533.620995729096},null,28.333333333333332,3850690.9478882239]
[28.416666666666668,341,28,5,72,131551.05511385473,null,1248.2607223012897,0,0,-154.04720636994097,132645.26862978609,null,341,28,5,28,3690606.2717786399,{"$f":"IF($G$4=\"mensual\",S363,0)","v":5859.8743276059731},null,35075.001850098364,-465.11503940686833,null,-4328.0481981836474,3726747.984718754,null,{"$f":"+Bono!J364","v":28710.532755597796},null,28.416666666666668,3888103.786104138]
[28.5,342,28,6,72,132645.26862978609,null,1258.6434877801844,0,{"$f":"-SUM(F365:H365)*$J$21*1.16","v":-1397.9568425073919},-153.70690811906829,132352.24836693984,null,342,28,6,28,3726747.984718754,{"$f":"IF($G$4=\"mensual\",S364,0)","v":5859.8743276059731},null,35417.94308048825,-465.11503940686833,null,-4370.3703970214319,3763190.3166904198,null,{"$f":"+Bono!J365","v":28628.284259268461},null,28.5,3924170.8493166282]
[28.583333333333332,343,28,7,72,132352.24836693984,null,1255.8630791803992,0,0,-154.98540927749946,133453.12603684273,null,343,28,7,28,3763190.3166904198,{"$f":"+IF($G$4=\"mensual\",S360,IF($G$4=\"trimestral\",S360,IF($G$4=\"semestral\",S360,0)))","v":5859.8743276059731},null,35763.736822620725,-465.11503940686833,null,-4413.0446228494375,3799935.7681783903,null,{"$f":"+Bono!J366","v":28805.782942351365},null,28.583333333333332,3962194.6771575846]
[28.666666666666668,344,28,8,72,133453.12603684273,null,1266.3090794364141,0,0,-156.27454473488382,134563.16057154426,null,344,28,8,28,3799935.7681783903,{"$f":"IF($G$4=\"mensual\",S366,0)","v":5859.8743276059731},null,36112.406803077844,-465.11503940686833,null,-4456.0738037528145,3836986.8604659149,null,{"$f":"+Bono!J367","v":28984.382137857956},null,28.666666666666668,4000534.4031753172]
[28.75,345,28,9,72,134563.16057154426,null,1276.8419672864329,0,{"$f":"-SUM(F368:H368)*$J$21*1.16","v":-1418.1696265053924},-155.92932617829732,134265.90358614697,null,345,28,9,28,3836986.8604659149,{"$f":"IF($G$4=\"mensual\",S367,0)","v":5859.8743276059731},null,36463.976945794289,-465.11503940686833,null,-4499.4608921718936,3874346.1358077363,null,{"$f":"+Bono!J368","v":28901.349131533516},null,28.75,4037513.3885254166]
[28.833333333333332,346,28,10,72,134265.90358614697,null,1274.0213573036399,0,0,-157.2263129344027,135382.69863051621,null,346,28,10,28,3874346.1358077363,{"$f":"IF($G$4=\"mensual\",S360,IF($G$4=\"trimestral\",S360,0))","v":5859.8743276059731},null,36818.471373698907,-465.11503940686833,null,-4543.2088651047752,3912016.1576045295,null,{"$f":"+Bono!J369","v":29080.540848498025},null,28.833333333333332,4076479.3970835442]
[28.916666666666668,347,28,11,72,135382.69863051621,null,1284.6183942300281,0,0,-158.53408774870562,136508.78293699754,null,347,28,11,28,3912016.1576045295,{"$f":"IF($G$17=\"si\",S358*(1+$G$20),S358)","v":5859.8743276059731},null,37175.914410369907,-465.11503940686833,null,-4587.3207243115939,3949999.510578787,null,{"$f":"+Bono!J370","v":29260.843574892671},null,28.916666666666668,4115769.1370906774]
[29,348,28,12,72,136508.78293699754,null,1295.3035750411129,0,{"$f":"-SUM(F371:H371)*$J$21*1.16","v":-1438.6746631856836},-158.18387774466945,136207.22797110828,null,348,28,12,28,3949999.510578787,{"$f":"IF($G$4=\"mensual\",S370,0)","v":5859.8743276059731},null,37536.330581703813,-465.11503940686833,null,-4631.7994965204798,3988298.8009521696,null,{"$f":"+Bono!J371","v":29177.018575689428},null,29,4153683.047498967]
[29.083333333333332,349,29,1,73,136207.22797110828,null,1292.4421824113945,0,0,-159.4996173780828,137340.17053614158,null,349,29,1,29,3988298.8009521696,{"$f":"IF($G$17=\"si\",S360*(1+$G$20),S360)","v":6152.1074322985487},null,37902.517557017367,{"$f":"V371*(1+$G$18)","v":-488.31041944509673},null,-4676.9635340055665,4027188.1519880351,null,{"$f":"+Bono!J372","v":29357.919475183382},null,29.083333333333332,4193886.2419993598]
[29.166666666666668,350,29,2,73,137340.17053614158,null,1303.1924398177707,0,0,-160.82630105211283,138482.53667490723,null,350,29,2,29,4027188.1519880351,{"$f":"IF($G$4=\"mensual\",S372,0)","v":6152.1074322985487},null,38271.530556357007,-488.31041944509673,null,-4722.503236286404,4066400.9763209592,null,{"$f":"+Bono!J373","v":29539.941981237407},null,29.166666666666668,4234423.4549771035]
[29.25,351,29,3,73,138482.53667490723,null,1314.0321155639972,0,{"$f":"-SUM(F374:H374)*$J$21*1.16","v":-1459.4761781725197},-160.47102743026647,138176.62158486844,null,351,29,3,29,4066400.9763209592,{"$f":"IF($G$4=\"mensual\",S373,0)","v":6152.1074322985487},null,38643.612926832306,-488.31041944509673,null,-4768.4217280623479,4105939.9645325826,null,{"$f":"+Bono!J374","v":29455.317434897745},null,29.25,4273571.9035523487]
[29.333333333333332,352,29,4,73,138176.62158486844,null,1311.1293506190548,0,0,-161.80579108516545,139325.9451444023,null,352,29,4,29,4105939.9645325826,{"$f":"IF($G$4=\"mensual\",S372,IF($G$4=\"trimestral\",S372,0))","v":6152.1074322985487},null,39018.790198815317,-488.31041944509673,null,-4814.7221600233315,4145807.8295842283,null,{"$f":"+Bono!J375","v":29637.943819599459},null,29.333333333333332,4314771.7185482299]
[29.416666666666668,353,29,5,73,139325.9451444023,null,1322.0350438903095,0,0,-163.1516570184194,140484.82853127416,null,353,29,5,29,4145807.8295842283,{"$f":"IF($G$4=\"mensual\",S375,0)","v":6152.1074322985487},null,39397.088115034283,-488.31041944509673,null,-4861.4077090660548,4186007.3070030501,null,{"$f":"+Bono!J376","v":29821.702509069673},null,29.416666666666668,4356313.8380433945]
[29.5,354,29,6,73,140484.82853127416,null,1333.0314483836651,0,{"$f":"-SUM(F377:H377)*$J$21*1.16","v":-1480.5784581876278},-162.79124656490544,140174.49027490529,null,354,29,6,29,4186007.3070030501,{"$f":"IF($G$4=\"mensual\",S376,0)","v":6152.1074322985487},null,39778.532632339935,-488.31041944509673,null,-4908.4815785119617,4226541.1550697312,null,{"$f":"+Bono!J377","v":29736.27078928128},null,29.5,4396451.9161339179]
[29.583333333333332,355,29,7,73,140174.49027490529,null,1330.086712929301,0,0,-164.14530930588811,141340.43167852869,null,355,29,7,29,4226541.1550697312,{"$f":"+IF($G$4=\"mensual\",S372,IF($G$4=\"trimestral\",S372,IF($G$4=\"semestral\",S372,0)))","v":6152.1074322985487},null,40163.149923486519,-488.31041944509673,null,-4955.9469983270419,4267412.1550077442,null,{"$f":"+Bono!J378","v":29920.639117368744},null,29.583333333333332,4438673.2258036416]
[29.666666666666668,356,29,8,73,141340.43167852869,null,1341.1500894821409,0,0,-165.51063485089256,142516.07113315995,null,356,29,8,29,4267412.1550077442,{"$f":"IF($G$4=\"mensual\",S378,0)","v":6152.1074322985487},null,40550.966378927682,-488.31041944509673,null,-5003.8072253434484,4308623.1111741811,null,{"$f":"+Bono!J379","v":30106.150550475755},null,29.666666666666668,4481245.3328578165]
[29.75,357,29,9,73,142516.07113315995,null,1352.3054888328629,0,{"$f":"-SUM(F380:H380)*$J$21*1.16","v":-1501.9858519336051},-165.1450132932687,142201.24575676594,null,357,29,9,29,4308623.1111741811,{"$f":"IF($G$4=\"mensual\",S379,0)","v":6152.1074322985487},null,40942.008608627177,-488.31041944509673,null,-5052.0655434829669,4350176.8512521787,null,{"$f":"+Bono!J380","v":30019.90395818435},null,29.75,4522398.0009671291]
[29.833333333333332,358,29,10,73,142201.24575676594,null,1349.318176025708,0,0,-166.5186541620383,143384.04527862961,null,358,29,10,29,4350176.8512521787,{"$f":"IF($G$4=\"mensual\",S372,IF($G$4=\"trimestral\",S372,0))","v":6152.1074322985487},null,41336.303443884783,-488.31041944509673,null,-5100.7252639823437,4392076.2264449345,null,{"$f":"+Bono!J381","v":30206.030844818426},null,29.833333333333332,4565666.3025683826]
[29.916666666666668,359,29,11,73,143384.04527862961,null,1360.5415157717962,0,0,-167.90372068150563,144576.68307371991,null,359,29,11,29,4392076.2264449345,{"$f":"IF($G$17=\"si\",S370*(1+$G$20),S370)","v":6152.1074322985487},null,41733.877939177248,-488.31041944509673,null,-5149.7897256204797,4434324.1116713453,null,{"$f":"+Bono!J382","v":30393.311739739016},null,29.916666666666668,4609294.1064848043]
[30,360,29,12,73,144576.68307371991,null,1371.8582088553655,0,{"$f":"-SUM(F383:H383)*$J$21*1.16","v":-1523.7027709900858},-167.53281267343877,144257.30569891172,null,360,29,12,29,4434324.1116713453,{"$f":"IF($G$4=\"mensual\",S382,0)","v":6152.1074322985487},null,42134.759374014691,-488.31041944509673,null,-5199.2622949475281,4476923.4057632666,null,{"$f":"+Bono!J383","v":30306.242502454494},null,30,4651486.9539646329]
[30.083333333333332,361,30,1,74,144257.30569891172,null,1368.8277030778199,0,0,-168.92631474630784,145457.20708724321,null,361,30,1,30,4476923.4057632666,{"$f":"IF($G$17=\"si\",S372*(1+$G$20),S372)","v":6458.9142603687633},null,42541.886481274814,{"$f":"V383*(1+$G$18)","v":-512.66255772490763},null,-5249.4773909787345,4520162.0665562069,null,{"$f":"+Bono!J384","v":30494.144721276261},null,30.083333333333332,4696113.418364726]
[30.166666666666668,362,30,2,74,145457.20708724321,null,1380.2133188936164,0,0,-170.33140767111871,146667.08899846571,null,362,30,2,30,4520162.0665562069,{"$f":"IF($G$4=\"mensual\",S384,0)","v":6458.9142603687633},null,42952.169180307697,-512.66255772490763,null,-5300.1101654294234,4563760.3772737291,null,{"$f":"+Bono!J385","v":30683.211955650029},null,30.166666666666668,4741110.6782278446]
[30.25,363,30,3,74,146667.08899846571,null,1391.6936378245041,0,{"$f":"-SUM(F386:H386)*$J$21*1.16","v":-1545.7336907228701},-169.9551367768581,146343.09380879049,null,363,30,3,30,4563760.3772737291,{"$f":"IF($G$4=\"mensual\",S385,0)","v":6458.9142603687633},null,43365.864523003882,-512.66255772490763,null,-5351.1640924592766,4607721.3294069171,null,{"$f":"+Bono!J386","v":30595.312226746031},null,30.25,4784659.735442454]
[30.333333333333332,364,30,4,74,146343.09380879049,null,1388.6193145578752,0,0,-171.36878722308407,147560.34433612527,null,364,30,4,30,4607721.3294069171,{"$f":"IF($G$4=\"mensual\",S384,IF($G$4=\"trimestral\",S384,0))","v":6458.9142603687633},null,43783.00089500282,-512.66255772490763,null,-5402.6426751252939,4652047.9393294388,null,{"$f":"+Bono!J387","v":30785.006711388418},null,30.333333333333332,4830393.2903769519]
[30.416666666666668,365,30,5,74,147560.34433612527,null,1400.1695527612669,0,0,-172.79419611110836,148787.71969277543,null,365,30,5,30,4652047.9393294388,{"$f":"IF($G$4=\"mensual\",S387,0)","v":6458.9142603687633},null,44203.606918049663,-512.66255772490763,null,-5454.5494456221531,4696743.2485045101,null,{"$f":"+Bono!J388","v":30975.877323838784},null,30.416666666666668,4876506.8455211241]
[30.5,366,30,6,74,148787.71969277543,null,1411.8158633735302,0,{"$f":"-SUM(F389:H389)*$J$21*1.16","v":-1568.0831512061952},-172.41248478973358,148459.03992015304,null,366,30,6,30,4696743.2485045101,{"$f":"IF($G$4=\"mensual\",S388,0)","v":6458.9142603687633},null,44627.711451959083,{"$f":"V388","v":-512.66255772490763},null,-5506.887965524571,4741810.3236935884,null,{"$f":"+Bono!J389","v":30887.139181845552},null,30.5,4921156.5027955873]
[30.583333333333332,367,30,7,74,148459.03992015304,null,1408.6970890693306,0,0,-173.84657493069793,149693.89043429165,null,367,30,7,30,4741810.3236935884,{"$f":"+IF($G$4=\"mensual\",S384,IF($G$4=\"trimestral\",S384,IF($G$4=\"semestral\",S384,0)))","v":6458.9142603687633},null,45055.343596595529,-512.66255772490763,null,-5559.6618260316791,4787252.2571667964,null,{"$f":"+Bono!J390","v":31078.643027459388},null,30.583333333333332,4968024.7906285468]
[30.666666666666668,368,30,8,74,149693.89043429165,null,1420.4143299031552,0,0,-175.29259352646596,150939.01217066831,null,368,30,8,30,4787252.2571667964,{"$f":"IF($G$4=\"mensual\",S390,0)","v":6458.9142603687633},null,45486.5326938699,-512.66255772490763,null,-5612.8746482134393,4833072.1669150963,null,{"$f":"+Bono!J391","v":31271.334219129101},null,30.666666666666668,5015282.5133048939]
[30.75,369,30,9,74,150939.01217066831,null,1432.2290322379818,0,{"$f":"-SUM(F392:H392)*$J$21*1.16","v":-1590.7557581583419},-174.90536311590762,150605.58008163204,null,369,30,9,30,4833072.1669150963,{"$f":"IF($G$4=\"mensual\",S391,0)","v":6458.9142603687633},null,45921.308329752799,-512.66255772490763,null,-5666.530083259091,4879273.1968642343,null,{"$f":"+Bono!J392","v":31181.749667019605},null,30.75,5061060.5266128862]
[30.833333333333332,370,30,10,74,150605.58008163204,null,1429.0651641873712,0,0,-176.3601884851505,151858.28505733426,null,370,30,10,30,4879273.1968642343,{"$f":"IF($G$4=\"mensual\",S384,IF($G$4=\"trimestral\",S384,0))","v":6458.9142603687633},null,46359.700336304639,-512.66255772490763,null,-5720.6318127276918,4925858.5170904547,null,{"$f":"+Bono!J393","v":31375.080131814218},null,30.833333333333332,5109091.8822796028]
[30.916666666666668,371,30,11,74,151858.28505733426,null,1440.9518223099315,0,0,-177.82711478038723,153121.40976486381,null,371,30,11,30,4925858.5170904547,{"$f":"IF($G$17=\"si\",S382*(1+$G$20),S382)","v":6458.9142603687633},null,46801.738793722492,-512.66255772490763,null,-5775.1835488007118,4972831.3240380203,null,{"$f":"+Bono!J394","v":31569.609267915504},null,30.916666666666668,5157522.3430707995]
[31,372,30,12,74,153121.40976486381,null,1452.9373511102351,0,{"$f":"-SUM(F395:H395)*$J$21*1.16","v":-1613.7561838907693},-177.43428548121659,152783.15664660206,null,372,30,12,30,4972831.3240380203,{"$f":"IF($G$4=\"mensual\",S394,0)","v":6458.9142603687633},null,47247.454032404086,-512.66255772490763,null,-5830.1890345367601,5020194.8407385321,null,{"$f":"+Bono!J395","v":31479.170232384746},null,31,5204457.1676175185]
[31.083333333333332,373,31,1,75,152783.15664660206,null,1449.7277373115724,0,0,-178.91014588533977,154053.97423802828,null,373,31,1,31,5020194.8407385321,{"$f":"IF($G$17=\"si\",S384*(1+$G$20),S384)","v":6781.0216063162052},null,47699.933044937308,{"$f":"V395*(1+$G$18)","v":-538.22914201116032},null,-5885.9995768474173,5068251.5666709272,null,{"$f":"+Bono!J396","v":31674.344739183274},null,31.083333333333332,5253979.8856481388]
[31.166666666666668,374,31,2,75,154053.97423802828,null,1461.7862622942414,0,0,-180.39828218037411,155335.36221814217,null,374,31,2,31,5068251.5666709272,{"$f":"IF($G$4=\"mensual\",S396,0)","v":6781.0216063162052},null,48155.933366423815,-538.22914201116032,null,-5942.27433930192,5116708.0181623539,null,{"$f":"+Bono!J397","v":31870.729350562797},null,31.166666666666668,5303914.1097310595]
[31.25,375,31,3,75,155335.36221814217,null,1473.9450875064056,0,{"$f":"-SUM(F398:H398)*$J$21*1.16","v":-1637.0891682709712},-179.99977303935805,154992.21836433825,null,375,31,3,31,5116708.0181623539,{"$f":"IF($G$4=\"mensual\",S397,0)","v":6781.0216063162052},null,48615.726600970629,-538.22914201116032,null,-5999.0171831840498,5165567.520044446,null,{"$f":"+Bono!J398","v":31779.427681300258},null,31.25,5352339.1660900842]
[31.333333333333332,376,31,4,75,154992.21836433825,null,1470.6890665308854,0,0,-181.49697261980816,156281.4104582493,null,376,31,4,31,5165567.520044446,{"$f":"IF($G$4=\"mensual\",S396,IF($G$4=\"trimestral\",S396,0))","v":6781.0216063162052},null,49079.344297216667,-538.22914201116032,null,-6056.2320018949213,5214833.4248040719,null,{"$f":"+Bono!J399","v":31976.463819109773},null,31.333333333333332,5403091.2990814308]
[31.416666666666668,377,31,5,75,156281.4104582493,null,1482.9219433629089,0,0,-183.00662558587015,157581.32577602635,null,377,31,5,31,5214833.4248040719,{"$f":"IF($G$4=\"mensual\",S399,0)","v":6781.0216063162052},null,49546.818266215647,-538.22914201116032,null,-6113.9227212201267,5264509.1128133722,null,{"$f":"+Bono!J400","v":32174.721603828486},null,31.416666666666668,5454265.1601932272]
[31.5,378,31,6,75,157581.32577602635,null,1495.2565706457881,0,{"$f":"-SUM(F401:H401)*$J$21*1.16","v":-1660.7595196992572},-182.60235447928852,157233.22047249359,null,378,31,6,31,5264509.1128133722,{"$f":"IF($G$4=\"mensual\",S400,0)","v":6781.0216063162052},null,50018.180583618851,-538.22914201116032,null,-6172.0932995991025,5314597.9925616961,null,{"$f":"+Bono!J401","v":32082.549072783626},null,31.5,5503913.7621069727]
[31.583333333333332,379,31,7,75,157233.22047249359,null,1491.9534715011355,0,0,-184.12120177503385,158541.05274221968,null,379,31,7,31,5314597.9925616961,{"$f":"+IF($G$4=\"mensual\",S396,IF($G$4=\"trimestral\",S396,IF($G$4=\"semestral\",S396,0)))","v":6781.0216063162052},null,50493.463591875923,-538.22914201116032,null,-6230.7477283967364,5365103.5008894792,null,{"$f":"+Bono!J402","v":32281.464598380244},null,31.583333333333332,5555926.0182300787]
[31.666666666666668,380,31,8,75,158541.05274221968,null,1504.3632211017321,0,0,-185.6526825174528,159859.76328080395,null,380,31,8,31,5365103.5008894792,{"$f":"IF($G$4=\"mensual\",S402,0)","v":6781.0216063162052},null,50972.699902454122,-538.22914201116032,null,-6289.8900321772362,5416029.1032240614,null,{"$f":"+Bono!J403","v":32481.613423308336},null,31.666666666666668,5608370.4799281741]
[31.75,381,31,9,75,159859.76328080395,null,1516.8761923430106,0,{"$f":"-SUM(F404:H404)*$J$21*1.16","v":-1684.7721160996543},-185.24256613417487,159506.62479091313,null,381,31,9,31,5416029.1032240614,{"$f":"IF($G$4=\"mensual\",S403,0)","v":6781.0216063162052},null,51455.922398075891,-538.22914201116032,null,-6349.5242689802717,5467378.2938174615,null,{"$f":"+Bono!J404","v":32388.561723949086},null,31.75,5659273.4803323243]
[31.833333333333332,382,31,10,75,159506.62479091313,null,1513.5253343352053,0,0,-186.78337414528806,160833.36675110305,null,382,31,10,31,5467378.2938174615,{"$f":"IF($G$4=\"mensual\",S396,IF($G$4=\"trimestral\",S396,0))","v":6781.0216063162052},null,51943.164234975098,-538.22914201116032,null,-6409.6545305994196,5519154.5959861418,null,{"$f":"+Bono!J405","v":32589.374563478199},null,31.833333333333332,5712577.3373007225]
[31.916666666666668,383,31,11,75,160833.36675110305,null,1526.1145140730703,0,0,-188.33699826760429,162171.14426690852,null,383,31,11,31,5519154.5959861418,{"$f":"IF($G$17=\"si\",S394*(1+$G$20),S394)","v":6781.0216063162052},null,52434.458845172114,-538.22914201116032,null,-6470.2849428629179,5571361.562352756,null,{"$f":"+Bono!J406","v":32791.432465905244},null,31.916666666666668,5766324.1390855704]
[32,384,31,12,75,162171.14426690852,null,1538.8084079130895,0,{"$f":"-SUM(F407:H407)*$J$21*1.16","v":-1709.1319059251377},-187.92095209191987,161812.89981680454,null,384,31,12,31,5571361.562352756,{"$f":"IF($G$4=\"mensual\",S406,0)","v":6781.0216063162052},null,52929.839938767655,-538.22914201116032,null,-6531.4196659167601,5624002.7750899112,null,{"$f":"+Bono!J407","v":32697.493212469424},null,32,5818513.1681191856]
[32.083333333333336,385,32,1,76,161812.89981680454,null,{"$f":"SUM(F408:G408)*$G$8","v":1535.4091005060891},0,0,-189.48403834408032,{"$f":"SUM(F408:K408)","v":163158.82487896652},null,385,32,1,32,5624002.7750899112,{"$f":"IF($G$17=\"si\",S396*(1+$G$20),S396)","v":7119.1925100275157},null,53432.550339937676,{"$f":"V407*(1+$G$18)","v":-565.07073696908526},null,-6593.4277587553734,{"$f":"SUM(R408:X408)","v":5677396.0194441527},null,{"$f":"+Bono!J408","v":32900.2214630612},null,{"$f":"+B408/12","v":32.083333333333336},{"$f":"+AA408+Y408+L408","v":5873455.0657861801}]
[{"$f":"+B409/12","v":32.166666666666664},{"$f":"+B408+1","v":386},32,2,76,{"$f":"L408","v":163158.82487896652},null,1548.18030472641,0,0,{"$f":"-SUM(F409:J409)*0.1%*1.16","v":-191.06012601308379},164515.94505767984,null,{"$f":"+N408+1","v":386},32,2,32,{"$f":"Y408","v":5677396.0194441527},{"$f":"IF($G$4=\"mensual\",S408,0)","v":7119.1925100275157},null,53939.187779720669,-565.07073696908526,null,-6655.9516216364409,5731233.3773752954,null,{"$f":"+Bono!J409","v":33104.206652321664},null,32.166666666666664,5928853.5290852971]
[32.25,387,32,3,76,164515.94505767984,null,1561.0577370895651,0,{"$f":"-SUM(F410:H410)*$J$21*1.16","v":-1733.8439091773928},-190.6380643072867,164152.52082128474,null,387,32,3,32,5731233.3773752954,{"$f":"IF($G$4=\"mensual\",S409,0)","v":7119.1925100275157},null,54450.039321274315,-565.07073696908526,null,-6718.9955446247686,5785518.5429250039,null,{"$f":"+Bono!J410","v":33009.37137906126},null,32.25,5982680.43512535]
[32.333333333333336,388,32,4,76,164152.52082128474,null,1557.6092797630029,0,0,-192.22375091721537,165517.90635013054,null,388,32,4,32,5785518.5429250039,{"$f":"IF($G$4=\"mensual\",S408,IF($G$4=\"trimestral\",S408,0))","v":7119.1925100275157},null,54965.140016595062,-565.07073696908526,null,-6782.5638534690024,5840255.2408611886,null,{"$f":"+Bono!J411","v":33214.033310461535},null,32.333333333333336,6038987.1805217806]
[32.416666666666664,389,32,5,76,165517.90635013054,null,1570.5651403220968,0,0,-193.82262692892505,166894.6488635237,null,389,32,5,32,5840255.2408611886,{"$f":"IF($G$4=\"mensual\",S411,0)","v":7119.1925100275157},null,55484.525209234336,-565.07073696908526,null,-6846.6609098984381,5895447.2269335827,null,{"$f":"+Bono!J412","v":33419.964169575804},null,32.416666666666664,6095761.8399666818]
[32.5,390,32,6,76,166894.6488635237,null,1583.628764955922,0,{"$f":"-SUM(F413:H413)*$J$21*1.16","v":-1758.9132184413272},-193.39446271564438,166525.96994732265,null,390,32,6,32,5895447.2269335827,{"$f":"IF($G$4=\"mensual\",S412,0)","v":7119.1925100275157},null,56008.230536723677,-565.07073696908526,null,-6911.2911119223027,5951098.2881314429,null,{"$f":"+Bono!J413","v":33324.224329994046},null,32.5,6150948.4824087592]
[32.583333333333336,391,32,7,76,166525.96994732265,null,1580.1304470607438,0,0,-195.00307645748472,167911.09731792592,null,391,32,7,32,5951098.2881314429,{"$f":"+IF($G$4=\"mensual\",S408,IF($G$4=\"trimestral\",S408,IF($G$4=\"semestral\",S408,0)))","v":7119.1925100275157},null,56536.29193301998,-565.07073696908526,null,-6976.4588941315242,6007212.2429433893,null,{"$f":"+Bono!J414","v":33530.83838621078},null,32.583333333333336,6208654.1786475256]
[32.666666666666664,392,32,8,76,167911.09731792592,null,1593.2736338684217,0,0,-196.62507030408145,169307.74588149026,null,392,32,8,32,6007212.2429433893,{"$f":"IF($G$4=\"mensual\",S414,0)","v":7119.1925100275157},null,57068.745630971091,-565.07073696908526,null,-7042.1687280030055,6063792.9416194158,null,{"$f":"+Bono!J415","v":33738.733473541812},null,32.666666666666664,6266839.4209744483]
[32.75,393,32,9,76,169307.74588149026,null,1606.5261428904666,0,{"$f":"-SUM(F416:H416)*$J$21*1.16","v":-1784.3449999345351},-196.19071534835757,168933.73630909785,null,393,32,9,32,6063792.9416194158,{"$f":"IF($G$4=\"mensual\",S415,0)","v":7119.1925100275157},null,57605.628164801943,-565.07073696908526,null,-7108.4251222064395,6120844.26643507,null,{"$f":"+Bono!J416","v":33642.080439622965},null,32.75,6323420.0831837906]
[32.833333333333336,394,32,10,76,168933.73630909785,null,1602.9772435024829,0,0,-197.82258772101636,170338.89096487931,null,394,32,10,32,6120844.26643507,{"$f":"IF($G$4=\"mensual\",S408,IF($G$4=\"trimestral\",S408,0))","v":7119.1925100275157},null,58146.97637262132,-565.07073696908526,null,-7175.2326229136688,6178370.1319578355,null,{"$f":"+Bono!J417","v":33850.665240588423},null,32.833333333333336,6382559.6881633038]
[32.916666666666664,395,32,11,76,170338.89096487931,null,1616.3104650722585,0,0,-199.46803365874379,171755.73339629281,null,395,32,11,32,6178370.1319578355,{"$f":"IF($G$17=\"si\",S406*(1+$G$20),S406)","v":7119.1925100275157},null,58692.827398949514,-565.07073696908526,null,-7242.5958141106175,6236374.4853157327,null,{"$f":"+Bono!J418","v":34060.543291514216},null,32.916666666666664,6442190.7620035391]
[33,396,32,12,76,171755.73339629281,null,1629.7545895248725,0,{"$f":"-SUM(F419:H419)*$J$21*1.16","v":-1810.1444945719368},-199.02739844984509,171376.31609279593,null,396,32,12,32,6236374.4853157327,{"$f":"IF($G$4=\"mensual\",S418,0)","v":7119.1925100275157},null,59243.218697266988,-565.07073696908526,null,-7310.5193179118269,6294861.3064681459,null,{"$f":"+Bono!J419","v":33962.968352946038},null,33,6500200.5909138881]
[33.083333333333336,397,{"$f":"C408+1","v":33},{"$f":"D408","v":1},{"$f":"E408+1","v":77},171376.31609279593,null,1626.1543772961927,0,0,-200.68286574530683,172801.78760434681,null,397,{"$f":"O408+1","v":33},{"$f":"P408","v":1},{"$f":"Q408+1","v":33},6294861.3064681459,{"$f":"IF($G$17=\"si\",S408*(1+$G$20),S408)","v":7474.2280643410895},null,{"$f":"SUM(R420:T420)*$G$8","v":59801.556891443528},{"$f":"V419*(1+$G$18)","v":-593.25092763588088},null,-7379.3908549757016,6354164.449641319,null,{"$f":"+Bono!J420","v":34173.542696194796},null,33.083333333333336,6561139.7799418606]
[33.166666666666664,398,33,2,77,172801.78760434681,null,1639.6803813034462,0,0,-202.3521028633543,174239.11588278692,null,398,33,2,33,6354164.449641319,{"$f":"IF($G$4=\"mensual\",S420,0)","v":7474.2280643410895},null,60364.272137383698,-593.25092763588088,null,-7448.8352507418731,6413960.8636646671,null,{"$f":"+Bono!J421","v":34385.422624796811},null,33.166666666666664,6622585.4021722507]
[33.25,399,33,3,77,174239.11588278692,null,1653.3188917165851,0,{"$f":"-SUM(F422:H422)*$J$21*1.16","v":-1836.317019045817},-201.90509659633094,173854.21265886136,null,399,33,3,33,6413960.8636646671,{"$f":"IF($G$4=\"mensual\",S421,0)","v":7474.2280643410895},null,60931.667928281851,-593.25092763588088,null,-7518.8572701263993,6474254.6514595291,null,{"$f":"+Bono!J422","v":34286.916988185571},null,33.25,6682395.7811065763]
[33.333333333333336,400,33,4,77,173854.21265886136,null,1649.666624724902,0,0,-203.58449996896005,175300.29478361728,null,400,33,4,33,6474254.6514595291,{"$f":"IF($G$4=\"mensual\",S420,IF($G$4=\"trimestral\",S420,0))","v":7474.2280643410895},null,61503.783195908982,-593.25092763588088,null,-7589.461717678887,6535049.950074465,null,{"$f":"+Bono!J423","v":34499.499850548535},null,33.333333333333336,6744849.7447086312]
[33.416666666666664,401,33,5,77,175300.29478361728,null,1663.3881985731127,0,0,-205.27787225934085,176758.40510993105,null,401,33,5,33,6535049.950074465,{"$f":"IF($G$4=\"mensual\",S423,0)","v":7474.2280643410895},null,62080.657195862252,-593.25092763588088,null,-7660.6534379121576,6596350.9309691209,null,{"$f":"+Bono!J424","v":34713.400751316229},null,33.416666666666664,6807822.7368303677]
[33.5,402,33,6,77,176758.40510993105,null,1677.2239055352813,0,{"$f":"-SUM(F425:H425)*$J$21*1.16","v":-1862.8679669214682},-204.82440281631199,176367.93664572854,null,402,33,6,33,6596350.9309691209,{"$f":"IF($G$4=\"mensual\",S424,0)","v":7474.2280643410895},null,62662.329510258474,-593.25092763588088,null,-7732.4373156346592,6658161.800300451,null,{"$f":"+Bono!J425","v":34613.95553939425},null,33.5,6869143.6924855737]
[33.583333333333336,403,33,7,77,176367.93664572854,null,1673.5188311309792,0,0,-206.52808835315705,177834.92738850636,null,403,33,7,33,6658161.800300451,{"$f":"+IF($G$4=\"mensual\",S420,IF($G$4=\"trimestral\",S420,IF($G$4=\"semestral\",S420,0)))","v":7474.2280643410895},null,63248.840050450039,-593.25092763588088,null,-7804.8182762856231,6720486.7992113214,null,{"$f":"+Bono!J426","v":34828.566078708827},null,33.583333333333336,6933150.2926785359]
[33.666666666666664,404,33,8,77,177834.92738850636,null,1687.438802526148,0,0,-208.2459447815977,179314.12024625091,null,404,33,8,33,6720486.7992113214,{"$f":"IF($G$4=\"mensual\",S426,0)","v":7474.2280643410895},null,63840.229059763398,-593.25092763588088,null,{"$f":"-SUM(R427:V427)*0.1%*1.16","v":-7877.8012862730366},6783330.2041215179,null,{"$f":"+Bono!J427","v":35044.507228260438},null,33.666666666666664,6997688.8315960299]
[33.75,405,33,9,77,179314.12024625091,null,1701.4745572636002,0,{"$f":"-SUM(F428:H428)*$J$21*1.16","v":-1889.8028097486915},-207.78591871276834,178918.00607505307,null,405,33,9,33,6783330.2041215179,{"$f":"IF($G$4=\"mensual\",S427,0)","v":7474.2280643410895},null,64436.537116260413,-593.25092763588088,null,-7951.3913533144014,6846696.3270211695,null,{"$f":"+Bono!J428","v":34944.113479086111},null,33.75,7060558.4465753091]
[33.833333333333336,406,33,10,77,178918.00607505307,null,1697.71591191465,0,0,-209.51423750488254,180406.20774946283,null,406,33,10,33,6846696.3270211695,{"$f":"IF($G$4=\"mensual\",S420,IF($G$4=\"trimestral\",S420,0))","v":7474.2280643410895},null,65037.805135522547,-593.25092763588088,null,-8025.5935267803416,6910589.5157666178,null,{"$f":"+Bono!J429","v":35160.771035922728},null,33.833333333333336,7126156.4945520032]
[33.916666666666664,407,33,11,77,180406.20774946283,null,1711.8371494480241,0,0,-211.25693208273657,181906.78796682812,null,407,33,11,33,6910589.5157666178,{"$f":"IF($G$17=\"si\",S418*(1+$G$20),S418)","v":7474.2280643410895},null,65644.074373458338,-593.25092763588088,null,-8100.4128980410669,6975014.154378741,null,{"$f":"+Bono!J430","v":35378.771894742458},null,33.916666666666664,7192299.7142403116]
[34,408,33,12,77,181906.78796682812,null,1726.0758444123348,0,{"$f":"-SUM(F431:H431)*$J$21*1.16","v":-1917.1270981893506},-210.79025458713932,181504.94645846399,null,408,33,12,33,6975014.154378741,{"$f":"IF($G$4=\"mensual\",S430,0)","v":7474.2280643410895},null,66255.386429134116,-593.25092763588088,null,-8175.8546008157136,7039974.6633437648,null,{"$f":"+Bono!J431","v":35277.420560892562},null,34,7256757.0303631211]
[34.083333333333336,409,34,1,78,181504.94645846399,null,1722.2628535469471,0,0,-212.54356280193267,183014.665749209,null,409,34,1,34,7039974.6633437648,{"$f":"IF($G$17=\"si\",S420*(1+$G$20),S420)","v":7846.9693127553919},null,66875.320112152738,{"$f":"V431*(1+$G$18)","v":-622.83647004726777},null,-8252.3259749064055,7105821.7903237194,null,{"$f":"+Bono!J432","v":35496.144660297607},null,34.083333333333336,7324332.6007332262]
[34.166666666666664,410,34,2,78,183014.665749209,null,1736.5882672861721,0,0,-214.3114546591344,184536.94256183604,null,410,34,2,34,7105821.7903237194,{"$f":"IF($G$4=\"mensual\",S432,0)","v":7846.9693127553919},null,67500.12986540272,-622.83647004726777,null,-8329.433421516922,7172216.6196103133,null,{"$f":"+Bono!J433","v":35716.224874489395},null,34.166666666666664,7392469.7870466383]
[34.25,411,34,3,78,184536.94256183604,null,1751.0328367503071,0,{"$f":"-SUM(F434:H434)*$J$21*1.16","v":-1944.8464631612414},-213.83802956509311,184129.29090586002,null,411,34,3,34,7172216.6196103133,{"$f":"IF($G$4=\"mensual\",S433,0)","v":7846.9693127553919},null,68130.136652430199,-622.83647004726777,null,-8407.1822313623252,7239163.7068740902,null,{"$f":"+Bono!J434","v":35613.906822243764},null,34.25,7458906.9046021942]
[34.333333333333336,412,34,4,78,184129.29090586002,null,1747.1647145973109,0,0,-215.6166885197305,185660.83893193761,null,412,34,4,34,7239163.7068740902,{"$f":"IF($G$4=\"mensual\",S432,IF($G$4=\"trimestral\",S432,0))","v":7846.9693127553919},null,68765.383701049635,-622.83647004726777,null,-8485.5777391647043,7306667.6456786832,null,{"$f":"+Bono!J435","v":35834.71717549918},null,34.333333333333336,7528163.2017861204]
[34.416666666666664,413,34,5,78,185660.83893193761,null,1761.6972566861305,0,0,-217.41014197880355,187205.12604664496,null,413,34,5,34,7306667.6456786832,{"$f":"IF($G$4=\"mensual\",S435,0)","v":7846.9693127553919},null,69405.914598635194,-622.83647004726777,null,-8564.6253240192309,7374733.0677960077,null,{"$f":"+Bono!J436","v":36056.896578557193},null,34.416666666666664,7597995.0904212091]
[34.5,414,34,6,78,187205.12604664496,null,1776.3506773491331,0,{"$f":"-SUM(F437:H437)*$J$21*1.16","v":-1972.9666169984985},-216.92987172411492,186791.58023527151,null,414,34,6,34,7374733.0677960077,{"$f":"IF($G$4=\"mensual\",S436,0)","v":7846.9693127553919},null,70051.773295111474,-622.83647004726777,null,-8644.330409763239,7443364.6435240638,null,{"$f":"+Bono!J437","v":35953.602587075606},null,34.5,7666109.8263464114]
[34.583333333333336,415,34,7,78,186791.58023527151,null,1772.4266267760463,0,0,-218.73424795997516,188345.27261408759,null,415,34,7,34,7443364.6435240638,{"$f":"+IF($G$4=\"mensual\",S432,IF($G$4=\"trimestral\",S432,IF($G$4=\"semestral\",S432,0)))","v":7846.9693127553919},null,70703.004105969158,-622.83647004726777,null,-8724.6984653483796,7512567.0820073932,null,{"$f":"+Bono!J438","v":36176.519093475254},null,34.583333333333336,7737088.8737149565]
[34.666666666666664,416,34,8,78,188345.27261408759,null,1787.1692920426719,0,0,-220.55363261111108,189911.88827351914,null,416,34,8,34,7512567.0820073932,{"$f":"IF($G$4=\"mensual\",S438,0)","v":7846.9693127553919},null,71359.651715305692,-622.83647004726777,null,-8805.7350052158727,7582345.1315601915,null,{"$f":"+Bono!J439","v":36400.817708071285},null,34.666666666666664,7808657.8375417823]
[34.75,417,34,9,78,189911.88827351914,null,1802.0345836430931,0,{"$f":"-SUM(F440:H440)*$J$21*1.16","v":-2001.4933546287737},-220.06641822293881,189492.36308431052,null,417,34,9,34,7582345.1315601915,{"$f":"IF($G$4=\"mensual\",S439,0)","v":7846.9693127553919},null,72021.761178891262,-622.83647004726777,null,-8887.4455896748768,7652703.5799921164,null,{"$f":"+Bono!J440","v":36296.538468562459},null,34.75,7878492.4815449892]
[34.833333333333336,418,34,10,78,189492.36308431052,null,1798.0537959918508,0,0,-221.89688358115072,191068.51999672121,null,418,34,10,34,7652703.5799921164,{"$f":"IF($G$4=\"mensual\",S432,IF($G$4=\"trimestral\",S432,0))","v":7846.9693127553919},null,72689.377927260342,-622.83647004726777,null,-8969.8358252840189,7723647.2549368013,null,{"$f":"+Bono!J441","v":36521.581217205421},null,34.833333333333336,7951237.3561507277]
[34.916666666666664,419,34,11,78,191068.51999672121,null,1813.0096225661275,0,0,-223.74257435837333,192657.78704492899,null,419,34,11,34,7723647.2549368013,{"$f":"IF($G$17=\"si\",S430*(1+$G$20),S430)","v":7846.9693127553919},null,73362.547768828823,-622.83647004726777,null,-9052.911365236072,7795181.024183102,null,{"$f":"+Bono!J442","v":36748.019256993313},null,34.916666666666664,8024586.8304850245]
[35,420,34,12,78,192657.78704492899,null,1828.0898485043272,0,{"$f":"-SUM(F443:H443)*$J$21*1.16","v":-2030.4325547674439},-223.24831543285239,192232.196023233,null,420,34,12,34,7795181.024183102,{"$f":"IF($G$4=\"mensual\",S442,0)","v":7846.9693127553919},null,74041.316893037205,-622.83647004726777,null,-9136.6779097458621,7867309.7960091019,null,{"$f":"+Bono!J443","v":36642.745371876023},null,35,8096184.7374042114]
[35.083333333333336,421,35,1,79,192232.196023233,null,1824.0515034246364,0,0,-225.10524713092286,193831.14227952674,null,421,35,1,35,7867309.7960091019,{"$f":"IF($G$17=\"si\",S432*(1+$G$20),S432)","v":8238.2992417763653},null,74729.445122185498,{"$f":"V443*(1+$G$18)","v":-653.89744937581895},null,-9221.5634257914771,7940402.0794978961,null,{"$f":"+Bono!J444","v":36869.934643477041},null,35.083333333333336,8171103.1564209005]
[35.166666666666664,422,35,2,79,193831.14227952674,null,1839.2235733641344,0,0,-226.97762438935339,195443.38822850154,null,422,35,2,35,7940402.0794978961,{"$f":"IF($G$4=\"mensual\",S444,0)","v":8238.2992417763653},null,75423.002665326509,-653.89744937581895,null,-9307.1550013885226,8014102.3289542347,null,{"$f":"+Bono!J445","v":37098.532514914317},null,35.166666666666664,8246644.2496976499]
[35.25,423,35,3,79,195443.38822850154,null,1854.5218413335767,0,{"$f":"-SUM(F446:H446)*$J$21*1.16","v":-2059.7901811290785},-226.47621907089899,195011.64366963514,null,423,35,3,35,8014102.3289542347,{"$f":"IF($G$4=\"mensual\",S445,0)","v":8238.2992417763653},null,76122.329071644825,-653.89744937581895,null,-9393.4585093892038,8088415.6013088906,null,{"$f":"+Bono!J446","v":36992.254496970483},null,35.25,8320419.4994754959]
[35.333333333333336,424,35,4,79,195011.64366963514,null,1850.4251066138604,0,0,-228.35999978044882,196633.70877646856,null,424,35,4,35,8088415.6013088906,{"$f":"IF($G$4=\"mensual\",S444,IF($G$4=\"trimestral\",S444,0))","v":8238.2992417763653},null,76827.472325309427,-653.89744937581895,null,-9480.4798714948556,8163346.9955551056,null,{"$f":"+Bono!J447","v":37221.610765687641},null,35.333333333333336,8397202.3150972612]
[35.416666666666664,425,35,5,79,196633.70877646856,null,1865.816546539015,0,0,-230.25944937468878,198269.26587363289,null,425,35,5,35,8163346.9955551056,{"$f":"IF($G$4=\"mensual\",S447,0)","v":8238.2992417763653},null,77538.48080961137,-653.89744937581895,null,-9568.2250586622558,8238901.6530984547,null,{"$f":"+Bono!J448","v":37452.389069874524},null,35.416666666666664,8474623.3080419619]
[35.5,426,35,6,79,198269.26587363289,null,1881.3360091666952,0,{"$f":"-SUM(F449:H449)*$J$21*1.16","v":-2089.5722836564278},-229.75079433500605,197831.27880480816,null,426,35,6,35,8238901.6530984547,{"$f":"IF($G$4=\"mensual\",S448,0)","v":8238.2992417763653},null,78255.403310283538,-653.89744937581895,null,-9656.7000915133212,8315084.7581096254,null,{"$f":"+Bono!J449","v":37345.097341394227},null,35.5,8550261.1342558283]
[35.583333333333336,427,35,7,79,197831.27880480816,null,1877.1800405625922,0,0,-231.66181226063006,199476.79703311011,null,427,35,7,35,8315084.7581096254,{"$f":"+IF($G$4=\"mensual\",S444,IF($G$4=\"trimestral\",S444,IF($G$4=\"semestral\",S444,0)))","v":8238.2992417763653},null,78978.28901884814,-653.89744937581895,null,-9745.9110407482131,8391901.5378801264,null,{"$f":"+Bono!J450","v":37576.641276674047},null,35.583333333333336,8628954.9761899114]
[35.666666666666664,428,35,8,79,199476.79703311011,null,1892.7940223010314,0,0,-233.58872562427692,201136.00232978686,null,428,35,8,35,8391901.5378801264,{"$f":"IF($G$4=\"mensual\",S450,0)","v":8238.2992417763653},null,79707.187535991878,-653.89744937581895,null,-9835.86402756188,8469357.2631809562,null,{"$f":"+Bono!J451","v":37809.620811210036},null,35.666666666666664,8708302.8863219544]
[35.75,429,35,9,79,201136.00232978686,null,1908.5378777971605,0,{"$f":"-SUM(F452:H452)*$J$21*1.16","v":-2119.7849997671769},-233.07271604106754,200691.68249177578,null,429,35,9,35,8469357.2631809562,{"$f":"IF($G$4=\"mensual\",S451,0)","v":8238.2992417763653},null,80442.148874969396,-653.89744937581895,null,-9926.5652240640575,8547457.2486242615,null,{"$f":"+Bono!J452","v":37701.30570312839},null,35.75,8785850.2368191648]
[35.833333333333336,430,35,10,79,200691.68249177578,null,1904.3218188575458,0,0,-235.01136500033465,202360.99294563298,null,430,35,10,35,8547457.2486242615,{"$f":"IF($G$4=\"mensual\",S444,IF($G$4=\"trimestral\",S444,0))","v":8238.2992417763653},null,81183.223465034869,{"$f":"V452","v":-653.89744937581895},null,-10018.020853702767,8626206.8530279938,null,{"$f":"+Bono!J453","v":37935.058171568577},null,35.833333333333336,8866502.9041451961]
[35.916666666666664,431,35,11,79,202360.99294563298,null,1920.1615600977318,0,0,-236.96613922664764,204044.18836650407,null,431,35,11,35,8626206.8530279938,{"$f":"IF($G$17=\"si\",S442*(1+$G$20),S442)","v":8238.2992417763653},null,81930.462154902212,{"$f":"V453","v":-653.89744937581895},null,-10110.237191691343,8705611.4797836039,null,{"$f":"+Bono!J454","v":38170.259932426699},null,35.916666666666664,8947825.928082535]
[36,432,35,12,79,204044.18836650407,null,1936.1330529148158,0,{"$f":"-SUM(F455:H455)*$J$21*1.16","v":-2150.4345556187332},-236.44266876200814,203593.44419503814,null,432,35,12,35,8705611.4797836039,{"$f":"IF($G$4=\"mensual\",S454,0)","v":8238.2992417763653},null,82683.916216234051,{"$f":"V454","v":-653.89744937581895},null,-10203.220565438995,8785676.577226799,null,{"$f":"+Bono!J455","v":38060.911683452476},null,36,9027330.9331052899]
[36.083333333333336,433,36,1,80,203593.44419503814,null,1931.8560348053056,0,0,-238.40934826661839,205286.89088157684,null,433,36,1,36,8785676.577226799,{"$f":"IF($G$17=\"si\",S444*(1+$G$20),S444)","v":8649.1448726236013},null,83447.53577627895,{"$f":"V455*(1+$G$18)","v":-686.50744595568085},null,-10297.420630498507,8866789.3297992498,null,{"$f":"+Bono!J456","v":38296.893750682386},null,36.083333333333336,9110373.1144315097]
[36.166666666666664,434,36,2,80,205286.89088157684,null,1947.9247997596269,0,0,-240.39238619035029,206994.42329514612,null,434,36,2,36,8866789.3297992498,{"$f":"IF($G$4=\"mensual\",S456,0)","v":8649.1448726236013},null,84217.197889793009,{"$f":"V456","v":-686.50744595568085},null,-10392.404231534225,8948576.7608841788,null,{"$f":"+Bono!J457","v":38534.338934101339},null,36.166666666666664,9194105.5231134258]
[36.25,435,36,3,80,206994.42329514612,null,1964.1272212610747,0,{"$f":"-SUM(F458:H458)*$J$21*1.16","v":-2181.5272673912909},-239.86134696885841,206537.16190204702,null,435,36,3,36,8948576.7608841788,{"$f":"IF($G$4=\"mensual\",S457,0)","v":8649.1448726236013},null,84993.26188800938,-686.50744595568085,null,-10488.177885830673,9031044.4823130257,null,{"$f":"+Bono!J458","v":38423.947689837274},null,36.25,9276005.5919049103]
[36.333333333333336,436,36,4,80,206537.16190204702,null,1959.7883625849784,0,0,-241.8564623069731,208255.09380232502,null,436,36,4,36,9031044.4823130257,{"$f":"IF($G$4=\"mensual\",S456,IF($G$4=\"trimestral\",S456,0))","v":8649.1448726236013},null,85775.781020434588,-686.50744595568085,null,-10584.748164881748,9114198.1525952481,null,{"$f":"+Bono!J459","v":38662.18062241633},null,36.333333333333336,9361115.4270199891]
[36.416666666666664,437,36,5,80,208255.09380232502,null,1976.0894626624311,0,0,-243.86817258738543,209987.31509240007,null,437,36,5,36,9114198.1525952481,{"$f":"IF($G$4=\"mensual\",S459,0)","v":8649.1448726236013},null,86564.808979493188,-686.50744595568085,null,-10682.121694841633,9198043.4773065671,null,{"$f":"+Bono!J460","v":38901.890626810695},null,36.416666666666664,9446932.6830257773]
[36.5,438,36,6,80,209987.31509240007,null,1992.5261518008294,0,{"$f":"-SUM(F461:H461)*$J$21*1.16","v":-2213.0695425894573},-243.32945517386926,209523.44224643757,null,438,36,6,36,9198043.4773065671,{"$f":"IF($G$4=\"mensual\",S460,0)","v":8649.1448726236013},null,87360.399904211765,-686.50744595568085,null,-10780.305156979439,9282586.2094804682,null,{"$f":"+Bono!J461","v":38790.446438865438},null,36.5,9530900.098165771]
[36.583333333333336,439,36,7,80,209523.44224643757,null,1988.1245584175156,0,0,-245.35341749363187,211266.21338736144,null,439,36,7,36,9282586.2094804682,{"$f":"+IF($G$4=\"mensual\",S456,IF($G$4=\"trimestral\",S456,IF($G$4=\"semestral\",S456,0)))","v":8649.1448726236013},null,88162.608383933824,-686.50744595568085,null,-10879.305288137641,9367832.1500029322,null,{"$f":"+Bono!J462","v":39030.951706199696},null,36.583333333333336,9618129.3150964919]
[36.666666666666664,440,36,8,80,211266.21338736144,null,2004.6613529061092,0,0,-247.39421469871033,213023.48052556883,null,440,36,8,36,9367832.1500029322,{"$f":"IF($G$4=\"mensual\",S462,0)","v":8649.1448726236013},null,88971.489462065263,-686.50744595568085,null,-10979.12888119433,9453787.1480104718,null,{"$f":"+Bono!J463","v":39272.948134088314},null,36.666666666666664,9706083.5766701289]
[36.75,441,36,9,80,213023.48052556883,null,2021.3356969113065,0,{"$f":"-SUM(F464:H464)*$J$21*1.16","v":-2245.0678813626928},-246.8477080756962,212552.90063304175,null,441,36,9,36,9453787.1480104718,{"$f":"IF($G$4=\"mensual\",S463,0)","v":8649.1448726236013},null,89787.098639851305,-686.50744595568085,null,-11079.782785529309,9540457.1012914628,null,{"$f":"+Bono!J464","v":39160.440959179869},null,36.75,9792170.4428836852]
[36.833333333333336,442,36,10,80,212552.90063304175,null,2016.8704617519388,0,0,-248.90093446996065,214320.87016032371,null,442,36,10,36,9540457.1012914628,{"$f":"IF($G$4=\"mensual\",S456,IF($G$4=\"trimestral\",S456,0))","v":8649.1448726236013},null,90609.491880184622,-686.50744595568085,null,-11181.273907494047,9627847.9566908218,null,{"$f":"+Bono!J465","v":39403.240235456789},null,36.833333333333336,9881572.0670866035]
[36.916666666666664,443,36,11,80,214320.87016032371,null,2033.64635851097,0,0,-250.97123916184822,216103.54527967284,null,443,36,11,36,9627847.9566908218,{"$f":"IF($G$17=\"si\",S454*(1+$G$20),S454)","v":8649.1448726236013},null,91438.725611445232,-686.50744595568085,null,-11283.609210885565,9715965.7105180491,null,{"$f":"+Bono!J466","v":39647.544895409599},null,36.916666666666664,9971716.8006931301]
[37,444,36,12,80,216103.54527967284,null,2050.5617935881069,0,{"$f":"-SUM(F467:H467)*$J$21*1.16","v":-2277.5288778448444},-250.41683070668267,215626.16136470943,null,444,36,12,36,9715965.7105180491,{"$f":"IF($G$4=\"mensual\",S466,0)","v":8649.1448726236013},null,92274.856731372347,-686.50744595568085,null,-11386.795717424264,9804816.408958666,null,{"$f":"+Bono!J467","v":39533.964594460245},null,37,10059976.534917837]
[37.083333333333336,445,37,1,81,215626.16136470943,null,2046.0319964687185,0,0,-252.49974429896665,217419.6936168792,null,445,37,1,37,9804816.408958666,{"$f":"IF($G$17=\"si\",S456*(1+$G$20),S456)","v":9080.4794572503142},null,93122.035455527483,{"$f":"V467*(1+$G$18)","v":-720.74370958697978},null,-11491.305888987754,9894806.874272868,null,{"$f":"+Bono!J468","v":39779.079760601962},null,37.083333333333336,10152005.64765035]
[37.166666666666664,446,37,2,81,217419.6936168792,null,2063.0504526310538,0,0,-254.59998312063189,219228.14408638963,null,446,37,2,37,9894806.874272868,{"$f":"IF($G$4=\"mensual\",S468,0)","v":9080.4794572503142},null,93975.936346980714,-720.74370958697978,null,-11596.685353786312,9985545.8610137254,null,{"$f":"+Bono!J469","v":40025.71466920535},null,37.166666666666664,10244799.71976932]
[37.25,447,37,3,81,219228.14408638963,null,2080.210464668688,0,{"$f":"-SUM(F470:H470)*$J$21*1.16","v":-2310.4592215130492},-254.03755858227251,218743.85777096302,null,447,37,3,37,9985545.8610137254,{"$f":"IF($G$4=\"mensual\",S469,0)","v":9080.4794572503142},null,94836.939803258589,-720.74370958697978,null,-11702.941342414992,10077039.595222233,null,{"$f":"+Bono!J470","v":39911.051006427893},null,37.25,10335694.503999623]
[37.333333333333336,448,37,4,81,218743.85777096302,null,2075.6151721005526,0,0,-256.15058861395374,220563.3223544496,null,448,37,4,37,10077039.595222233,{"$f":"IF($G$4=\"mensual\",S468,IF($G$4=\"trimestral\",S468,0))","v":9080.4794572503142},null,95705.104901974904,-720.74370958697978,null,-11810.08114561137,10169294.354726261,null,{"$f":"+Bono!J471","v":40158.50415206312},null,37.333333333333336,10430016.181232773]
[37.416666666666664,449,37,5,81,220563.3223544496,null,{"$f":"SUM(F472:G472)*$G$8","v":2092.8796947850642},0,0,-258.28119437711217,{"$f":"SUM(F472:K472)","v":222397.92085485754},null,449,37,5,37,10169294.354726261,{"$f":"IF($G$4=\"mensual\",S471,0)","v":9080.4794572503142},null,96580.491212138368,-720.74370958697978,null,-11918.112114755833,{"$f":"SUM(R472:X472)","v":10262316.469571307},null,{"$f":"+Bono!J472","v":40407.491535904075},null,{"$f":"+B472/12","v":37.416666666666664},{"$f":"+AA472+Y472+L472","v":10525121.881962068}]
[{"$f":"+B473/12","v":37.5},{"$f":"+B472+1","v":450},37,6,81,{"$f":"L472","v":222397.92085485754},null,2110.2878200735317,0,{"$f":"-SUM(F473:H473)*$J$21*1.16","v":-2343.8656985662806},{"$f":"-SUM(F473:J473)*0.1%*1.16","v":-257.71063785258315},221906.63233851222,null,{"$f":"+N472+1","v":450},37,6,37,{"$f":"Y472","v":10262316.469571307},{"$f":"IF($G$4=\"mensual\",S472,0)","v":9080.4794572503142},null,97463.158798240023,-720.74370958697978,null,-12027.041662375963,10356112.322454834,null,{"$f":"+Bono!J473","v":40291.734177879422},null,37.5,10618310.688971227]
[37.583333333333336,451,37,7,81,221906.63233851222,null,2105.6260850707922,0,0,-259.85421977135633,223752.40420381166,null,451,37,7,37,10356112.322454834,{"$f":"+IF($G$4=\"mensual\",S468,IF($G$4=\"trimestral\",S468,IF($G$4=\"semestral\",S468,0)))","v":9080.4794572503142},null,98353.168224374429,-720.74370958697978,null,-12136.877262655171,10450688.349164216,null,{"$f":"+Bono!J474","v":40541.547603334162},null,37.583333333333336,10714982.300971361]
[37.666666666666664,452,37,8,81,223752.40420381166,null,2123.1402321050978,0,0,-262.01563154566344,225613.5288043711,null,452,37,8,37,10450688.349164216,{"$f":"IF($G$4=\"mensual\",S474,0)","v":9080.4794572503142},null,99250.580558395348,-720.74370958697978,null,-12247.626451945518,10546051.039018329,null,{"$f":"+Bono!J475","v":40792.909901003295},null,37.666666666666664,10812457.477723703]
[37.75,453,37,9,81,225613.5288043711,null,2140.8000580652651,0,{"$f":"-SUM(F476:H476)*$J$21*1.16","v":-2377.755193323836},-261.43682545617054,225115.13684365636,null,453,37,9,37,10546051.039018329,{"$f":"IF($G$4=\"mensual\",S475,0)","v":9080.4794572503142},null,100155.45737610589,-720.74370958697978,null,-12359.296829284833,10642206.935312813,null,{"$f":"+Bono!J476","v":40676.048415749196},null,37.75,10907998.120572219]
[37.833333333333336,454,37,10,81,225115.13684365636,null,2136.0709199497819,0,0,-263.61140100578314,226987.59636260036,null,454,37,10,37,10642206.935312813,{"$f":"IF($G$4=\"mensual\",S468,IF($G$4=\"trimestral\",S468,0))","v":9080.4794572503142},null,101067.86076548349,-720.74370958697978,null,-12471.896056918111,10739162.635769041,null,{"$f":"+Bono!J477","v":40928.24463405642},null,37.833333333333336,11007078.476765698]
[37.916666666666664,455,37,11,81,226987.59636260036,null,2153.8383006034305,0,0,-265.80406420931644,228875.6305989945,null,455,37,11,37,10739162.635769041,{"$f":"IF($G$17=\"si\",S466*(1+$G$20),S466)","v":9080.4794572503142},null,101987.8533309401,-720.74370958697978,null,-12585.431860823268,10836924.792986821,null,{"$f":"+Bono!J478","v":41182.004498170107},null,37.916666666666664,11106982.428083986]
[38,456,37,12,81,228875.6305989945,null,2171.7534665259782,0,{"$f":"-SUM(F479:H479)*$J$21*1.16","v":-2412.1346896440341},-265.21688927601667,228370.03248660042,null,456,37,12,37,10836924.792986821,{"$f":"IF($G$4=\"mensual\",S478,0)","v":9080.4794572503142},null,102915.49819761777,-720.74370958697978,null,-12699.912031241236,10935500.114900861,null,{"$f":"+Bono!J479","v":41064.028354201058},null,38,11204934.175741663]
[38.083333333333336,457,38,1,82,228370.03248660042,null,2166.9559507293548,0,0,-267.42290658730252,230269.56553074246,null,457,38,1,38,10935500.114900861,{"$f":"IF($G$17=\"si\",S468*(1+$G$20),S468)","v":9533.3247838792795},null,103855.15597125572,{"$f":"V479*(1+$G$18)","v":-756.68734253282435},null,-12815.833013643616,11035316.075299818,null,{"$f":"+Bono!J480","v":41318.630093129577},null,38.083333333333336,11306904.270923689]
[38.166666666666664,458,38,2,82,230269.56553074246,null,2184.9802264576165,0,0,-269.64727307835204,232184.89848412172,null,458,38,2,38,11035316.075299818,{"$f":"IF($G$4=\"mensual\",S480,0)","v":9533.3247838792795},null,104802.28895104797,-756.68734253282435,null,-12932.718201962967,11135962.28349025,null,{"$f":"+Bono!J481","v":41574.810392371422},null,38.166666666666664,11409721.992366744]
[38.25,459,38,3,82,232184.89848412172,null,2203.1544242530158,0,{"$f":"-SUM(F482:H482)*$J$21*1.16","v":-2447.0112723634325},-269.0516082977731,231671.99002771353,null,459,38,3,38,11135962.28349025,{"$f":"IF($G$4=\"mensual\",S481,0)","v":9533.3247838792795},null,105757.29998021791,-756.68734253282435,null,-13050.575616257704,11237445.645295557,null,{"$f":"+Bono!J482","v":41455.708957749564},null,38.25,11510573.34428102]
[38.333333333333336,460,38,4,82,231671.99002771353,null,2198.2875421157619,0,0,-271.28952198100194,233598.98804784828,null,460,38,4,38,11237445.645295557,{"$f":"IF($G$4=\"mensual\",S480,IF($G$4=\"trimestral\",S480,0))","v":9533.3247838792795},null,106720.25458669385,-756.68734253282435,null,-13169.413343295371,11339773.123980302,null,{"$f":"+Bono!J483","v":41712.739161852223},null,38.333333333333336,11615084.851190003]
[38.416666666666664,461,{"$f":"C472+1","v":38},{"$f":"D472","v":5},{"$f":"E472+1","v":82},233598.98804784828,null,2216.5724273141723,0,0,-273.54605015118847,235542.01442501126,null,461,{"$f":"O472+1","v":38},{"$f":"P472","v":5},{"$f":"Q472+1","v":38},11339773.123980302,{"$f":"IF($G$4=\"mensual\",S483,0)","v":9533.3247838792795},null,{"$f":"SUM(R484:T484)*$G$8","v":107691.21884345135},-756.68734253282435,null,-13289.239537107514,11442951.740727993,null,{"$f":"+Bono!J484","v":41971.362983033978},null,38.416666666666664,11720465.118136037]
[38.5,462,38,6,82,235542.01442501126,null,2235.0094022735047,0,{"$f":"-SUM(F485:H485)*$J$21*1.16","v":-2482.3921287568533},-272.94177277029235,235021.68992575764,null,462,38,6,38,11442951.740727993,{"$f":"IF($G$4=\"mensual\",S484,0)","v":9533.3247838792795},null,108670.25937304689,-756.68734253282435,null,-13410.062419549167,11546988.575122837,null,{"$f":"+Bono!J485","v":41851.125524410927},null,38.5,11823861.390573006]
[38.583333333333336,463,38,7,82,235021.68992575764,null,2230.0721508412967,0,0,-275.21204400885478,236976.55003259008,null,463,38,7,38,11546988.575122837,{"$f":"+IF($G$4=\"mensual\",S480,IF($G$4=\"trimestral\",S480,IF($G$4=\"semestral\",S480,0)))","v":9533.3247838792795},null,109657.44335218908,-756.68734253282435,null,-13531.890280862992,11651890.765635509,null,{"$f":"+Bono!J486","v":42110.607357092362},null,38.583333333333336,11930977.923025191]
[38.666666666666664,464,38,8,82,236976.55003259008,null,2248.6214136111062,0,0,-277.50119887759337,238947.67024732361,null,464,38,8,38,11651890.765635509,{"$f":"IF($G$4=\"mensual\",S486,0)","v":9533.3247838792795},null,110652.838516348,-756.68734253282435,null,-13654.731480248114,11757665.510112954,null,{"$f":"+Bono!J487","v":42371.69800723446},null,38.666666666666664,12038984.878367513]
[38.75,465,38,9,82,238947.67024732361,null,2267.3249651778838,0,{"$f":"-SUM(F488:H488)*$J$21*1.16","v":-2518.2845500185158},-276.88818436848027,238419.82247811448,null,465,38,9,38,11757665.510112954,{"$f":"IF($G$4=\"mensual\",S487,0)","v":9533.3247838792795},null,111656.51316440292,-756.68734253282435,null,-13778.594446433695,11864320.06627227,null,{"$f":"+Bono!J488","v":42250.313688884045},null,38.75,12144990.202439267]
[38.833333333333336,466,38,10,82,238419.82247811448,null,2262.3163269948768,0,0,-279.19128101392681,240402.94752409545,null,466,38,10,38,11864320.06627227,{"$f":"IF($G$4=\"mensual\",S480,IF($G$4=\"trimestral\",S480,0))","v":9533.3247838792795},null,112668.53616332852,-756.68734253282435,null,-13903.487678257254,11971861.752198687,null,{"$f":"+Bono!J489","v":42512.270534488183},null,38.833333333333336,12254776.970257269]
[38.916666666666664,467,38,11,82,240402.94752409545,null,2281.1337899195755,0,0,-281.51353432425742,242402.56777969078,null,467,38,11,38,11971861.752198687,{"$f":"IF($G$17=\"si\",S478*(1+$G$20),S478)","v":9533.3247838792795},null,113688.97695292025,-756.68734253282435,null,-14029.419745247826,12080297.946847705,null,{"$f":"+Bono!J490","v":42775.85154292018},null,38.916666666666664,12365476.366170315]
[39,468,38,12,82,242402.56777969078,null,2300.1077724727179,0,{"$f":"-SUM(F491:H491)*$J$21*1.16","v":-2554.6959327645873},-280.8916563585027,241867.08796304042,null,468,38,12,38,12080297.946847705,{"$f":"IF($G$4=\"mensual\",S490,0)","v":9533.3247838792795},null,114717.90555055893,-756.68734253282435,null,{"$f":"-SUM(R491:V491)*0.1%*1.16","v":-14156.399288213946},12189636.090551395,null,{"$f":"+Bono!J491","v":42653.309425761938},null,39,12474156.487940198]
[39.083333333333336,469,39,1,83,241867.08796304042,null,2295.0267153718742,0,0,-283.22805302695826,243878.88662538535,null,469,39,1,39,12189636.090551395,{"$f":"IF($G$17=\"si\",S480*(1+$G$20),S480)","v":10008.753597516295},null,115759.90380158268,{"$f":"V491*(1+$G$18)","v":-794.42349164240477},null,-14284.947976372267,12300325.376482479,null,{"$f":"+Bono!J492","v":42917.764891679326},null,39.083333333333336,12587122.027999543]
[39.166666666666664,470,39,2,83,243878.88662538535,null,2314.1162563049361,0,0,-285.58388334276071,245907.41899834751,null,470,39,2,39,12300325.376482479,{"$f":"IF($G$4=\"mensual\",S492,0)","v":10008.753597516295},null,116810.21151585958,-794.42349164240477,null,-14414.565905000887,12411935.352199212,null,{"$f":"+Bono!J493","v":43183.860012160345},null,39.166666666666664,12701026.63120972]
[39.25,471,39,3,83,245907.41899834751,null,2333.3645799530723,0,{"$f":"-SUM(F494:H494)*$J$21*1.16","v":-2591.6337805574585},-284.95301376538202,245364.19678397774,null,471,39,3,39,12411935.352199212,{"$f":"IF($G$4=\"mensual\",S493,0)","v":10008.753597516295},null,117869.25546486951,-794.42349164240477,null,-14545.261967813147,12524473.675802141,null,{"$f":"+Bono!J494","v":43060.149052773704},null,39.25,12812898.021638894]
[39.333333333333336,472,39,4,83,245364.19678397774,null,2328.2100568434521,0,0,-287.32319193535255,247405.08364888583,null,472,39,4,39,12524473.675802141,{"$f":"IF($G$4=\"mensual\",S492,IF($G$4=\"trimestral\",S492,0))","v":10008.753597516295},null,118937.1083147428,-794.42349164240477,null,-14677.045132498401,12637948.06909026,null,{"$f":"+Bono!J495","v":43327.126971569043},null,39.333333333333336,12928680.279710716]
[39.416666666666664,473,39,5,83,247405.08364888583,null,2347.5756097074755,0,0,-289.71308473996822,249462.94617385333,null,473,39,5,39,12637948.06909026,{"$f":"IF($G$4=\"mensual\",S495,0)","v":10008.753597516295},null,120013.8433360312,-794.42349164240477,null,-14809.924441337313,12752366.318090828,null,{"$f":"+Bono!J496","v":43595.760184428436},null,39.416666666666664,13045425.02444911]
[39.5,474,39,6,83,249462.94617385333,null,2367.1022410947303,0,{"$f":"-SUM(F497:H497)*$J$21*1.16","v":-2629.1057054520579},-289.07309354301532,248911.86961595298,null,474,39,6,39,12752366.318090828,{"$f":"IF($G$4=\"mensual\",S496,0)","v":10008.753597516295},null,121099.53440873516,-794.42349164240477,null,-14943.909011822307,12867736.273593616,null,{"$f":"+Bono!J497","v":43470.869234057463},null,39.5,13160119.012443626]
[39.583333333333336,475,39,7,83,248911.86961595298,null,2361.873189745711,0,0,-291.47754165461043,250982.26526404408,null,475,39,7,39,12867736.273593616,{"$f":"+IF($G$4=\"mensual\",S492,IF($G$4=\"trimestral\",S492,IF($G$4=\"semestral\",S492,0)))","v":10008.753597516295},null,122194.25602737317,-794.42349164240477,null,-15079.00803728316,12984065.851689579,null,{"$f":"+Bono!J498","v":43740.393665617354},null,39.583333333333336,13278788.51061924]
[39.666666666666664,476,39,8,83,250982.26526404408,null,2381.5187453431095,0,0,-293.90198945088912,253069.88201993631,null,476,39,8,39,12984065.851689579,{"$f":"IF($G$4=\"mensual\",S498,0)","v":10008.753597516295},null,123298.08330609318,-794.42349164240477,null,-15215.230787517794,13101363.034314029,null,{"$f":"+Bono!J499","v":44011.58917991582},null,39.666666666666664,13398444.505513882]
[39.75,477,39,9,83,253069.88201993631,null,2401.3277084665365,0,{"$f":"-SUM(F500:H500)*$J$21*1.16","v":-2667.1194295645255},-293.25274474665247,252510.83755409167,null,477,39,9,39,13101363.034314029,{"$f":"IF($G$4=\"mensual\",S499,0)","v":10008.753597516295},null,124411.09198382655,-794.42349164240477,null,-15352.586609428326,13219635.869794302,null,{"$f":"+Bono!J500","v":43885.506983464533},null,39.75,13516032.214331858]
[39.833333333333336,478,39,10,83,252510.83755409167,null,2396.0230512889125,0,0,-295.69195830224146,254611.16864707833,null,478,39,10,39,13219635.869794302,{"$f":"IF($G$4=\"mensual\",S492,IF($G$4=\"trimestral\",S492,0))","v":10008.753597516295},null,125533.35842948487,-794.42349164240477,null,-15491.084927662405,13338892.473401997,null,{"$f":"+Bono!J501","v":44157.602217165753},null,39.833333333333336,13637661.244266242]
[39.916666666666664,479,39,11,83,254611.16864707833,null,2415.952658124329,0,0,-298.15146071403507,256728.96984448863,null,479,39,11,39,13338892.473401997,{"$f":"IF($G$17=\"si\",S490*(1+$G$20),S490)","v":10008.753597516295},null,126664.95964719994,-794.42349164240477,null,-15630.735245259883,13459141.027909812,null,{"$f":"+Bono!J502","v":44431.384472877013},null,39.916666666666664,13760301.382227177]
[40,480,39,12,83,256728.96984448863,null,2436.0480351631677,0,{"$f":"-SUM(F503:H503)*$J$21*1.16","v":-2705.6827866635649},-297.49282870786629,256161.84226428036,null,480,39,12,39,13459141.027909812,{"$f":"IF($G$4=\"mensual\",S502,0)","v":10008.753597516295},null,127805.97328160751,-794.42349164240477,null,-15771.547144304859,13580389.784152988,null,{"$f":"+Bono!J503","v":44304.099667895047},null,40,13880855.726085164]
[40.083333333333336,481,40,1,84,256161.84226428036,null,2430.6666789870801,0,0,-299.96731037419028,258292.54163289326,null,481,40,1,40,13580389.784152988,{"$f":"IF($G$17=\"si\",S492*(1+$G$20),S492)","v":10507.892141175153},null,128961.21384546118,{"$f":"V503*(1+$G$18)","v":-834.04155005530981},null,-15914.0688243639,13703110.779765205,null,{"$f":"+Bono!J504","v":44578.790224793484},null,40.083333333333336,14005982.111622892]
[40.166666666666664,482,40,2,84,258292.54163289326,null,2450.884444101695,0,0,-302.46237424931417,260440.96370274562,null,482,40,2,40,13703110.779765205,{"$f":"IF($G$4=\"mensual\",S504,0)","v":10507.892141175153},null,130125.68796155139,-834.04155005530981,null,-16057.775969248736,13826852.542348629,null,{"$f":"+Bono!J505","v":44855.18389500682},null,40.166666666666664,14132148.689946381]
[40.25,483,40,3,84,260440.96370274562,null,2471.270376258612,0,{"$f":"-SUM(F506:H506)*$J$21*1.16","v":-2744.8037237848039},-301.79421921205449,259865.63613600735,null,483,40,3,40,13826852.542348629,{"$f":"IF($G$4=\"mensual\",S505,0)","v":10507.892141175153},null,131299.84792406583,-834.04155005530981,null,-16202.678439402023,13951623.562424412,null,{"$f":"+Bono!J506","v":44726.685010665467},null,40.25,14256215.883571085]
[40.333333333333336,484,40,4,84,259865.63613600735,null,2465.811212108275,0,0,-304.30447892381409,262027.1428691918,null,484,40,4,40,13951623.562424412,{"$f":"IF($G$4=\"mensual\",S504,IF($G$4=\"trimestral\",S504,0))","v":10507.892141175153},null,132483.77429780163,-834.04155005530981,null,-16348.786177283466,14077432.40113605,null,{"$f":"+Bono!J507","v":45003.995645705945},null,40.333333333333336,14384463.539650947]
[40.416666666666664,485,40,5,84,262027.1428691918,null,2486.3213019261693,0,0,-306.83561843849685,264206.6285526795,null,485,40,5,40,14077432.40113605,{"$f":"IF($G$4=\"mensual\",S507,0)","v":10507.892141175153},null,133677.54831767673,-834.04155005530981,null,-16496.109208052021,14204287.690836795,null,{"$f":"+Bono!J508","v":45283.025638849715},null,40.416666666666664,14513777.345028324]
[40.5,486,40,6,84,264206.6285526795,null,2507.0019902806725,0,{"$f":"-SUM(F509:H509)*$J$21*1.16","v":-2784.4903028685048},-306.15780267850636,263622.98243741319,null,486,40,6,40,14204287.690836795,{"$f":"IF($G$4=\"mensual\",S508,0)","v":10507.892141175153},null,134881.25189430363,-834.04155005530981,null,-16644.657640253772,14332198.135681964,null,{"$f":"+Bono!J509","v":45153.301094908195},null,40.5,14640974.419214286]
[40.583333333333336,487,40,7,84,263622.98243741319,null,2501.4638931458367,0,0,-308.70435774344844,265815.74197281559,null,487,40,7,40,14332198.135681964,{"$f":"+IF($G$4=\"mensual\",S504,IF($G$4=\"trimestral\",S504,IF($G$4=\"semestral\",S504,0)))","v":10507.892141175153},null,136094.96761960987,-834.04155005530981,null,-16794.441666515522,14461172.512226177,null,{"$f":"+Bono!J510","v":45433.256799155373},null,40.583333333333336,14772421.510998148]
[40.666666666666664,488,40,8,84,265815.74197281559,null,2522.2705343326024,0,0,-311.2720945082919,268026.74041263992,null,488,40,8,40,14461172.512226177,{"$f":"IF($G$4=\"mensual\",S510,0)","v":10507.892141175153},null,137318.77877250485,-834.04155005530981,null,-16945.47156424417,14591219.670025557,null,{"$f":"+Bono!J511","v":45714.948261241741},null,40.666666666666664,14904961.358699439]
[40.75,489,40,9,84,268026.74041263992,null,2543.2502407067818,0,{"$f":"-SUM(F512:H512)*$J$21*1.16","v":-2824.7507024209399},-310.58447834307384,267434.65547258267,null,489,40,9,40,14591219.670025557,{"$f":"IF($G$4=\"mensual\",S511,0)","v":10507.892141175153},null,138552.76932459421,-834.04155005530981,null,-17097.757696331875,14722348.532244939,null,{"$f":"+Bono!J512","v":45583.986367003563},null,40.75,15035367.174084526]
[40.833333333333336,490,40,10,84,267434.65547258267,null,2537.6320693108937,0,0,-313.1678535485965,269659.11968834494,null,490,40,10,40,14722348.532244939,{"$f":"IF($G$4=\"mensual\",S504,IF($G$4=\"trimestral\",S504,0))","v":10507.892141175153},null,139797.02394594139,-834.04155005530981,null,-17251.310511867119,14854568.096270133,null,{"$f":"+Bono!J513","v":45866.612369894137},null,40.833333333333336,15170093.828328373]
[40.916666666666664,491,40,11,84,269659.11968834494,null,2558.7395496446516,0,0,-315.77271671606792,271902.08652127354,null,491,40,11,40,14854568.096270133,{"$f":"IF($G$17=\"si\",S502*(1+$G$20),S502)","v":10507.892141175153},null,141051.62801087729,-834.04155005530981,null,-17406.140546851668,14987887.434325278,null,{"$f":"+Bono!J514","v":46150.990686785219},null,40.916666666666664,15305940.511533337]
[41,492,40,12,84,271902.08652127354,null,2580.0225974814484,0,{"$f":"-SUM(F515:H515)*$J$21*1.16","v":-2865.5932191998018},-315.07515844348399,271301.4407411117,null,492,40,12,40,14987887.434325278,{"$f":"IF($G$4=\"mensual\",S514,0)","v":10507.892141175153},null,142316.66760385825,-834.04155005530981,null,-17562.258424923493,15122315.694095332,null,{"$f":"+Bono!J515","v":46018.779640044646},null,41,15439635.91447649]
[41.083333333333336,493,41,1,85,271301.4407411117,null,2574.3231940464616,0,0,-317.69588616478342,273558.06804899336,null,493,41,1,41,15122315.694095332,{"$f":"IF($G$17=\"si\",S504*(1+$G$20),S504)","v":11031.922823833986},null,143597.20194401176,{"$f":"V515*(1+$G$18)","v":-875.63536896487813},null,-17720.240252853284,15258348.94324136,null,{"$f":"+Bono!J516","v":46304.101411660973},null,41.083333333333336,15578211.112702014]
[41.166666666666664,494,41,2,85,273558.06804899336,null,2595.735863301476,0,0,-320.33841253826199,275833.46549975657,null,494,41,2,41,15258348.94324136,{"$f":"IF($G$4=\"mensual\",S516,0)","v":11031.922823833986},null,144887.99327737695,-875.63536896487813,null,-17879.536139809381,15395513.687833795,null,{"$f":"+Bono!J517","v":46591.192211356596},null,41.166666666666664,15717938.345544908]
[41.25,495,41,3,85,275833.46549975657,null,2617.3266385556462,0,{"$f":"-SUM(F518:H518)*$J$21*1.16","v":-2907.0262699239793},-319.63076840733032,275224.13509998092,null,495,41,3,41,15395513.687833795,{"$f":"IF($G$4=\"mensual\",S517,0)","v":11031.922823833986},null,146189.52113673955,-875.63536896487813,null,-18040.157015853467,15533819.339409551,null,{"$f":"+Bono!J518","v":46457.720097335034},null,41.25,15855501.194606867]
[41.333333333333336,496,41,4,85,275224.13509998092,null,2611.5448285634288,0,0,-322.28938871711136,277513.39053982723,null,496,41,4,41,15533819.339409551,{"$f":"IF($G$4=\"mensual\",S516,IF($G$4=\"trimestral\",S516,0))","v":11031.922823833986},null,147501.87482622446,-875.63536896487813,null,-18202.113901961144,15673275.387788681,null,{"$f":"+Bono!J519","v":46745.763350700501},null,41.333333333333336,15997534.541679209]
[41.416666666666664,497,41,5,85,277513.39053982723,null,2633.2670994064979,0,0,-324.97012286151113,279821.68751637224,null,497,41,5,41,15673275.387788681,{"$f":"IF($G$4=\"mensual\",S519,0)","v":11031.922823833986},null,148825.14439276923,-875.63536896487813,null,-18365.417910778127,15813891.40172554,null,{"$f":"+Bono!J520","v":47035.592505647786},null,41.416666666666664,16140748.681747559]
[41.5,498,41,6,85,279821.68751637224,null,2655.1700514484578,0,{"$f":"-SUM(F521:H521)*$J$21*1.16","v":-2949.0583930080484},-324.25224704278264,279203.54692776984,null,498,41,6,41,15813891.40172554,{"$f":"IF($G$4=\"mensual\",S520,0)","v":11031.922823833986},null,150159.42063230253,{"$f":"V520","v":-875.63536896487813},null,-18530.080247382743,15955677.029565327,null,{"$f":"+Bono!J521","v":46900.847295920023},null,41.5,16281781.423789017]
[41.583333333333336,499,41,7,85,279203.54692776984,null,2649.3046433987483,0,0,-326.94930782255551,281525.90226334601,null,499,41,7,41,15955677.029565327,{"$f":"+IF($G$4=\"mensual\",S516,IF($G$4=\"trimestral\",S516,IF($G$4=\"semestral\",S516,0)))","v":11031.922823833986},null,151504.79509597411,-875.63536896487813,null,-18696.112210054755,16098641.999906115,null,{"$f":"+Bono!J522","v":47191.637989316288},null,41.583333333333336,16427359.540158777]
[41.666666666666664,500,41,8,85,281525.90226334601,null,2671.3409922985547,0,0,-329.66880217654773,283867.57445346803,null,500,41,8,41,16098641.999906115,{"$f":"IF($G$4=\"mensual\",S522,0)","v":11031.922823833986},null,152861.36009643666,-875.63536896487813,null,-18863.525191050605,16242796.122266369,null,{"$f":"+Bono!J523","v":47484.231618741243},null,41.666666666666664,16574147.928338578]
[41.75,501,41,9,85,283867.57445346803,null,2693.560634831294,0,{"$f":"-SUM(F524:H524)*$J$21*1.16","v":-2991.6982503218451},-328.94054673205386,283240.49629124545,null,501,41,9,41,16242796.122266369,{"$f":"IF($G$4=\"mensual\",S523,0)","v":11031.922823833986},null,154229.20871417967,-875.63536896487813,null,-19032.330677385082,16388149.287758032,null,{"$f":"+Bono!J524","v":47348.201170151471},null,41.75,16718737.98521943]
[41.833333333333336,502,41,10,85,283240.49629124545,null,2687.6104199961651,0,0,-331.67660378504019,285596.43010745657,null,502,41,10,41,16388149.287758032,{"$f":"IF($G$4=\"mensual\",S516,IF($G$4=\"trimestral\",S516,0))","v":11031.922823833986},null,155608.43480391623,-875.63536896487813,null,-19202.540251619503,16534711.469765196,null,{"$f":"+Bono!J525","v":47641.765509457815},null,41.833333333333336,16867949.66538211]
[41.916666666666664,503,41,11,85,285596.43010745657,null,2709.9653881457748,0,0,-334.43541877489866,287971.96007682744,null,503,41,11,41,16534711.469765196,{"$f":"IF($G$17=\"si\",S514*(1+$G$20),S514)","v":11031.922823833986},null,156999.13300102288,-875.63536896487813,null,-19374.165592656456,16682492.72462843,null,{"$f":"+Bono!J526","v":47937.149981719216},null,41.916666666666664,17018401.834686976]
[42,504,41,12,85,287971.96007682744,null,2732.5063001350313,0,{"$f":"-SUM(F527:H527)*$J$21*1.16","v":-3034.9546289754885},-333.69663362766494,287335.81511435937,null,504,41,12,41,16682492.72462843,{"$f":"IF($G$4=\"mensual\",S526,0)","v":11031.922823833986},null,158401.39872803297,-875.63536896487813,null,-19547.218476541144,16831503.19233479,null,{"$f":"+Bono!J527","v":47799.822035286685},null,42,17166638.829484437]
[42.083333333333336,505,42,1,86,287335.81511435937,null,2726.4700523097936,0,0,-336.47225079333623,289725.81291587581,null,505,42,1,42,16831503.19233479,{"$f":"IF($G$17=\"si\",S516*(1+$G$20),S516)","v":11582.087021443151},null,159820.54859533513,{"$f":"V527*(1+$G$18)","v":-919.30347994223041},null,-19722.304368387086,16982264.220103238,null,{"$f":"+Bono!J528","v":48096.186476341645},null,42.083333333333336,17320086.219495457]
[42.166666666666664,506,42,2,86,289725.81291587581,null,2749.1482465624917,0,0,-339.27095494842843,292135.69020748988,null,506,42,2,42,16982264.220103238,{"$f":"IF($G$4=\"mensual\",S528,0)","v":11582.087021443151},null,161251.08877043487,-919.30347994223041,null,-19898.846587201599,17134279.245827969,null,{"$f":"+Bono!J529","v":48394.388411307293},null,42.166666666666664,17474809.324446764]
[42.25,507,42,3,86,292135.69020748988,null,2772.0150731803715,0,{"$f":"-SUM(F530:H530)*$J$21*1.16","v":-3078.8364431301975},-338.5214878515464,291490.34734968847,null,507,42,3,42,17134279.245827969,{"$f":"IF($G$4=\"mensual\",S529,0)","v":11582.087021443151},null,162693.52787248217,-919.30347994223041,null,-20076.857246400657,17287558.699995551,null,{"$f":"+Bono!J530","v":48255.750591121541},null,42.25,17627304.797936361]
[42.333333333333336,508,42,4,86,291490.34734968847,null,2765.8915484308818,0,0,-341.33723712181842,293914.90166099754,null,508,42,4,42,17287558.699995551,{"$f":"IF($G$4=\"mensual\",S528,IF($G$4=\"trimestral\",S528,0))","v":11582.087021443151},null,164147.96487420425,-919.30347994223041,null,-20256.348560157057,17442113.099851098,null,{"$f":"+Bono!J531","v":48554.941842107117},null,42.333333333333336,17784582.943354204]
[42.416666666666664,509,42,5,86,293914.90166099754,null,2788.8976422495443,0,0,-344.1764071917666,296359.62289605528,null,509,42,5,42,17442113.099851098,{"$f":"IF($G$4=\"mensual\",S531,0)","v":11582.087021443151},null,165614.49957156228,-919.30347994223041,null,-20437.332844238426,17597953.050119922,null,{"$f":"+Bono!J532","v":48855.988113552834},null,42.416666666666664,17943168.661129531]
[42.5,510,42,6,86,296359.62289605528,null,2812.0950958317853,0,{"$f":"-SUM(F533:H533)*$J$21*1.16","v":-3123.3527358353012},-343.41610369702005,295704.94915235473,null,510,42,6,42,17597953.050119922,{"$f":"IF($G$4=\"mensual\",S532,0)","v":11582.087021443151},null,167093.23259059887,-919.30347994223041,null,-20619.822516852342,17755089.243735168,null,{"$f":"+Bono!J533","v":48716.027925658374},null,42.5,18099510.220813181]
[42.583333333333336,511,42,7,86,295704.94915235473,null,2805.8830322381023,0,0,-346.27256533412771,298164.55961925874,null,511,42,7,42,17755089.243735168,{"$f":"+IF($G$4=\"mensual\",S528,IF($G$4=\"trimestral\",S528,IF($G$4=\"semestral\",S528,0)))","v":11582.087021443151},null,168584.26539434251,-919.30347994223041,null,-20803.830099498369,17913532.462571513,null,{"$f":"+Bono!J534","v":49018.072949506946},null,42.583333333333336,18260715.095140278]
[42.666666666666664,512,42,8,86,298164.55961925874,null,2829.2217666582878,0,0,-349.15278640766371,300644.62859950936,null,512,42,8,42,17913532.462571513,{"$f":"IF($G$4=\"mensual\",S534,0)","v":11582.087021443151},null,170087.70028976939,-919.30347994223041,null,-20989.368217827228,18073293.578184959,null,{"$f":"+Bono!J535","v":49321.990687538426},null,42.666666666666664,18423260.197472006]
[42.75,513,42,9,86,300644.62859950936,null,{"$f":"SUM(F536:G536)*$G$8","v":2852.7546276753683},0,{"$f":"-SUM(F536:H536)*$J$21*1.16","v":-3168.5126808918085},-348.38148983369979,{"$f":"SUM(F536:K536)","v":299980.48905645922},null,513,42,9,42,18073293.578184959,{"$f":"IF($G$4=\"mensual\",S535,0)","v":11582.087021443151},null,171603.64043482338,-919.30347994223041,null,-21176.449602507088,{"$f":"SUM(R536:X536)","v":18234383.552558776},null,{"$f":"+Bono!J536","v":49180.69551880881},null,{"$f":"+B536/12","v":42.75},{"$f":"+AA536+Y536+L536","v":18583544.737134047}]
[{"$f":"+B537/12","v":42.833333333333336},{"$f":"+B536+1","v":514},42,10,86,{"$f":"L536","v":299980.48905645922},null,2846.4527450716969,0,0,{"$f":"-SUM(F537:J537)*0.1%*1.16","v":-351.27925248977579},302475.6625490411,null,{"$f":"+N536+1","v":514},42,10,42,{"$f":"Y536","v":18234383.552558776},{"$f":"IF($G$4=\"mensual\",S528,IF($G$4=\"trimestral\",S528,0))","v":11582.087021443151},null,173132.18984549382,-919.30347994223041,null,-21365.087090097095,18396813.438855674,null,{"$f":"+Bono!J537","v":49485.621535633014},null,42.833333333333336,18748774.722940348]
[42.916666666666664,515,42,11,86,302475.6625490411,null,2870.1289296786667,0,0,-354.20111811531484,304991.5903606044,null,515,42,11,42,18396813.438855674,{"$f":"IF($G$17=\"si\",S526*(1+$G$20),S526)","v":11582.087021443151},null,174673.45340295296,-919.30347994223041,null,-21555.293623928144,18560594.382176198,null,{"$f":"+Bono!J538","v":49792.438129130758},null,42.916666666666664,18915378.410665933]
[43,516,42,12,86,304991.5903606044,null,2894.0020477209496,0,{"$f":"-SUM(F539:H539)*$J$21*1.16","v":-3214.3255847429164},-353.41866951535559,304317.84815406706,null,516,42,12,42,18560594.382176198,{"$f":"IF($G$4=\"mensual\",S538,0)","v":11582.087021443151},null,176227.53686075209,-919.30347994223041,null,-21747.082254991001,18725737.620323461,null,{"$f":"+Bono!J539","v":49649.795246131878},null,43,19079705.26372366]
[43.083333333333336,517,43,1,87,304317.84815406706,null,2887.6090474318275,0,0,-356.35833035373872,306849.09887114516,null,517,43,1,43,18725737.620323461,{"$f":"IF($G$17=\"si\",S528*(1+$G$20),S528)","v":12159.688017619925},null,177800.02758832954,{"$f":"V539*(1+$G$18)","v":-965.14932834764545},null,-21941.089336457233,18892791.097264607,null,{"$f":"+Bono!J540","v":49957.629735677692},null,43.083333333333336,19249597.82587143]
[43.166666666666664,518,43,2,87,306849.09887114516,null,2911.6275613516968,0,0,-359.32244266169636,309401.40398983518,null,518,43,2,43,18892791.097264607,{"$f":"IF($G$4=\"mensual\",S540,0)","v":12159.688017619925},null,179385.1634400262,-965.14932834764545,null,-22136.71012729693,19061234.089266609,null,{"$f":"+Bono!J541","v":50267.372834765272},null,43.166666666666664,19420902.86609121]
[43.25,519,43,3,87,309401.40398983518,null,2935.8458561288226,0,{"$f":"-SUM(F542:H542)*$J$21*1.16","v":-3260.8008883918646},-358.52868079078365,308717.92027678137,null,519,43,3,43,19061234.089266609,{"$f":"IF($G$4=\"mensual\",S541,0)","v":12159.688017619925},null,180983.48411241485,-965.14932834764545,null,-22333.958049999226,19231078.154018302,null,{"$f":"+Bono!J542","v":50123.369382607831},null,43.25,19589919.44367769]
[43.333333333333336,520,43,4,87,308717.92027678137,null,2929.3604207014951,0,0,-361.51084560908009,311285.7698518738,null,520,43,4,43,19231078.154018302,{"$f":"IF($G$4=\"mensual\",S540,IF($G$4=\"trimestral\",S540,0))","v":12159.688017619925},null,182595.09927401156,-965.14932834764545,null,-22532.84663869864,19402334.945342891,null,{"$f":"+Bono!J543","v":50434.140086730993},null,43.333333333333336,19764054.855281498]
[43.416666666666664,521,43,5,87,311285.7698518738,null,2953.7262136067043,0,0,-364.5178154359574,313874.97825004457,null,521,43,5,43,19402334.945342891,{"$f":"IF($G$4=\"mensual\",S543,0)","v":12159.688017619925},null,184220.11950553168,-965.14932834764545,null,-22733.389540103726,19575016.213997595,null,{"$f":"+Bono!J544","v":50746.837605266883},null,43.416666666666664,19939638.029852908]
[43.5,522,43,6,87,313874.97825004457,null,2978.2946759614301,0,{"$f":"-SUM(F545:H545)*$J$21*1.16","v":-3307.9481693475032},-363.71257671772389,313181.6121799408,null,522,43,6,43,19575016.213997595,{"$f":"IF($G$4=\"mensual\",S544,0)","v":12159.688017619925},null,185858.65630747727,-965.14932834764545,null,-22935.600514433441,19749133.808479913,null,{"$f":"+Bono!J545","v":50601.460606447938},null,43.5,20112916.881266303]
[43.583333333333336,523,43,7,87,313181.6121799408,null,2971.7154688943497,0,0,-366.73786007264874,315786.5897887625,null,523,43,7,43,19749133.808479913,{"$f":"+IF($G$4=\"mensual\",S540,IF($G$4=\"trimestral\",S540,IF($G$4=\"semestral\",S540,0)))","v":12159.688017619925},null,187510.82210778768,-965.14932834764545,null,-23139.493436361292,19924699.675840613,null,{"$f":"+Bono!J546","v":50915.195531614052},null,43.583333333333336,20291401.461160988]
[43.666666666666664,524,43,8,87,315786.5897887625,null,2996.4335620236843,0,0,-369.78830708691197,318413.23504369927,null,524,43,8,43,19924699.675840613,{"$f":"IF($G$4=\"mensual\",S546,0)","v":12159.688017619925},null,189176.73026955384,-965.14932834764545,null,-23345.08229596735,20101725.862503473,null,{"$f":"+Bono!J547","v":51230.875649707195},null,43.666666666666664,20471369.973196879]
[43.75,525,{"$f":"C536+1","v":43},{"$f":"D536","v":9},{"$f":"E536+1","v":87},318413.23504369927,null,3021.3572549603841,0,{"$f":"-SUM(F548:H548)*$J$21*1.16","v":-3355.7771435980067},-368.97142557987149,317709.8437294818,null,525,{"$f":"O536+1","v":43},{"$f":"P536","v":9},{"$f":"Q536+1","v":43},20101725.862503473,{"$f":"IF($G$4=\"mensual\",S547,0)","v":12159.688017619925},null,{"$f":"SUM(R548:T548)*$G$8","v":190856.49509879659},-965.14932834764545,null,-23552.381199698189,20280224.515091844,null,{"$f":"+Bono!J548","v":51084.112002940601},null,43.75,20649018.470824264]
[43.833333333333336,526,43,10,87,317709.8437294818,null,3014.6829204277906,0,0,-372.04045091389514,320352.48619899573,null,526,43,10,43,20280224.515091844,{"$f":"IF($G$4=\"mensual\",S540,IF($G$4=\"trimestral\",S540,0))","v":12159.688017619925},null,192550.23185230969,-965.14932834764545,null,-23761.404371334771,20460207.88126209,null,{"$f":"+Bono!J549","v":51400.839422749072},null,43.833333333333336,20831961.206883833]
[43.916666666666664,527,43,11,87,320352.48619899573,null,3039.7584076211433,0,0,-375.1350037436755,323017.10960287316,null,527,43,11,43,20460207.88126209,{"$f":"IF($G$17=\"si\",S538*(1+$G$20),S538)","v":12159.688017619925},null,194258.05674556841,-965.14932834764545,null,-23972.166152968442,20641688.310543966,null,{"$f":"+Bono!J550","v":51719.530589298462},null,43.916666666666664,21016424.950736135]
[44,528,43,12,87,323017.10960287316,null,3065.0424673491802,0,{"$f":"-SUM(F551:H551)*$J$21*1.16","v":-3404.2976676131216},-374.30631110702666,322303.54809150222,null,528,43,12,43,20641688.310543966,{"$f":"IF($G$4=\"mensual\",S550,0)","v":12159.688017619925},null,195980.08696070337,-965.14932834764545,null,-24184.68100598497,20824678.255187958,null,{"$f":"+Bono!J551","v":51571.367068334213},null,44,21198553.170347795]
[44.083333333333336,529,44,1,88,322303.54809150222,null,3058.2716299216931,0,0,-377.4197108768517,324984.40001054708,null,529,44,1,44,20824678.255187958,{"$f":"IF($G$17=\"si\",S540*(1+$G$20),S540)","v":12766.094090996234},null,197722.19471620553,{"$f":"V551*(1+$G$18)","v":-1013.2815183822082},null,-24399.617784473059,21009753.644692302,null,{"$f":"+Bono!J552","v":51891.115526066213},null,44.083333333333336,21386629.160228916]
[44.166666666666664,530,44,2,88,324984.40001054708,null,3083.7096786697894,0,0,-380.55900723949156,327687.55068197742,null,530,44,2,44,21009753.644692302,{"$f":"IF($G$4=\"mensual\",S552,0)","v":12766.094090996234},null,199478.33676449955,-1013.2815183822082,null,-24616.342361074123,21196368.451668341,null,{"$f":"+Bono!J553","v":52212.846461324676},null,44.166666666666664,21576268.848811645]
[44.25,531,44,3,88,327687.55068197742,null,3109.3593156619709,0,{"$f":"-SUM(F554:H554)*$J$21*1.16","v":-3453.519740375355},-379.71833269842625,326963.67192456557,null,531,44,3,44,21196368.451668341,{"$f":"IF($G$4=\"mensual\",S553,0)","v":12766.094090996234},null,201249.08602642239,-1013.2815183822082,null,-24834.869606310156,21384535.480661068,null,{"$f":"+Bono!J554","v":52063.269713756978},null,44.25,21763562.422299389]
[44.333333333333336,532,44,4,88,326963.67192456557,null,3102.4905800231468,0,0,-382.87674850532289,329683.28575608338,null,532,44,4,44,21384535.480661068,{"$f":"IF($G$4=\"mensual\",S552,IF($G$4=\"trimestral\",S552,0))","v":12766.094090996234},null,203034.56400165005,-1013.2815183822082,null,{"$f":"-SUM(R555:V555)*0.1%*1.16","v":-25055.214514392985},21574267.642720938,null,{"$f":"+Bono!J555","v":52386.068024947774},null,44.333333333333336,21956336.996501971]
[44.416666666666664,533,44,5,88,329683.28575608338,null,3128.2964325324474,0,0,-386.06143533879435,332425.520753277,null,533,44,5,44,21574267.642720938,{"$f":"IF($G$4=\"mensual\",S555,0)","v":12766.094090996234},null,204834.8932004669,-1013.2815183822082,null,-25277.392204253061,21765577.956289764,null,{"$f":"+Bono!J556","v":52710.867723110241},null,44.416666666666664,22150714.344766151]
[44.5,534,44,6,88,332425.520753277,null,3154.3169325987847,0,{"$f":"-SUM(F557:H557)*$J$21*1.16","v":-3503.4535054405433},-385.20860564930484,331691.17557478591,null,534,44,6,44,21765577.956289764,{"$f":"IF($G$4=\"mensual\",S556,0)","v":12766.094090996234},null,206650.19715217166,-1013.2815183822082,null,-25501.417920576878,21958479.548093971,null,{"$f":"+Bono!J557","v":52559.864269174162},null,44.5,22342730.587937932]
[44.583333333333336,535,44,7,88,331691.17557478591,null,3147.3488832575731,0,0,-388.41268837133049,334450.11176967219,null,535,44,7,44,21958479.548093971,{"$f":"+IF($G$4=\"mensual\",S552,IF($G$4=\"trimestral\",S552,IF($G$4=\"semestral\",S552,0)))","v":12766.094090996234},null,208480.60041355324,-1013.2815183822082,null,-25727.307034852958,22152985.654045284,null,{"$f":"+Bono!J558","v":52885.741524209945},null,44.583333333333336,22540321.507339165]
[44.666666666666664,536,44,8,88,334450.11176967219,null,3173.5278575305756,0,0,-391.64342196755518,337231.99620523519,null,536,44,8,44,22152985.654045284,{"$f":"IF($G$4=\"mensual\",S558,0)","v":12766.094090996234},null,210326.22857743732,-1013.2815183822082,null,-25955.075046426588,22349109.620148908,null,{"$f":"+Bono!J559","v":53213.639256026378},null,44.666666666666664,22739555.255610172]
[44.75,537,44,9,88,337231.99620523519,null,3199.9245829075721,0,{"$f":"-SUM(F560:H560)*$J$21*1.16","v":-3554.1092530282108},-390.77826138073283,336487.0332737338,null,537,44,9,44,22349109.620148908,{"$f":"IF($G$4=\"mensual\",S559,0)","v":12766.094090996234},null,212187.20828130379,-1013.2815183822082,null,-26184.737583563277,22546864.903419264,null,{"$f":"+Bono!J560","v":53061.195487383091},null,44.75,22936413.132180382]
[44.833333333333336,538,44,10,88,336487.0332737338,null,3192.8557839066157,0,0,-394.02867130686286,339285.86038633354,null,538,44,10,44,22546864.903419264,{"$f":"IF($G$4=\"mensual\",S552,IF($G$4=\"trimestral\",S552,0))","v":12766.094090996234},null,214063.66721597599,-1013.2815183822082,null,-26416.310404521111,22746265.072803333,null,{"$f":"+Bono!J561","v":53390.181054122593},null,44.833333333333336,23138941.114243791]
[44.916666666666664,539,44,11,88,339285.86038633354,null,3219.4132748377715,0,0,-397.30611744695869,342107.96754372434,null,539,44,11,44,22746265.072803333,{"$f":"IF($G$17=\"si\",S550*(1+$G$20),S550)","v":12766.094090996234},null,215955.73413438222,-1013.2815183822082,null,-26649.809398631984,22947323.810111698,null,{"$f":"+Bono!J562","v":53721.206369535845},null,44.916666666666664,23343152.984024957]
[45,540,44,12,88,342107.96754372434,null,3246.1916652934574,0,{"$f":"-SUM(F563:H563)*$J$21*1.16","v":-3605.4974221421462},-396.42844767277575,341352.23333920294,null,540,44,12,44,22947323.810111698,{"$f":"IF($G$4=\"mensual\",S562,0)","v":12766.094090996234},null,217863.53886039002,-1013.2815183822082,null,-26885.250587391853,23150054.91095731,null,{"$f":"+Bono!J563","v":53567.308548046254},null,45,23544974.452844556]
[45.083333333333336,541,45,1,89,341352.23333920294,null,3239.020659913172,0,0,-399.72585463897468,344191.52814447717,null,541,45,1,45,23150054.91095731,{"$f":"IF($G$17=\"si\",S552*(1+$G$20),S552)","v":13402.741756533034},null,219793.2533155847,{"$f":"V563*(1+$G$18)","v":-1063.8140703602326},null,-27123.337026672514,23355063.754932392,null,{"$f":"+Bono!J564","v":53899.432074467346},null,45.083333333333336,23753154.71515134]
[45.166666666666664,542,45,2,89,344191.52814447717,null,3265.9621404006566,0,0,-403.05068873045826,347054.43959614739,null,542,45,2,45,23355063.754932392,{"$f":"IF($G$4=\"mensual\",S564,0)","v":13402.741756533034},null,221738.53978582248,-1063.8140703602326,null,-27363.403817989089,23561777.818586398,null,{"$f":"+Bono!J565","v":54233.6148052762},null,45.166666666666664,23963065.872987822]
[45.25,543,45,3,89,347054.43959614739,null,3293.1277143556017,0,{"$f":"-SUM(F566:H566)*$J$21*1.16","v":-3657.6286027216511},-402.16032890102633,346287.77837888029,null,543,45,3,45,23561777.818586398,{"$f":"IF($G$4=\"mensual\",S565,0)","v":13402.741756533034},null,223700.00673250156,-1063.8140703602326,null,-27605.467433485883,23770211.285571586,null,{"$f":"+Bono!J566","v":54078.249061762843},null,45.25,24170577.313012231]
[45.333333333333336,544,45,4,89,346287.77837888029,null,3285.8530248139791,0,0,-405.5054124282853,349168.12599126599,null,544,45,4,45,23770211.285571586,{"$f":"IF($G$4=\"mensual\",S564,IF($G$4=\"trimestral\",S564,0))","v":13402.741756533034},null,225677.78874136126,-1063.8140703602326,null,-27849.544482318979,23980378.457516801,null,{"$f":"+Bono!J567","v":54413.540478634415},null,45.333333333333336,24383960.123986702]
[45.416666666666664,545,45,5,89,349168.12599126599,null,3313.1840468875275,0,0,-408.878319644258,352072.43171850924,null,545,45,5,45,23980378.457516801,{"$f":"IF($G$4=\"mensual\",S567,0)","v":13402.741756533034},null,227672.02151759632,-1063.8140703602326,null,-28095.651711795861,24192293.755008776,null,{"$f":"+Bono!J568","v":54750.910741181986},null,45.416666666666664,24599117.097468466]
[45.5,546,45,6,89,352072.43171850924,null,3340.7424025520622,0,{"$f":"-SUM(F569:H569)*$J$21*1.16","v":-3710.5135378238801},-407.97508627655543,351294.68549696088,null,546,45,6,45,24192293.755008776,{"$f":"IF($G$4=\"mensual\",S568,0)","v":13402.741756533034},null,229682.84189516824,-1063.8140703602326,null,-28343.806008524534,24405971.718581591,null,{"$f":"+Bono!J569","v":54594.063074179161},null,45.5,24811860.46715273]
[45.583333333333336,547,45,7,89,351294.68549696088,null,3333.3625297001354,0,0,-411.36853571092678,354216.67949095013,null,547,45,7,45,24405971.718581591,{"$f":"+IF($G$4=\"mensual\",S564,IF($G$4=\"trimestral\",S564,IF($G$4=\"semestral\",S564,0)))","v":13402.741756533034},null,231710.38784619406,-1063.8140703602326,null,-28594.024399572187,24621427.009714387,null,{"$f":"+Bono!J570","v":54932.552597758433},null,45.583333333333336,25030576.241803095]
[45.666666666666664,548,45,8,89,354216.67949095013,null,3361.0887256651949,0,0,-414.79021113127374,357162.97800548404,null,548,45,8,45,24621427.009714387,{"$f":"IF($G$4=\"mensual\",S570,0)","v":13402.741756533034},null,233754.79849041346,-1063.8140703602326,null,-28846.324053633529,24838674.411837339,null,{"$f":"+Bono!J571","v":55273.14079564625},null,45.666666666666664,25251110.530638471]
[45.75,549,45,9,89,357162.97800548404,null,3389.0455421930769,0,{"$f":"-SUM(F572:H572)*$J$21*1.16","v":-3764.1631258377488},-413.87391808933364,356373.98650375003,null,549,45,9,45,24838674.411837339,{"$f":"IF($G$4=\"mensual\",S571,0)","v":13402.741756533034},null,235816.21410473427,-1063.8140703602326,null,-29100.722282208768,25057728.831346039,null,{"$f":"+Bono!J572","v":55114.797070138236},null,45.75,25469217.614919927]
[45.833333333333336,550,45,10,89,356373.98650375003,null,3381.5589652059771,0,0,-417.31643274398897,359338.22903621203,null,550,45,10,45,25057728.831346039,{"$f":"IF($G$4=\"mensual\",S564,IF($G$4=\"trimestral\",S564,0))","v":13402.741756533034},null,237894.7761328576,-1063.8140703602326,null,-29357.23654079148,25278605.298624281,null,{"$f":"+Bono!J573","v":55456.515204893862},null,45.833333333333336,25693400.042865388]
[45.916666666666664,551,45,11,89,359338.22903621203,null,3409.6860488043931,0,0,-420.78758149861903,362327.12750351778,null,551,45,11,45,25278605.298624281,{"$f":"IF($G$17=\"si\",S562*(1+$G$20),S562)","v":13402.741756533034},null,239990.62719498304,-1063.8140703602326,null,-29615.884430066304,25501318.969075371,null,{"$f":"+Bono!J574","v":55800.352031721828},null,45.916666666666664,25919446.448610611]
[46,552,45,12,89,362327.12750351778,null,3438.0470874631501,0,{"$f":"-SUM(F575:H575)*$J$21*1.16","v":-3818.5884227298411},-419.85803995517125,361526.72812829592,null,552,45,12,45,25501318.969075371,{"$f":"IF($G$4=\"mensual\",S574,0)","v":13402.741756533034},null,242103.91109759439,-1063.8140703602326,null,-29876.683697116598,25725885.124162022,null,{"$f":"+Bono!J575","v":55640.497977869003},null,46,26143052.350268185]
[46.083333333333336,553,46,1,90,361526.72812829592,null,3430.4522635266999,0,0,-423.35032925451418,364533.83006256807,null,553,46,1,46,25725885.124162022,{"$f":"IF($G$17=\"si\",S564*(1+$G$20),S564)","v":14071.139168479687},null,244241.11512796706,{"$f":"V575*(1+$G$18)","v":-1116.8666908119114},null,-30140.37339365048,25952940.138374005,null,{"$f":"+Bono!J576","v":55985.475519230087},null,46.083333333333336,26373459.443955801]
[46.166666666666664,554,46,2,90,364533.83006256807,null,3458.9860311141924,0,0,-426.87166666867142,367565.94442701357,null,554,46,2,46,25952940.138374005,{"$f":"IF($G$4=\"mensual\",S576,0)","v":14071.139168479687},null,246395.59314258338,-1116.8666908119114,null,-30406.256404633335,26181883.747589622,null,{"$f":"+Bono!J577","v":56332.59196136253},null,46.166666666666664,26605782.283977997]
[46.25,555,46,3,90,367565.94442701357,null,3487.7571364723908,0,{"$f":"-SUM(F578:H578)*$J$21*1.16","v":-3873.8006443227937},-425.92868506622921,366753.9722340969,null,555,46,3,46,26181883.747589622,{"$f":"IF($G$4=\"mensual\",S577,0)","v":14071.139168479687},null,248567.99164412648,-1116.8666908119114,null,-30674.350973585242,26412731.660737831,null,{"$f":"+Bono!J578","v":56171.213173215438},null,46.25,26835656.846145142]
[46.333333333333336,556,46,4,90,366753.9722340969,null,3480.0525004651654,0,0,-429.47146869209195,369804.55326587002,null,556,46,4,46,26412731.660737831,{"$f":"IF($G$4=\"mensual\",S576,IF($G$4=\"trimestral\",S576,0))","v":14071.139168479687},null,250758.45969137043,-1116.8666908119114,null,-30944.675495771971,26645499.717411097,null,{"$f":"+Bono!J579","v":56519.481210346821},null,46.333333333333336,27071823.751887314]
[46.416666666666664,557,46,5,90,369804.55326587002,null,3508.9988322058271,0,0,-433.04372043376799,372880.50837764208,null,557,46,5,46,26645499.717411097,{"$f":"IF($G$4=\"mensual\",S579,0)","v":14071.139168479687},null,252967.14758292836,-1116.8666908119114,null,-31217.248519467164,26880203.888952229,null,{"$f":"+Bono!J580","v":56869.908549705011},null,46.416666666666664,27309954.305879574]
[46.5,558,46,6,90,372880.50837764208,null,3538.1859333375041,0,{"$f":"-SUM(F581:H581)*$J$21*1.16","v":-3929.8111686066268},-432.08710444515259,372056.79603792779,null,558,46,6,46,26880203.888952229,{"$f":"IF($G$4=\"mensual\",S580,0)","v":14071.139168479687},null,255194.20686756502,-1116.8666908119114,null,-31492.088747225054,27116860.279550236,null,{"$f":"+Bono!J581","v":56706.99048390604},null,46.5,27545624.066072069]
[46.583333333333336,559,46,7,90,372056.79603792779,null,3530.3698975082948,0,0,-435.68111248510581,375151.48482295097,null,559,46,7,46,27116860.279550236,{"$f":"+IF($G$4=\"mensual\",S576,IF($G$4=\"trimestral\",S576,IF($G$4=\"semestral\",S576,0)))","v":14071.139168479687},null,257439.79035459532,-1116.8666908119114,null,-31769.215037163696,27355485.127345335,null,{"$f":"+Bono!J582","v":57058.58040251003},null,46.583333333333336,27787695.192570794]
[46.666666666666664,560,46,8,90,375151.48482295097,null,3559.7347585863558,0,0,-439.30501471458325,378271.9145668227,null,560,46,8,46,27355485.127345335,{"$f":"IF($G$4=\"mensual\",S582,0)","v":14071.139168479687},null,259704.05212436939,-1116.8666908119114,null,-32048.64640425895,27596094.805543113,null,{"$f":"+Bono!J583","v":57412.350219391265},null,46.666666666666664,28031779.070329327]
[46.75,561,46,9,90,378271.9145668227,null,3589.3438702928688,0,{"$f":"-SUM(F584:H584)*$J$21*1.16","v":-3986.6315380834872},-438.33456720287717,377436.2923318292,null,561,46,9,46,27596094.805543113,{"$f":"IF($G$4=\"mensual\",S583,0)","v":14071.139168479687},null,261987.14753884479,-1116.8666908119114,null,-32330.402021649166,27838705.823537976,null,{"$f":"+Bono!J584","v":57247.878193864068},null,46.75,28273389.994063668]
[46.833333333333336,562,46,10,90,377436.2923318292,null,3581.4148239334818,0,0,-441.98054030068471,380575.72661546204,null,562,46,10,46,27838705.823537976,{"$f":"IF($G$4=\"mensual\",S576,IF($G$4=\"trimestral\",S576,0))","v":14071.139168479687},null,264289.2332522464,{"$f":"V584","v":-1116.8666908119114},null,-32614.501221950748,28083334.828045938,null,{"$f":"+Bono!J585","v":57602.821679008892},null,46.833333333333336,28521513.376340408]
[46.916666666666664,563,46,11,90,380575.72661546204,null,3611.204265782605,0,0,-445.6568398222438,383741.27404142241,null,563,46,11,46,28083334.828045938,{"$f":"IF($G$17=\"si\",S574*(1+$G$20),S574)","v":14071.139168479687},null,266610.46722181566,{"$f":"V585","v":-1116.8666908119114},null,-32900.963498584686,28329998.604246836,null,{"$f":"+Bono!J586","v":57959.96585493251},null,46.916666666666664,28771699.844143189]
[47,564,46,12,90,383741.27404142241,null,3641.2414898321454,0,{"$f":"-SUM(F587:H587)*$J$21*1.16","v":-4044.2734621462982},-444.67236080016556,382893.56970830815,null,564,46,12,46,28329998.604246836,{"$f":"IF($G$4=\"mensual\",S586,0)","v":14071.139168479687},null,268951.00871864834,{"$f":"V586","v":-1116.8666908119114},null,-33189.808507114052,28578714.076936036,null,{"$f":"+Bono!J587","v":57793.925047558841},null,47,29019401.5716919]
[47.083333333333336,565,47,1,91,382893.56970830815,null,3633.1977989454754,0,0,-448.37105030841417,386078.39645694522,null,565,47,1,47,28578714.076936036,{"$f":"IF($G$17=\"si\",S576*(1+$G$20),S576)","v":14772.869693039602},null,271317.67691426654,{"$f":"V587*(1+$G$18)","v":-1172.5650560560396},null,-33481.813187845255,28830150.245299444,null,{"$f":"+Bono!J588","v":58152.254086534085},null,47.083333333333336,29274380.895842925]
[47.166666666666664,566,47,2,91,386078.39645694522,null,3663.417960495814,0,0,-452.1005047242316,389289.71391271678,null,566,47,2,47,28830150.245299444,{"$f":"IF($G$4=\"mensual\",S588,0)","v":14772.869693039602},null,273703.50265213189,{"$f":"V588","v":-1172.5650560560396},null,-33776.246701002725,29083677.805887558,null,{"$f":"+Bono!J589","v":58512.804807114575},null,47.166666666666664,29531480.324607391]
[47.25,567,47,3,91,389289.71391271678,null,3693.889486880842,0,{"$f":"-SUM(F590:H590)*$J$21*1.16","v":-4102.7488194917996},-451.10179131292267,388429.75278879289,null,567,47,3,47,29083677.805887558,{"$f":"IF($G$4=\"mensual\",S589,0)","v":14772.869693039602},null,276109.17317776242,-1172.5650560560396,null,-34073.129249094673,29339314.154453211,null,{"$f":"+Bono!J590","v":58345.18025439851},null,47.25,29786089.087496404]
[47.333333333333336,568,47,4,91,388429.75278879289,null,3685.7294938441369,0,0,-454.85395944785898,391660.62832318916,null,568,47,4,47,29339314.154453211,{"$f":"IF($G$4=\"mensual\",S588,IF($G$4=\"trimestral\",S588,0))","v":14772.869693039602},null,278534.85355585482,-1172.5650560560396,null,-34372.48120266942,29597076.831443381,null,{"$f":"+Bono!J591","v":58706.927139597807},null,47.333333333333336,30047444.386906169]
[47.416666666666664,569,47,5,91,391660.62832318916,null,3716.3866027874337,0,0,-458.63733731413282,394918.37758866244,null,569,47,5,47,29597076.831443381,{"$f":"IF($G$4=\"mensual\",S591,0)","v":14772.869693039602},null,280980.71022407833,-1172.5650560560396,null,-34674.323101713147,29856983.523202728,null,{"$f":"+Bono!J592","v":59070.916897445379},null,47.416666666666664,30310972.817688838]
[47.5,570,47,6,91,394918.37758866244,null,3747.2987110002996,0,{"$f":"-SUM(F593:H593)*$J$21*1.16","v":-4162.0696605684789},-457.6241837013493,394045.98245539289,null,570,47,6,47,29856983.523202728,{"$f":"IF($G$4=\"mensual\",S592,0)","v":14772.869693039602},null,283446.91100449528,-1172.5650560560396,null,-34978.675657059277,30119052.063187148,null,{"$f":"+Bono!J593","v":58901.69349316485},null,47.5,30571999.739135705]
[47.583333333333336,571,47,7,91,394045.98245539289,null,3739.0207342235667,0,0,-461.4306036999551,397323.57258591655,null,571,47,7,47,30119052.063187148,{"$f":"+IF($G$4=\"mensual\",S588,IF($G$4=\"trimestral\",S588,IF($G$4=\"semestral\",S588,0)))","v":14772.869693039602},null,285933.62511507596,-1172.5650560560396,null,-35285.55975180948,30383300.433187399,null,{"$f":"+Bono!J594","v":59266.890824996044},null,47.583333333333336,30839890.896598313]
[47.666666666666664,572,47,8,91,397323.57258591655,null,3770.1211082965388,0,0,-465.26868468528721,400628.42500952783,null,572,47,8,47,30383300.433187399,{"$f":"IF($G$4=\"mensual\",S594,0)","v":14772.869693039602},null,288441.0231813094,-1172.5650560560396,null,-35594.996442766598,30649746.764562927,null,{"$f":"+Bono!J595","v":59634.35242264485},null,47.666666666666664,31110009.541995097]
[47.75,573,47,9,91,400628.42500952783,null,3801.4801686235414,0,{"$f":"-SUM(F596:H596)*$J$21*1.16","v":-4222.2482100599009},-464.2408820829861,399743.41608600854,null,573,47,9,47,30649746.764562927,{"$f":"IF($G$4=\"mensual\",S595,0)","v":14772.869693039602},null,290969.27724791109,-1172.5650560560396,null,-35907.006961879473,30918409.339485943,null,{"$f":"+Bono!J596","v":59463.514916490254},null,47.75,31377616.270488441]
[47.833333333333336,574,47,10,91,399743.41608600854,null,3793.0825022030085,0,0,-468.10233836232538,403068.39624984923,null,574,47,10,47,30918409.339485943,{"$f":"IF($G$4=\"mensual\",S588,IF($G$4=\"trimestral\",S588,0))","v":14772.869693039602},null,293518.5607906275,-1172.5650560560396,null,-36221.612717699725,31189306.592195857,null,{"$f":"+Bono!J597","v":59832.195606313311},null,47.833333333333336,31652207.18405202]
[47.916666666666664,575,47,11,91,403068.39624984923,null,3824.6325504892889,0,0,-471.99591340839265,406421.0328869301,null,575,47,11,47,31189306.592195857,{"$f":"IF($G$17=\"si\",S586*(1+$G$20),S586)","v":14772.869693039602},null,296089.04872813931,-1172.5650560560396,null,-36538.835296850739,31462457.11026413,null,{"$f":"+Bono!J598","v":60203.162159177584},null,47.916666666666664,31929081.305310238]
[48,576,47,12,91,406421.0328869301,null,3856.4450253234459,0,{"$f":"-SUM(F599:H599)*$J$21*1.16","v":-4283.2968694039273},-470.95325000970553,405523.22779283993,null,576,47,12,47,31462457.11026413,{"$f":"IF($G$4=\"mensual\",S598,0)","v":14772.869693039602},null,298680.91743406322,-1172.5650560560396,null,-36858.696465508801,31737879.635869671,null,{"$f":"+Bono!J599","v":60030.695155377456},null,48,32203433.55881789]
[48.083333333333336,577,48,1,92,405523.22779283993,null,{"$f":"SUM(F600:G600)*$G$8","v":3847.9259386900103},0,0,-474.8705383285747,{"$f":"SUM(F600:K600)","v":408896.28319320135},null,577,48,1,48,31737879.635869671,{"$f":"IF($G$17=\"si\",S588*(1+$G$20),S588)","v":15509.595659205424},null,301301.33538919652,{"$f":"V599*(1+$G$18)","v":-1231.0411099145654},null,-37182.013049937457,{"$f":"SUM(R600:X600)","v":32016277.512758218},null,{"$f":"+Bono!J600","v":60402.892428470448},null,{"$f":"+B600/12","v":48.083333333333336},{"$f":"+AA600+Y600+L600","v":32485576.688379887}]
[{"$f":"+B601/12","v":48.166666666666664},{"$f":"+B600+1","v":578},48,2,92,{"$f":"L600","v":408896.28319320135},null,3879.9321629409174,0,0,{"$f":"-SUM(F601:J601)*0.1%*1.16","v":-478.82040981312497},412297.39494632912,null,{"$f":"+N600+1","v":578},48,2,48,{"$f":"Y600","v":32016277.512758218},{"$f":"IF($G$4=\"mensual\",S600,0)","v":15509.595659205424},null,303942.99519641954,-1231.0411099145654,null,-37508.018912504551,32296991.043591421,null,{"$f":"+Bono!J601","v":60777.397367828824},null,48.166666666666664,32770065.835905578]
[48.25,579,48,3,92,412297.39494632912,null,3912.2046081137232,0,{"$f":"-SUM(F602:H602)*$J$21*1.16","v":-4345.2282193483843},-477.76267074870952,411386.60866434575,null,579,48,3,48,32296991.043591421,{"$f":"IF($G$4=\"mensual\",S601,0)","v":15509.595659205424},null,306606.62776443147,-1231.0411099145654,null,-37836.736422049958,32580039.489483088,null,{"$f":"+Bono!J602","v":60603.285323762364},null,48.25,33052029.383471195]
[48.333333333333336,580,48,4,92,411386.60866434575,null,3903.5623456763242,0,0,-481.73659837162552,414808.43441165041,null,580,48,4,48,32580039.489483088,{"$f":"IF($G$4=\"mensual\",S600,IF($G$4=\"trimestral\",S600,0))","v":15509.595659205424},null,309292.41585795302,-1231.0411099145654,null,-38168.188133472773,32865442.271756854,null,{"$f":"+Bono!J603","v":60979.032722315693},null,48.333333333333336,33341229.738890819]
[48.416666666666664,581,48,5,92,414808.43441165041,null,3936.0313416507233,0,0,-485.74358027382925,418258.72217302729,null,581,48,5,48,32865442.271756854,{"$f":"IF($G$4=\"mensual\",S603,0)","v":15509.595659205424},null,312000.54376190266,-1231.0411099145654,null,-38502.39678927893,33153218.973278765,null,{"$f":"+Bono!J604","v":61357.109798324054},null,48.416666666666664,33632834.805250116]
[48.5,582,48,6,92,418258.72217302729,null,3968.7704077831545,0,{"$f":"-SUM(F605:H605)*$J$21*1.16","v":-4408.0550225436609},-484.67054756758949,417334.7670106992,null,582,48,6,48,33153218.973278765,{"$f":"IF($G$4=\"mensual\",S604,0)","v":15509.595659205424},null,314731.1972940414,-1231.0411099145654,null,-38839.385321141621,33443389.339800954,null,{"$f":"+Bono!J605","v":61181.337023120432},null,48.5,33921905.443834774]
[48.583333333333336,583,48,7,92,417334.7670106992,null,3960.0031885669841,0,0,-488.7019334311488,420806.06826583506,null,583,48,7,48,33443389.339800954,{"$f":"+IF($G$4=\"mensual\",S600,IF($G$4=\"trimestral\",S600,IF($G$4=\"semestral\",S600,0)))","v":15509.595659205424},null,317484.56381772255,-1231.0411099145654,null,-39179.17685147484,33735973.281316496,null,{"$f":"+Bono!J606","v":61560.668409259626},null,48.583333333333336,34218340.017991588]
[48.666666666666664,584,48,8,92,420806.06826583506,null,3992.9416473905267,0,0,-492.76685149934173,424306.24306172627,null,584,48,8,48,33735973.281316496,{"$f":"IF($G$4=\"mensual\",S606,0)","v":15509.595659205424},null,320260.83225474769,-1231.0411099145654,null,-39521.794695019817,34030990.873425514,null,{"$f":"+Bono!J607","v":61942.351693992605},null,48.666666666666664,34517239.468181238]
[48.75,585,48,9,92,424306.24306172627,null,4026.1540812635849,0,{"$f":"-SUM(F608:H608)*$J$21*1.16","v":-4471.7902261728141},-491.67830402350768,423368.9286127935,null,585,48,9,48,34030990.873425514,{"$f":"IF($G$4=\"mensual\",S607,0)","v":15509.595659205424},null,323060.19309832942,-1231.0411099145654,null,-39867.262360444831,34328462.358712688,null,{"$f":"+Bono!J608","v":61764.902347116928},null,48.75,34813596.189672597]
[48.833333333333336,586,48,10,92,423368.9286127935,null,4017.260098543069,0,0,-495.76797890515041,426890.4207324314,null,586,48,10,48,34328462.358712688,{"$f":"IF($G$4=\"mensual\",S600,IF($G$4=\"trimestral\",S600,0))","v":15509.595659205424},null,325882.83842616226,-1231.0411099145654,null,-40215.603551958244,34628408.148136184,null,{"$f":"+Bono!J609","v":62147.851905954289},null,48.833333333333336,35117446.420774572]
[48.916666666666664,587,48,11,92,426890.4207324314,null,4050.6748080870789,0,0,-499.89167082700141,430441.20386969147,null,587,48,11,48,34628408.148136184,{"$f":"IF($G$17=\"si\",S598*(1+$G$20),S598)","v":15509.595659205424},null,328728.9619136019,-1231.0411099145654,null,-40566.84217093492,34930848.822428145,null,{"$f":"+Bono!J610","v":62533.175796475844},null,48.916666666666664,35423823.202094316]
[49,588,48,12,92,430441.20386969147,null,4084.3674540321485,0,{"$f":"-SUM(F611:H611)*$J$21*1.16","v":-4536.4469646196749},-498.78738425656053,429490.33697484736,null,588,48,12,48,34930848.822428145,{"$f":"IF($G$4=\"mensual\",S610,0)","v":15509.595659205424},null,331598.75884695398,-1231.0411099145654,null,-40921.002317556289,35235805.133506835,null,{"$f":"+Bono!J611","v":62354.0338863016},null,49,35727649.504367977]
[49.083333333333336,589,{"$f":"C600+1","v":49},{"$f":"D600","v":1},{"$f":"E600+1","v":93},429490.33697484736,null,4075.3448749586232,0,0,-502.93619094577491,433062.74565886019,null,589,{"$f":"O600+1","v":49},{"$f":"P600","v":1},{"$f":"Q600+1","v":49},35235805.133506835,{"$f":"IF($G$17=\"si\",S600*(1+$G$20),S600)","v":16283.06229664913},null,{"$f":"SUM(R612:T612)*$G$8","v":334499.76540163852},{"$f":"V611*(1+$G$18)","v":-1292.4333762742267},null,-41278.942812281464,35544016.585016571,null,{"$f":"+Bono!J612","v":62740.636129016937},null,49.083333333333336,36039819.966804445]
[49.166666666666664,590,49,2,93,433062.74565886019,null,4109.2427212389275,0,0,-507.11950652091497,436664.86887357821,null,590,49,2,49,35544016.585016571,{"$f":"IF($G$4=\"mensual\",S612,0)","v":16283.06229664913},null,337424.32004508167,-1292.4333762742267,null,-41639.860579419154,35854791.673402615,null,{"$f":"+Bono!J613","v":63129.635350480188},null,49.166666666666664,36354586.177626677]
[49.25,591,49,3,93,436664.86887357821,null,4143.4225225482414,0,{"$f":"-SUM(F614:H614)*$J$21*1.16","v":-4602.0385621755604},-505.999253287383,435700.25358066347,null,591,49,3,49,35854791.673402615,{"$f":"IF($G$4=\"mensual\",S613,0)","v":16283.06229664913},null,340373.20050800359,-1292.4333762742267,null,-42003.780383283949,36168151.722447716,null,{"$f":"+Bono!J614","v":62948.7847328481},null,49.25,36666800.760761231]
[49.333333333333336,592,49,4,93,435700.25358066347,null,4134.2694877722406,0,0,-510.20804675938541,439324.31502167636,null,592,49,4,49,36168151.722447716,{"$f":"IF($G$4=\"mensual\",S612,IF($G$4=\"trimestral\",S612,0))","v":16283.06229664913},null,343346.60912736336,-1292.4333762742267,null,-42370.727194174731,36484118.233301282,null,{"$f":"+Bono!J615","v":63339.074499798851},null,49.333333333333336,36986781.622822762]
[49.416666666666664,593,49,5,93,439324.31502167636,null,4168.6574563682188,0,0,-514.45184807453165,442978.52062997007,null,593,49,5,49,36484118.233301282,{"$f":"IF($G$4=\"mensual\",S615,0)","v":16283.06229664913},null,346344.74992311554,-1292.4333762742267,null,-42740.726190087938,36802712.885954686,null,{"$f":"+Bono!J616","v":63731.784108575506},null,49.416666666666664,37309423.190693237]
[49.5,594,49,6,93,442978.52062997007,null,4203.3314567257103,0,{"$f":"-SUM(F617:H617)*$J$21*1.16","v":-4668.5785357851037},-513.31539731905639,441999.95815359167,null,594,49,6,49,36802712.885954686,{"$f":"IF($G$4=\"mensual\",S616,0)","v":16283.06229664913},null,349367.82861220906,-1292.4333762742267,null,-43113.802758445236,37123957.540728822,null,{"$f":"+Bono!J617","v":63549.208485338633},null,49.5,37629506.707367748]
[49.583333333333336,595,49,7,93,441999.95815359167,null,4194.0460800138026,0,0,-517.58504491098233,445676.4191886945,null,595,49,7,49,37123957.540728822,{"$f":"+IF($G$4=\"mensual\",S612,IF($G$4=\"trimestral\",S612,IF($G$4=\"semestral\",S612,0)))","v":16283.06229664913},null,352416.0526227025,-1292.4333762742267,null,-43489.982497835408,37447874.239774071,null,{"$f":"+Bono!J618","v":63943.220949199669},null,49.583333333333336,37957493.879911967]
[49.666666666666664,596,49,8,93,445676.4191886945,null,4228.9312575079566,0,0,-521.89020651759483,449383.46023968485,null,596,49,8,49,37447874.239774071,{"$f":"IF($G$4=\"mensual\",S618,0)","v":16283.06229664913},null,355489.63110799651,-1292.4333762742267,null,{"$f":"-SUM(R619:V619)*0.1%*1.16","v":-43869.291219770836},37774485.208582669,null,{"$f":"+Bono!J619","v":64339.676336039265},null,49.666666666666664,38288208.345158398]
[49.75,597,49,9,93,449383.46023968485,null,4264.1066024408028,0,{"$f":"-SUM(F620:H620)*$J$21*1.16","v":-4736.0805978317921},-520.73732404338091,448390.74892025045,null,597,49,9,49,37774485.208582669,{"$f":"IF($G$4=\"mensual\",S619,0)","v":16283.06229664913},null,358588.77496118483,-1292.4333762742267,null,-44251.754950458511,38103812.857513778,null,{"$f":"+Bono!J620","v":64155.359253594201},null,49.75,38616358.965687618]
[49.833333333333336,598,49,10,93,448390.74892025045,null,4254.6869702868726,0,0,-525.06870563302323,452120.36718490429,null,598,49,10,49,38103812.857513778,{"$f":"IF($G$4=\"mensual\",S612,IF($G$4=\"trimestral\",S612,0))","v":16283.06229664913},null,361713.69682952517,-1292.4333762742267,null,-44637.399932585868,38435879.783331096,null,{"$f":"+Bono!J621","v":64553.129922527558},null,49.833333333333336,38952553.280438527]
[49.916666666666664,599,49,11,93,452120.36718490429,null,4290.0765457252119,0,0,-529.43611472753025,455881.007615902,null,599,49,11,49,38435879.783331096,{"$f":"IF($G$17=\"si\",S610*(1+$G$20),S610)","v":16283.06229664913},null,364864.61112902925,-1292.4333762742267,null,-45026.252627121379,38770708.770753384,null,{"$f":"+Bono!J622","v":64953.366815746842},null,49.916666666666664,39291543.145185031]
[50,600,49,12,93,455881.007615902,null,4325.7604840763706,0,{"$f":"-SUM(F623:H623)*$J$21*1.16","v":-4804.5586589637742},-528.26656295157693,454873.94287806307,null,600,49,12,49,38770708.770753384,{"$f":"IF($G$4=\"mensual\",S622,0)","v":16283.06229664913},null,368041.73405917548,-1292.4333762742267,null,-45418.339715130205,39108322.794017807,null,{"$f":"+Bono!J623","v":64767.291663550954},null,50,39627964.028559417]
[50.083333333333336,601,50,1,94,454873.94287806307,null,4316.2046553072969,0,0,-532.66057113870954,458657.48696223163,null,601,50,1,50,39108322.794017807,{"$f":"IF($G$17=\"si\",S612*(1+$G$20),S612)","v":17095.10186999548},null,371252.9888931092,{"$f":"V623*(1+$G$18)","v":-1356.8872872356976},null,-45814.564237092658,39449499.433256574,null,{"$f":"+Bono!J624","v":65168.856384405815},null,50.083333333333336,39973325.776603207]
[50.166666666666664,602,50,2,94,458657.48696223163,null,4352.1059216808389,0,0,-537.09112774533844,462472.50175616716,null,602,50,2,50,39449499.433256574,{"$f":"IF($G$4=\"mensual\",S624,0)","v":17095.10186999548},null,374490.34337696282,-1356.8872872356976,null,-46214.084469810892,39793513.906746484,null,{"$f":"+Bono!J625","v":65572.910853108595},null,50.166666666666664,40321559.319355763]
[50.25,603,50,3,94,462472.50175616716,null,4388.3058071028645,0,{"$f":"-SUM(F626:H626)*$J$21*1.16","v":-4874.0268309605399},-535.90466564947894,461450.87606666004,null,603,50,3,50,39793513.906746484,{"$f":"IF($G$4=\"mensual\",S625,0)","v":17095.10186999548},null,377754.62548240816,-1356.8872872356976,null,-46616.927826301515,40140389.81898535,null,{"$f":"+Bono!J626","v":65385.060862183083},null,50.25,40667225.755914196]
[50.333333333333336,604,50,4,94,461450.87606666004,null,4378.6118124784807,0,0,-540.36220593980067,465289.12567319872,null,604,50,4,50,40140389.81898535,{"$f":"IF($G$4=\"mensual\",S624,IF($G$4=\"trimestral\",S624,0))","v":17095.10186999548},null,381046.05918763741,-1356.8872872356976,null,-47023.121947596657,40490150.970808148,null,{"$f":"+Bono!J627","v":65790.455823726254},null,50.333333333333336,41021230.552305073]
[50.416666666666664,605,50,5,94,465289.12567319872,null,4415.0321682261711,0,0,-544.85682309605295,469159.30101832887,null,605,50,5,50,40490150.970808148,{"$f":"IF($G$4=\"mensual\",S627,0)","v":17095.10186999548},null,384364.8703338452,-1356.8872872356976,null,-47432.694704640708,40842821.361020103,null,{"$f":"+Bono!J628","v":66198.364281053888},null,50.416666666666664,41378179.026319481]
[50.5,606,50,6,94,469159.30101832887,null,4451.7554606966396,0,{"$f":"-SUM(F629:H629)*$J$21*1.16","v":-4944.4994296410259},-543.65320617728605,468122.90384320723,null,606,50,6,50,40842821.361020103,{"$f":"IF($G$4=\"mensual\",S628,0)","v":17095.10186999548},null,387711.28664072504,-1356.8872872356976,null,-47845.674200202564,41198425.188043386,null,{"$f":"+Bono!J629","v":66008.72252247257},null,50.5,41732556.81440907]
[50.583333333333336,607,50,7,94,468122.90384320723,null,4441.9213025039235,0,0,-548.17519716902495,472016.64994854212,null,607,50,7,50,41198425.188043386,{"$f":"+IF($G$4=\"mensual\",S624,IF($G$4=\"trimestral\",S624,IF($G$4=\"semestral\",S624,0)))","v":17095.10186999548},null,391085.53772209422,-1356.8872872356976,null,-48262.088770803952,41556986.851577431,null,{"$f":"+Bono!J630","v":66417.984258649813},null,50.583333333333336,42095421.485784627]
[50.666666666666664,608,50,8,94,472016.64994854212,null,4478.8682530372853,0,0,-552.73480111383208,475942.78340046556,null,608,50,8,50,41556986.851577431,{"$f":"IF($G$4=\"mensual\",S630,0)","v":17095.10186999548},null,394487.85510164843,-1356.8872872356976,null,-48681.96698866372,41918530.954273172,null,{"$f":"+Bono!J631","v":66829.783465062777},null,50.666666666666664,42461303.521138705]
[50.75,609,50,9,94,475942.78340046556,null,4516.1225203961267,0,{"$f":"-SUM(F632:H632)*$J$21*1.16","v":-5015.9909778137962},-551.51378133393553,474891.40116171399,null,609,50,9,50,41918530.954273172,{"$f":"IF($G$4=\"mensual\",S631,0)","v":17095.10186999548},null,397918.47222884791,-1356.8872872356976,null,-49105.337663658334,42283082.303421117,null,{"$f":"+Bono!J632","v":66638.332848426464},null,50.75,42824612.037431262]
[50.833333333333336,610,50,10,94,474891.40116171399,null,4506.1461720375146,0,0,-556.10115490715168,478841.44617884437,null,610,50,10,50,42283082.303421117,{"$f":"IF($G$4=\"mensual\",S624,IF($G$4=\"trimestral\",S624,0))","v":17095.10186999548},null,401377.62449493568,-1356.8872872356976,null,-49532.229845298607,42650665.912653506,null,{"$f":"+Bono!J633","v":67051.498241654888},null,50.833333333333336,43196558.857074007]
[50.916666666666664,611,50,11,94,478841.44617884437,null,4543.6273312873464,0,0,-560.72668527175279,482824.34682485997,null,611,50,11,50,42650665.912653506,{"$f":"IF($G$17=\"si\",S622*(1+$G$20),S622)","v":17095.10186999548},null,404865.54924908851,-1356.8872872356976,null,-49962.672824723006,43021307.003660627,null,{"$f":"+Bono!J634","v":67467.225308245557},null,50.916666666666664,43571598.575793736]
[51,612,50,12,94,482824.34682485997,null,4581.4202507964055,0,{"$f":"-SUM(F635:H635)*$J$21*1.16","v":-5088.5162082698525},-559.48801100616834,481757.76285638037,null,612,50,12,50,43021307.003660627,{"$f":"IF($G$4=\"mensual\",S634,0)","v":17095.10186999548},null,408382.48581470305,-1356.8872872356976,null,-50396.696136707382,43395031.007921383,null,{"$f":"+Bono!J635","v":67273.948580141878},null,51,43944062.7193579]
[51.083333333333336,613,51,1,95,481757.76285638037,null,4571.2996563721563,0,0,-564.14171251479297,485764.92080023774,null,613,51,1,51,43395031.007921383,{"$f":"IF($G$17=\"si\",S624*(1+$G$20),S624)","v":17947.63801927253},null,411936.76504480629,{"$f":"V635*(1+$G$18)","v":-1424.5555276275993},null,-50835.249392331083,43772655.606065504,null,{"$f":"+Bono!J636","v":67691.054864633799},null,51.083333333333336,44326111.581730373]
[51.166666666666664,614,51,2,95,485764.92080023774,null,4609.3227483575884,0,0,-568.8341225163706,489805.40942607896,null,614,51,2,51,43772655.606065504,{"$f":"IF($G$4=\"mensual\",S636,0)","v":17947.63801927253},null,415519.96666360099,-1424.5555276275993,null,-51277.450440056062,44153421.20478069,null,{"$f":"+Bono!J637","v":68110.747256470917},null,51.166666666666664,44711337.361463241]
[51.25,615,51,3,95,489805.40942607896,null,4647.6621082827342,0,{"$f":"-SUM(F638:H638)*$J$21*1.16","v":-5162.0900668187369},-567.57753850234985,488723.40392904059,null,615,51,3,51,44153421.20478069,{"$f":"IF($G$4=\"mensual\",S637,0)","v":17947.63801927253},null,419132.97258642194,-1424.5555276275993,null,-51723.329621436154,44537353.930237323,null,{"$f":"+Bono!J638","v":67915.626998919441},null,51.25,45093992.961165279]
[51.333333333333336,616,51,4,95,488723.40392904059,null,4637.3951821672563,0,0,-572.29852696900105,492788.50058423885,null,616,51,4,51,44537353.930237323,{"$f":"IF($G$4=\"mensual\",S636,IF($G$4=\"trimestral\",S636,0))","v":17947.63801927253},null,422776.03071909008,-1424.5555276275993,null,-52172.91753039974,44924480.125917651,null,{"$f":"+Bono!J639","v":68336.711764037871},null,51.333333333333336,45485605.338265926]
[51.416666666666664,617,51,5,95,492788.50058423885,null,4675.9680425874985,0,0,-577.05878360711858,496887.40984321927,null,617,51,5,51,44924480.125917651,{"$f":"IF($G$4=\"mensual\",S639,0)","v":17947.63801927253},null,426449.3910294536,-1424.5555276275993,null,-52626.245015348948,45314826.354423404,null,{"$f":"+Bono!J640","v":68760.407303542845},null,51.416666666666664,45880474.171570167]
[51.5,618,51,6,95,496887.40984321927,null,4714.861743803609,0,{"$f":"-SUM(F641:H641)*$J$21*1.16","v":-5236.7277153685191},-575.78403089111907,495789.75984076323,null,618,51,6,51,45314826.354423404,{"$f":"IF($G$4=\"mensual\",S640,0)","v":17947.63801927253},null,430153.30556454009,-1424.5555276275993,null,-53083.343181276316,45708419.39929831,null,{"$f":"+Bono!J641","v":68563.425932425438},null,51.5,46272772.585071497]
[51.583333333333336,619,51,7,95,495789.75984076323,null,4704.446370215659,0,0,-580.57327920473551,499913.63293177419,null,619,51,7,51,45708419.39929831,{"$f":"+IF($G$4=\"mensual\",S636,IF($G$4=\"trimestral\",S636,IF($G$4=\"semestral\",S636,0)))","v":17947.63801927253},null,433888.02846785012,-1424.5555276275993,null,-53544.243391899043,46105286.266865902,null,{"$f":"+Bono!J642","v":68988.52712607164},null,51.583333333333336,46674188.426923752]
[51.666666666666664,620,51,8,95,499913.63293177419,null,4743.5769480647614,0,0,-585.40236346061317,504071.80751637835,null,620,51,8,51,46105286.266865902,{"$f":"IF($G$4=\"mensual\",S642,0)","v":17947.63801927253},null,437653.8159967956,-1424.5555276275993,null,-54008.977271811033,46505454.188082531,null,{"$f":"+Bono!J643","v":69416.263996427122},null,51.666666666666664,47078942.259595342]
[51.75,621,51,9,95,504071.80751637835,null,4783.0330056839157,0,{"$f":"-SUM(F644:H644)*$J$21*1.16","v":-5312.4445350503311},-584.10917934493386,502958.286807667,null,621,51,9,51,46505454.188082531,{"$f":"IF($G$4=\"mensual\",S643,0)","v":17947.63801927253},null,441450.92654028273,-1424.5555276275993,null,-54477.57670865277,46908950.620405808,null,{"$f":"+Bono!J644","v":69217.403759903187},null,51.75,47481126.310973376]
[51.833333333333336,622,51,10,95,502958.286807667,null,4772.4670382505838,0,0,-588.96767446126444,507141.78617145633,null,622,51,10,51,46908950.620405808,{"$f":"IF($G$4=\"mensual\",S636,IF($G$4=\"trimestral\",S636,0))","v":17947.63801927253},null,445279.62063644134,-1424.5555276275993,null,-54950.073855299313,47315803.249678597,null,{"$f":"+Bono!J645","v":69646.559691936476},null,51.833333333333336,47892591.595541991]
[51.916666666666664,623,51,11,95,507141.78617145633,null,4812.1633974555407,0,0,-593.86658149993775,511360.08298741194,null,623,51,11,51,47315803.249678597,{"$f":"IF($G$17=\"si\",S634*(1+$G$20),S634)","v":17947.63801927253},null,449140.16099050152,-1424.5555276275993,null,-55426.501132066456,47726039.992028676,null,{"$f":"+Bono!J646","v":70078.376440527383},null,51.916666666666664,48307478.451456614]
[52,624,51,12,95,511360.08298741194,null,4852.1899424787543,0,{"$f":"-SUM(F647:H647)*$J$21*1.16","v":-5389.2561293880581},-592.55469948858297,510230.46210101404,null,624,51,12,51,47726039.992028676,{"$f":"IF($G$4=\"mensual\",S646,0)","v":17947.63801927253},null,453032.81249281927,-1424.5555276275993,null,-55906.891228935237,48139688.995784201,null,{"$f":"+Bono!J647","v":69877.619417434151},null,52,48719797.07730265]
[52.083333333333336,625,52,1,96,510230.46210101404,null,4841.4712037931449,0,0,-597.48344263357626,514474.44986217358,null,625,52,1,52,48139688.995784201,{"$f":"IF($G$17=\"si\",S636*(1+$G$20),S636)","v":18842.690316821256},null,456966.33520296909,{"$f":"V647*(1+$G$18)","v":-1495.5983967014931},null,-56392.242810572447,48557610.180096716,null,{"$f":"+Bono!J648","v":70310.868763124425},null,52.083333333333336,49142395.498722017]
[52.166666666666664,626,52,2,96,514474.44986217358,null,4881.7415248756924,0,0,-602.45318200897714,518753.73820504028,null,626,52,2,52,48557610.180096716,{"$f":"IF($G$4=\"mensual\",S648,0)","v":18842.690316821256},null,460931.90278388624,-1495.5983967014931,null,-56881.631442768827,48979007.543357946,null,{"$f":"+Bono!J649","v":70746.804305011785},null,52.166666666666664,49568508.085867994]
[52.25,627,52,3,96,518753.73820504028,null,4922.3468058685294,0,{"$f":"-SUM(F650:H650)*$J$21*1.16","v":-5467.1783275138887},-601.12233175273809,517607.78435164219,null,627,52,3,52,48979007.543357946,{"$f":"IF($G$4=\"mensual\",S649,0)","v":18842.690316821256},null,464930.45510705136,-1495.5983967014931,null,-57375.09070484672,49403909.999680266,null,{"$f":"+Bono!J650","v":70544.132403249227},null,52.25,49992061.916435152]
[52.333333333333336,628,52,4,96,517607.78435164219,null,4911.4730870410467,0,0,-606.12233862887251,521913.13510005438,null,628,52,4,52,49403909.999680266,{"$f":"IF($G$4=\"mensual\",S648,IF($G$4=\"trimestral\",S648,0))","v":18842.690316821256},null,468962.26653248956,-1495.5983967014931,null,-57872.654455434124,49832346.703677438,null,{"$f":"+Bono!J651","v":70981.514206762266},null,52.333333333333336,50425241.35298425]
[52.416666666666664,629,52,5,96,521913.13510005438,null,4952.3256688034826,0,0,-611.16393449187501,526254.29683436593,null,629,52,5,52,49832346.703677438,{"$f":"IF($G$4=\"mensual\",S651,0)","v":18842.690316821256},null,473027.61370229395,-1495.5983967014931,null,-58374.356834787824,50264347.052465066,null,{"$f":"+Bono!J652","v":71421.60782819023},null,52.416666666666664,50862022.957127623]
[52.5,630,52,6,96,526254.29683436593,null,4993.5180535959007,0,{"$f":"-SUM(F653:H653)*$J$21*1.16","v":-5546.2271874303215},-609.81384173261654,525091.7738587989,null,630,52,6,52,50264347.052465066,{"$f":"IF($G$4=\"mensual\",S652,0)","v":18842.690316821256},null,477126.77555960743,{"$f":"V652","v":-1495.5983967014931},null,-58880.232267135951,50699940.687677652,null,{"$f":"+Bono!J653","v":71217.002783090662},null,52.5,51296249.464319542]
[52.583333333333336,631,52,7,96,525091.7738587989,null,4982.4871137990494,0,0,-614.88614272821371,529459.37482986972,null,631,52,7,52,50699940.687677652,{"$f":"+IF($G$4=\"mensual\",S648,IF($G$4=\"trimestral\",S648,IF($G$4=\"semestral\",S648,0)))","v":18842.690316821256},null,481260.03336776193,-1495.5983967014931,null,-59390.315463040009,51139157.497502491,null,{"$f":"+Bono!J654","v":71658.556461006854},null,52.583333333333336,51740275.428793371]
[52.666666666666664,632,52,8,96,529459.37482986972,null,5023.9303750344243,0,0,-620.00063403768877,533863.30457086652,null,632,52,8,52,51139157.497502491,{"$f":"IF($G$4=\"mensual\",S654,0)","v":18842.690316821256},null,485427.67072957801,-1495.5983967014931,null,-59904.641421776534,51582027.618730403,null,{"$f":"+Bono!J655","v":72102.847822943193},null,52.666666666666664,52187993.771124214]
[52.75,633,52,9,96,533863.30457086652,null,5065.7183524451948,0,{"$f":"-SUM(F656:H656)*$J$21*1.16","v":-5626.4189993193741},-618.63102055183094,532683.97290344047,null,633,52,9,52,51582027.618730403,{"$f":"IF($G$4=\"mensual\",S655,0)","v":18842.690316821256},null,489629.97360682336,-1495.5983967014931,null,-60423.245433738513,52028581.438823603,null,{"$f":"+Bono!J656","v":71896.291195625177},null,52.75,52633161.702922665]
[52.833333333333336,634,52,10,96,532683.97290344047,null,5054.5279184517922,0,0,-623.77666095339509,537114.72416093887,null,634,52,10,52,52028581.438823603,{"$f":"IF($G$4=\"mensual\",S648,IF($G$4=\"trimestral\",S648,0))","v":18842.690316821256},null,493867.23033983476,-1495.5983967014931,null,-60946.163082856918,52478849.59800069,null,{"$f":"+Bono!J657","v":72342.056540491656},null,52.833333333333336,53088306.378702119]
[52.916666666666664,635,52,11,96,537114.72416093887,null,5096.5703996788379,0,0,-628.9651016903166,541582.3294589275,null,635,52,11,52,52478849.59800069,{"$f":"IF($G$17=\"si\",S646*(1+$G$20),S646)","v":18842.690316821256},null,498139.73166730203,-1495.5983967014931,null,-61473.430249042198,52932862.991339065,null,{"$f":"+Bono!J658","v":72790.585682201898},null,52.916666666666664,53547235.906480193]
[53,636,52,12,96,541582.3294589275,null,5138.9625812648983,0,{"$f":"-SUM(F659:H659)*$J$21*1.16","v":-5707.7702888996091},-627.57568523149951,540385.94606606127,null,636,52,12,52,52932862.991339065,{"$f":"IF($G$4=\"mensual\",S658,0)","v":18842.690316821256},null,502447.77074621728,-1495.5983967014931,null,-62005.083110646257,53390652.770894751,null,{"$f":"+Bono!J659","v":72582.058857908632},null,53,54003620.77581872]
[53.083333333333336,637,53,1,97,540385.94606606127,null,5127.6103469796171,0,0,-632.79572543912741,544880.76068760175,null,637,53,1,53,53390652.770894751,{"$f":"IF($G$17=\"si\",S648*(1+$G$20),S648)","v":19782.379051459193},null,506800.55968381558,{"$f":"V659*(1+$G$18)","v":-1570.184187864676},null,-62542.172009512906,53853123.353432648,null,{"$f":"+Bono!J660","v":73032.076041825407},null,53.083333333333336,54471036.190162078]
[53.166666666666664,638,53,2,97,544880.76068760175,null,5170.2607122027512,0,0,-638.05918482377319,549412.96221498074,null,638,53,2,53,53853123.353432648,{"$f":"IF($G$4=\"mensual\",S660,0)","v":19782.379051459193},null,511188.84727985371,-1570.184187864676,null,-63083.728298868264,54319440.667277232,null,{"$f":"+Bono!J661","v":73484.883384481218},null,53.166666666666664,54942338.512876697]
[53.25,639,53,3,97,549412.96221498074,null,5213.2658340338512,0,{"$f":"-SUM(F662:H662)*$J$21*1.16","v":-5790.2978208317127},-636.64967906469212,548199.28054911818,null,639,53,3,53,54319440.667277232,{"$f":"IF($G$4=\"mensual\",S661,0)","v":19782.379051459193},null,515613.63571273594,-1570.184187864676,null,-63629.789137510124,54789636.70871605,null,{"$f":"+Bono!J662","v":73274.367570902963},null,53.25,55411110.356836066]
[53.333333333333336,640,53,4,97,548199.28054911818,null,5201.7494600179816,0,0,-641.94519481059797,552759.08481432556,null,640,53,4,53,54789636.70871605,{"$f":"IF($G$4=\"mensual\",S660,IF($G$4=\"trimestral\",S660,0))","v":19782.379051459193},null,520075.22858860949,-1570.184187864676,null,-64180.39199331517,55263743.740174942,null,{"$f":"+Bono!J663","v":73728.677149143128},null,53.333333333333336,55890231.502138413]
[53.416666666666664,641,53,5,97,552759.08481432556,null,{"$f":"SUM(F664:G664)*$G$8","v":5245.0164985127631},0,0,-647.28475752289239,{"$f":"SUM(F664:K664)","v":557356.8165553154},null,641,53,5,53,55263743.740174942,{"$f":"IF($G$4=\"mensual\",S663,0)","v":19782.379051459193},null,524573.93203895271,-1570.184187864676,null,-64735.574645809887,{"$f":"SUM(R664:X664)","v":55741794.292431682},null,{"$f":"+Bono!J664","v":74185.803499465037},null,{"$f":"+B664/12","v":53.416666666666664},{"$f":"+AA664+Y664+L664","v":56373336.912486464}]
[{"$f":"+B665/12","v":53.5},{"$f":"+B664+1","v":642},53,6,97,{"$f":"L664","v":557356.8165553154},null,5288.6434229717752,0,{"$f":"-SUM(F665:H665)*$J$21*1.16","v":-5874.0186021733189},{"$f":"-SUM(F665:J665)*0.1%*1.16","v":-645.8548719962921},556125.58650411759,null,{"$f":"+N664+1","v":642},53,6,53,{"$f":"Y664","v":55741794.292431682},{"$f":"IF($G$4=\"mensual\",S664,0)","v":19782.379051459193},null,529110.05474158004,-1570.184187864676,null,-65295.375188762751,56223821.166848093,null,{"$f":"+Bono!J665","v":73973.279725045519},null,53.5,56853920.033077255]
[53.583333333333336,643,53,7,97,556125.58650411759,null,5276.9605359611232,0,0,-651.22695456649126,560751.32008551212,null,643,53,7,53,56223821.166848093,{"$f":"+IF($G$4=\"mensual\",S660,IF($G$4=\"trimestral\",S660,IF($G$4=\"semestral\",S660,0)))","v":19782.379051459193},null,533683.90794182161,-1570.184187864676,null,-65859.832032798062,56709857.437620707,null,{"$f":"+Bono!J666","v":74431.922639710174},null,53.583333333333336,57345040.68034593]
[53.666666666666664,644,53,8,97,560751.32008551212,null,5320.8531640855235,0,0,-656.64372096953321,565415.5295286281,null,644,53,8,53,56709857.437620707,{"$f":"IF($G$4=\"mensual\",S666,0)","v":19782.379051459193},null,538295.80547387991,-1570.184187864676,null,-66428.983908031485,57199936.454050146,null,{"$f":"+Bono!J667","v":74893.409193645028},null,53.666666666666664,57840245.392772414]
[53.75,645,53,9,97,565415.5295286281,null,5365.1108816947781,0,{"$f":"-SUM(F668:H668)*$J$21*1.16","v":-5958.9498858837724},-655.19316100834942,564166.49736343091,null,645,53,9,53,57199936.454050146,{"$f":"IF($G$4=\"mensual\",S667,0)","v":19782.379051459193},null,542946.06378236297,-1570.184187864676,null,-67002.869866727473,57694091.842829376,null,{"$f":"+Bono!J668","v":74678.858305871836},null,53.75,58332937.198498681]
[53.833333333333336,646,53,10,97,564166.49736343091,null,5353.2590741105878,0,0,-660.64291746754805,568859.11352007394,null,646,53,10,53,57694091.842829376,{"$f":"IF($G$4=\"mensual\",S660,IF($G$4=\"trimestral\",S660,0))","v":19782.379051459193},null,547635.00194399746,-1570.184187864676,null,-67581.529285978875,58192357.510350987,null,{"$f":"+Bono!J669","v":75141.875889579649},null,53.833333333333336,58836358.499760635]
[53.916666666666664,647,53,11,97,568859.11352007394,null,5397.7863371424519,0,0,-666.13800383437092,573590.76185338199,null,647,53,11,53,58192357.510350987,{"$f":"IF($G$17=\"si\",S658*(1+$G$20),S658)","v":19782.379051459193},null,552362.94168952189,-1570.184187864676,null,-68165.001870408756,58694767.645033695,null,{"$f":"+Bono!J670","v":75607.764236013172},null,53.916666666666664,59343966.171123087]
[54,648,53,12,97,573590.76185338199,null,5442.683968416477,0,{"$f":"-SUM(F671:H671)*$J$21*1.16","v":-6045.1091743795769},-664.66647051100585,572323.67017690791,null,648,53,12,53,58694767.645033695,{"$f":"IF($G$4=\"mensual\",S670,0)","v":19782.379051459193},null,557130.20742576208,-1570.184187864676,null,-68753.327654894732,59201356.719668157,null,{"$f":"+Bono!J671","v":75391.166899691641},null,54,59849071.556744754]
[54.083333333333336,649,54,1,98,572323.67017690791,null,5430.6607978692809,0,0,-670.19502393074151,577084.13595084648,null,649,54,1,54,59201356.719668157,{"$f":"IF($G$17=\"si\",S660*(1+$G$20),S660)","v":20768.930251231272},null,561946.48743794451,{"$f":"V671*(1+$G$18)","v":-1648.4895873503249},null,-69347.61143141317,59713076.036338568,null,{"$f":"+Bono!J672","v":75858.60087930382},null,54.083333333333336,60366018.77316872]
[54.166666666666664,650,54,2,98,577084.13595084648,null,5475.831871870354,0,0,-675.76956267435139,581884.19826004247,null,650,54,2,54,59713076.036338568,{"$f":"IF($G$4=\"mensual\",S672,0)","v":20768.930251231272},null,566802.08607445634,-1648.4895873503249,null,-69946.838333169202,60229051.724743739,null,{"$f":"+Bono!J673","v":76328.933003808575},null,54.166666666666664,60887264.856007583]
[54.25,651,54,3,98,581884.19826004247,null,5521.378669195411,0,{"$f":"-SUM(F674:H674)*$J$21*1.16","v":-6132.5142231412447},-674.27675273907209,580598.78595335758,null,651,54,3,54,60229051.724743739,{"$f":"IF($G$4=\"mensual\",S673,0)","v":20768.930251231272},null,571698.07254101196,-1648.4895873503249,null,-70551.049476020416,60749319.188472614,null,{"$f":"+Bono!J674","v":76110.269699319353},null,54.25,61406028.244125292]
[54.333333333333336,652,54,4,98,580598.78595335758,null,5509.1816579817132,0,0,-679.88524242915355,585428.0823689102,null,652,54,4,54,60749319.188472614,{"$f":"IF($G$4=\"mensual\",S672,IF($G$4=\"trimestral\",S672,0))","v":20768.930251231272},null,576634.78277493594,-1648.4895873503249,null,-71160.286317817256,61273914.12559361,null,{"$f":"+Bono!J675","v":76582.162199699989},null,54.333333333333336,61935924.370162219]
[54.416666666666664,653,{"$f":"C664+1","v":54},{"$f":"D664","v":5},{"$f":"E664+1","v":98},585428.0823689102,null,5555.0058516886165,0,0,-685.54038233589461,590297.54783826286,null,653,{"$f":"O664+1","v":54},{"$f":"P664","v":5},{"$f":"Q664+1","v":54},61273914.12559361,{"$f":"IF($G$4=\"mensual\",S675,0)","v":20768.930251231272},null,{"$f":"SUM(R676:T676)*$G$8","v":581612.55550780764},-1648.4895873503249,null,-71774.590661247741,61802872.531104051,null,{"$f":"+Bono!J676","v":77056.980488319139},null,54.416666666666664,62470227.059430636]
[54.5,654,54,6,98,590297.54783826286,null,5601.2112012294065,0,{"$f":"-SUM(F677:H677)*$J$21*1.16","v":-6221.1830443722993},-684.02598815433919,588993.55000696564,null,654,54,6,54,61802872.531104051,{"$f":"IF($G$4=\"mensual\",S676,0)","v":20768.930251231272},null,586631.73228870344,-1648.4895873503249,null,-72394.0046567057,62336230.699399933,null,{"$f":"+Bono!J677","v":76836.231509859062},null,54.5,63002060.480916753]
[54.583333333333336,655,54,7,98,588993.55000696564,null,5588.8378358210812,0,0,-689.71556989763258,593892.67227288906,null,655,54,7,54,62336230.699399933,{"$f":"+IF($G$4=\"mensual\",S672,IF($G$4=\"trimestral\",S672,IF($G$4=\"semestral\",S672,0)))","v":20768.930251231272},null,591692.65750763158,-1648.4895873503249,null,-73018.57080518287,62874025.226766258,null,{"$f":"+Bono!J678","v":77312.625057671408},null,54.583333333333336,63545230.524096824]
[54.666666666666664,656,54,8,98,593892.67227288906,null,5635.3245925636338,0,0,-695.45247636392514,598832.54438908875,null,656,54,8,54,62874025.226766258,{"$f":"IF($G$4=\"mensual\",S678,0)","v":20768.930251231272},null,596795.67841916264,-1648.4895873503249,null,-73648.331961185191,63416293.013888121,null,{"$f":"+Bono!J679","v":77791.972300738416},null,54.666666666666664,64092917.53057795]
[54.75,657,54,9,98,598832.54438908875,null,5682.1980161975735,0,{"$f":"-SUM(F680:H680)*$J$21*1.16","v":-6311.1339107111899},-693.91618585370713,597509.69230872148,null,657,54,9,54,63416293.013888121,{"$f":"IF($G$4=\"mensual\",S679,0)","v":20768.930251231272},null,601941.14516625647,-1648.4895873503249,null,-74283.331335673181,63963071.268382587,null,{"$f":"+Bono!J680","v":77569.117754544699},null,54.75,64638150.078445852]
[54.833333333333336,658,54,10,98,597509.69230872148,null,5669.6457467238861,0,0,-699.68803214431648,602479.65002330102,null,658,54,10,54,63963071.268382587,{"$f":"IF($G$4=\"mensual\",S672,IF($G$4=\"trimestral\",S672,0))","v":20768.930251231272},null,607129.4108042873,-1648.4895873503249,null,-74923.612499026873,64514397.507351726,null,{"$f":"+Bono!J681","v":78050.055282083631},null,54.833333333333336,65194927.212657116]
[54.916666666666664,659,54,11,98,602479.65002330102,null,5716.8046463711644,0,0,-705.5078874168197,607490.94678225531,null,659,54,11,54,64514397.507351726,{"$f":"IF($G$17=\"si\",S670*(1+$G$20),S670)","v":20768.930251231272},null,612360.83132526791,-1648.4895873503249,null,-75569.219384035416,65070309.559956841,null,{"$f":"+Bono!J682","v":78533.974678078608},null,54.916666666666664,65756334.481417172]
[55,660,54,12,98,607490.94678225531,null,5764.3558036506292,0,{"$f":"-SUM(F683:H683)*$J$21*1.16","v":-6402.3853589968576},-703.94938398321449,606148.96784292581,null,660,54,12,54,65070309.559956841,{"$f":"IF($G$4=\"mensual\",S682,0)","v":20768.930251231272},null,617635.7656822768,-1648.4895873503249,null,{"$f":"-SUM(R683:V683)*0.1%*1.16","v":-76220.19628891148},65630845.570014089,null,{"$f":"+Bono!J683","v":78308.994480635971},null,55,66315303.532337658]
[55.083333333333336,661,55,1,99,606148.96784292581,null,5751.6220433727603,0,0,-709.80468426810626,611190.78520203044,null,661,55,1,55,65630845.570014089,{"$f":"IF($G$17=\"si\",S672*(1+$G$20),S672)","v":21804.680956646225},null,622964.40383806289,{"$f":"V683*(1+$G$18)","v":-1730.700092769403},null,-76877.705387470589,66197006.249328554,null,{"$f":"+Bono!J684","v":78794.519329697054},null,55.083333333333336,66886991.553860284]
[55.166666666666664,662,55,2,99,611190.78520203044,null,5799.4628043072908,0,0,-715.70868768735181,616274.53931865038,null,662,55,2,55,66197006.249328554,{"$f":"IF($G$4=\"mensual\",S684,0)","v":21804.680956646225},null,628336.58529178076,-1730.700092769403,null,-77540.683505961686,66767876.131978251,null,{"$f":"+Bono!J685","v":79283.054489139715},null,55.166666666666664,67463433.725786045]
[55.25,663,55,3,99,616274.53931865038,null,5847.7014944502307,0,{"$f":"-SUM(F686:H686)*$J$21*1.16","v":-6494.9561940887706},-714.1276501580536,614913.15696885379,null,663,55,3,55,66767876.131978251,{"$f":"IF($G$4=\"mensual\",S685,0)","v":21804.680956646225},null,633753.45140083344,-1730.700092769403,null,-78209.17613452184,67343494.388108447,null,{"$f":"+Bono!J686","v":79055.928365370492},null,55.25,68037463.473442659]
[55.333333333333336,664,55,4,99,614913.15696885379,null,5834.7836192282148,0,0,-720.06761108217506,620027.87297699973,null,664,55,4,55,67343494.388108447,{"$f":"IF($G$4=\"mensual\",S684,IF($G$4=\"trimestral\",S684,0))","v":21804.680956646225},null,639215.37384261866,-1730.700092769403,null,-78883.229141665332,67923900.513673276,null,{"$f":"+Bono!J687","v":79546.084291155901},null,55.333333333333336,68623474.470941439]
[55.416666666666664,665,55,5,99,620027.87297699973,null,5883.3161003487094,0,0,-726.05697932972419,625185.13209801877,null,665,55,5,55,67923900.513673276,{"$f":"IF($G$4=\"mensual\",S687,0)","v":21804.680956646225},null,644722.72738606692,-1730.700092769403,null,-79562.888777430941,68509134.333145797,null,{"$f":"+Bono!J688","v":80039.279240535747},null,55.416666666666664,69214358.74448435]
[55.5,666,55,6,99,625185.13209801877,null,5932.2522642580489,0,{"$f":"-SUM(F689:H689)*$J$21*1.16","v":-6588.8654927421703},-724.45308188866022,623804.0657876461,null,666,55,6,55,68509134.333145797,{"$f":"IF($G$4=\"mensual\",S688,0)","v":21804.680956646225},null,650275.88991735689,-1730.700092769403,null,-80248.201676555371,69099236.002250478,null,{"$f":"+Bono!J689","v":79809.986721972702},null,55.5,69802850.054760098]
[55.583333333333336,667,55,7,99,623804.0657876461,null,5919.1476120099942,0,0,-730.47892754360112,628992.7344721125,null,667,55,7,55,69099236.002250478,{"$f":"+IF($G$4=\"mensual\",S684,IF($G$4=\"trimestral\",S684,IF($G$4=\"semestral\",S684,0)))","v":21804.680956646225},null,655875.24246584298,-1730.700092769403,null,-80939.214861673041,69694246.010718524,null,{"$f":"+Bono!J690","v":80304.817897034402},null,55.583333333333336,70403543.563087672]
[55.666666666666664,668,55,8,99,628992.7344721125,null,5968.3818147630509,0,0,-736.55489489277568,634224.56139198283,null,668,55,8,55,69694246.010718524,{"$f":"IF($G$4=\"mensual\",S690,0)","v":21804.680956646225},null,661521.16923020082,-1730.700092769403,null,-81635.975746542637,70294205.185066074,null,{"$f":"+Bono!J691","v":80802.717082778356},null,55.666666666666664,71009232.463540837]
[55.75,669,55,9,99,634224.56139198283,null,6018.0255370752775,0,{"$f":"-SUM(F692:H692)*$J$21*1.16","v":-6684.1326075393663},-734.92780701296158,632823.52651450573,null,669,55,9,55,70294205.185066074,{"$f":"IF($G$4=\"mensual\",S691,0)","v":21804.680956646225},null,667214.0576047881,-1730.700092769403,null,-82338.532139300311,70899154.691395447,null,{"$f":"+Bono!J692","v":80571.237505720084},null,55.75,71612549.455415666]
[55.833333333333336,670,55,10,99,632823.52651450573,null,6004.7314072287691,0,0,-741.04077918921189,638087.21714254527,null,670,55,10,55,70899154.691395447,{"$f":"IF($G$4=\"mensual\",S684,IF($G$4=\"trimestral\",S684,0))","v":21804.680956646225},null,672954.29820622574,-1730.700092769403,null,-83046.932245740041,71509136.03821981,null,{"$f":"+Bono!J693","v":81070.788523940646},null,55.833333333333336,72228294.043886304]
[55.916666666666664,671,55,11,99,638087.21714254527,null,6054.6774776699413,0,0,-747.2045977594496,643394.69002245576,null,671,55,11,55,71509136.03821981,{"$f":"IF($G$17=\"si\",S682*(1+$G$20),S682)","v":21804.680956646225},null,678742.2849002002,-1730.700092769403,null,-83761.22467262132,72124191.079311281,null,{"$f":"+Bono!J694","v":81573.436816418514},null,55.916666666666664,72849159.206150159]
[56,672,55,12,99,643394.69002245576,null,6105.0389888333275,0,{"$f":"-SUM(F695:H695)*$J$21*1.16","v":-6780.7771708778582},-745.55398413487683,641973.39785627625,null,672,55,12,55,72124191.079311281,{"$f":"IF($G$4=\"mensual\",S694,0)","v":21804.680956646225},null,684578.41482848872,-1730.700092769403,null,-84481.458431004226,72744362.016572654,null,{"$f":"+Bono!J695","v":81339.749320067262},null,56,73467675.163748994]
[56.083333333333336,673,56,1,100,641973.39785627625,null,6091.5526417689043,0,0,-751.75534257773234,647313.19515546749,null,673,56,1,56,72744362.016572654,{"$f":"IF($G$17=\"si\",S684*(1+$G$20),S684)","v":22892.084756890363},null,690473.406585705,{"$f":"V695*(1+$G$18)","v":-1817.0104525358317},null,-85208.856177056761,73370701.641285658,null,{"$f":"+Bono!J696","v":81844.06520067864},null,56.083333333333336,74099858.901641801]
[56.166666666666664,674,56,2,100,647313.19515546749,null,6142.2208726535764,0,0,-758.00828259262039,652697.40774552838,null,674,56,2,56,73370701.641285658,{"$f":"IF($G$4=\"mensual\",S696,0)","v":22892.084756890363},null,696416.61359133117,-1817.0104525358317,null,-85942.304261850353,74002251.024919495,null,{"$f":"+Bono!J697","v":82351.507898246811},null,56.166666666666664,74737299.940563262]
[56.25,675,56,3,100,652697.40774552838,null,6193.3105510364394,0,{"$f":"-SUM(F698:H698)*$J$21*1.16","v":-6878.8190990161365},-756.33380306915626,651255.56539447943,null,675,56,3,56,74002251.024919495,{"$f":"IF($G$4=\"mensual\",S697,0)","v":22892.084756890363},null,702409.25492059614,-1817.0104525358317,null,-86681.853010807565,74639053.501133651,null,{"$f":"+Bono!J698","v":82115.591422828453},null,56.25,75372424.657950953]
[56.333333333333336,676,56,4,100,651255.56539447943,null,6179.6292075230231,0,0,-762.6248257383229,656672.56977626414,null,676,56,4,56,74639053.501133651,{"$f":"IF($G$4=\"mensual\",S696,IF($G$4=\"trimestral\",S696,0))","v":22892.084756890363},null,708451.74175762199,-1817.0104525358317,null,-87427.553167946913,75281152.76402767,null,{"$f":"+Bono!J699","v":82624.717614469046},null,56.333333333333336,76020450.051418409]
[56.416666666666664,677,56,5,100,656672.56977626414,null,6231.0300404275076,0,0,-768.96817578736216,662134.63164090423,null,677,56,5,56,75281152.76402767,{"$f":"IF($G$4=\"mensual\",S699,0)","v":22892.084756890363},null,714544.48870667175,-1817.0104525358317,null,-88179.455899364897,75928592.871139348,null,{"$f":"+Bono!J700","v":83137.000447552797},null,56.416666666666664,76673864.503227815]
[56.5,678,56,6,100,662134.63164090423,null,6282.8584144569595,0,{"$f":"-SUM(F701:H701)*$J$21*1.16","v":-6978.2785961779709},-767.26948529265258,660671.94197389064,null,678,56,6,56,75928592.871139348,{"$f":"IF($G$4=\"mensual\",S700,0)","v":22892.084756890363},null,720687.91382059874,-1817.0104525358317,null,-88937.612796746573,76581418.246467546,null,{"$f":"+Bono!J701","v":82898.833732418992},null,56.5,77324989.022173867]
[56.583333333333336,679,56,7,100,660671.94197389064,null,6268.9792550791135,0,0,-773.65146862560482,666167.26976034406,null,679,56,7,56,76581418.246467546,{"$f":"+IF($G$4=\"mensual\",S696,IF($G$4=\"trimestral\",S696,IF($G$4=\"semestral\",S696,0)))","v":22892.084756890363},null,726882.43862952944,-1817.0104525358317,null,-89702.075880905657,77239673.683520526,null,{"$f":"+Bono!J702","v":83412.816117229537},null,56.583333333333336,77989253.769398093]
[56.666666666666664,680,56,8,100,666167.26976034406,null,6321.1232825524303,0,0,-780.08653592975986,671708.30650696682,null,680,56,8,56,77239673.683520526,{"$f":"IF($G$4=\"mensual\",S702,0)","v":22892.084756890363},null,733128.48816978873,-1817.0104525358317,null,-90472.897605353821,77903404.348389313,null,{"$f":"+Bono!J703","v":83929.985252444181},null,56.666666666666664,78659042.640148714]
[56.75,681,56,9,100,671708.30650696682,null,6373.7010328840497,0,{"$f":"-SUM(F704:H704)*$J$21*1.16","v":-7079.1761587160436},-778.36328440211628,670224.46809673274,null,681,56,9,56,77903404.348389313,{"$f":"IF($G$4=\"mensual\",S703,0)","v":22892.084756890363},null,739426.49101306172,-1817.0104525358317,null,-91250.130859899815,78572655.782846838,null,{"$f":"+Bono!J704","v":83689.546834156368},null,56.75,79326569.797777727]
[56.833333333333336,682,56,10,100,670224.46809673274,null,6359.6211974609578,0,0,-784.83754358126453,675799.2517506124,null,682,56,10,56,78572655.782846838,{"$f":"IF($G$4=\"mensual\",S696,IF($G$4=\"trimestral\",S696,0))","v":22892.084756890363},null,745776.87929580186,-1817.0104525358317,null,-92033.828974278498,79247473.907472715,null,{"$f":"+Bono!J705","v":84208.431731914723},null,56.833333333333336,80007481.590955243]
[56.916666666666664,683,56,11,100,675799.2517506124,null,6412.5191652077201,0,0,-791.36565426235131,681420.40526155778,null,683,56,11,56,79247473.907472715,{"$f":"IF($G$17=\"si\",S694*(1+$G$20),S694)","v":22892.084756890363},null,752180.08874888043,-1817.0104525358317,null,-92824.045721810107,79927905.024804145,null,{"$f":"+Bono!J706","v":84730.533776226119},null,56.916666666666664,80694055.96384193]
[57,684,56,12,100,681420.40526155778,null,6465.8571269265849,0,{"$f":"-SUM(F707:H707)*$J$21*1.16","v":-7181.5325793357761},-789.61748657861233,679915.11232256994,null,684,56,12,56,79927905.024804145,{"$f":"IF($G$4=\"mensual\",S706,0)","v":22892.084756890363},null,758636.55872748536,-1817.0104525358317,null,-93620.835323089748,80613995.822512895,null,{"$f":"+Bono!J707","v":84487.801986621227},null,57,81378398.736822084]
[57.083333333333336,685,57,1,101,679915.11232256994,null,6451.5737139226394,0,0,-796.1853558023314,685570.50068069028,null,685,57,1,57,80613995.822512895,{"$f":"IF($G$17=\"si\",S696*(1+$G$20),S696)","v":24033.717602133434},null,765157.56495894236,{"$f":"V707*(1+$G$18)","v":-1907.6251272058842},null,-94425.484196738238,81306853.995750025,null,{"$f":"+Bono!J708","v":85011.636158916735},null,57.083333333333336,82077436.132589623]
[57.166666666666664,686,57,2,101,685570.50068069028,null,6505.2365230174955,0,0,-802.807855156301,691272.92934855155,null,686,57,2,57,81306853.995750025,{"$f":"IF($G$4=\"mensual\",S708,0)","v":24033.717602133434},null,771731.95269782306,-1907.6251272058842,null,-95236.825967470417,82005475.2149553,null,{"$f":"+Bono!J709","v":85538.718163841477},null,57.166666666666664,82782286.862467706]
[57.25,687,57,3,101,691272.92934855155,null,6559.3456878710613,0,{"$f":"-SUM(F710:H710)*$J$21*1.16","v":-7285.3689513802528},-801.0344110586492,689745.87167398375,null,687,57,3,57,82005475.2149553,{"$f":"IF($G$4=\"mensual\",S709,0)","v":24033.717602133434},null,778361.02478656778,-1907.6251272058842,null,-96054.916305371473,82709907.415911406,null,{"$f":"+Bono!J710","v":85293.671128079208},null,57.25,83484946.958713472]
[57.333333333333336,688,57,4,101,689745.87167398375,null,6544.8557537979214,0,0,-807.69724381622666,695483.03018396546,null,688,57,4,57,82709907.415911406,{"$f":"IF($G$4=\"mensual\",S708,IF($G$4=\"trimestral\",S708,0))","v":24033.717602133434},null,785045.23607789294,-1907.6251272058842,null,-96879.811343578491,83420198.933120638,null,{"$f":"+Bono!J711","v":85822.501782526801},null,57.333333333333336,84201504.465087131]
[57.416666666666664,689,57,5,101,695483.03018396546,null,6599.2944629320182,0,0,-814.41549659040106,701267.90915030707,null,689,57,5,57,83420198.933120638,{"$f":"IF($G$4=\"mensual\",S711,0)","v":24033.717602133434},null,791785.04520788218,-1907.6251272058842,null,-97711.567682131994,84136398.503121316,null,{"$f":"+Bono!J712","v":86354.61124837253},null,57.416666666666664,84924021.023519993]
[57.5,690,57,6,101,701267.90915030707,null,6654.1859815952585,0,{"$f":"-SUM(F713:H713)*$J$21*1.16","v":-7390.7066731770619},-812.6164106121214,699718.77204811317,null,690,57,6,57,84136398.503121316,{"$f":"IF($G$4=\"mensual\",S712,0)","v":24033.717602133434},null,798580.91462745599,-1907.6251272058842,null,-98550.242391859487,84858555.267831847,null,{"$f":"+Bono!J713","v":86107.226882964067},null,57.5,85644381.266762927]
[57.583333333333336,691,57,7,101,699718.77204811317,null,6639.4865404052607,0,0,-819.3755799626814,705538.88300855586,null,691,57,7,57,84858555.267831847,{"$f":"+IF($G$4=\"mensual\",S708,IF($G$4=\"trimestral\",S708,IF($G$4=\"semestral\",S708,0)))","v":24033.717602133434},null,805433.31063410267,-1907.6251272058842,null,-99395.893018291419,85586718.777922586,null,{"$f":"+Bono!J714","v":86641.101677458559},null,57.583333333333336,86378898.762608603]
[57.666666666666664,692,57,8,101,705538.88300855586,null,6694.7123681651992,0,0,-826.19097063699633,711407.40440608398,null,692,57,8,57,85586718.777922586,{"$f":"IF($G$4=\"mensual\",S714,0)","v":24033.717602133434},null,812342.70340387279,-1907.6251272058842,null,-100248.5775856096,86320938.996215776,null,{"$f":"+Bono!J715","v":87178.286557604559},null,57.666666666666664,87119524.687179461]
[57.75,693,57,9,101,711407.40440608398,null,6750.3975525385131,0,{"$f":"-SUM(F716:H716)*$J$21*1.16","v":-7497.5674524480191},-824.36587202716225,709835.86863414734,null,693,57,9,57,86320938.996215776,{"$f":"IF($G$4=\"mensual\",S715,0)","v":24033.717602133434},null,819309.5670236412,-1907.6251272058842,null,-101108.35460062862,87061266.30111371,null,{"$f":"+Bono!J716","v":86928.542568422316},null,57.75,87858030.712316275]
[57.833333333333336,694,57,10,101,709835.86863414734,null,6735.4855750093166,0,0,-831.22277088262183,715740.13143827405,null,694,57,10,57,87061266.30111371,{"$f":"IF($G$4=\"mensual\",S708,IF($G$4=\"trimestral\",S708,0))","v":24033.717602133434},null,826334.37952363573,{"$f":"V716","v":-1907.6251272058842},null,-101975.28305681022,87807751.490055457,null,{"$f":"+Bono!J717","v":87467.509615433373},null,57.833333333333336,88610959.131109163]
[57.916666666666664,695,57,11,101,715740.13143827405,null,6791.5099021890355,0,0,-838.13670395493716,721693.50463650818,null,695,57,11,57,87807751.490055457,{"$f":"IF($G$17=\"si\",S706*(1+$G$20),S706)","v":24033.717602133434},null,833417.62291023706,{"$f":"V717","v":-1907.6251272058842},null,-102849.42243831111,88560445.783002302,null,{"$f":"+Bono!J718","v":88009.818320652208},null,57.916666666666664,89370149.10595946]
[58,696,57,12,101,721693.50463650818,null,6848.0002277293752,0,{"$f":"-SUM(F719:H719)*$J$21*1.16","v":-7605.9733107826396},-836.28521660200749,720099.24633685278,null,696,57,12,57,88560445.783002302,{"$f":"IF($G$4=\"mensual\",S718,0)","v":24033.717602133434},null,840559.78319905198,{"$f":"V718","v":-1907.6251272058842},null,-103730.83272406449,89319400.825952217,null,{"$f":"+Bono!J719","v":87757.692200920748},null,58,90127257.764489979]
[58.083333333333336,697,58,1,102,720099.24633685278,null,6832.8726408397051,0,0,-843.2412580141231,726088.87771967833,null,697,58,1,58,89319400.825952217,{"$f":"IF($G$17=\"si\",S708*(1+$G$20),S708)","v":25232.283905695349},null,847772.72339573421,{"$f":"V719*(1+$G$18)","v":-2002.7587738246671},null,-104620.8675663966,90085782.206913441,null,{"$f":"+Bono!J720","v":88301.800071828708},null,58.083333333333336,90900172.884704962]
[58.166666666666664,698,58,2,102,726088.87771967833,null,6889.7070127858169,0,0,-850.25515828965831,732128.32957417448,null,698,58,2,58,90085782.206913441,{"$f":"IF($G$4=\"mensual\",S720,0)","v":25232.283905695349},null,855044.75762859511,{"$f":"V720","v":-2002.7587738246671},null,-105518.30552802172,90858538.184145898,null,{"$f":"+Bono!J721","v":88849.281474648888},null,58.166666666666664,91679515.795194715]
[58.25,699,58,3,102,732128.32957417448,null,6947.014120871514,0,{"$f":"-SUM(F722:H722)*$J$21*1.16","v":-7715.9465881762808},-848.37690064396884,730511.0202062258,null,699,58,3,58,90858538.184145898,{"$f":"IF($G$4=\"mensual\",S721,0)","v":25232.283905695349},null,862377.2790855153,-2002.7587738246671,null,-106423.20818650142,91637721.780176789,null,{"$f":"+Bono!J722","v":88594.750502916693},null,58.25,92456827.550885931]
[58.333333333333336,700,58,4,102,730511.0202062258,null,6931.667807167888,0,0,-855.43351809553656,736587.25449529814,null,700,58,4,58,91637721.780176789,{"$f":"IF($G$4=\"mensual\",S720,IF($G$4=\"trimestral\",S720,0))","v":25232.283905695349},null,869770.79088627617,-2002.7587738246671,null,-107335.63763158613,92423386.458563372,null,{"$f":"+Bono!J723","v":89144.048232389774},null,58.333333333333336,93249117.761291057]
[58.416666666666664,701,58,5,102,736587.25449529814,null,6989.3239361589085,0,0,-862.54883098049015,742714.02960047661,null,701,58,5,58,92423386.458563372,{"$f":"IF($G$4=\"mensual\",S723,0)","v":25232.283905695349},null,877225.80033550225,-2002.7587738246671,null,-108255.65646947567,93215586.127561271,null,{"$f":"+Bono!J724","v":89696.751671500184},null,58.416666666666664,94047996.908833236]
[58.5,702,58,6,102,742714.02960047661,null,7047.4596364887057,0,{"$f":"-SUM(F725:H725)*$J$21*1.16","v":-7827.5099476339183},-860.64341597562429,741073.33587335574,null,702,58,6,58,93215586.127561271,{"$f":"IF($G$4=\"mensual\",S724,0)","v":25232.283905695349},null,884742.81895746861,-2002.7587738246671,null,-109183.3278271147,94014375.143823504,null,{"$f":"+Bono!J725","v":89439.792909591866},null,58.5,94844888.272606447]
[58.583333333333336,703,58,7,102,741073.33587335574,null,7031.8914334429865,0,0,-867.80206367588642,747237.42524312285,null,703,58,7,58,94014375.143823504,{"$f":"+IF($G$4=\"mensual\",S720,IF($G$4=\"trimestral\",S720,IF($G$4=\"semestral\",S720,0)))","v":25232.283905695349},null,892322.36253120017,-2002.7587738246671,null,-110118.71535652444,94819808.316130057,null,{"$f":"+Bono!J726","v":89994.330000005182},null,58.583333333333336,95657040.07137318]
[58.666666666666664,704,58,8,102,747237.42524312285,null,7090.3812011029713,0,0,-875.02025547530195,753452.78618875053,null,704,58,8,58,94819808.316130057,{"$f":"IF($G$4=\"mensual\",S726,0)","v":25232.283905695349},null,899964.95112586138,-2002.7587738246671,null,-111061.88323916984,95631940.909148633,null,{"$f":"+Bono!J727","v":90552.305284701375},null,58.666666666666664,96475946.000622094]
[58.75,705,58,9,102,753452.78618875053,null,{"$f":"SUM(F728:G728)*$G$8","v":7149.3574741297261},0,{"$f":"-SUM(F728:H728)*$J$21*1.16","v":-7940.6863798404702},-873.08729044832614,{"$f":"SUM(F728:K728)","v":751788.36999259144},null,705,58,9,58,95631940.909148633,{"$f":"IF($G$4=\"mensual\",S727,0)","v":25232.283905695349},null,907671.10913644067,-2002.7587738246671,null,-112012.89619036367,{"$f":"SUM(R728:X728)","v":96450828.647226602},null,{"$f":"+Bono!J728","v":90292.895575650648},null,{"$f":"+B728/12","v":58.75},{"$f":"+AA728+Y728+L728","v":97292909.912794858}]
[{"$f":"+B729/12","v":58.833333333333336},{"$f":"+B728+1","v":706},58,10,102,{"$f":"L728","v":751788.36999259144},null,7133.5641734874062,0,0,{"$f":"-SUM(F729:J729)*0.1%*1.16","v":-880.3494436326514},758041.58472244616,null,{"$f":"+N728+1","v":706},58,10,58,{"$f":"Y728","v":96450828.647226602},{"$f":"IF($G$4=\"mensual\",S720,IF($G$4=\"trimestral\",S720,0))","v":25232.283905695349},null,915441.36531973165,-2002.7587738246671,null,-112971.81946370672,97276527.718214512,null,{"$f":"+Bono!J729","v":90852.722001547314},null,58.833333333333336,98125422.024938509]
[58.916666666666664,707,58,11,102,758041.58472244616,null,7192.8996332344823,0,0,-887.67200185258957,764346.81235382811,null,707,58,11,58,97276527.718214512,{"$f":"IF($G$17=\"si\",S718*(1+$G$20),S718)","v":25232.283905695349},null,923276.25283061352,-2002.7587738246671,null,-113938.71885556531,98109094.777321443,null,{"$f":"+Bono!J730","v":91416.019416220384},null,58.916666666666664,98964857.609091491]
[59,708,58,12,102,764346.81235382811,null,7252.7286326340773,0,{"$f":"-SUM(F731:H731)*$J$21*1.16","v":-8055.4992078986652},-885.71108846313359,762658.33069010044,null,708,58,12,58,98109094.777321443,{"$f":"IF($G$4=\"mensual\",S730,0)","v":25232.283905695349},null,931176.30925863388,-2002.7587738246671,null,-114913.66070958586,98948586.951002374,null,{"$f":"+Bono!J731","v":91154.135382183042},null,59,99802399.417074665]
[59.083333333333336,709,59,1,103,762658.33069010044,null,7236.7069797531249,0,0,-893.07824369703008,769001.95942615648,null,709,59,1,59,98948586.951002374,{"$f":"IF($G$17=\"si\",S720*(1+$G$20),S720)","v":26490.622950529156},null,939154.01678353315,{"$f":"V731*(1+$G$18)","v":-2102.6367544270579},null,-115898.06958661912,99796230.884395391,null,{"$f":"+Bono!J732","v":91719.301594777848},null,59.083333333333336,100656952.14541632]
[59.166666666666664,710,59,2,103,769001.95942615648,null,7296.9003592834315,0,0,-900.50667735111028,775398.35310808884,null,710,59,2,59,99796230.884395391,{"$f":"IF($G$4=\"mensual\",S732,0)","v":26490.622950529156},null,947197.1345497549,-2102.6367544270579,null,-116890.66656596384,100650925.33857527,null,{"$f":"+Bono!J733","v":92287.97190344597},null,59.166666666666664,101518611.66358681]
[59.25,711,59,3,103,775398.35310808884,null,7357.5944144593632,0,{"$f":"-SUM(F734:H734)*$J$21*1.16","v":-8171.9720921354028},-898.51741149927864,773685.4580189134,null,711,59,3,59,100650925.33857527,{"$f":"IF($G$4=\"mensual\",S733,0)","v":26490.622950529156},null,955307.15324780438,-2102.6367544270579,null,-117891.51975450224,101512728.95826468,null,{"$f":"+Bono!J734","v":92023.589943593193},null,59.25,102378438.00622718]
[59.333333333333336,712,59,4,103,773685.4580189134,null,7341.3411076395132,0,0,-905.99108698680129,780120.80803956604,null,712,59,4,59,101512728.95826468,{"$f":"IF($G$4=\"mensual\",S732,IF($G$4=\"trimestral\",S732,0))","v":26490.622950529156},null,963484.62934531132,-2102.6367544270579,null,-118900.69782561506,102381700.87598048,null,{"$f":"+Bono!J735","v":92594.146875319231},null,59.333333333333336,103254415.83089536]
[59.416666666666664,713,59,5,103,780120.80803956604,null,7402.4048114470506,0,0,-913.52692690717515,786609.68592410593,null,713,59,5,59,102381700.87598048,{"$f":"IF($G$4=\"mensual\",S735,0)","v":26490.622950529156},null,971730.123938484,-2102.6367544270579,null,-119918.27002389348,103257900.71609117,null,{"$f":"+Bono!J736","v":93168.241326202478},null,59.416666666666664,104137678.64334148]
[59.5,714,59,6,103,786609.68592410593,null,7463.976430071245,0,{"$f":"-SUM(F737:H737)*$J$21*1.16","v":-8290.12903497761},-911.50889865027148,784872.02442054928,null,714,59,6,59,103257900.71609117,{"$f":"IF($G$4=\"mensual\",S736,0)","v":26490.622950529156},null,980044.20279060921,-2102.6367544270579,null,-120944.30616989032,104141388.59890798,null,{"$f":"+Bono!J737","v":92901.337614593911},null,59.5,105019161.96094312]
[59.583333333333336,715,59,7,103,784872.02442054928,null,7447.4881198735993,0,0,-919.09063454689044,791400.4219058759,null,715,59,7,59,104141388.59890798,{"$f":"+IF($G$4=\"mensual\",S732,IF($G$4=\"trimestral\",S732,IF($G$4=\"semestral\",S732,0)))","v":26490.622950529156},null,988427.43637087103,-2102.6367544270579,null,-121978.87666491093,105032225.14481004,null,{"$f":"+Bono!J738","v":93477.336683692571},null,59.583333333333336,105917102.9033996]
[59.666666666666664,716,59,8,103,791400.4219058759,null,7509.4347318065165,0,0,-926.73543369971151,797983.12120398274,null,716,59,8,59,105032225.14481004,{"$f":"IF($G$4=\"mensual\",S738,0)","v":26490.622950529156},null,996880.39989349479,-2102.6367544270579,null,-123022.05249584357,105930471.47840379,null,{"$f":"+Bono!J739","v":94056.907013831413},null,59.666666666666664,106822511.50662161]
[59.75,717,{"$f":"C728+1","v":59},{"$f":"D728","v":9},{"$f":"E728+1","v":103},797983.12120398274,null,7571.8966023968778,0,{"$f":"-SUM(F740:H740)*$J$21*1.16","v":-8409.9943858986044},-924.68822716775799,796220.33519331331,null,717,{"$f":"O728+1","v":59},{"$f":"P728","v":9},{"$f":"Q728+1","v":59},105930471.47840379,{"$f":"IF($G$4=\"mensual\",S739,0)","v":26490.622950529156},null,{"$f":"SUM(R740:T740)*$G$8","v":1005403.6733572144},-2102.6367544270579,null,-124073.90524003025,106836189.23271708,null,{"$f":"+Bono!J740","v":93787.45749726794},null,59.75,107726197.02540766]
[59.833333333333336,718,59,10,103,796220.33519331331,null,7555.1698909536553,0,0,-932.37958589774973,802843.12549836922,null,718,59,10,59,106836189.23271708,{"$f":"IF($G$4=\"mensual\",S732,IF($G$4=\"trimestral\",S732,0))","v":26490.622950529156},null,1013997.8415850687,-2102.6367544270579,null,-125134.50707017798,107749440.55342807,null,{"$f":"+Bono!J741","v":94368.950612422734},null,59.833333333333336,108646652.62953886]
[59.916666666666664,719,59,11,103,802843.12549836922,null,7618.0121768074951,0,0,-940.1349197032049,809521.00275547348,null,719,59,11,59,107749440.55342807,{"$f":"IF($G$17=\"si\",S730*(1+$G$20),S730)","v":26490.622950529156},null,1022663.4942645298,-2102.6367544270579,null,-126203.93075931088,108670288.10312939,null,{"$f":"+Bono!J742","v":94954.049052340517},null,59.916666666666664,109574763.15493721]
[60,720,59,12,103,809521.00275547348,null,7681.3771713427195,0,{"$f":"-SUM(F743:H743)*$J$21*1.16","v":-8531.5928464359622},-938.05811301324104,807732.72896736697,null,720,59,12,59,108670288.10312939,{"$f":"IF($G$4=\"mensual\",S742,0)","v":26490.622950529156},null,1031401.2259879637,-2102.6367544270579,null,-127282.24968576361,109598795.06562769,null,{"$f":"+Bono!J743","v":94682.02944819667},null,60,110501209.82404326]
[60.083333333333336,721,60,1,104,807732.72896736697,null,7664.4086116570343,0,0,-945.86067959166769,814451.2768994323,null,721,60,1,60,109598795.06562769,{"$f":"IF($G$17=\"si\",S732*(1+$G$20),S732)","v":27811.715615196634},null,1040224.1718681713,{"$f":"V743*(1+$G$18)","v":-2207.4956698976862},null,-128370.96321063174,110536252.49423054,null,{"$f":"+Bono!J744","v":95269.069013211149},null,60.083333333333336,111445972.84014317]
[60.166666666666664,722,60,2,104,814451.2768994323,null,7728.1595218054727,0,0,-953.72814624863577,821225.70827498916,null,722,60,2,60,110536252.49423054,{"$f":"IF($G$4=\"mensual\",S744,0)","v":27811.715615196634},null,1049119.5112931705,-2207.4956698976862,null,-129468.73242154405,111481507.49304746,null,{"$f":"+Bono!J745","v":95859.748291621087},null,60.166666666666664,112398592.94961408]
[60.25,723,60,3,104,821225.70827498916,null,7792.4406983776744,0,{"$f":"-SUM(F746:H746)*$J$21*1.16","v":-8654.9494752819501},-951.62131141777843,819411.57818666706,null,723,60,3,60,111481507.49304746,{"$f":"IF($G$4=\"mensual\",S745,0)","v":27811.715615196634},null,1058088.8402473237,-2207.4956698976862,null,-130575.63264175848,112434624.92059831,null,{"$f":"+Bono!J746","v":95585.134085656653},null,60.25,113349621.63287063]
[60.333333333333336,724,60,4,104,819411.57818666706,null,7775.2267936131893,0,0,-959.53669377712504,826227.26828650315,null,724,60,4,60,112434624.92059831,{"$f":"IF($G$4=\"mensual\",S744,IF($G$4=\"trimestral\",S744,0))","v":27811.715615196634},null,1067132.7741596962,-2207.4956698976862,null,{"$f":"-SUM(R747:V747)*0.1%*1.16","v":-131691.73982105585},113395670.17488225,null,{"$f":"+Bono!J747","v":96177.773004177041},null,60.333333333333336,114318075.21617292]
[60.416666666666664,725,60,5,104,826227.26828650315,null,7839.8994656768218,0,0,-967.51791459252877,833099.64983758749,null,725,60,5,60,113395670.17488225,{"$f":"IF($G$4=\"mensual\",S747,0)","v":27811.715615196634},null,1076251.9335783601,-2207.4956698976862,null,-132817.13054095083,114364709.19786495,null,{"$f":"+Bono!J748","v":96774.086352734099},null,60.416666666666664,115294582.93405527]
[60.5,726,60,6,104,833099.64983758749,null,7905.1100711825093,0,{"$f":"-SUM(F749:H749)*$J$21*1.16","v":-8780.0896934475586},-965.38061744977404,831259.28959787264,null,726,60,6,60,114364709.19786495,{"$f":"IF($G$4=\"mensual\",S748,0)","v":27811.715615196634},null,1085446.9442129738,-2207.4956698976862,null,-133951.88201994693,115341808.48000327,null,{"$f":"+Bono!J749","v":96496.852796884967},null,60.5,116269564.62239802]
[60.583333333333336,727,60,7,104,831259.28959787264,null,7887.6472739428154,0,0,-973.41044677130583,838173.52642504417,null,727,60,7,60,115341808.48000327,{"$f":"+IF($G$4=\"mensual\",S744,IF($G$4=\"trimestral\",S744,IF($G$4=\"semestral\",S744,0)))","v":27811.715615196634},null,1094718.4369777141,-2207.4956698976862,null,-135096.07211883448,116327035.06480744,null,{"$f":"+Bono!J750","v":97095.144477167778},null,60.583333333333336,117262303.73570967]
[60.666666666666664,728,60,8,104,838173.52642504417,null,7953.2550354965151,0,0,-981.50706649422727,845145.27439404652,null,728,60,8,60,116327035.06480744,{"$f":"IF($G$4=\"mensual\",S750,0)","v":27811.715615196634},null,1104067.0480345672,-2207.4956698976862,null,-136249.77934603326,117320456.55344127,null,{"$f":"+Bono!J751","v":97697.145635265886},null,60.666666666666664,118263298.97347058]
[60.75,729,60,9,104,845145.27439404652,null,8019.4085083664777,0,{"$f":"-SUM(F752:H752)*$J$21*1.16","v":-8907.0392895011919},-979.33886659097766,843278.30474632082,null,729,60,9,60,117320456.55344127,{"$f":"IF($G$4=\"mensual\",S751,0)","v":27811.715615196634},null,1113493.4188369787,-2207.4956698976862,null,-137413.08286297933,118322141.10936058,null,{"$f":"+Bono!J752","v":97417.267745413701},null,60.75,119262836.68185231]
[60.833333333333336,730,60,10,104,843278.30474632082,null,8001.6932199640578,0,0,-987.48479764089041,850292.51316864393,null,730,60,10,60,118322141.10936058,{"$f":"IF($G$4=\"mensual\",S744,IF($G$4=\"trimestral\",S744,0))","v":27811.715615196634},null,1122998.196173867,-2207.4956698976862,null,-138586.06248955647,119332157.46299018,null,{"$f":"+Bono!J753","v":98021.26610513893},null,60.833333333333336,120280471.24226397]
[60.916666666666664,731,60,11,104,850292.51316864393,null,8068.2495912834902,0,0,-995.69848480151575,857365.06427512586,null,731,60,11,60,119332157.46299018,{"$f":"IF($G$17=\"si\",S742*(1+$G$20),S742)","v":27811.715615196634},null,1132582.0322140008,-2207.4956698976862,null,-139768.79870957337,120350574.91643991,null,{"$f":"+Bono!J754","v":98629.009324753933},null,60.916666666666664,121306568.9900398]
[61,732,60,12,104,857365.06427512586,null,8135.3595642521532,0,{"$f":"-SUM(F755:H755)*$J$21*1.16","v":-9035.824424883107},-993.4989353208141,855471.10047917417,null,732,60,12,60,120350574.91643991,{"$f":"IF($G$4=\"mensual\",S754,0)","v":27811.715615196634},null,1142245.5845507507,-2207.4956698976862,null,-140961.37267628571,121377463.34825967,null,{"$f":"+Bono!J755","v":98346.461878474627},null,61,122331280.91061732]

{"sheet":"Deducible 185","index":6,"n_rows":755,"n_cols":41,"rows_kept":755,"cut":false,"hidden":true,"merged":[[21,2,21,11],[21,14,21,24],[30,36,34,52],[35,36,38,52]]}
[]
[null,null,null,null,null,"Edad",{"$f":"+'OptiMaxx plus'!T7","v":44},null,"Portafolio","Tasa"]
[null,null,null,null,null,"Aportación",{"$f":"+'OptiMaxx plus'!D12","v":1500},null,"Conservador Pesos",0.06,{"$f":"+J3","v":0.06},{"$f":"+'OptiMaxx plus'!F20","v":0}]
[null,null,null,null,null,"Periodicidad",{"$f":"+'OptiMaxx plus'!K12","v":"Mensual"},null,"Moderado Pesos",0.09,{"$f":"+J4","v":0.09},{"$f":"+'OptiMaxx plus'!#REF!","v":{"$error":"#REF!"}}]
[null,null,null,null,null,"Plazo",{"$f":"+'OptiMaxx plus'!D15","v":21},null,"Dinámico Pesos",0.12,0.12,{"$f":"+'OptiMaxx plus'!#REF!","v":{"$error":"#REF!"}}]
[null,null,null,null,null,"Portafolio",{"$f":"L20","v":0.12},null,"Conservador Dólares",0.03,0.03,{"$f":"+'OptiMaxx plus'!#REF!","v":{"$error":"#REF!"}}]
[null,null,null,null,null,"Interés Anual",{"$f":"+L20","v":0.12},null,"Moderado Dólares",0.06,0.06,{"$f":"+'OptiMaxx plus'!#REF!","v":{"$error":"#REF!"}}]
[null,null,null,null,null,"Interés Mensual",{"$f":"(1+G7)^(1/12)-1","v":9.4887929345830457E-3},null,"Dinámico Dólares",0.1,0.1,{"$f":"+'OptiMaxx plus'!N21","v":0}]
[null,null,null,null,null,"% Bono",{"$f":"+Bono!F9","v":0.55000000000000004},null,"Conservador Euros",0.03,0.03,{"$f":"+'OptiMaxx plus'!#REF!","v":{"$error":"#REF!"}}]
[null,null,null,null,null,null,null,null,"Moderado Euros",0.06,0.06,{"$f":"+'OptiMaxx plus'!#REF!","v":{"$error":"#REF!"}}]
[null,null,null,null,null,null,null,null,"Dinámico Euros",0.09,0.09,{"$f":"+'OptiMaxx plus'!#REF!","v":{"$error":"#REF!"}}]
[null,null,null,null,null,null,null,null,"Pesos Revaluables",0.08,0.08,{"$f":"+'OptiMaxx plus'!F24","v":5.4004451215870129E-2}]
[null,null,null,null,null,null,null,null,"BRIC",0.08,0.08,{"$f":"+'OptiMaxx plus'!F27","v":"BRIC"}]
[null,null,null,null,null,null,null,null,"China",0.08,0.08,{"$f":"+'OptiMaxx plus'!N24","v":0.16361327285762312}]
[null,null,null,null,null,null,null,null,"Brasil",0.08,0.08,{"$f":"+'OptiMaxx plus'!F25","v":4.5842632788561287E-2}]
[null,null,null,null,null,null,null,null,"Oro",0.08,0.08,{"$f":"+'OptiMaxx plus'!N26","v":0}]
[null,null,null,null,null,"Incremento Inflación",{"$f":"+'OptiMaxx plus'!K15","v":"Si"},null,"Mercado Emergentes",0.08,0.08,{"$f":"+'OptiMaxx plus'!N25","v":8.4681722070706816E-2}]
[null,null,null,null,null,"Inflación",{"$f":"+Rendimientos_UDI_Inflación!S36/100","v":4.9870199999999996E-2}]
[null,null,null,null,null,"Udi",{"$f":"+Rendimientos_UDI_Inflación!S17","v":6.8424887369862981}]
[null,null,null,null,null,null,{"$f":"+G18","v":4.9870199999999996E-2},null,"Tasa Ponderada Bruta",null,null,{"$f":"+'OptiMaxx plus'!D20","v":0.12}]
[null,null,null,null,null,null,null,null,null,{"$f":"3.6%/4","v":9.0000000000000011E-3}]
[null,null,"Saldo Inicial",null,null,null,null,null,null,null,null,null,null,null,"Saldo Comprometido",null,null,null,null,null,null,null,null,null,null,null,"Bono"]
[null,null,"Año","Mes","Edad","Saldo Anterior","Aportación","Interés","Cargo Fijo","Cargo Administrativo","Cargo Gestión Inversión","Saldo Final",null,null,"Año","Mes","Edad","Saldo Anterior","Aportación","Bono","Interés","Cargo Fijo","Cargo Administrativo","Cargo Gestión Inversión","Saldo Final",null,"Saldo Final",null,null,"Saldo Fondo"]
[{"$f":"+B24/12","v":8.3333333333333329E-2},1,0,1,{"$f":"G2","v":44},0,{"$f":"G3","v":1500},{"$f":"SUM(F24:G24)*$G$8","v":14.233189401874569},-500,0,{"$f":"-SUM(F24:J24)*0.1%","v":-1.0142331894018746},{"$f":"SUM(F24:K24)","v":1013.2189562124727},null,1,0,1,{"$f":"S9","v":0},0,null,{"$f":"S24*$G$9","v":0},{"$f":"SUM(R24:T24)*$G$8","v":0},0,null,{"$f":"-SUM(R24:U24)*0.1%","v":0},{"$f":"SUM(R24:X24)","v":0},null,{"$f":"+Bono!J24","v":830.11509569407701},null,{"$f":"+B24/12","v":8.3333333333333329E-2},{"$f":"+AA24+Y24+L24","v":1843.3340519065496},null,null,null,"Aportación Anual"]
[null,{"$f":"+B24+1","v":2},0,2,{"$f":"E24","v":44},{"$f":"L24","v":1013.2189562124727},{"$f":"IF($G$4=\"mensual\",$G$3,0)","v":1500},23.847414274769086,0,0,{"$f":"-SUM(F25:J25)*0.1%","v":-2.537066370487242},2534.5293041167547,null,{"$f":"+N24+1","v":2},0,2,{"$f":"Q24","v":0},{"$f":"Y24","v":0},null,0,0,0,null,0,0,null,{"$f":"+Bono!J25","v":1665.3770012688487},null,0.16666666666666666,4199.9063053856034,null,null,1,{"$f":"VLOOKUP(G4,$AK$25:$AL$28,2,0)*G3","v":18000},null,null,"Mensual",12]
[null,3,0,3,44,2534.5293041167547,{"$f":"IF($G$4=\"mensual\",$G$3,0)","v":1500},38.282813155271313,0,{"$f":"-SUM(F26:H26)*$J$21","v":-36.655309055448242},-4.0361568082165782,4032.120651408361,null,3,0,3,0,0,null,0,0,0,null,0,0,null,{"$f":"+Bono!J26","v":2483.2426939611041},null,0.25,6515.3633453694656,null,null,{"$f":"+AG25+1","v":2},{"$f":"IF($G$17=\"Si\",(1+$G$20)*AH25,AH25)","v":18897.6636},null,null,"Trimestral",4]
[null,4,0,4,44,4032.120651408361,{"$f":"IF($G$4=\"mensual\",$G$3,IF($G$4=\"trimestral\",G3,0))","v":1500},52.493147350344607,0,0,-5.5846137987587054,5579.0291849599471,null,4,0,4,0,0,null,0,{"$f":"SUM(R27:T27)*$G$8","v":0},0,null,0,0,null,{"$f":"+Bono!J27","v":3328.7541823960642},null,0.33333333333333331,8907.7833673560108,null,null,3,19840.093863264719,null,null,"Semestral",2]
[null,5,0,5,44,5579.0291849599471,{"$f":"IF($G$4=\"mensual\",$G$3,0)","v":1500},67.171442113955123,0,0,-7.1462006270739025,7139.0544264468281,null,5,0,5,0,0,null,0,0,0,null,0,0,null,{"$f":"+Bono!J28","v":4179.5079401325838},null,0.41666666666666669,11318.562366579412,null,null,4,20829.523312244502,null,null,"Anual",1]
[null,6,0,6,44,7139.0544264468281,{"$f":"IF($G$4=\"mensual\",$G$3,0)","v":1500},81.974198603147045,0,{"$f":"-SUM(F29:H29)*$J$21","v":-78.489257625449795},-8.6425393674245257,8633.8968280571007,null,6,0,6,0,0,null,0,0,0,null,0,0,null,{"$f":"+Bono!J29","v":4990.1712764263393},null,0.5,13624.06810448344,null,null,5,21868.295805730799]
[null,7,0,7,44,8633.8968280571007,{"$f":"IF($G$4=\"mensual\",$G$3,IF($G$4=\"trimestral\",$G$3,IF(G4=\"semestral\",$G$3,0)))","v":1500},96.158448621861751,0,0,-10.230055276678963,10219.825221402283,null,7,0,7,0,0,null,0,{"$f":"SUM(R30:T30)*$G$8","v":0},0,null,0,0,null,{"$f":"+Bono!J30","v":5851.2260128583011},null,0.58333333333333337,16071.051234260583,null,null,6,22958.872091221754]
[null,8,0,8,44,10219.825221402283,{"$f":"IF($G$4=\"mensual\",$G$3,0)","v":1500},111.20699475539017,0,0,-11.831032216157674,11819.201183941515,null,8,0,8,0,0,null,0,0,0,null,0,0,null,{"$f":"+Bono!J31","v":6717.6193885323082},null,0.66666666666666663,18536.820572473822,null,null,7,24103.835634185401,null,null,"Las tasas de crecimiento elegidas tienen fines ilustrativos únicamente. La tasa anual proyectada está expresada antes de cargos. La ganancia real podría ser otra, ya que, debido a la naturaleza de este tipo de inversiones, su rendimiento puede indistintamente subir o bajar. El saldo proyectado se expresa después de los cargos del producto. Si se rescata de forma anticipada el Saldo Sujeto a Retiro, el valor ilustrado le da una estimación de lo que podrá recibir, por lo tanto, para obtener los máximos beneficios de esta inversión, la aportación debería ser realizada por la duración del plazo contratado. En caso de fallecimiento se entregará a los beneficiarios el Saldo del Fondo menos el Bono de fidelidad después de aplicar la retención de impuestos."]
[null,9,0,9,44,11819.201183941515,{"$f":"IF($G$4=\"mensual\",$G$3,0)","v":1500},126.38314208847439,0,{"$f":"-SUM(F32:H32)*$J$21","v":-121.01025893426993},-13.324574067095721,13311.249493028625,null,9,0,9,0,0,null,0,0,0,null,0,0,null,{"$f":"+Bono!J32","v":7521.011670264862},null,0.75,20832.261163293486,null,null,8,25305.898738029355]
[null,10,0,10,44,13311.249493028625,{"$f":"IF($G$4=\"mensual\",$G$3,IF($G$4=\"trimestral\",$G$3,0))","v":1500},140.54087954179673,0,0,-14.951790372570422,14936.838582197852,null,10,0,10,0,0,null,0,{"$f":"SUM(R33:T33)*$G$8","v":0},0,null,0,0,null,{"$f":"+Bono!J33","v":8397.7579106979392},null,0.83333333333333337,23334.596492895791,null,null,9,26567.908969274624]
[null,11,0,11,44,14936.838582197852,{"$f":"IF($G$4=\"mensual\",$G$3,0)","v":1500},155.96575780564098,0,0,-16.592804340003493,16576.211535663489,null,11,0,11,0,0,null,0,0,0,null,0,0,null,{"$f":"+Bono!J34","v":9279.9400795179699},null,0.91666666666666663,25856.151615181458,null,null,10,27892.855903154141]
[null,12,0,12,44,16576.211535663489,{"$f":"IF($G$4=\"mensual\",$G$3,0)","v":1500},171.52142830363226,0,{"$f":"-SUM(F35:H35)*$J$21","v":-164.22959667570413},-18.083503367291417,18065.419863924126,null,12,0,12,0,0,null,0,0,0,null,0,0,null,{"$f":"+Bono!J35","v":10075.991953263632},null,1,28141.411817187756,null,null,11,29283.878205615616]
[null,13,{"$f":"C24+1","v":1},{"$f":"D24","v":1},{"$f":"E24+1","v":45},18065.419863924126,{"$f":"IF(AND(G4=\"Anual\",$G$17=\"si\"),G24*(1+$G$20)/2,IF(AND(G4=\"Anual\",G17=\"No\"),G24/2,IF(G17=\"Si\",G24*(1+$G$20),G24)))","v":1574.8053},186.36202976906338,0,0,-19.826587193693189,19806.760606499498,null,13,{"$f":"O24+1","v":1},{"$f":"P24","v":1},{"$f":"Q24+1","v":1},0,{"$f":"IF(G4=\"Anual\",G36,0)","v":0},null,{"$f":"SUM(R36:T36)*$G$8","v":0},0,null,0,0,null,{"$f":"+Bono!J36","v":10138.464272116595},null,1.0833333333333333,29945.224878616093,null,null,12,30744.271068505306,null,null,"Todo retiro es acumulable al ingreso de (los) beneficiario(s), por lo que la retención representa un pago provisional de los impuestos. La presente ilustración se ofrece únicamente a modo de guía y no debe ser considerada como un contrato desde el punto de vista legal. Para mayores detalles vea el folleto del cliente y las Condiciones de la Póliza."]
[null,14,1,2,45,19806.760606499498,{"$f":"+IF($G$4=\"mensual\",G36,0)","v":1574.8053},202.88525150391416,0,0,-21.584451158003414,21562.866706845409,null,14,1,2,1,0,null,null,0,0,null,0,0,null,{"$f":"+Bono!J37","v":10201.323926592786},null,1.1666666666666667,31764.190633438193,null,null,13,32277.494015545879]
[null,15,1,3,45,21562.866706845409,{"$f":"+G37","v":1574.8053},219.54857866125462,0,{"$f":"-SUM(F38:H38)*$J$21","v":-210.21498526956},-23.147005600237105,23123.858594636869,null,15,1,3,1,0,null,null,0,0,null,0,0,null,{"$f":"+Bono!J38","v":10172.099684720539},null,1.25,33295.958279357408,null,null,14,33887.179097599954]
[null,16,1,4,45,23123.858594636869,{"$f":"IF($G$4=\"mensual\",G36,IF($G$4=\"trimestral\",G36,0))","v":1574.8053},234.36050745707169,0,0,-24.933024402093942,24908.09137769185,null,16,1,4,1,0,null,null,0,0,null,0,0,null,{"$f":"+Bono!J39","v":10235.16788265634},null,1.3333333333333333,35143.25926034819,null,null,15,35577.139496633084]
[null,17,1,5,45,24908.09137769185,{"$f":"+IF($G$4=\"mensual\",G39,0)","v":1574.8053},251.29072288257524,0,0,-26.734187400574424,26707.453213173849,null,17,1,5,1,0,null,null,0,0,null,0,0,null,{"$f":"+Bono!J40","v":10298.6271107348},null,1.4166666666666667,37006.080323908653,null,null,16,37351.378558758071]
[null,18,1,6,45,26707.453213173849,{"$f":"+G40","v":1574.8053},268.36449475385524,0,{"$f":"-SUM(F41:H41)*$J$21","v":-256.95560707134939},-28.293667400856357,28265.373733455501,null,18,1,6,1,0,0,null,0,0,null,0,0,null,{"$f":"+Bono!J41","v":10269.124119573855},null,1.5,38534.497853029359,null,null,17,39214.099277759051]
[null,19,1,7,45,28265.373733455501,null,268.20427857536174,0,0,-28.533578012030862,28505.044434018833,null,19,1,7,1,0,{"$f":"+IF($G$4=\"mensual\",G36,IF($G$4=\"trimestral\",G36,IF(G4=\"semestral\",G36,0)))","v":1574.8053},null,14.943001403983933,{"$f":"-15*G19*(1+$G$18)","v":-107.75587528196328},null,-1.5897483014039839,1480.4026778206169,null,{"$f":"+Bono!J42","v":10332.793880259886},null,1.5833333333333333,40318.240992099338,null,null,18,41169.714251560748]
[null,20,1,8,45,28505.044434018833,null,270.47846422549367,0,0,-28.775522898244326,28746.74737534608,null,20,1,8,1,1480.4026778206169,{"$f":"IF($G$4=\"mensual\",G36,0)","v":1574.8053},null,28.990235873626027,{"$f":"V42","v":-107.75587528196328},null,-3.084198213694243,2973.3581401985853,null,{"$f":"+Bono!J43","v":10396.858400847403},null,1.6666666666666667,42116.963916392066,null,null,19,43222.856135228933]
[null,21,1,9,45,28746.74737534608,null,272.77193338742762,0,{"$f":"-SUM(F44:H44)*$J$21","v":-261.17567377860161},-28.758343634954905,28729.585291319949,null,21,1,9,1,2973.3581401985853,{"$f":"IF($G$4=\"mensual\",G36,0)","v":1574.8053},null,43.156581116685253,{"$f":"V43","v":-107.75587528196328},null,-4.5913200213152709,4478.9728260119919,null,{"$f":"+Bono!J44","v":10367.074001606257},null,1.75,43575.6321189382,null,null,20,45378.388615264026]
[null,22,1,10,45,28729.585291319949,null,272.60908592577772,0,0,-29.002194377245729,28973.192182868483,null,22,1,10,1,4478.9728260119919,{"$f":"IF($G$4=\"mensual\",G36,IF($G$4=\"trimestral\",G36,0))","v":1574.8053},null,57.443047109635977,{"$f":"V44","v":-107.75587528196328},null,-6.1112211731216277,5997.3540766665428,null,{"$f":"+Bono!J45","v":10431.351062922371},null,1.8333333333333333,45401.8973224574,null,null,21,47641.417931184966]
[null,23,1,11,45,28973.192182868483,null,274.92062127711921,0,0,-29.248112804145602,29218.864691341456,null,23,1,11,1,5997.3540766665428,{"$f":"IF($G$4=\"mensual\",G36,0)","v":1574.8053},null,71.85065239285025,{"$f":"V45","v":-107.75587528196328},null,-7.6440100290593929,7528.6101437483703,null,{"$f":"+Bono!J46","v":10496.026649474321},null,1.9166666666666667,47243.501484564149,null,null,22,50017.304971696743]
[null,24,1,12,45,29218.864691341456,null,277.25175683973885,0,{"$f":"-SUM(F47:H47)*$J$21","v":-265.46504803363075},-29.230651400147565,29201.420748747416,null,24,1,12,1,7528.6101437483703,{"$f":"IF($G$4=\"mensual\",G36,0)","v":1574.8053},null,86.380424143213716,{"$f":"V46","v":-107.75587528196328},null,-9.1897958678915845,9072.8501967417287,null,{"$f":"+Bono!J47","v":10465.958158001149},null,2,48740.229103490288,null,null,23,52511.677974096252]
[null,25,2,1,46,29201.420748747416,null,277.08623488050125,0,0,-29.47850698362792,29449.028476644289,null,25,2,1,2,9072.8501967417287,{"$f":"IF(AND($G$17=\"si\",$G$4=\"Anual\"),G36*(1+$G$20)*2,IF(AND($G$17=\"no\",$G$4=\"Anual\"),G36*2,IF($G$17=\"si\",G36*(1+$G$20),G36)))","v":1653.34115527206},null,101.77860871597422,{"$f":"V47*(1+$G$18)","v":-113.12968233344985},null,-10.827969960729764,10704.012308435584,null,{"$f":"+Bono!J48","v":10530.848312556764},null,2.0833333333333335,50683.889097636638,null,null,24,55130.445857000028]
[null,26,2,2,46,29449.028476644289,null,279.43573333951724,0,0,-29.728464209983805,29698.735745773822,null,26,2,2,2,10704.012308435584,{"$f":"IF($G$4=\"mensual\",S48,0)","v":1653.34115527206},null,117.25636823657443,{"$f":"V48","v":-113.12968233344985},null,-12.474609831944219,12349.005539778824,null,{"$f":"+Bono!J49","v":10596.140793597415},null,2.1666666666666665,52643.882079150062,null,null,25,57879.812217977793]
[null,27,2,3,46,29698.735745773822,null,281.80515391054757,0,{"$f":"-SUM(F50:H50)*$J$21","v":-269.82486809715937},-29.710716031587211,29681.005315555623,null,27,2,3,2,12349.005539778824,{"$f":"IF($G$4=\"mensual\",S49,0)","v":1653.34115527206},null,132.8653683875811,{"$f":"V49","v":-113.12968233344985},null,-14.135212063438466,14007.947169041578,null,{"$f":"+Bono!J50","v":10565.785500138174},null,2.25,54254.737984735373,null,null,null,null,null,null,null,null,null,"Portafolio","Tasa"]
[null,28,2,4,46,29681.005315555623,null,281.63691352956602,0,0,-29.962642229085187,29932.679586856102,null,28,2,4,2,14007.947169041578,{"$f":"IF($G$4=\"mensual\",S48,IF($G$4=\"trimestral\",S48,0))","v":1653.34115527206},null,148.60672199821519,-113.12968233344985,null,-15.809895046311855,15680.955468932092,null,{"$f":"+Bono!J51","v":10631.294595794292},null,2.3333333333333335,56244.929651582483,null,null,null,null,null,null,null,null,null,"Conservador Pesos",0.06]
[null,29,2,5,46,29932.679586856102,null,284.02499857689833,0,0,-30.216704585433,30186.487880847566,null,29,2,5,2,15680.955468932092,{"$f":"IF($G$4=\"mensual\",S51,0)","v":1653.34115527206},null,164.48155133371509,-113.12968233344985,null,-17.498778175537868,17368.149715028881,null,{"$f":"+Bono!J52","v":10697.209855442063},null,2.4166666666666665,58251.847451318507,null,null,null,null,null,null,null,null,null,"Moderado Pesos",0.09]
[null,30,2,6,46,30186.487880847566,null,286.4333329236631,0,{"$f":"-SUM(F53:H53)*$J$21","v":-274.25629092394109},-30.198664922847286,30168.46625792444,null,30,2,6,2,17368.149715028881,{"$f":"IF($G$4=\"mensual\",S52,0)","v":1653.34115527206},null,180.4909881753475,-113.12968233344985,null,-19.201981858476291,19069.650194284364,null,{"$f":"+Bono!J53","v":10666.56502439629},null,2.5,59904.681476605096,null,null,null,null,null,null,null,null,null,"Dinámico Pesos",0.12]
[null,31,2,7,46,30168.46625792444,null,286.26232947540046,0,0,-30.454728587399842,30424.273858812441,null,31,2,7,2,19069.650194284364,{"$f":"+IF($G$4=\"mensual\",S48,IF($G$4=\"trimestral\",S48,IF($G$4=\"semestral\",S48,0)))","v":1653.34115527206},null,196.63617390109658,-113.12968233344985,null,-20.919627523457521,20785.578213600616,null,{"$f":"+Bono!J54","v":10732.698964792509},null,2.5833333333333335,61942.551037205565,null,null,null,null,null,null,null,null,null,"Conservador Dólares",0.03]
[null,32,2,8,46,30424.273858812441,null,288.68963483131915,0,0,-30.712963493643763,30682.250530150119,null,32,2,8,2,20785.578213600616,{"$f":"IF($G$4=\"mensual\",S54,0)","v":1653.34115527206},null,212.91825956703772,-113.12968233344985,null,-22.651837628439718,22516.056108477827,null,{"$f":"+Bono!J55","v":10799.242943290248},null,2.6666666666666665,63997.549581918196,null,null,null,null,null,null,null,null,null,"Moderado Dólares",0.06]
[null,33,2,9,46,30682.250530150119,null,291.13752204759538,0,{"$f":"-SUM(F56:H56)*$J$21","v":-278.76049246977948},-30.694627559727934,30663.932932168205,null,33,2,9,2,22516.056108477827,{"$f":"IF($G$4=\"mensual\",S55,0)","v":1653.34115527206},null,229.33840598940074,-113.12968233344985,null,-24.398735669739292,24261.207251736101,null,{"$f":"+Bono!J56","v":10768.305812964529},null,2.75,65693.445996868832,null,null,null,null,null,null,null,null,null,"Dinámico Dólares",0.1]
[null,34,2,10,46,30663.932932168205,null,290.96371015328606,0,0,-30.954896642321494,30923.941745679171,null,34,2,10,2,24261.207251736101,{"$f":"IF($G$4=\"mensual\",S48,IF($G$4=\"trimestral\",S48,0))","v":1653.34115527206},null,245.89778382732936,-113.12968233344985,null,-26.16044619083549,26021.156062311205,null,{"$f":"+Bono!J57","v":10835.070558051073},null,2.8333333333333335,67780.168366041442,null,null,null,null,null,null,null,null,null,"Conservador Euros",0.03]
[null,35,2,11,46,30923.941745679171,null,293.43087994585824,0,0,-31.217372625625032,31186.155252999404,null,35,2,11,2,26021.156062311205,{"$f":"IF($G$4=\"mensual\",S57,0)","v":1653.34115527206},null,262.59757366634227,-113.12968233344985,null,-27.93709479124961,27796.02801412491,null,{"$f":"+Bono!J58","v":10902.249252301384},null,2.9166666666666665,69884.432519425696,null,null,null,null,null,null,null,null,null,"Moderado Euros",0.06]
[null,36,2,12,46,31186.155252999404,null,295.91896962147069,0,{"$f":"-SUM(F59:H59)*$J$21","v":-283.33866800358788},-31.19873555461729,31167.536819062669,null,36,2,12,2,27796.02801412491,{"$f":"IF($G$4=\"mensual\",S58,0)","v":1653.34115527206},null,279.43896610250175,-113.12968233344985,null,-29.728808135499474,29585.949645030523,null,{"$f":"+Bono!J59","v":10871.017034660472},null,3,71624.503498753664,null,null,null,null,null,null,null,null,null,"Dinámico Euros",0.09]
[null,37,3,1,47,31167.536819062669,null,295.74230315707877,0,0,-31.463279122219749,31431.815843097527,null,37,3,1,3,29585.949645030523,{"$f":"IF($G$17=\"si\",S48*(1+$G$20),S48)","v":1735.7936093537087},null,297.20553609102529,{"$f":"V59*(1+$G$18)","v":-118.77148221735546},null,-31.618948790475258,31468.558359467428,null,{"$f":"+Bono!J60","v":10938.418601235295},null,3.0833333333333335,73838.792803800257,null,null,null,null,null,null,null,null,null,"Pesos Revaluables",0.08]
[null,38,3,2,47,31431.815843097527,null,298.24999209309925,0,0,-31.730065835190629,31698.335769355435,null,38,3,2,3,31468.558359467428,{"$f":"IF($G$4=\"mensual\",S60,0)","v":1735.7936093537087},null,315.06922035915863,{"$f":"V60","v":-118.77148221735546},null,-33.519421189180299,33367.130285773761,null,{"$f":"+Bono!J61","v":11006.23806534098},null,3.1666666666666665,76071.704120470182,null,null,null,null,null,null,null,null,null,"BRIC",0.12]
[null,39,3,3,47,31698.335769355435,null,300.77894448630087,0,{"$f":"-SUM(F62:H62)*$J$21","v":-287.99203242457565},-31.711122681417162,31679.411558735745,null,39,3,3,3,33367.130285773761,{"$f":"IF($G$4=\"mensual\",S61,0)","v":1735.7936093537087},null,333.08437623929188,-118.77148221735546,null,-35.436008271366759,35281.800780878031,null,{"$f":"+Bono!J62","v":10974.707945756541},null,3.25,77935.920285370317,null,null,null,null,null,null,null,null,null,"China",0.12]
[null,40,3,4,47,31679.411558735745,null,300.59937657028019,0,0,-31.980010935306026,31948.03092437072,null,40,3,4,3,35281.800780878031,{"$f":"IF($G$4=\"mensual\",S60,IF($G$4=\"trimestral\",S60,0))","v":1735.7936093537087},null,351.25228810529188,-118.77148221735546,null,-37.368846678337029,37212.706349441338,null,{"$f":"+Bono!J63","v":11042.752408007562},null,3.3333333333333335,80203.489681819614,null,null,null,null,null,null,null,null,null,"Brasil",0.12]
[null,41,3,5,47,31948.03092437072,null,303.14825010900955,0,0,-32.251179174479731,32218.92799530525,null,41,3,5,3,37212.706349441338,{"$f":"IF($G$4=\"mensual\",S63,0)","v":1735.7936093537087},null,369.57425122162249,-118.77148221735546,null,-39.318074210016668,39159.984653589294,null,{"$f":"+Bono!J64","v":11111.218753817207},null,3.4166666666666665,82490.131402711748,null,null,null,null,null,null,null,null,null,"Oro",0.05]
[null,42,3,6,47,32218.92799530525,null,305.71873632169235,0,{"$f":"-SUM(F65:H65)*$J$21","v":-292.7218205846425},-32.231924911042299,32199.692986131256,null,42,3,6,3,39159.984653589294,{"$f":"IF($G$4=\"mensual\",S64,0)","v":1735.7936093537087},null,388.05157183568843,-118.77148221735546,null,-41.283829834778693,41123.774522726555,null,{"$f":"+Bono!J65","v":11079.387890814167},null,3.5,84402.855399671971,null,null,null,null,null,null,null,null,null,"Mercado Emergentes",0.12]
[null,43,3,7,47,32199.692986131256,null,305.53621930254553,0,0,-32.505229205433807,32472.723976228368,null,43,3,7,3,41123.774522726555,{"$f":"+IF($G$4=\"mensual\",S60,IF($G$4=\"trimestral\",S60,IF($G$4=\"semestral\",S60,0)))","v":1735.7936093537087},null,406.68556727096387,-118.77148221735546,null,-43.266253699351225,43104.215963434515,null,{"$f":"+Bono!J66","v":11148.081380866666},null,3.5833333333333335,86725.021320529544]
[null,44,3,8,47,32472.723976228368,null,308.12695383230118,0,0,-32.780850930060666,32748.070079130608,null,44,3,8,3,43104.215963434515,{"$f":"IF($G$4=\"mensual\",S66,0)","v":1735.7936093537087},null,425.47756602090902,-118.77148221735546,null,-45.265487138809135,45101.450169452968,null,{"$f":"+Bono!J67","v":11217.200778525443},null,3.6666666666666665,89066.721027109015]
[null,45,3,9,47,32748.070079130608,null,310.73965598808496,0,{"$f":"-SUM(F68:H68)*$J$21","v":-297.5292876160683},-32.761280447502628,32728.519167055125,null,45,3,9,3,45101.450169452968,{"$f":"IF($G$4=\"mensual\",S67,0)","v":1735.7936093537087},null,444.4289078436845,-118.77148221735546,null,-47.28167268665036,47115.61953174635,null,{"$f":"+Bono!J68","v":11185.066303525913},null,3.75,91029.205002327391]
[null,46,3,10,47,32728.519167055125,null,310.55414143171845,0,0,-33.039073308486842,33006.034235178355,null,46,3,10,3,47115.61953174635,{"$f":"IF($G$4=\"mensual\",S60,IF($G$4=\"trimestral\",S60,0))","v":1735.7936093537087},null,463.54094385766757,-118.77148221735546,null,-49.314954084957726,49146.86764865541,null,{"$f":"+Bono!J69","v":11254.415011995163},null,3.8333333333333335,93407.316895828932]
[null,47,3,11,47,33006.034235178355,null,313.18742444936652,0,0,-33.319221659627722,33285.902437968092,null,47,3,11,3,49146.86764865541,{"$f":"IF($G$17=\"si\",S58*(1+$G$20),S58)","v":1735.7936093537087},null,482.81503663777937,-118.77148221735546,null,-51.365476294646896,51195.339336134894,null,{"$f":"+Bono!J70","v":11324.193690500873},null,3.9166666666666665,95805.435464603856]
[null,48,3,12,47,33285.902437968092,null,315.84303587461221,0,{"$f":"-SUM(F71:H71)*$J$21","v":-302.41570926458439},-33.299329764578118,33266.03043481354,null,48,3,12,3,51195.339336134894,{"$f":"IF($G$4=\"mensual\",S70,0)","v":1735.7936093537087},null,502.25256031262813,-118.77148221735546,null,-53.433385505801226,53261.180638078069,null,{"$f":"+Bono!J71","v":11291.75270756564},null,4,97818.963780457241]
[null,49,4,1,48,33266.03043481354,null,315.6544745514833,0,0,-33.581684909365023,33548.103224455655,null,49,4,1,4,53261.180638078069,{"$f":"IF($G$17=\"si\",S60*(1+$G$20),S60)","v":1822.3579838108999},null,522.67629208721235,{"$f":"V71*(1+$G$18)","v":-124.69463978983141},null,-55.606214913976181,55425.914059272378,null,{"$f":"+Bono!J72","v":11361.762884114793},null,4.083333333333333,100335.78016784282]
[null,50,4,2,48,33548.103224455655,null,318.3310048448775,0,0,-33.86643422930053,33832.567795071234,null,50,4,2,4,55425.914059272378,{"$f":"IF($G$4=\"mensual\",S72,0)","v":1822.3579838108999},null,543.21699927949669,{"$f":"V72","v":-124.69463978983141},null,-57.791489042362777,57609.002913530581,null,{"$f":"+Bono!J73","v":11432.207131879228},null,4.166666666666667,102873.77784048105]
[null,51,4,3,48,33832.567795071234,null,321.03023025267385,0,{"$f":"-SUM(F74:H74)*$J$21","v":-307.38238222791523},-33.846215643095995,33812.369427452897,null,51,4,3,4,57609.002913530581,{"$f":"IF($G$4=\"mensual\",S73,0)","v":1822.3579838108999},null,563.9318773753489,-124.69463978983141,null,-59.99529277471683,59810.602842152286,null,{"$f":"+Bono!J74","v":11399.456717446768},null,4.25,105022.42898705196]
[null,52,4,4,48,33812.369427452897,null,320.83857212472685,0,0,-34.133207999577621,34099.074791578045,null,52,4,4,4,59810.602842152286,{"$f":"IF($G$4=\"mensual\",S72,IF($G$4=\"trimestral\",S72,0))","v":1822.3579838108999},null,584.82240322283315,-124.69463978983141,null,-62.217783229186018,62030.870806167004,null,{"$f":"+Bono!J75","v":11470.134671350075},null,4.333333333333333,107600.08026909514]
[null,53,4,5,48,34099.074791578045,null,323.55905995814459,0,0,-34.422633851536183,34388.211217684649,null,53,4,5,4,62030.870806167004,{"$f":"IF($G$4=\"mensual\",S75,0)","v":1822.3579838108999},null,605.89006619265706,-124.69463978983141,null,-64.459118856170562,64269.965097524568,null,{"$f":"+Bono!J76","v":11541.250836765717},null,4.416666666666667,110199.42715197493]
[null,54,4,6,48,34388.211217684649,null,326.30261563531553,0,{"$f":"-SUM(F77:H77)*$J$21","v":-312.43062449987974},-34.402083208820088,34367.681125611263,null,54,4,6,4,64269.965097524568,{"$f":"IF($G$4=\"mensual\",S76,0)","v":1822.3579838108999},null,627.13636828435585,-124.69463978983141,null,-66.719459449619819,66528.045350380358,null,{"$f":"+Bono!J77","v":11508.188039388733},null,4.5,112403.91451538037]
[null,55,4,7,48,34367.681125611263,null,326.10780984270326,0,0,-34.693788935453966,34659.095146518514,null,55,4,7,4,66528.045350380358,{"$f":"+IF($G$4=\"mensual\",S72,IF($G$4=\"trimestral\",S72,IF($G$4=\"semestral\",S72,0)))","v":1822.3579838108999},null,648.56282423337541,-124.69463978983141,null,-68.998966158424636,68805.272552476381,null,{"$f":"+Bono!J78","v":11579.540140100135},null,4.583333333333333,115043.90783909502]
[null,56,4,8,48,34659.095146518514,null,328.87297714532639,0,0,-34.98796812366384,34952.980155540179,null,56,4,8,4,68805.272552476381,{"$f":"IF($G$4=\"mensual\",S78,0)","v":1822.3579838108999},null,670.17096161906454,-124.69463978983141,null,-71.297801497906349,71101.809056618615,null,{"$f":"+Bono!J79","v":11651.334632112277},null,4.666666666666667,117706.12384427107]
[null,57,4,9,48,34952.980155540179,null,331.66159114251104,0,{"$f":"-SUM(F80:H80)*$J$21","v":-317.56177572014423},-34.967079970962544,34932.112890991579,null,57,4,9,4,71101.809056618615,{"$f":"IF($G$4=\"mensual\",S79,0)","v":1822.3579838108999},null,691.96232097358143,-124.69463978983141,null,-73.616129361403097,73417.818592251875,null,{"$f":"+Bono!J80","v":11617.956472191707},null,4.75,119967.88795543517]
[null,58,4,10,48,34932.112890991579,null,331.46358599009824,0,0,-35.263576476981676,35228.312900504694,null,58,4,10,4,73417.818592251875,{"$f":"IF($G$4=\"mensual\",S72,IF($G$4=\"trimestral\",S72,0))","v":1822.3579838108999},null,713.9384558917252,-124.69463978983141,null,-75.954115031954501,75753.466277132713,null,{"$f":"+Bono!J81","v":11689.989149918834},null,4.833333333333333,122671.76832755624]
[null,59,4,11,48,35228.312900504694,null,334.27416654758969,0,0,-35.562587067052284,35527.02447998523,null,59,4,11,4,75753.466277132713,{"$f":"IF($G$17=\"si\",S70*(1+$G$20),S70)","v":1822.3579838108999},null,736.10093314169774,-124.69463978983141,null,-78.311925194085319,78108.918629101405,null,{"$f":"+Bono!J82","v":11762.468438603146},null,4.916666666666667,125398.41154768979]
[null,60,4,12,48,35527.02447998523,null,337.10857887244276,0,{"$f":"-SUM(F83:H83)*$J$21","v":-322.7771975297191},-35.541355861327951,35505.814505466624,null,60,4,12,4,78108.918629101405,{"$f":"IF($G$4=\"mensual\",S82,0)","v":1822.3579838108999},null,758.45133277680532,-124.69463978983141,null,-80.689727945689114,80484.343577953594,null,{"$f":"+Bono!J83","v":11728.771908119652},null,5,127718.92999153987]
[null,61,5,1,49,35505.814505466624,null,336.90732181608792,0,0,-35.842721827282709,35806.879105455424,null,61,5,1,5,80484.343577953594,{"$f":"IF($G$17=\"si\",S72*(1+$G$20),S72)","v":1913.2393409351462},null,781.85360262747213,{"$f":"V83*(1+$G$18)","v":-130.91318641507826},null,-83.179436521516209,82965.343898579609,null,{"$f":"+Bono!J84","v":11801.491654403329},null,5.083333333333333,130573.71465843837]
[null,62,5,2,49,35806.879105455424,null,339.76406146531474,0,0,-36.14664316692074,36110.49652375382,null,62,5,2,5,82965.343898579609,{"$f":"IF($G$4=\"mensual\",S84,0)","v":1913.2393409351462},null,805.39530094052657,{"$f":"V84","v":-130.91318641507826},null,-85.683978540455286,85467.381375499739,null,{"$f":"+Bono!J85","v":11874.662271548934},null,5.166666666666667,133452.5401708025]
[null,63,5,3,49,36110.49652375382,null,342.6450242788809,0,{"$f":"-SUM(F86:H86)*$J$21","v":-328.07827393229434},-36.125063274100398,36088.938210826302,null,63,5,3,5,85467.381375499739,{"$f":"IF($G$4=\"mensual\",S85,0)","v":1913.2393409351462},null,829.13661647358833,-130.91318641507826,null,-88.209757332908481,87990.634389160492,null,{"$f":"+Bono!J86","v":11840.644333791819},null,5.25,135920.2169337786]
[null,64,5,4,49,36088.938210826302,null,342.44046191149272,0,0,-36.431378672737793,36394.947294065059,null,64,5,4,5,87990.634389160492,{"$f":"IF($G$4=\"mensual\",S84,IF($G$4=\"trimestral\",S84,0))","v":1913.2393409351462},null,853.07924184177784,-130.91318641507826,null,-90.756952971937423,90535.282832550409,null,{"$f":"+Bono!J87","v":11914.057702091062},null,5.333333333333333,138844.28782870653]
[null,65,5,5,49,36394.947294065059,null,{"$f":"SUM(F88:G88)*$G$8","v":345.34411873844687},0,0,-36.740291412803508,{"$f":"SUM(F88:K88)","v":36703.551121390701},null,65,5,5,5,90535.282832550409,{"$f":"IF($G$4=\"mensual\",S87,0)","v":1913.2393409351462},null,877.22488401241378,-130.91318641507826,null,{"$f":"-SUM(R88:U88)*0.1%","v":-93.325747057497964},{"$f":"SUM(R88:X88)","v":93101.508124025378},null,{"$f":"+Bono!J88","v":11987.926241789184},null,{"$f":"+B88/12","v":5.416666666666667},{"$f":"+AA88+Y88+L88","v":141792.98548720527}]
[null,{"$f":"+B88+1","v":66},5,6,49,{"$f":"L88","v":36703.551121390701},null,348.27239655475972,0,{"$f":"-SUM(F89:H89)*$J$21","v":-333.4664116615092},{"$f":"-SUM(F89:J89)*0.1%","v":-36.718357106283953},36681.63874917767,null,{"$f":"+N88+1","v":66},5,6,5,{"$f":"Y88","v":93101.508124025378},{"$f":"IF($G$4=\"mensual\",S88,0)","v":1913.2393409351462},null,901.57526442670985,-130.91318641507826,null,-95.916322729387232,95689.493220242759,null,{"$f":"+Bono!J89","v":11953.58383108272},null,5.5,144324.71580050315]
[null,67,5,7,49,36681.63874917767,null,348.06447459212472,0,0,-37.029703223769793,36992.673520546021,null,67,5,7,5,95689.493220242759,{"$f":"+IF($G$4=\"mensual\",S84,IF($G$4=\"trimestral\",S84,IF($G$4=\"semestral\",S84,0)))","v":1913.2393409351462},null,926.13211912250347,-130.91318641507826,null,-98.528864680300416,98299.42262920503,null,{"$f":"+Bono!J90","v":12027.697437365337},null,5.583333333333333,147319.79358711638]
[null,68,5,8,49,36992.673520546021,null,351.0158191330944,0,0,-37.343689339679116,37306.345650339434,null,68,5,8,5,98299.42262920503,{"$f":"IF($G$4=\"mensual\",S90,0)","v":1913.2393409351462},null,950.89719885802526,-130.91318641507826,null,-101.16355916899822,100931.48242341413,null,{"$f":"+Bono!J91","v":12102.270556603553},null,5.666666666666667,150340.09863035713]
[null,69,5,9,49,37306.345650339434,null,353.99218902205376,0,{"$f":"-SUM(F92:H92)*$J$21","v":-338.9430405542534},-37.321394798807233,37284.073404008428,null,69,5,9,5,100931.48242341413,{"$f":"IF($G$4=\"mensual\",S91,0)","v":1913.2393409351462},null,975.87226923671665,-130.91318641507826,null,-103.82059403358599,103585.86025313732,null,{"$f":"+Bono!J92","v":12067.600578030711},null,5.75,152937.53423517646]
[null,70,5,10,49,37284.073404008428,null,353.78085228843082,0,0,-37.637854256296862,37600.216402040562,null,70,5,10,5,103585.86025313732,{"$f":"IF($G$4=\"mensual\",S84,IF($G$4=\"trimestral\",S84,0))","v":1913.2393409351462},null,1001.0591108331079,-130.91318641507826,null,-106.50015870490559,106262.74535978559,null,{"$f":"+Bono!J93","v":12142.421101369531},null,5.833333333333333,156005.38286319567]
[null,71,5,11,49,37600.216402040562,null,356.78066773447603,0,0,-37.956997069775042,37919.040072705262,null,71,5,11,5,106262.74535978559,{"$f":"IF($G$17=\"si\",S82*(1+$G$20),S82)","v":1913.2393409351462},null,1026.4595193197626,-130.91318641507826,null,-109.2024442200405,108962.32858940538,null,{"$f":"+Bono!J94","v":12217.705520631695},null,5.916666666666667,159099.07418274233]
[null,72,5,12,49,37919.040072705262,null,359.80591952805707,0,{"$f":"-SUM(F95:H95)*$J$21","v":-344.50961393009993},-37.934336378303222,37896.402041924914,null,72,5,12,5,108962.32858940538,{"$f":"IF($G$4=\"mensual\",S94,0)","v":1913.2393409351462},null,1052.0753055952978,-130.91318641507826,null,-111.92764323593583,111684.80240628481,null,{"$f":"+Bono!J95","v":12182.704849755233},null,6,161763.90929796494]
[null,73,6,1,50,37896.402041924914,null,359.59111194153564,0,0,-38.255993153866449,38217.737160712582,null,73,6,1,6,111684.80240628481,{"$f":"IF($G$17=\"si\",S84*(1+$G$20),S84)","v":2008.65296951545},null,1078.8136560782264,{"$f":"V95*(1+$G$18)","v":-137.44185320423549},null,-114.77226903187849,114520.05490964238,null,{"$f":"+Bono!J96","v":12258.239032930014},null,6.083333333333333,164996.03110328497]
[null,74,6,2,50,38217.737160712582,null,362.64019434632144,0,0,-38.580377355058907,38541.796977703845,null,74,6,2,6,114520.05490964238,{"$f":"IF($G$4=\"mensual\",S96,0)","v":2008.65296951545},null,1105.7167799998444,{"$f":"V96","v":-137.44185320423549},null,-117.63442465915767,117379.34838129427,null,{"$f":"+Bono!J97","v":12334.241536801901},null,6.166666666666667,168255.38689580001]
[null,75,6,3,50,38541.796977703845,null,365.71513084817042,0,{"$f":"-SUM(F98:H98)*$J$21","v":-350.16760897696815},-38.557344499575045,38518.787155075472,null,75,6,3,6,117379.34838129427,{"$f":"IF($G$4=\"mensual\",S97,0)","v":2008.65296951545},null,1132.8480236915543,-137.44185320423549,null,-120.52084937450127,120262.88667192253,null,{"$f":"+Bono!J98","v":12298.907019382785},null,6.25,171080.58084638079]
[null,76,6,4,50,38518.787155075472,null,365.4967954057883,0,0,-38.884283950481262,38845.399666530779,null,76,6,4,6,120262.88667192253,{"$f":"IF($G$4=\"mensual\",S96,IF($G$4=\"trimestral\",S96,0))","v":2008.65296951545},null,1160.2093214502675,-137.44185320423549,null,-123.43174896288825,123170.87536072113,null,{"$f":"+Bono!J99","v":12375.161669487872},null,6.333333333333333,174391.43669673978]
[null,77,{"$f":"C88+1","v":6},{"$f":"D88","v":5},{"$f":"E88+1","v":50},38845.399666530779,null,368.59595389683187,0,0,-39.21399562042761,39174.781624807183,null,77,{"$f":"O88+1","v":6},{"$f":"P88","v":5},{"$f":"Q88+1","v":6},123170.87536072113,{"$f":"IF($G$4=\"mensual\",S99,0)","v":2008.65296951545},null,{"$f":"SUM(R100:T100)*$G$8","v":1187.802623974387},-137.44185320423549,null,-126.36733095421097,126103.52177005252,null,{"$f":"+Bono!J100","v":12451.889107268604},null,6.416666666666667,177730.19250212831]
[null,78,6,6,50,39174.781624807183,null,371.72139109530411,0,{"$f":"-SUM(F101:H101)*$J$21","v":-355.91852714312245},-39.19058448875937,39151.393904270612,null,78,6,6,6,126103.52177005252,{"$f":"IF($G$4=\"mensual\",S100,0)","v":2008.65296951545},null,1215.6298985028811,-137.44185320423549,null,-129.32780463807086,129061.03498022855,null,{"$f":"+Bono!J101","v":12416.217558981756},null,6.5,180628.64644348092]
[null,79,6,7,50,39151.393904270612,null,371.4994698579207,0,0,-39.522893374128529,39483.370480754398,null,79,6,7,6,129061.03498022855,{"$f":"+IF($G$4=\"mensual\",S96,IF($G$4=\"trimestral\",S96,IF($G$4=\"semestral\",S96,0)))","v":2008.65296951545},null,1243.6931289555355,-137.44185320423549,null,-132.31338107869951,132043.62584441656,null,{"$f":"+Bono!J102","v":12493.19954803954},null,6.583333333333333,184020.1958732105]
[null,80,6,8,50,39483.370480754398,null,374.64952685130714,0,0,-39.85802000760571,39818.161987598105,null,80,6,8,6,132043.62584441656,{"$f":"IF($G$4=\"mensual\",S102,0)","v":2008.65296951545},null,1271.9943160743944,-137.44185320423549,null,-135.32427313000639,135051.50700367213,null,{"$f":"+Bono!J103","v":12570.658834358839},null,6.666666666666667,187440.32782562909]
[null,81,6,9,50,39818.161987598105,null,377.82629413600409,0,{"$f":"-SUM(F104:H104)*$J$21","v":-361.76389453560699},-39.834224387198496,39794.390162811302,null,81,6,9,6,135051.50700367213,{"$f":"IF($G$4=\"mensual\",S103,0)","v":2008.65296951545},null,1300.5354775664043,-137.44185320423549,null,-138.36069545075401,138084.892902099,null,{"$f":"+Bono!J104","v":12534.647040506165},null,6.75,190413.93010541645]
[null,82,6,10,50,39794.390162811302,null,377.60072821292493,0,0,-40.17199089102423,40131.818900133207,null,82,6,10,6,138084.892902099,{"$f":"IF($G$4=\"mensual\",S96,IF($G$4=\"trimestral\",S96,0))","v":2008.65296951545},null,1329.3186482472611,-137.44185320423549,null,-141.42286451986169,141143.99980213758,null,{"$f":"+Bono!J105","v":12612.363306086367},null,6.833333333333333,193888.18200835714]
[null,83,6,11,50,40131.818900133207,null,380.8025196315503,0,0,-40.512621419764756,40472.108798344991,null,83,6,11,6,141143.99980213758,{"$f":"IF($G$17=\"si\",S94*(1+$G$20),S94)","v":2008.65296951545},null,1358.3458801864813,-137.44185320423549,null,-144.51099865183951,144229.0457999834,null,{"$f":"+Bono!J106","v":12690.561421527696},null,6.916666666666667,197391.7160198561]
[null,84,6,12,50,40472.108798344991,null,384.03146001341224,0,{"$f":"-SUM(F107:H107)*$J$21","v":-367.7052623252257},-40.488434996033185,40447.946561037148,null,84,6,12,6,144229.0457999834,{"$f":"IF($G$4=\"mensual\",S106,0)","v":2008.65296951545},null,1387.6192428537045,-137.44185320423549,null,-147.62531801235258,147340.25084113597,null,{"$f":"+Bono!J107","v":12654.20613674838},null,7,200442.4035389215]
[null,85,7,1,51,40447.946561037148,null,383.80218954676189,0,0,-40.831748750583913,40790.917001833324,null,85,7,1,7,147340.25084113597,{"$f":"IF($G$17=\"si\",S96*(1+$G$20),S96)","v":2108.8248948357791},null,1418.0913339234551,{"$f":"V107*(1+$G$18)","v":-144.29610591190135},null,-150.8671670698952,150572.0037969134,null,{"$f":"+Bono!J108","v":12732.663682593282},null,7.083333333333333,204095.58448134002]
[null,86,7,2,51,40790.917001833324,null,387.05656504215949,0,0,-41.177973566875487,41136.795593308612,null,86,7,2,7,150572.0037969134,{"$f":"IF($G$4=\"mensual\",S108,0)","v":2108.8248948357791},null,1448.7567685365539,{"$f":"V108","v":-144.29610591190135},null,-154.12958546028571,153831.15976891352,null,{"$f":"+Bono!J109","v":12811.607674322935},null,7.166666666666667,207779.56303654506]
[null,87,7,3,51,41136.795593308612,null,390.33853537717374,0,{"$f":"-SUM(F110:H110)*$J$21","v":-373.74420715817212},-41.153389921527612,41112.236531606082,null,87,7,3,7,153831.15976891352,{"$f":"IF($G$4=\"mensual\",S109,0)","v":2108.8248948357791},null,1479.6822246963727,-144.29610591190135,null,-157.41966688844568,157117.95111564532,null,{"$f":"+Bono!J110","v":12774.905622300967},null,7.25,211005.09326955237]
[null,88,7,4,51,41112.236531606082,null,390.10549952601076,0,0,-41.502342031132095,41460.839689100962,null,88,7,4,7,157117.95111564532,{"$f":"IF($G$4=\"mensual\",S108,IF($G$4=\"trimestral\",S108,0))","v":2108.8248948357791},null,1510.8699072046902,-144.29610591190135,null,-160.7376459176858,160432.6121658562,null,{"$f":"+Bono!J111","v":12854.111518956568},null,7.333333333333333,214747.56337391376]
[null,89,7,5,51,41460.839689100962,null,393.41332270382151,0,0,-41.854253011804779,41812.398758792973,null,89,7,5,7,160432.6121658562,{"$f":"IF($G$4=\"mensual\",S111,0)","v":2108.8248948357791},null,1542.3220395584688,-144.29610591190135,null,-164.08375910025043,163775.37923523827,null,{"$f":"+Bono!J112","v":12933.80850135875},null,7.416666666666667,218521.58649538999]
[null,90,7,6,51,41812.398758792973,null,396.74919392040368,0,{"$f":"-SUM(F113:H113)*$J$21","v":-379.88233157442045},-41.829265621138958,41787.436355517813,null,90,7,6,7,163775.37923523827,{"$f":"IF($G$4=\"mensual\",S112,0)","v":2108.8248948357791},null,1574.0408641083782,-144.29610591190135,null,-167.45824499418242,167146.49064327634,null,{"$f":"+Bono!J113","v":12896.756374527669},null,7.5,221830.68337332184]
[null,91,7,7,51,41787.436355517813,null,396.51233084457613,0,0,-42.183948686362392,42141.764737676029,null,91,7,7,7,167146.49064327634,{"$f":"+IF($G$4=\"mensual\",S108,IF($G$4=\"trimestral\",S108,IF($G$4=\"semestral\",S108,0)))","v":2108.8248948357791},null,1606.0286422186621,-144.29610591190135,null,-170.86134418033078,170546.18673023855,null,{"$f":"+Bono!J114","v":12976.717759980889},null,7.583333333333333,225664.66922789544]
[null,92,7,8,51,42141.764737676029,null,399.87447949372125,0,0,-42.541639217169752,42499.097577952583,null,92,7,8,7,170546.18673023855,{"$f":"IF($G$4=\"mensual\",S114,0)","v":2108.8248948357791},null,1638.2876544283588,-144.29610591190135,null,-174.29329927950269,173974.70987431129,null,{"$f":"+Bono!J115","v":13057.174915298865},null,7.666666666666667,229530.98236756274]
[null,93,7,9,51,42499.097577952583,null,403.26513682383188,0,{"$f":"-SUM(F116:H116)*$J$21","v":-386.12126443298774},-42.516241450343429,42473.725208893084,null,93,7,9,7,173974.70987431129,{"$f":"IF($G$4=\"mensual\",S115,0)","v":2108.8248948357791},null,1670.8202006138906,-144.29610591190135,null,-177.75435496976095,177432.30450887929,null,{"$f":"+Bono!J116","v":13019.769374543686},null,7.75,232925.79909231607]
[null,94,7,10,51,42473.725208893084,null,403.0243836675665,0,0,-42.87674959256065,42833.872842968085,null,94,7,10,7,177432.30450887929,{"$f":"IF($G$4=\"mensual\",S108,IF($G$4=\"trimestral\",S108,0))","v":2108.8248948357791},null,1703.6286001530318,-144.29610591190135,null,-181.24475800386807,180919.21713995232,null,{"$f":"+Bono!J117","v":13100.493454865631},null,7.833333333333333,236853.58343778603]
[null,95,7,11,51,42833.872842968085,null,406.44174999318415,0,0,-43.240314592961269,43197.074278368302,null,95,7,11,7,180919.21713995232,{"$f":"IF($G$17=\"si\",S106*(1+$G$20),S106)","v":2108.8248948357791},null,1736.7151920902659,-144.29610591190135,null,-184.76475722687834,184435.69636373955,null,{"$f":"+Bono!J118","v":13181.718033848985},null,7.916666666666667,240814.48867595682]
[null,96,7,12,51,43197.074278368302,null,409.88809320724016,0,{"$f":"-SUM(F119:H119)*$J$21","v":-392.46266134417993},-43.214499710231365,43171.285210521135,null,96,7,12,7,184435.69636373955,{"$f":"IF($G$4=\"mensual\",S118,0)","v":2108.8248948357791},null,1770.0823353035462,-144.29610591190135,null,-188.31460359387887,187981.99288437309,null,{"$f":"+Bono!J119","v":13143.955708205276},null,8,244297.23380309949]
[null,97,8,1,52,43171.285210521135,null,409.64338608246248,0,0,-43.580928596603599,43537.347668006994,null,97,8,1,8,187981.99288437309,{"$f":"IF($G$17=\"si\",S108*(1+$G$20),S108)","v":2213.9924141062183},null,1804.7303214862711,{"$f":"V119*(1+$G$18)","v":-151.49218157294905},null,-192.00071561996558,191657.22272277265,null,{"$f":"+Bono!J120","v":13225.449758200646},null,8.0833333333333339,248420.02014898029]
[null,98,8,2,52,43537.347668006994,null,413.11687694267039,0,0,-43.950464544949668,43906.514080404719,null,98,8,2,8,191657.22272277265,{"$f":"IF($G$4=\"mensual\",S120,0)","v":2213.9924141062183},null,1839.6038164098459,{"$f":"V120","v":-151.49218157294905},null,-195.71081895328874,195363.61595276248,null,{"$f":"+Bono!J121","v":13307.449080758712},null,8.1666666666666661,252577.57911392589]
[null,99,8,3,52,43906.514080404719,null,416.61982058831529,0,{"$f":"-SUM(F122:H122)*$J$21","v":-398.9082051089373},-43.924225695884097,43880.301470188213,null,99,8,3,8,195363.61595276248,{"$f":"IF($G$4=\"mensual\",S121,0)","v":2213.9924141062183},null,1874.7730143033598,-151.49218157294905,null,-199.45238138117205,199101.43681821792,null,{"$f":"+Bono!J122","v":13269.326567108797},null,8.25,256251.06485551494]
[null,100,8,4,52,43880.301470188213,null,416.37109455769593,0,0,-44.296672564745911,44252.37589218116,null,100,8,4,8,199101.43681821792,{"$f":"IF($G$4=\"mensual\",S120,IF($G$4=\"trimestral\",S120,0))","v":2213.9924141062183},null,1910.2404225222303,-151.49218157294905,null,-203.22566965484637,202870.95180361858,null,{"$f":"+Bono!J123","v":13351.597930971488},null,8.3333333333333339,260474.9256267712]
[null,101,8,5,52,44252.37589218116,null,419.90163170424171,0,0,-44.672277523885398,44627.605246361512,null,101,8,5,8,202870.95180361858,{"$f":"IF($G$4=\"mensual\",S123,0)","v":2213.9924141062183},null,1946.0085696825049,-151.49218157294905,null,-207.0309527874073,206672.42965304694,null,{"$f":"+Bono!J124","v":13434.379386833014},null,8.4166666666666661,264734.41428624146]
[null,102,8,6,52,44627.605246361512,null,423.46210534903639,0,{"$f":"-SUM(F125:H125)*$J$21","v":-405.45960616539497},-44.645607745545156,44600.962137799608,null,102,8,6,8,206672.42965304694,{"$f":"IF($G$4=\"mensual\",S124,0)","v":2213.9924141062183},null,1982.0800058411348,{"$f":"V124","v":-151.49218157294905},null,-210.86850207299429,210506.14138934834,null,{"$f":"+Bono!J125","v":13395.893249599305},null,8.5,268502.99677674723]
[null,103,8,7,52,44600.962137799608,null,423.20929440875886,0,0,-45.024171432208362,44979.147260776153,null,103,8,7,8,210506.14138934834,{"$f":"+IF($G$4=\"mensual\",S120,IF($G$4=\"trimestral\",S120,IF($G$4=\"semestral\",S120,0)))","v":2213.9924141062183},null,2018.4573026777796,-151.49218157294905,null,-214.7385911061323,214372.36033345322,null,{"$f":"+Bono!J126","v":13478.949341574264},null,8.5833333333333339,272830.45693580364]
[null,104,8,8,52,44979.147260776153,null,426.79781473162313,0,0,-45.40594507550778,45360.539130432269,null,104,8,8,8,214372.36033345322,{"$f":"IF($G$4=\"mensual\",S126,0)","v":2213.9924141062183},null,2055.1430536781531,-151.49218157294905,null,-218.6414958012376,218271.36212386339,null,{"$f":"+Bono!J127","v":13562.520390953378},null,8.6666666666666661,277194.42164524901]
[null,105,8,9,52,45360.539130432269,null,430.41676320972351,0,{"$f":"-SUM(F128:H128)*$J$21","v":-412.11860304277798},-45.378837290599215,45333.458453308616,null,105,8,9,8,218271.36212386339,{"$f":"IF($G$4=\"mensual\",S127,0)","v":2213.9924141062183},null,2092.1398743189238,-151.49218157294905,null,-222.57749441228853,222203.42473630331,null,{"$f":"+Bono!J128","v":13523.667161788748},null,8.75,281060.55035140069]
[null,106,8,10,52,45333.458453308616,null,430.15980027196883,0,0,-45.763618253580589,45717.854635327007,null,106,8,10,8,222203.42473630331,{"$f":"IF($G$4=\"mensual\",S120,IF($G$4=\"trimestral\",S120,0))","v":2213.9924141062183},null,2129.4504022541819,-151.49218157294905,null,-226.54686755266371,226168.8285035381,null,{"$f":"+Bono!J129","v":13607.515466840136},null,8.8333333333333339,285494.19860570523]
[null,107,8,11,52,45717.854635327007,null,433.80725604798567,0,0,-46.151661891374992,46105.510229483618,null,107,8,11,8,226168.8285035381,{"$f":"IF($G$17=\"si\",S118*(1+$G$20),S118)","v":2213.9924141062183},null,2167.0772975034884,-151.49218157294905,null,-230.54989821514778,230167.85613535967,null,{"$f":"+Bono!J130","v":13691.883641108643},null,8.9166666666666661,289965.25000595191]
[null,108,8,12,52,46105.510229483618,null,437.48563971087049,0,{"$f":"-SUM(F131:H131)*$J$21","v":-418.88696282275043},-46.124108906371738,46077.984797465368,null,108,8,12,8,230167.85613535967,{"$f":"IF($G$4=\"mensual\",S130,0)","v":2213.9924141062183},null,2205.0232426415191,-151.49218157294905,null,-234.58687179210742,234200.79273874237,null,{"$f":"+Bono!J131","v":13652.659818583867},null,9,293931.43735479162]
[null,109,9,1,53,46077.984797465368,null,437.22445658601436,0,0,-46.515209254051385,46468.694044797332,null,109,9,1,9,234200.79273874237,{"$f":"IF($G$17=\"si\",S120*(1+$G$20),S120)","v":2324.4046585961783},null,2244.338621914726,{"$f":"V131*(1+$G$18)","v":-159.04712696642832},null,-238.76953601925328,238371.7193562676,null,{"$f":"+Bono!J132","v":13737.307893069607},null,9.0833333333333339,298577.72129413451]
[null,110,9,2,53,46468.694044797332,null,440.9318157315742,0,0,-46.909625860528905,46862.716234668376,null,110,9,2,9,238371.7193562676,{"$f":"IF($G$4=\"mensual\",S132,0)","v":2324.4046585961783},null,2283.9156809337637,{"$f":"V132","v":-159.04712696642832},null,-242.98003969579756,242578.0125291353,null,{"$f":"+Bono!J133","v":13822.480795435729},null,9.1666666666666661,303263.20955923939]
[null,111,9,3,53,46862.716234668376,null,444.67061070289151,0,{"$f":"-SUM(F134:H134)*$J$21","v":-425.76648160834151},-46.881620363762927,46834.738743399168,null,111,9,3,9,242578.0125291353,{"$f":"IF($G$4=\"mensual\",S133,0)","v":2324.4046585961783},null,2323.8283258732558,-159.04712696642832,null,-247.22624551360477,246819.97214112472,null,{"$f":"+Bono!J134","v":13782.882844723928},null,9.25,307437.5937292478]
[null,112,9,4,53,46834.738743399168,null,444.40513808140884,0,0,-47.279143881480572,47231.864737599091,null,112,9,4,9,246819.97214112472,{"$f":"IF($G$4=\"mensual\",S132,IF($G$4=\"trimestral\",S132,0))","v":2324.4046585961783},null,2364.0794022682876,-159.04712696642832,null,-251.50845620198919,251097.90061882074,null,{"$f":"+Bono!J135","v":13868.338317076674},null,9.3333333333333339,312198.10367349652]
[null,113,9,5,53,47231.864737599091,null,448.17338440931235,0,0,-47.680038122008405,47632.358083886393,null,113,9,5,9,251097.90061882074,{"$f":"IF($G$4=\"mensual\",S135,0)","v":2324.4046585961783},null,2404.6717797821016,-159.04712696642832,null,-255.82697705719903,255412.10295317537,null,{"$f":"+Bono!J136","v":13954.323623270227},null,9.4166666666666661,316998.78466033196]
[null,114,9,6,53,47632.358083886393,null,451.97358284391083,0,{"$f":"-SUM(F137:H137)*$J$21","v":-432.75898500057275},-47.651572681729725,47603.921109047995,null,114,9,6,9,255412.10295317537,{"$f":"IF($G$4=\"mensual\",S136,0)","v":2324.4046585961783},null,2445.6083524106871,-159.04712696642832,null,-260.18211596418223,259762.88672125162,null,{"$f":"+Bono!J137","v":13914.347975828328},null,9.5,321281.15580612794]
[null,115,9,7,53,47603.921109047995,null,451.70375027798332,0,0,-48.055624859325981,48007.569234466653,null,115,9,7,9,259762.88672125162,{"$f":"+IF($G$4=\"mensual\",S132,IF($G$4=\"trimestral\",S132,IF($G$4=\"semestral\",S132,0)))","v":2324.4046585961783},null,2486.8920386891077,-159.04712696642832,null,-264.5741834185369,264150.56210815196,null,{"$f":"+Bono!J138","v":14000.618547242933},null,9.5833333333333339,326158.74988986156]
[null,116,9,8,53,48007.569234466653,null,455.53388375851358,0,0,-48.46310311822517,48414.640015106947,null,116,9,8,9,264150.56210815196,{"$f":"IF($G$4=\"mensual\",S138,0)","v":2324.4046585961783},null,2528.5257818995719,-159.04712696642832,null,-269.00349254864773,268575.44192913268,null,{"$f":"+Bono!J139","v":14087.424006207075},null,9.6666666666666661,331077.50595044671]
[null,117,9,9,53,48414.640015106947,null,459.39649410572838,0,{"$f":"-SUM(F140:H140)*$J$21","v":-439.86632858291409},-48.434170180629756,48385.736010449124,null,117,9,9,9,268575.44192913268,{"$f":"IF($G$4=\"mensual\",S139,0)","v":2324.4046585961783},null,2570.512550281273,-159.04712696642832,null,-273.47035913801011,273037.84165190568,null,{"$f":"+Bono!J140","v":14047.067059454203},null,9.75,335470.64472180902]
[null,118,9,10,53,48385.736010449124,null,459.12222999055007,0,0,-48.844858240439677,48796.013382199235,null,118,9,10,9,273037.84165190568,{"$f":"IF($G$4=\"mensual\",S132,IF($G$4=\"trimestral\",S132,0))","v":2324.4046585961783},null,2612.8553372420065,-159.04712696642832,null,-277.97510164774388,277538.07941912976,null,{"$f":"+Bono!J141","v":14134.160504581747},null,9.8333333333333339,340468.25330591074]
[null,119,9,11,53,48796.013382199235,null,463.01526701683184,0,0,-49.25902864921607,49209.769620566847,null,119,9,11,9,277538.07941912976,{"$f":"IF($G$17=\"si\",S130*(1+$G$20),S130)","v":2324.4046585961783},null,2655.5571615715862,-159.04712696642832,null,-282.51804123929753,282076.47607109183,null,{"$f":"+Bono!J142","v":14221.793939171297},null,9.9166666666666661,345508.03963083]
[null,120,9,12,53,49209.769620566847,null,466.94131428809413,0,{"$f":"-SUM(F143:H143)*$J$21","v":-447.09039841369452},-49.229620536441246,49180.390915904805,null,120,9,12,9,282076.47607109183,{"$f":"IF($G$4=\"mensual\",S142,0)","v":2324.4046585961783},null,2698.6210676570595,-159.04712696642832,null,-287.09950179734511,286653.35516858136,null,{"$f":"+Bono!J143","v":14181.052056164115},null,10,350014.79814065027]
[null,121,10,1,54,49180.390915904805,null,466.66254584286975,0,0,-49.647053461747674,49597.406408285926,null,121,10,1,10,286653.35516858136,{"$f":"IF($G$17=\"si\",S132*(1+$G$20),S132)","v":2440.3231838013012},null,2743.1500525827123,{"$f":"V143*(1+$G$18)","v":-166.9788389976695},null,-291.83682840496539,291378.01273756276,null,{"$f":"+Bono!J144","v":14268.976223812559},null,10.083333333333334,355244.39536966127]
[null,122,10,2,54,49597.406408285926,null,470.61951950058739,0,0,-50.068025927786515,50017.957901858725,null,122,10,2,10,291378.01273756276,{"$f":"IF($G$4=\"mensual\",S144,0)","v":2440.3231838013012},null,2787.9813499415873,{"$f":"V144","v":-166.9788389976695},null,-296.60631727130567,296142.73211503669,null,{"$f":"+Bono!J145","v":14357.445531498994},null,10.166666666666666,360518.13554839441]
[null,123,10,3,54,50017.957901858725,null,474.61004554142932,0,{"$f":"-SUM(F146:H146)*$J$21","v":-454.43311152660141},-50.038134835873549,49988.096701037677,null,123,10,3,10,296142.73211503669,{"$f":"IF($G$4=\"mensual\",S145,0)","v":2440.3231838013012},null,2833.1927855058329,-166.9788389976695,null,-301.41624808434386,300947.85299726186,null,{"$f":"+Bono!J146","v":14316.315040603948},null,10.25,365252.26473890344]
[null,124,10,4,54,49988.096701037677,null,474.32669879006039,0,0,-50.462423399827735,50411.960976427908,null,124,10,4,10,300947.85299726186,{"$f":"IF($G$4=\"mensual\",S144,IF($G$4=\"trimestral\",S144,0))","v":2440.3231838013012},null,2878.7875825829087,-166.9788389976695,null,-306.26696376364612,305793.71796088479,null,{"$f":"+Bono!J147","v":14405.077854445453},null,10.333333333333334,370610.75679175812]
[null,125,10,5,54,50411.960976427908,null,478.34865913160536,0,0,-50.890309635559511,50839.419325923955,null,125,10,5,10,305793.71796088479,{"$f":"IF($G$4=\"mensual\",S147,0)","v":2440.3231838013012},null,2924.7689918116776,-166.9788389976695,null,-311.15881013649778,310680.67248736363,null,{"$f":"+Bono!J148","v":14494.391008028626},null,10.416666666666666,376014.48282131623]
[null,126,10,6,54,50839.419325923955,null,482.40472289813198,0,{"$f":"-SUM(F149:H149)*$J$21","v":-461.89641643939882},-50.859927632382686,50809.067704750305,null,126,10,6,10,310680.67248736363,{"$f":"IF($G$4=\"mensual\",S148,0)","v":2440.3231838013012},null,2971.1402913941583,-166.9788389976695,null,-316.0921359625591,315609.06498759886,null,{"$f":"+Bono!J149","v":14452.868202591053},null,10.5,380871.00089494017]
[null,127,10,7,54,50809.067704750305,null,482.11672264958628,0,0,-51.291184427399898,51239.893242972495,null,127,10,7,10,315609.06498759886,{"$f":"+IF($G$4=\"mensual\",S144,IF($G$4=\"trimestral\",S144,IF($G$4=\"semestral\",S144,0)))","v":2440.3231838013012},null,3017.9047873292425,-166.9788389976695,null,-321.06729295872947,320579.24682677304,null,{"$f":"+Bono!J150","v":14542.477661876066},null,10.583333333333334,386361.61773162161]
[null,128,10,8,54,51239.893242972495,null,486.20473697270694,0,0,-51.726097979945202,51674.371881965257,null,128,10,8,10,320579.24682677304,{"$f":"IF($G$4=\"mensual\",S150,0)","v":2440.3231838013012},null,3065.0658136483917,-166.9788389976695,null,-326.08463582422274,325591.5723494009,null,{"$f":"+Bono!J151","v":14632.642710202701},null,10.666666666666666,391898.58694156888]
[null,129,10,9,54,51674.371881965257,null,{"$f":"SUM(F152:G152)*$G$8","v":490.32741481260871},0,{"$f":"-SUM(F152:H152)*$J$21","v":-469.48229367100083},-51.695217003106862,{"$f":"SUM(F152:K152)","v":51643.521786103753},null,129,10,9,10,325591.5723494009,{"$f":"IF($G$4=\"mensual\",S151,0)","v":2440.3231838013012},null,3112.626732653333,-166.9788389976695,null,{"$f":"-SUM(R152:U152)*0.1%","v":-331.14452226585558},{"$f":"SUM(R152:X152)","v":330646.39890459203},null,{"$f":"+Bono!J152","v":14590.723848212798},null,{"$f":"+B152/12","v":10.75},{"$f":"+AA152+Y152+L152","v":396880.64453890861}]
[null,{"$f":"+B152+1","v":130},10,10,54,{"$f":"L152","v":51643.521786103753},null,490.03468464096687,0,0,{"$f":"-SUM(F153:J153)*0.1%","v":-52.133556470744722},52081.422914273971,null,{"$f":"+N152+1","v":130},10,10,10,{"$f":"Y152","v":330646.39890459203},{"$f":"IF($G$4=\"mensual\",S144,IF($G$4=\"trimestral\",S144,0))","v":2440.3231838013012},null,3160.5909351557734,-166.9788389976695,null,-336.24731302354911,335744.08687152789,null,{"$f":"+Bono!J153","v":14681.188028490931},null,10.833333333333334,402506.6978142928]
[null,131,10,11,54,52081.422914273971,null,494.18983777199441,0,0,-52.575612752045963,52523.03713929392,null,131,10,11,10,335744.08687152789,{"$f":"IF($G$17=\"si\",S142*(1+$G$20),S142)","v":2440.3231838013012},null,3208.9618407191433,-166.9788389976695,null,-341.39337189604839,340884.99968515465,null,{"$f":"+Bono!J154","v":14772.213097179983},null,10.916666666666666,408180.24992162857]
[null,132,10,12,54,52523.03713929392,null,498.38022371017507,0,{"$f":"-SUM(F155:H155)*$J$21","v":-477.19275626703694},-52.54422460673706,52491.680382130318,null,132,10,12,10,340884.99968515465,{"$f":"IF($G$4=\"mensual\",S154,0)","v":2440.3231838013012},null,3257.7428979023921,-166.9788389976695,null,-346.58306576685834,346069.50386209384,null,{"$f":"+Bono!J155","v":14729.894400935567},null,11,413291.07864515972]
[null,133,11,1,55,52491.680382130318,null,498.08268593434963,0,0,-52.989763068064669,52936.773304996605,null,133,11,1,11,346069.50386209384,{"$f":"IF($G$17=\"si\",S144*(1+$G$20),S144)","v":2562.0225890421088},null,3308.092364962441,{"$f":"V155*(1+$G$18)","v":-175.30610709425108},null,-351.9396188160984,351412.37309018802,null,{"$f":"+Bono!J156","v":14821.221454783366},null,11.083333333333334,419170.36784996797]
[null,134,11,2,55,52936.773304996605,null,502.30608051607618,0,0,-53.439079385512684,53385.64030612717,null,134,11,2,11,351412.37309018802,{"$f":"IF($G$4=\"mensual\",S156,0)","v":2562.0225890421088},null,3358.789744744382,{"$f":"V156","v":-175.30610709425108},null,-357.3331854239745,356800.54613145621,null,{"$f":"+Bono!J157","v":14913.114746958305},null,11.166666666666666,425099.30118454166]
[null,135,11,3,55,53385.64030612717,null,506.56528654497134,0,{"$f":"-SUM(F158:H158)*$J$21","v":-485.02985033404934},-53.40717574233809,53353.768566595754,null,135,11,3,11,356800.54613145621,{"$f":"IF($G$4=\"mensual\",S157,0)","v":2562.0225890421088},null,3409.9170030286787,-175.30610709425108,null,-362.77248572352698,362234.40713070915,null,{"$f":"+Bono!J158","v":14870.392402724377},null,11.25,430458.56810002925]
[null,136,11,4,55,53353.768566595754,null,506.26286220809277,0,0,-53.86003142880385,53806.171397375045,null,136,11,4,11,362234.40713070915,{"$f":"IF($G$4=\"mensual\",S156,IF($G$4=\"trimestral\",S156,0))","v":2562.0225890421088},null,3461.4777848858962,-175.30610709425108,null,-368.25790750463716,367714.34349003824,null,{"$f":"+Bono!J159","v":14962.590560480026},null,11.333333333333334,436483.10544789332]
[null,137,11,5,55,53806.171397375045,null,510.55561899237671,0,0,-54.316727016367416,54262.41028935105,null,137,11,5,11,367714.34349003824,{"$f":"IF($G$4=\"mensual\",S159,0)","v":2562.0225890421088},null,3513.4757662942629,-175.30610709425108,null,-373.78984184537461,373240.74589643494,null,{"$f":"+Bono!J160","v":15055.360357508083},null,11.416666666666666,442558.51654329407]
[null,138,11,6,55,54262.41028935105,null,514.88477536704056,0,{"$f":"-SUM(F161:H161)*$J$21","v":-492.99565558246286},-54.284299409135635,54230.015109726497,null,138,11,6,11,373240.74589643494,{"$f":"IF($G$4=\"mensual\",S160,0)","v":2562.0225890421088},null,3565.9146544017426,-175.30610709425108,null,-379.36868313987878,378814.00834964466,null,{"$f":"+Bono!J161","v":15012.230515173138},null,11.5,448056.25397454429]
[null,139,11,7,55,54230.015109726497,null,514.57738421550459,0,0,-54.744592493942001,54689.847901448062,null,139,11,7,11,378814.00834964466,{"$f":"+IF($G$4=\"mensual\",S156,IF($G$4=\"trimestral\",S156,IF($G$4=\"semestral\",S156,0)))","v":2562.0225890421088},null,3618.7981877903358,-175.30610709425108,null,-384.9948291264771,384434.52819025633,null,{"$f":"+Bono!J162","v":15105.308085678173},null,11.583333333333334,454229.68417738256]
[null,140,11,8,55,54689.847901448062,null,518.94064236068175,0,0,-55.208788543808751,55153.579755264938,null,140,11,8,11,384434.52819025633,{"$f":"IF($G$4=\"mensual\",S162,0)","v":2562.0225890421088},null,3672.1301367426158,-175.30610709425108,null,-390.66868091604101,390102.70612803072,null,{"$f":"+Bono!J163","v":15198.962747916668},null,11.666666666666666,460455.24863121234]
[null,141,{"$f":"C152+1","v":11},{"$f":"D152","v":9},{"$f":"E152+1","v":55},55153.579755264938,null,523.34089789872041,0,{"$f":"-SUM(F164:H164)*$J$21","v":-501.09228587847298},-55.175828367285185,55120.652538917901,null,141,{"$f":"O152+1","v":11},{"$f":"P152","v":9},{"$f":"Q152+1","v":11},390102.70612803072,{"$f":"IF($G$4=\"mensual\",S163,0)","v":2562.0225890421088},null,{"$f":"SUM(R164:T164)*$G$8","v":3725.914303510529},-175.30610709425108,null,-396.3906430205833,395818.94627046847,null,{"$f":"+Bono!J164","v":15155.421520645712},null,11.75,466095.0203300321]
[null,142,11,10,55,55120.652538917901,null,523.02845836089125,0,0,-55.643680997278793,55588.037316281509,null,142,11,10,11,395818.94627046847,{"$f":"IF($G$4=\"mensual\",S156,IF($G$4=\"trimestral\",S156,0))","v":2562.0225890421088},null,3780.154522586472,-175.30610709425108,null,-402.16112338209706,401583.65615162067,null,{"$f":"+Bono!J165","v":15249.386891993805},null,11.833333333333334,472421.080359896]
[null,143,11,11,55,55588.037316281509,null,527.46337573407072,0,0,-56.11550069201558,56059.385191323563,null,143,11,11,11,401583.65615162067,{"$f":"IF($G$17=\"si\",S154*(1+$G$20),S154)","v":2562.0225890421088},null,3834.8546609766704,-175.30610709425108,null,-407.98053340163943,407397.2467611435,null,{"$f":"+Bono!J166","v":15343.934859543564},null,11.916666666666666,478800.56681201066]
[null,144,11,12,55,56059.385191323563,null,531.9358981205005,0,{"$f":"-SUM(F167:H167)*$J$21","v":-509.32188980499666},-56.081999199639071,56025.917200439428,null,144,11,12,11,407397.2467611435,{"$f":"IF($G$4=\"mensual\",S166,0)","v":2562.0225890421088},null,3890.0186184768686,-175.30610709425108,null,-413.84928796866245,413260.13257359952,null,{"$f":"+Bono!J167","v":15299.978323427855},null,12,484586.0280974668]
[null,145,12,1,56,56025.917200439428,null,531.61832728506442,0,0,-56.55753552772449,56500.977992196764,null,145,12,1,12,413260.13257359952,{"$f":"IF($G$17=\"si\",S156*(1+$G$20),S156)","v":2689.7911679621566},null,3946.8626975392867,{"$f":"V167*(1+$G$18)","v":-184.0486577162628},null,-419.89678643910094,419292.84099494555,null,{"$f":"+Bono!J168","v":15394.839963720749},null,12.083333333333334,491188.65895086306]
[null,146,12,2,56,56500.977992196764,null,536.12608076938886,0,0,-57.037104072966159,56980.066968893188,null,146,12,2,12,419292.84099494555,{"$f":"IF($G$4=\"mensual\",S168,0)","v":2689.7911679621566},null,4004.1058185841548,{"$f":"V168","v":-184.0486577162628},null,-425.98673798149184,425376.70258579409,null,{"$f":"+Bono!J169","v":15490.289757186729},null,12.166666666666666,497847.05931187398]
[null,147,12,3,56,56980.066968893188,null,540.67205686650243,0,{"$f":"-SUM(F170:H170)*$J$21","v":-517.68665123183735},-57.003052374527854,56946.049322153325,null,147,12,3,12,425376.70258579409,{"$f":"IF($G$4=\"mensual\",S169,0)","v":2689.7911679621566},null,4061.8343214623796,-184.0486577162628,null,-432.12832807521863,431512.15108942712,null,{"$f":"+Bono!J170","v":15445.913950890139},null,12.25,503904.11436247057]
[null,148,12,4,56,56946.049322153325,null,540.34927046046607,0,0,-57.486398592613789,57428.912194021177,null,148,12,4,12,431512.15108942712,{"$f":"IF($G$4=\"mensual\",S168,IF($G$4=\"trimestral\",S168,0))","v":2689.7911679621566},null,4120.0523218741509,-184.0486577162628,null,-438.32199457926339,437699.62392696785,null,{"$f":"+Bono!J171","v":15541.680409000783},null,12.333333333333334,510670.21652998979]
[null,149,12,5,56,57428.912194021177,null,544.93105626741828,0,0,-57.973843250288603,57915.869407038314,null,149,12,5,12,437699.62392696785,{"$f":"IF($G$4=\"mensual\",S171,0)","v":2689.7911679621566},null,4178.7639704179319,-184.0486577162628,null,-444.56817906534798,443939.56222856633,null,{"$f":"+Bono!J172","v":15638.040630259935},null,12.416666666666666,517493.47226586461]
[null,150,12,6,56,57915.869407038314,null,549.55169242973955,0,{"$f":"-SUM(F173:H173)*$J$21","v":-526.18878989521249},-57.939232309572844,57881.293077263268,null,150,12,6,12,443939.56222856633,{"$f":"IF($G$4=\"mensual\",S172,0)","v":2689.7911679621566},null,4237.9734528863737,-184.0486577162628,null,-450.86732684941484,450232.41086484917,null,{"$f":"+Bono!J173","v":15593.241554661969},null,12.5,523706.94549677439]
[null,151,12,7,56,57881.293077263268,null,549.2236047960663,0,0,-58.430516682059341,58372.086165377281,null,151,12,7,12,450232.41086484917,{"$f":"+IF($G$4=\"mensual\",S168,IF($G$4=\"trimestral\",S168,IF($G$4=\"semestral\",S168,0)))","v":2689.7911679621566},null,4297.684990564735,-184.0486577162628,null,-457.21988702337603,456578.61847863637,null,{"$f":"+Bono!J174","v":15689.921461004942},null,12.583333333333334,530640.62610501854]
[null,152,12,8,56,58372.086165377281,null,553.88063878290473,0,0,-58.925966804160183,58867.04083735602,null,152,12,8,12,456578.61847863637,{"$f":"IF($G$4=\"mensual\",S174,0)","v":2689.7911679621566},null,4357.9028405318359,-184.0486577162628,null,-463.62631248713035,462978.63751692697,null,{"$f":"+Bono!J175","v":15787.200793981418},null,12.666666666666666,537632.87914826442]
[null,153,12,9,56,58867.04083735602,null,558.57716117731547,0,{"$f":"-SUM(F176:H176)*$J$21","v":-534.83056198680003},-58.890787436546539,58831.896649109993,null,153,12,9,12,462978.63751692697,{"$f":"IF($G$4=\"mensual\",S175,0)","v":2689.7911679621566},null,4418.6312959635643,-184.0486577162628,null,-470.08705998085264,469432.92426315555,null,{"$f":"+Bono!J176","v":15741.974411816807},null,12.75,544006.79532408237]
[null,154,12,10,56,58831.896649109993,null,558.24368525219484,0,0,-59.390140334362187,59330.750194027823,null,154,12,10,12,469432.92426315555,{"$f":"IF($G$4=\"mensual\",S168,IF($G$4=\"trimestral\",S168,0))","v":2689.7911679621566},null,4479.8746864389514,-184.0486577162628,null,-476.60259011755664,475941.93886972283,null,{"$f":"+Bono!J177","v":15839.576479126084},null,12.833333333333334,551112.26554287667]
[null,155,12,11,56,59330.750194027823,null,562.97720324460283,0,0,-59.893727397272428,59833.833669875159,null,155,12,11,12,475941.93886972283,{"$f":"IF($G$17=\"si\",S166*(1+$G$20),S166)","v":2689.7911679621566},null,4541.6373782488445,-184.0486577162628,null,-483.1733674159338,482506.1453908016,null,{"$f":"+Bono!J178","v":15937.783690573819},null,12.916666666666666,558277.76275125053]
[null,156,12,12,56,59833.833669875159,null,567.75085817572858,0,{"$f":"-SUM(F179:H179)*$J$21","v":-543.61426075245799},-59.857970267298427,59798.112297031126,null,156,12,12,12,482506.1453908016,{"$f":"IF($G$4=\"mensual\",S178,0)","v":2689.7911679621566},null,4603.9237747072011,-184.0486577162628,null,-489.79986033347092,489126.01181542117,null,{"$f":"+Bono!J179","v":15892.125926068689},null,13,564816.25003852102]
[null,157,13,1,57,59798.112297031126,null,567.4119054654725,0,0,-60.365524202496601,60305.158678294101,null,157,13,1,13,489126.01181542117,{"$f":"IF($G$17=\"si\",S168*(1+$G$20),S168)","v":2823.9315914666627},null,4668.0111471678065,{"$f":"V179*(1+$G$18)","v":-193.22720108630435},null,-496.61795455405564,495928.10939841531,null,{"$f":"+Bono!J180","v":15990.658950182828},null,13.083333333333334,572223.92702689231]
[null,158,13,2,57,60305.158678294101,null,572.22316358550654,0,0,-60.877381841879611,60816.50446003773,null,158,13,2,13,495928.10939841531,{"$f":"IF($G$4=\"mensual\",S180,0)","v":2823.9315914666627},null,4732.5548426536652,{"$f":"V180","v":-193.22720108630435},null,-503.48459583253566,502787.88403561682,null,{"$f":"+Bono!J181","v":16089.802890475596},null,13.166666666666666,579694.19138613017]
[null,159,13,3,57,60816.50446003773,null,577.07521782644426,0,{"$f":"-SUM(F182:H182)*$J$21","v":-552.54221710077763},-60.841037460763403,60780.196423302637,null,159,13,3,13,502787.88403561682,{"$f":"IF($G$4=\"mensual\",S181,0)","v":2823.9315914666627},null,4797.6458237639754,-193.22720108630435,null,-510.40946145084746,509705.82478831033,null,{"$f":"+Bono!J182","v":16043.709628980161},null,13.25,586529.73084059311]
[null,160,13,4,57,60780.196423302637,null,576.73069838400374,0,0,-61.356927121686638,61295.570194564956,null,160,13,4,13,509705.82478831033,{"$f":"IF($G$4=\"mensual\",S180,IF($G$4=\"trimestral\",S180,0))","v":2823.9315914666627},null,4863.2887310999977,-193.22720108630435,null,-517.39304511087698,516682.42486467981,null,{"$f":"+Bono!J183","v":16143.182489634972},null,13.333333333333334,594121.17754887976]
[null,161,13,5,57,61295.570194564956,null,581.6209733834271,0,0,-61.877191167948382,61815.313976780431,null,161,13,5,13,516682.42486467981,{"$f":"IF($G$4=\"mensual\",S183,0)","v":2823.9315914666627},null,4929.4882446120637,-193.22720108630435,null,-524.43584470075859,523718.1816549715,null,{"$f":"+Bono!J184","v":16243.272093563977},null,13.416666666666666,601776.76772531588]
[null,162,13,6,57,61815.313976780431,null,586.55271451190674,0,{"$f":"-SUM(F185:H185)*$J$21","v":-561.61680022163114},-61.840249891070705,61778.409641179634,null,162,13,6,13,523718.1816549715,{"$f":"IF($G$4=\"mensual\",S184,0)","v":2823.9315914666627},null,4996.2490839332286,-193.22720108630435,null,-531.53836233037146,530813.59676695464,null,{"$f":"+Bono!J185","v":16196.739181181731},null,13.5,608788.74558931601]
[null,163,13,7,57,61778.409641179634,null,586.2025369130024,0,0,-62.364612178092635,62302.247565914542,null,163,13,7,13,530813.59676695464,{"$f":"+IF($G$4=\"mensual\",S180,IF($G$4=\"trimestral\",S180,IF($G$4=\"semestral\",S180,0)))","v":2823.9315914666627},null,5063.5760087157478,-193.22720108630435,null,-538.70110436713708,537969.17606168357,null,{"$f":"+Bono!J186","v":16297.160842810519},null,13.583333333333334,616568.58447040862]
[null,164,13,8,57,62302.247565914542,null,591.17312651209363,0,0,-62.893420692426631,62830.527271734209,null,164,13,8,13,537969.17606168357,{"$f":"IF($G$4=\"mensual\",S186,0)","v":2823.9315914666627},null,5131.4738189704203,-193.22720108630435,null,-545.92458147212062,545185.42968956218,null,{"$f":"+Bono!J187","v":16398.205130389597},null,13.666666666666666,624414.16209168592]
[null,165,13,9,57,62830.527271734209,null,596.18586325215892,0,{"$f":"-SUM(F188:H188)*$J$21","v":-570.84041821487745},-62.855872716771493,62793.01684405472,null,165,13,9,13,545185.42968956218,{"$f":"IF($G$4=\"mensual\",S187,0)","v":2823.9315914666627},null,5199.9473554087945,-193.22720108630435,null,-553.20930863643764,552462.87212671479,null,{"$f":"+Bono!J188","v":16351.22837360296},null,13.75,631607.11734437244]
[null,166,13,10,57,62793.01684405472,null,595.82993457102066,0,0,-63.388846778625741,63325.457931847115,null,166,13,10,13,552462.87212671479,{"$f":"IF($G$4=\"mensual\",S180,IF($G$4=\"trimestral\",S180,0))","v":2823.9315914666627},null,5269.0014997882827,{"$f":"V188","v":-193.22720108630435},null,-560.55580521796969,559802.0222116654,null,{"$f":"+Bono!J189","v":16452.607886144397},null,13.833333333333334,639580.08802965691]
[null,167,13,11,57,63325.457931847115,null,600.88215780294684,0,0,-63.926340089650061,63862.413749560408,null,167,13,11,13,559802.0222116654,{"$f":"IF($G$17=\"si\",S178*(1+$G$20),S178)","v":2823.9315914666627},null,5338.6411752602062,-193.22720108630435,null,-567.96459497839226,567203.40318232751,null,{"$f":"+Bono!J190","v":16554.615963422886},null,13.916666666666666,647620.43289531081]
[null,168,13,12,57,63862.413749560408,null,605.97722037224798,0,{"$f":"-SUM(F191:H191)*$J$21","v":-580.21551872939392},-63.88817545120326,63824.287275752053,null,168,13,12,13,567203.40318232751,{"$f":"IF($G$4=\"mensual\",S190,0)","v":2823.9315914666627},null,5408.8713467207826,-193.22720108630435,null,-575.43620612051495,574667.54271330801,null,{"$f":"+Bono!J191","v":16507.191128715298},null,14,654999.02111777535]
[null,169,14,1,58,63824.287275752053,null,605.6154461569547,0,0,-64.429902721909002,64365.472819187096,null,169,14,1,14,574667.54271330801,{"$f":"IF($G$17=\"si\",S180*(1+$G$20),S180)","v":2964.7616247194233},null,5481.0333281895973,{"$f":"V191*(1+$G$18)","v":-202.86348024991855},null,-583.11333766621703,582327.36084830086,null,{"$f":"+Bono!J192","v":16609.537628428992},null,14.083333333333334,663302.37129591696]
[null,170,14,2,58,64365.472819187096,null,610.75064371779956,0,0,-64.976223462904898,64911.247239441996,null,170,14,2,14,582327.36084830086,{"$f":"IF($G$4=\"mensual\",S192,0)","v":2964.7616247194233},null,5553.7157563891087,{"$f":"V192","v":-202.86348024991855},null,-590.84583822940931,590052.12891093001,null,{"$f":"+Bono!J193","v":16712.518688312372},null,14.166666666666666,671675.89483868435]
[null,171,14,3,58,64911.247239441996,null,615.92938418059043,0,{"$f":"-SUM(F194:H194)*$J$21","v":-589.74458961260336},-64.937432034009987,64872.494601975981,null,171,14,3,14,590052.12891093001,{"$f":"IF($G$4=\"mensual\",S193,0)","v":2964.7616247194233},null,5627.014481003077,-202.86348024991855,null,-598.64390501665241,597842.39763138583,null,{"$f":"+Bono!J194","v":16664.641501786755},null,14.25,679379.53373514861]
[null,172,14,4,58,64872.494601975981,null,615.56166842800644,0,0,-65.488056270403987,65422.568214133578,null,172,14,4,14,597842.39763138583,{"$f":"IF($G$4=\"mensual\",S192,IF($G$4=\"trimestral\",S192,0))","v":2964.7616247194233},null,5700.9347277962415,-202.86348024991855,null,-606.5080939839014,605698.72240966768,null,{"$f":"+Bono!J195","v":16767.964212076604},null,14.333333333333334,687889.25483587792]
[null,173,14,5,58,65422.568214133578,null,620.78120303254809,0,0,-66.043349417166127,65977.30606774897,null,173,14,5,14,605698.72240966768,{"$f":"IF($G$4=\"mensual\",S195,0)","v":2964.7616247194233},null,5775.481766844192,-202.86348024991855,null,-614.43896580123123,613621.66335518006,null,{"$f":"+Bono!J196","v":16871.92753515494},null,14.416666666666666,696470.89695808396]
[null,174,14,6,58,65977.30606774897,null,626.04499565847959,0,{"$f":"-SUM(F197:H197)*$J$21","v":-599.43015957066712},-66.003920903836786,65937.916982932948,null,174,14,6,14,613621.66335518006,{"$f":"IF($G$4=\"mensual\",S196,0)","v":2964.7616247194233},null,5850.6609129090884,-202.86348024991855,null,-622.43708589280857,621611.78532666585,null,{"$f":"+Bono!J197","v":16823.593682148559},null,14.5,704373.29599174741]
[null,175,14,7,58,65937.916982932948,null,625.6712407887776,0,0,-66.563588223721737,66497.024635498004,null,175,14,7,14,621611.78532666585,{"$f":"+IF($G$4=\"mensual\",S192,IF($G$4=\"trimestral\",S192,IF($G$4=\"semestral\",S192,0)))","v":2964.7616247194233},null,5926.47752581858,-202.86348024991855,null,-630.50302447720389,629669.65797247679,null,{"$f":"+Bono!J198","v":16927.901914393966},null,14.583333333333334,713094.58452236885]
[null,176,14,8,58,66497.024635498004,null,630.97649753210817,0,0,-67.128001133030111,67060.873131897082,null,176,14,8,14,629669.65797247679,{"$f":"IF($G$4=\"mensual\",S198,0)","v":2964.7616247194233},null,6002.9370108479206,-202.86348024991855,null,-638.63735660804412,637795.85577118618,null,{"$f":"+Bono!J199","v":17032.856869778298},null,14.666666666666666,721889.58577286149]
[null,177,14,9,58,67060.873131897082,null,636.32673916091505,0,{"$f":"-SUM(F200:H200)*$J$21","v":-609.27479883952196},-67.087925072218468,67020.837147146245,null,177,14,9,14,637795.85577118618,{"$f":"IF($G$4=\"mensual\",S199,0)","v":2964.7616247194233},null,6080.0448191053383,-202.86348024991855,null,-646.84066221501087,645990.95807254594,null,{"$f":"+Bono!J200","v":16984.061994473908},null,14.75,729995.85721416608]
[null,178,14,10,58,67020.837147146245,null,635.94684599168227,0,0,-67.656783993137935,67589.12720914479,null,178,14,10,14,645990.95807254594,{"$f":"IF($G$4=\"mensual\",S192,IF($G$4=\"trimestral\",S192,0))","v":2964.7616247194233},null,6157.8064479206669,-202.86348024991855,null,-655.11352614518592,654255.54913879081,null,{"$f":"+Bono!J201","v":17089.365148868903},null,14.833333333333334,738934.04149680445]
[null,179,14,11,58,67589.12720914479,null,641.33923271676781,0,0,-68.230466441861566,68162.235975419695,null,179,14,11,14,654255.54913879081,{"$f":"IF($G$17=\"si\",S190*(1+$G$20),S190)","v":2964.7616247194233},null,6236.227441237269,-202.86348024991855,null,-663.45653820474752,662590.2181862928,null,{"$f":"+Bono!J202","v":17195.321195035554},null,14.916666666666666,747947.77535674814]
[null,180,14,12,58,68162.235975419695,null,646.77734312894472,0,{"$f":"-SUM(F203:H203)*$J$21","v":-619.28111986693773},-68.189732198681696,68121.542466483021,null,180,14,12,14,662590.2181862928,{"$f":"IF($G$4=\"mensual\",S202,0)","v":2964.7616247194233},null,6315.3133900072935,-202.86348024991855,null,-671.87029320101942,670995.55942756846,null,{"$f":"+Bono!J203","v":17146.060900068864},null,15,756263.16279412038]
[null,181,15,1,59,68121.542466483021,null,646.39121084886301,0,0,-68.767933677331882,68699.16574365455,null,181,15,1,15,670995.55942756846,{"$f":"IF($G$17=\"si\",S192*(1+$G$20),S192)","v":3112.614879896506},null,6396.4728815133494,{"$f":"V203*(1+$G$18)","v":-212.98032258267804},null,-680.50464718897831,679611.16221920669,null,{"$f":"+Bono!J204","v":17252.368466469256},null,15.083333333333334,765562.69642933051]
[null,182,15,2,59,68699.16574365455,null,651.8721585201389,0,0,-69.351037902174696,69281.686864272517,null,182,15,2,15,679611.16221920669,{"$f":"IF($G$4=\"mensual\",S204,0)","v":3112.614879896506},null,6478.2245524098207,{"$f":"V204","v":-212.98032258267804},null,-689.202001651513,688299.81932727888,null,{"$f":"+Bono!J205","v":17359.335152112246},null,15.166666666666666,774940.84134366363]
[null,183,15,3,59,69281.686864272517,null,657.39958081370412,0,{"$f":"-SUM(F206:H206)*$J$21","v":-629.45177800577596},-69.309634667080431,69240.325032413355,null,183,15,3,15,688299.81932727888,{"$f":"IF($G$4=\"mensual\",S205,0)","v":3112.614879896506},null,6560.6694205879112,-212.98032258267804,null,-697.97310362776341,697062.1502015529,null,{"$f":"+Bono!J206","v":17309.60499817563},null,15.25,783612.08023214189]
[null,184,15,4,59,69240.325032413355,null,657.00710695579744,0,0,-69.897332139369155,69827.434807229787,null,184,15,4,15,697062.1502015529,{"$f":"IF($G$4=\"mensual\",S204,IF($G$4=\"trimestral\",S204,0))","v":3112.614879896506},null,6643.813363878201,-212.98032258267804,null,-706.8185784453276,705898.77954429958,null,{"$f":"+Bono!J207","v":17416.926556954226},null,15.333333333333334,793143.14090848365]
[null,185,15,5,59,69827.434807229787,null,662.57807003890025,0,0,-70.490012877268683,70419.522864391416,null,185,15,5,15,705898.77954429958,{"$f":"IF($G$4=\"mensual\",S207,0)","v":3112.614879896506},null,6727.6623099511853,-212.98032258267804,null,-715.73905673414731,714810.33735483047,null,{"$f":"+Bono!J208","v":17524.913521845781},null,15.416666666666666,802754.77374106774]
[null,186,15,6,59,70419.522864391416,null,668.19627101234653,0,{"$f":"-SUM(F209:H209)*$J$21","v":-639.78947221863393},-70.447929663185135,70377.481733521941,null,186,15,6,15,714810.33735483047,{"$f":"IF($G$4=\"mensual\",S208,0)","v":3112.614879896506},null,6812.222236739879,-212.98032258267804,null,-724.73517447146685,723797.45897441264,null,{"$f":"+Bono!J209","v":17474.709027288209},null,15.5,811649.6497352228]
[null,187,15,7,59,70377.481733521941,null,667.79735142679033,0,0,-71.045279084948731,70974.233805863783,null,187,15,7,15,723797.45897441264,{"$f":"+IF($G$4=\"mensual\",S204,IF($G$4=\"trimestral\",S204,IF($G$4=\"semestral\",S204,0)))","v":3112.614879896506},null,6897.4991728660088,-212.98032258267804,null,-733.80757302717518,732860.7851315653,null,{"$f":"+Bono!J210","v":17583.054250198187},null,15.583333333333334,821418.07318762725]
[null,188,15,8,59,70974.233805863783,null,673.45980827452547,0,0,-71.647693614138305,71576.045920524164,null,188,15,8,15,732860.7851315653,{"$f":"IF($G$4=\"mensual\",S210,0)","v":3112.614879896506},null,6983.4991980698205,-212.98032258267804,null,-742.95689920953157,742000.96198773943,null,{"$f":"+Bono!J211","v":17692.071226057473},null,15.666666666666666,831269.07913432107]
[null,189,15,9,59,71576.045920524164,null,679.17027881606134,0,{"$f":"-SUM(F212:H212)*$J$21","v":-650.29694579406214},-71.604919253546157,71533.31433429262,null,189,15,9,15,742000.96198773943,{"$f":"IF($G$4=\"mensual\",S211,0)","v":3112.614879896506},null,7070.2284436435248,-212.98032258267804,null,-752.18380531127946,751218.64118338551,null,{"$f":"+Bono!J212","v":17641.387866480633},null,15.75,840393.3433841588]
[null,190,15,10,59,71533.31433429262,null,678.76480764254393,0,0,-72.212079141935163,72139.86706279323,null,190,15,10,15,751218.64118338551,{"$f":"IF($G$4=\"mensual\",S204,IF($G$4=\"trimestral\",S204,0))","v":3112.614879896506},null,7157.6930928684251,-212.98032258267804,null,-761.48894915615051,760514.47988441167,null,{"$f":"+Bono!J213","v":17750.76651752715},null,15.833333333333334,850405.11346473207]
[null,191,15,11,59,72139.86706279323,null,684.52026088719253,0,0,-72.824387323680426,72751.562936356742,null,191,15,11,15,760514.47988441167,{"$f":"IF($G$17=\"si\",S202*(1+$G$20),S202)","v":3112.614879896506},null,7245.8993814557452,-212.98032258267804,null,-770.87299414576398,769889.14082903555,null,{"$f":"+Bono!J214","v":17860.823328897295},null,15.916666666666666,860501.52709428954]
[null,192,15,12,59,72751.562936356742,null,690.32451637037559,0,{"$f":"-SUM(F215:H215)*$J$21","v":-660.97698707454413},-72.780910465652568,72708.129555186912,null,192,15,12,15,769889.14082903555,{"$f":"IF($G$4=\"mensual\",S214,0)","v":3112.614879896506},null,7334.853597991204,-212.98032258267804,null,-780.33660930692326,779343.2923750336,null,{"$f":"+Bono!J215","v":17809.656536747843},null,16,869861.07846696838]
[null,193,16,1,60,72708.129555186912,null,{"$f":"SUM(F216:G216)*$G$8","v":689.91238601000634},0,0,-73.398041941196922,{"$f":"SUM(F216:K216)","v":73324.643899255723},null,193,16,1,16,779343.2923750336,{"$f":"IF($G$17=\"si\",S204*(1+$G$20),S204)","v":3267.8416064799208},null,7426.0349986498113,{"$f":"V215*(1+$G$18)","v":-223.60169386594072},null,{"$f":"-SUM(R216:U216)*0.1%","v":-790.03716898016341},{"$f":"SUM(R216:X216)","v":789023.53011731734},null,{"$f":"+Bono!J216","v":17920.078473067973},null,{"$f":"+B216/12","v":16.083333333333332},{"$f":"+AA216+Y216+L216","v":880268.25248964108}]
[null,{"$f":"+B216+1","v":194},16,2,60,{"$f":"L216","v":73324.643899255723},null,695.76236296207549,0,0,{"$f":"-SUM(F217:J217)*0.1%","v":-74.020406262217804},73946.385855955581,null,{"$f":"+N216+1","v":194},16,2,16,{"$f":"Y216","v":789023.53011731734},{"$f":"IF($G$4=\"mensual\",S216,0)","v":3267.8416064799208},null,7517.8887701438771,{"$f":"V216","v":-223.60169386594072},null,-799.80926049394111,798785.84953958122,null,{"$f":"+Bono!J217","v":18031.185038201442},null,16.166666666666668,890763.42043373815]
[null,195,16,3,60,73946.385855955581,null,701.66194364794296,0,{"$f":"-SUM(F218:H218)*$J$21","v":-671.8324301964318},-73.976215369407086,73902.239154037685,null,195,16,3,16,798785.84953958122,{"$f":"IF($G$4=\"mensual\",S217,0)","v":3267.8416064799208},null,7610.521397702998,-223.60169386594072,null,-809.66421254376417,808630.94663735444,null,{"$f":"+Bono!J218","v":17979.530202359398},null,16.25,900512.71599375154]
[null,196,16,4,60,73902.239154037685,null,701.24304473469931,0,0,-74.603482198772383,74528.878716573614,null,196,16,4,16,808630.94663735444,{"$f":"IF($G$4=\"mensual\",S216,IF($G$4=\"trimestral\",S216,0))","v":3267.8416064799208},null,7703.9394854846323,-223.60169386594072,null,-819.60272772931899,818559.52330772369,null,{"$f":"+Bono!J219","v":18091.005375110446},null,16.333333333333332,911179.4073994077]
[null,197,16,5,60,74528.878716573614,null,707.18909778822047,0,0,-75.236067814361832,75160.831746547468,null,197,16,5,16,818559.52330772369,{"$f":"IF($G$4=\"mensual\",S219,0)","v":3267.8416064799208},null,7798.1496936448984,-223.60169386594072,null,-829.62551460784857,828572.28739937476,null,{"$f":"+Bono!J220","v":18203.171706862871},null,16.416666666666668,921936.29085278511]
[null,198,16,6,60,75160.831746547468,null,713.18556923402468,0,{"$f":"-SUM(F221:H221)*$J$21","v":-682.86615584203344},-75.191151159939466,75115.960008779512,null,198,16,6,16,828572.28739937476,{"$f":"IF($G$4=\"mensual\",S220,0)","v":3267.8416064799208},null,7893.1587388134039,-223.60169386594072,null,-839.73328774466813,838669.95276305743,null,{"$f":"+Bono!J221","v":18151.024172226047},null,16.5,931936.93694406305]
[null,199,16,7,60,75115.960008779512,null,712.75979060572968,0,0,-75.828719799385254,75752.891079585854,null,199,16,7,16,838669.95276305743,{"$f":"+IF($G$4=\"mensual\",S216,IF($G$4=\"trimestral\",S216,IF($G$4=\"semestral\",S216,0)))","v":3267.8416064799208},null,7988.9733945720991,-223.60169386594072,null,-849.92676776410951,848853.23930247943,null,{"$f":"+Bono!J222","v":18263.562627482337},null,16.583333333333332,942869.69300954766]
[null,200,16,8,60,75752.891079585854,null,718.80349765021333,0,0,-76.471694577236065,76395.222882658825,null,200,16,8,16,848853.23930247943,{"$f":"IF($G$4=\"mensual\",S222,0)","v":3267.8416064799208},null,8085.6004919382012,-223.60169386594072,null,-860.20668140089754,859122.87302563072,null,{"$f":"+Bono!J223","v":18376.798834214871},null,16.666666666666668,953894.89474250446]
[null,201,16,9,60,76395.222882658825,null,724.89845112487012,0,{"$f":"-SUM(F224:H224)*$J$21","v":-694.0810920040534},-76.426040241779646,76349.614201537857,null,201,16,9,16,859122.87302563072,{"$f":"IF($G$4=\"mensual\",S223,0)","v":3267.8416064799208},null,8183.0469198511955,-223.60169386594072,null,-870.57376155196187,869479.58609654394,null,{"$f":"+Bono!J224","v":18324.153901279376},null,16.75,964153.35419936106]
[null,202,16,10,60,76349.614201537857,null,724.46567979369377,0,0,-77.074079881331556,76997.005801450214,null,202,16,10,16,869479.58609654394,{"$f":"IF($G$4=\"mensual\",S216,IF($G$4=\"trimestral\",S216,0))","v":3267.8416064799208},null,8281.3196256639803,-223.60169386594072,null,-881.02874732868793,879924.11688749329,null,{"$f":"+Bono!J225","v":18437.765780937603},null,16.833333333333332,975358.88846988115]
[null,203,16,11,60,76997.005801450214,null,730.60864463285054,0,0,-77.727614446083066,77649.886831636992,null,203,16,11,16,879924.11688749329,{"$f":"IF($G$17=\"si\",S214*(1+$G$20),S214)","v":3267.8416064799208},null,8380.4256156381762,-223.60169386594072,null,-891.57238410961145,890457.21003163583,null,{"$f":"+Bono!J226","v":18552.082067427877},null,16.916666666666668,986659.17893070076]
[null,204,16,12,60,77649.886831636992,null,736.80369753921013,0,{"$f":"-SUM(F227:H227)*$J$21","v":-705.480214762586},-77.681210314413619,77603.529104099202,null,204,16,12,16,890457.21003163583,{"$f":"IF($G$4=\"mensual\",S226,0)","v":3267.8416064799208},null,8480.3719554436211,-223.60169386594072,null,-902.20542359355943,901079.61647609994,null,{"$f":"+Bono!J227","v":18498.934991864578},null,17,997182.0805720638]
[null,205,{"$f":"C216+1","v":17},{"$f":"D216","v":1},{"$f":"E216+1","v":61},77603.529104099202,null,736.36381866168631,0,0,-78.339892922760896,78261.553029838135,null,205,{"$f":"O216+1","v":17},{"$f":"P216","v":1},{"$f":"Q216+1","v":17},901079.61647609994,{"$f":"IF($G$17=\"si\",S216*(1+$G$20),S216)","v":3430.8095209633957},null,{"$f":"SUM(R228:T228)*$G$8","v":8582.7121394576352},{"$f":"V227*(1+$G$18)","v":-234.75275505937395},null,-913.09313813652091,911945.29224332492,null,{"$f":"+Bono!J228","v":18613.630534557786},null,17.083333333333332,1008820.4758077208]
[null,206,17,2,61,78261.553029838135,null,742.60767143902444,0,0,-79.004160701277158,78925.156540575874,null,206,17,2,17,911945.29224332492,{"$f":"IF($G$4=\"mensual\",S228,0)","v":3430.8095209633957},null,8685.8142869071489,{"$f":"V228","v":-234.75275505937395},null,-924.06191605119545,922903.10138008487,null,{"$f":"+Bono!J229","v":18729.037202919553},null,17.166666666666668,1020557.2951235804]
[null,207,17,3,61,78925.156540575874,null,748.90446774307725,0,{"$f":"-SUM(F230:H230)*$J$21","v":-717.06654907487064},-78.956994459244086,78878.037464784837,null,207,17,3,17,922903.10138008487,{"$f":"IF($G$4=\"mensual\",S229,0)","v":3430.8095209633957},null,8789.7906688225466,-234.75275505937395,null,-935.12370156987083,933953.82511324156,null,{"$f":"+Bono!J230","v":18675.383195146536},null,17.25,1031507.2457731729]
[null,208,17,4,61,78878.037464784837,null,748.4573645896271,0,0,-79.626494829374465,79546.868334545099,null,208,17,4,17,933953.82511324156,{"$f":"IF($G$4=\"mensual\",S228,IF($G$4=\"trimestral\",S228,0))","v":3430.8095209633957},null,8894.6486981037542,-234.75275505937395,null,-946.27928333230864,945098.25129391695,null,{"$f":"+Bono!J231","v":18791.172737166817},null,17.333333333333332,1043436.2923656289]
[null,209,17,5,61,79546.868334545099,null,754.80376222103939,0,0,-80.30167209676614,80221.370424669367,null,209,17,5,17,945098.25129391695,{"$f":"IF($G$4=\"mensual\",S231,0)","v":3430.8095209633957},null,9000.3958505069277,-234.75275505937395,null,-957.52945666538733,956337.17445366248,null,{"$f":"+Bono!J232","v":18907.68018777838},null,17.416666666666668,1055466.2250661103]
[null,210,17,6,61,80221.370424669367,null,761.20397288817196,0,{"$f":"-SUM(F233:H233)*$J$21","v":-728.84316957801798},-80.253731227979529,80173.477496751555,null,210,17,6,17,956337.17445366248,{"$f":"IF($G$4=\"mensual\",S232,0)","v":3430.8095209633957},null,9107.0396651774427,-234.75275505937395,null,-968.87502363980332,967671.39586110413,null,{"$f":"+Bono!J233","v":18853.514412529315},null,17.5,1066698.387770385]
[null,211,17,7,61,80173.477496751555,null,760.74952681212892,0,0,-80.934227023563679,80853.292796540118,null,211,17,7,17,967671.39586110413,{"$f":"+IF($G$4=\"mensual\",S228,IF($G$4=\"trimestral\",S228,IF($G$4=\"semestral\",S228,0)))","v":3430.8095209633957},null,9214.5877451873748,-234.75275505937395,null,-980.31679312725487,979101.7235790682,null,{"$f":"+Bono!J234","v":18970.408388759311},null,17.583333333333332,1078925.4247643678]
[null,212,17,8,61,80853.292796540118,null,767.20015342558418,0,0,-81.620492949965708,81538.872457015736,null,212,17,8,17,979101.7235790682,{"$f":"IF($G$4=\"mensual\",S234,0)","v":3430.8095209633957},null,9323.0477580775623,-234.75275505937395,null,-991.85558085810908,990628.97252219159,null,{"$f":"+Bono!J235","v":19088.027121200794},null,17.666666666666668,1091255.8721004082]
[null,213,17,9,61,81538.872457015736,null,773.70547686399902,0,{"$f":"-SUM(F236:H236)*$J$21","v":-740.81320140491766},-81.571764732474819,81490.192967742332,null,213,17,9,17,990628.97252219159,{"$f":"IF($G$4=\"mensual\",S235,0)","v":3430.8095209633957},null,9432.4274364042503,-234.75275505937395,null,-1003.4922094795593,1002253.9645150203,null,{"$f":"+Bono!J236","v":19033.344697089171},null,17.75,1102777.5021798518]
[null,214,17,10,61,81490.192967742332,null,773.24356727012241,0,0,-82.26343653501246,82181.173098477448,null,214,17,10,17,1002253.9645150203,{"$f":"IF($G$4=\"mensual\",S228,IF($G$4=\"trimestral\",S228,0))","v":3430.8095209633957},null,9542.7345782903885,-234.75275505937395,null,-1015.227508614274,1013977.5283506003,null,{"$f":"+Bono!J237","v":19151.35364194246},null,17.833333333333332,1115310.0550910202]
[null,215,17,11,61,82181.173098477448,null,779.80013465257912,0,0,-82.960973233130034,82878.012259896903,null,215,17,11,17,1013977.5283506003,{"$f":"IF($G$17=\"si\",S226*(1+$G$20),S226)","v":3430.8095209633957},null,9653.9770479815725,-234.75275505937395,null,-1027.0623149195453,1025800.4998495663,null,{"$f":"+Bono!J238","v":19270.094255942029},null,17.916666666666668,1127948.6063654053]
[null,216,17,12,61,82878.012259896903,null,786.41229716399675,0,{"$f":"-SUM(F239:H239)*$J$21","v":-752.97982101354819},-82.911444736047358,82828.533291311309,null,216,17,12,17,1025800.4998495663,{"$f":"IF($G$4=\"mensual\",S238,0)","v":3430.8095209633957},null,9766.162776406738,-234.75275505937395,null,-1038.9974721469364,1037723.72191973,null,{"$f":"+Bono!J239","v":19214.890255021259},null,18,1139767.1454660625]
[null,217,18,1,62,82828.533291311309,null,785.94280147647135,0,0,-83.614476092787783,83530.861616694994,null,217,18,1,18,1037723.72191973,{"$f":"IF($G$17=\"si\",S228*(1+$G$20),S228)","v":3601.9046779357445},null,9880.9232482601928,{"$f":"V239*(1+$G$18)","v":-246.45992190473595},null,-1051.206549845926,1049908.8833741753,null,{"$f":"+Bono!J240","v":19334.024803391705},null,18.083333333333332,1152773.769794262]
[null,218,18,2,62,83530.861616694994,null,792.60704952812955,0,0,-84.323468666223121,84239.145197556907,null,218,18,2,18,1049908.8833741753,{"$f":"IF($G$4=\"mensual\",S240,0)","v":3601.9046779357445},null,9996.5457221758861,{"$f":"V240","v":-246.45992190473595},null,-1063.5073337742867,1062197.3665186076,null,{"$f":"+Bono!J241","v":19453.897999780806},null,18.166666666666668,1165890.4097159451]
[null,219,18,3,62,84239.145197556907,null,799.32780576589334,0,{"$f":"-SUM(F242:H242)*$J$21","v":-765.34625702990525},-84.273126746292903,84188.8536195466,null,219,18,3,18,1062197.3665186076,{"$f":"IF($G$4=\"mensual\",S241,0)","v":3601.9046779357445},null,10113.148594213519,-246.45992190473595,null,-1075.9124197907568,1074590.0474490609,null,{"$f":"+Bono!J242","v":19398.167447100132},null,18.25,1178177.0685157077]
[null,220,18,4,62,84188.8536195466,null,798.85059939580003,0,0,-84.987704218942397,84902.716514723448,null,220,18,4,18,1074590.0474490609,{"$f":"IF($G$4=\"mensual\",S240,IF($G$4=\"trimestral\",S240,0))","v":3601.9046779357445},null,10230.740177466947,-246.45992190473595,null,-1088.4226923044637,1087087.8096902543,null,{"$f":"+Bono!J243","v":19518.438335320308},null,18.333333333333332,1191508.9645402979]
[null,221,18,5,62,84902.716514723448,null,805.6242965918151,0,0,-85.708340811315267,85622.632470503959,null,221,18,5,18,1087087.8096902543,{"$f":"IF($G$4=\"mensual\",S243,0)","v":3601.9046779357445},null,10349.328855519281,-246.45992190473595,null,-1101.0390432237091,1099691.5442585805,null,{"$f":"+Bono!J244","v":19639.454916998009},null,18.416666666666668,1204953.6316460825]
[null,222,18,6,62,85622.632470503959,null,812.4554300265188,0,{"$f":"-SUM(F245:H245)*$J$21","v":-777.91579110477437},-85.657172109425701,85571.514937316271,null,222,18,6,18,1099691.5442585805,{"$f":"IF($G$4=\"mensual\",S244,0)","v":3601.9046779357445},null,10468.923083040576,-246.45992190473595,null,-1113.7623720195568,1112402.1497256325,null,{"$f":"+Bono!J245","v":19583.192790154128},null,18.5,1217556.8574531029]
[null,223,18,7,62,85571.514937316271,null,811.97038633877423,0,0,-86.383485323655037,86297.101838331379,null,223,18,7,18,1112402.1497256325,{"$f":"+IF($G$4=\"mensual\",S240,IF($G$4=\"trimestral\",S240,IF($G$4=\"semestral\",S240,0)))","v":3601.9046779357445},null,10589.53138639061,-246.45992190473595,null,-1126.5935857899588,1125220.532282264,null,{"$f":"+Bono!J246","v":19704.610856962852},null,18.583333333333332,1231222.2449775583]
[null,224,18,8,62,86297.101838331379,null,818.85533019855234,0,0,-87.115957168529931,87028.841211361403,null,224,18,8,18,1125220.532282264,{"$f":"IF($G$4=\"mensual\",S246,0)","v":3601.9046779357445},null,10711.162364226757,-246.45992190473595,null,-1139.5335993244264,1138147.605803197,null,{"$f":"+Bono!J247","v":19826.781729869414},null,18.666666666666668,1245003.2287444277]
[null,225,18,9,62,87028.841211361403,null,825.79865359131588,0,{"$f":"-SUM(F248:H248)*$J$21","v":-790.69175878457463},-87.063948106168155,86976.884158061992,null,225,18,9,18,1138147.605803197,{"$f":"IF($G$4=\"mensual\",S247,0)","v":3601.9046779357445},null,10833.824688117023,-246.45992190473595,null,-1152.5833351692497,1151184.2919121755,null,{"$f":"+Bono!J248","v":19769.982958553905},null,18.75,1257931.1590287914]
[null,226,18,10,62,86976.884158061992,null,825.30564387106665,0,0,-87.802189801933054,87714.387612131119,null,226,18,10,18,1151184.2919121755,{"$f":"IF($G$4=\"mensual\",S240,IF($G$4=\"trimestral\",S240,0))","v":3601.9046779357445},null,10957.527103158274,-246.45992190473595,null,-1165.7437236932694,1164331.5200476712,null,{"$f":"+Bono!J249","v":19892.559146073025},null,18.833333333333332,1271938.4668058753]
[null,227,18,11,62,87714.387612131119,null,832.3036614352684,0,0,-88.546691273566395,88458.144582292822,null,227,18,11,18,1164331.5200476712,{"$f":"IF($G$17=\"si\",S238*(1+$G$20),S238)","v":3601.9046779357445},null,11082.278428599717,-246.45992190473595,null,-1179.0157031542064,1177590.2275291474,null,{"$f":"+Bono!J250","v":20015.895320172724},null,18.916666666666668,1286064.2674316128]
[null,228,18,12,62,88458.144582292822,null,839.36101731878568,0,{"$f":"-SUM(F251:H251)*$J$21","v":-803.67755039650467},-88.493828049215111,88405.334221165889,null,228,18,12,18,1177590.2275291474,{"$f":"IF($G$4=\"mensual\",S250,0)","v":3601.9046779357445},null,11208.087558471652,-246.45992190473595,null,-1192.4002197655548,1190961.3596238843,null,{"$f":"+Bono!J251","v":19958.554785715081},null,19,1299325.2486307654]
[null,229,19,1,63,88405.334221165889,null,838.85991073725165,0,0,-89.244194131903143,89154.949937771249,null,229,19,1,19,1190961.3596238843,{"$f":"IF($G$17=\"si\",S240*(1+$G$20),S240)","v":3781.5323846053357},null,11336.667912333472,{"$f":"V251*(1+$G$18)","v":-258.7509275021095},null,-1206.0795599208232,1204614.7294334003,null,{"$f":"+Bono!J252","v":20082.300140435578},null,19.083333333333332,1313851.9795116072]
[null,230,19,2,63,89154.949937771249,null,845.97285905262902,0,0,-90.000922796823886,89910.921874027059,null,230,19,2,19,1204614.7294334003,{"$f":"IF($G$4=\"mensual\",S252,0)","v":3781.5323846053357},null,11466.221911315257,{"$f":"V252","v":-258.7509275021095},null,-1219.862483729321,1218383.8703180896,null,{"$f":"+Bono!J253","v":20206.812730708916},null,19.166666666666668,1328501.6049228255]
[null,231,19,3,63,89910.921874027059,null,853.14612022011613,0,{"$f":"-SUM(F254:H254)*$J$21","v":-816.87661194822465},-89.947191382298939,89857.244190916652,null,231,19,3,19,1218383.8703180896,{"$f":"IF($G$4=\"mensual\",S253,0)","v":3781.5323846053357},null,11596.874438057175,-258.7509275021095,null,-1233.7622771407523,1232269.7639361094,null,{"$f":"+Bono!J254","v":20148.925265615286},null,19.25,1342275.9333926414]
[null,232,19,4,63,89857.244190916652,null,852.63678379987334,0,0,-90.709880974716526,90619.17109374181,null,232,19,4,19,1232269.7639361094,{"$f":"IF($G$4=\"mensual\",S252,IF($G$4=\"trimestral\",S252,0))","v":3781.5323846053357},null,11728.634807310213,-258.7509275021095,null,-1247.7799311280251,1246273.400269395,null,{"$f":"+Bono!J255","v":20273.850939392774},null,19.333333333333332,1357166.4223025297]
[null,233,19,5,63,90619.17109374181,null,859.8665504120695,0,0,-91.479037644153891,91387.55860650973,null,233,19,5,19,1246273.400269395,{"$f":"IF($G$4=\"mensual\",S255,0)","v":3781.5323846053357},null,11861.512412807964,-258.7509275021095,null,-1261.9164450668084,1260395.7776942393,null,{"$f":"+Bono!J256","v":20399.551166838162},null,19.416666666666668,1372182.8874675874]
[null,234,19,6,63,91387.55860650973,null,867.15762041424352,0,{"$f":"-SUM(F257:H257)*$J$21","v":-830.29244604231587},-91.424423780881668,91332.99935710078,null,234,19,6,19,1260395.7776942393,{"$f":"IF($G$4=\"mensual\",S256,0)","v":3781.5323846053357},null,11995.516727936341,-258.7509275021095,null,-1276.1728268067811,1274637.9030524723,null,{"$f":"+Bono!J257","v":20341.111554325624},null,19.5,1386312.0139638986]
[null,235,19,7,63,91332.99935710078,null,866.63991899393579,0,0,-92.199639276094729,92107.439636818628,null,235,19,7,19,1274637.9030524723,{"$f":"+IF($G$4=\"mensual\",S252,IF($G$4=\"trimestral\",S252,IF($G$4=\"semestral\",S252,0)))","v":3781.5323846053357},null,12130.657306408988,-258.7509275021095,null,-1290.5500927434866,1289000.7917232411,null,{"$f":"+Bono!J258","v":20467.228805385344},null,19.583333333333332,1401575.460165445]
[null,236,19,8,63,92107.439636818628,null,873.98842244837897,0,0,-92.981428059267017,92888.446631207742,null,236,19,8,19,1289000.7917232411,{"$f":"IF($G$4=\"mensual\",S258,0)","v":3781.5323846053357},null,12266.943782948383,-258.7509275021095,null,-1305.0492678907949,1303485.467695402,null,{"$f":"+Bono!J259","v":20594.127998030333},null,19.666666666666668,1416968.0423246401]
[null,237,19,9,63,92888.446631207742,null,881.39923609859829,0,{"$f":"-SUM(F260:H260)*$J$21","v":-843.92861280575721},-92.92591725450059,92832.991337246087,null,237,19,9,19,1303485.467695402,{"$f":"IF($G$4=\"mensual\",S259,0)","v":3781.5323846053357},null,12404.385873972748,-258.7509275021095,null,-1319.67138595398,1318092.9636405241,null,{"$f":"+Bono!J260","v":20535.13097155678},null,19.75,1431461.0859493269]
[null,238,19,10,63,92832.991337246087,null,880.87303229706981,0,0,-93.71386436954316,93620.150505173617,null,238,19,10,19,1318092.9636405241,{"$f":"IF($G$4=\"mensual\",S252,IF($G$4=\"trimestral\",S252,0))","v":3781.5323846053357},null,12542.993378288773,-258.7509275021095,null,-1334.4174894034184,1332824.3209865128,null,{"$f":"+Bono!J261","v":20662.451165508195},null,19.833333333333332,1447106.9226571948]
[null,239,19,11,63,93620.150505173617,null,888.34222264809273,0,0,-94.508492727821704,94413.984235093885,null,239,19,11,19,1332824.3209865128,{"$f":"IF($G$17=\"si\",S250*(1+$G$20),S250)","v":3781.5323846053357},null,12682.776177790209,-258.7509275021095,null,-1349.2886295489084,1347680.5899918575,null,{"$f":"+Bono!J262","v":20790.560759430336},null,19.916666666666668,1462885.1349863817]
[null,240,19,12,63,94413.984235093885,null,895.87474653579397,0,{"$f":"-SUM(F263:H263)*$J$21","v":-857.78873083466715},-94.452070250795003,94357.618180544203,null,240,19,12,19,1347680.5899918575,{"$f":"IF($G$4=\"mensual\",S262,0)","v":3781.5323846053357},null,12823.74423816239,-258.7509275021095,null,-1364.2858666146253,1362662.8298205086,null,{"$f":"+Bono!J263","v":20731.001002219862},null,20,1477751.4490032727]
[null,241,20,1,64,94357.618180544203,null,895.33990071563255,0,0,-95.252958081259834,95157.705123178574,null,241,20,1,20,1362662.8298205086,{"$f":"IF($G$17=\"si\",S252*(1+$G$20),S252)","v":3970.1181609320806},null,12967.697060974693,{"$f":"V263*(1+$G$18)","v":-271.65488800682522},null,-1379.6006450424154,1377949.3895093661,null,{"$f":"+Bono!J264","v":20859.535613080905},null,20.083333333333332,1493966.6302456257]
[null,242,20,2,64,95157.705123178574,null,902.93176004395377,0,0,-96.060636883222529,95964.576246339304,null,242,20,2,20,1377949.3895093661,{"$f":"IF($G$4=\"mensual\",S264,0)","v":3970.1181609320806},null,13112.748060544407,{"$f":"V264","v":-271.65488800682522},null,-1395.0322557308427,1393365.568587105,null,{"$f":"+Bono!J265","v":20988.867153438379},null,20.166666666666668,1510319.0119868827]
[null,243,20,3,64,95964.576246339304,null,910.58799305652042,0,{"$f":"-SUM(F266:H266)*$J$21","v":-871.87647815456251},-96.003287761241253,95907.284473480016,null,243,20,3,20,1393365.568587105,{"$f":"IF($G$4=\"mensual\",S265,0)","v":3970.1181609320806},null,13259.028991655523,-271.65488800682522,null,-1410.5947157396927,1408912.4661359461,null,{"$f":"+Bono!J266","v":20928.739298002121},null,20.25,1525748.4899074282]
[null,244,20,4,64,95907.284473480016,null,910.04436328700342,0,0,-96.817328836767018,96720.511507930249,null,244,20,4,20,1408912.4661359461,{"$f":"IF($G$4=\"mensual\",S264,IF($G$4=\"trimestral\",S264,0))","v":3970.1181609320806},null,13406.550283271652,-271.65488800682522,null,-1426.2891345801497,1424591.1905575627,null,{"$f":"+Bono!J267","v":21058.499909233236},null,20.333333333333332,1542370.2019747263]
[null,245,20,5,64,96720.511507930249,null,917.76090622570666,0,0,-97.638272414155963,97540.634141741801,null,245,20,5,20,1424591.1905575627,{"$f":"IF($G$4=\"mensual\",S267,0)","v":3970.1181609320806},null,13555.322452786762,-271.65488800682522,null,-1442.1166311712818,1440402.8596521036,null,{"$f":"+Bono!J268","v":21189.065051305282},null,20.416666666666668,1559132.5588451508]
[null,246,20,6,64,97540.634141741801,null,925.54288007890943,0,{"$f":"-SUM(F269:H269)*$J$21","v":-886.19559319638654},-97.579981428624322,97482.401447195691,null,246,20,6,20,1440402.8596521036,{"$f":"IF($G$4=\"mensual\",S268,0)","v":3970.1181609320806},null,13705.356106775007,-271.65488800682522,null,-1458.0783339198108,1456348.6006978841,null,{"$f":"+Bono!J269","v":21128.363678957721},null,20.5,1574959.3658240377]
[null,247,20,7,64,97482.401447195691,null,924.99032209833854,0,0,-98.407391769294037,98308.984377524743,null,247,20,7,20,1456348.6006978841,{"$f":"+IF($G$4=\"mensual\",S264,IF($G$4=\"trimestral\",S264,IF($G$4=\"semestral\",S264,0)))","v":3970.1181609320806},null,13856.661941746901,-271.65488800682522,null,-1474.1753808005631,1472429.5505317557,null,{"$f":"+Bono!J270","v":21259.361984505755},null,20.583333333333332,1591997.8968937863]
[null,248,20,8,64,98308.984377524743,null,932.83359636749185,0,0,-99.241817973892239,99142.576155918345,null,248,20,8,20,1472429.5505317557,{"$f":"IF($G$4=\"mensual\",S270,0)","v":3970.1181609320806},null,14009.250744911926,-271.65488800682522,null,-1490.4089194375997,1488646.8556301552,null,{"$f":"+Bono!J271","v":21391.172494743052},null,20.666666666666668,1609180.6042808166]
[null,249,20,9,64,99142.576155918345,null,940.74337614463957,0,{"$f":"-SUM(F272:H272)*$J$21","v":-900.74987578856701},-99.182569656274424,99083.387086618153,null,249,20,9,20,1488646.8556301552,{"$f":"IF($G$4=\"mensual\",S271,0)","v":3970.1181609320806},null,14163.133394947596,-271.65488800682522,null,-1506.7801071860349,1505001.672190842,null,{"$f":"+Bono!J272","v":21329.892135113678},null,20.75,1625414.9514125739]
[null,250,20,10,64,99083.387086618153,null,940.18174332205933,0,0,-100.02356882994022,99923.545261110266,null,250,20,10,20,1505001.672190842,{"$f":"IF($G$4=\"mensual\",S264,IF($G$4=\"trimestral\",S264,0))","v":3970.1181609320806},null,14318.320862775043,-271.65488800682522,null,-1523.2901112145491,1521495.1662153276,null,{"$f":"+Bono!J273","v":21462.139940465735},null,20.833333333333332,1642880.8514169035]
[null,251,20,11,64,99923.545261110266,null,948.15383027211226,0,0,-100.87169909138238,100770.827392291,null,251,20,11,20,1521495.1662153276,{"$f":"IF($G$17=\"si\",S262*(1+$G$20),S262)","v":3970.1181609320806},null,14474.824212341169,-271.65488800682522,null,-1539.9401085886009,1538128.5135920052,null,{"$f":"+Bono!J274","v":21595.20769755077},null,20.916666666666668,1660494.5486818471]
[null,252,20,12,64,100770.827392291,null,956.19351497205855,0,{"$f":"-SUM(F275:H275)*$J$21","v":-915.54318816536761},-100.8114777190977,100710.6662413786,null,252,20,12,20,1538128.5135920052,{"$f":"IF($G$4=\"mensual\",S274,0)","v":3970.1181609320806},null,14632.654601407454,-271.65488800682522,null,-1556.7312863543448,1554902.9001799836,null,{"$f":"+Bono!J275","v":21533.342828091081},null,21,1677146.9092494531]
[null,253,21,1,65,100710.6662413786,null,955.62265826834448,0,0,-101.66628889964694,101564.62261074729,null,253,21,1,21,1554902.9001799836,{"$f":"IF($G$17=\"si\",S264*(1+$G$20),S264)","v":4168.1087476413959},null,14793.701974025707,{"$f":"V275*(1+$G$18)","v":-285.20237160270318},null,-1573.8647109016506,1572005.6438191463,null,{"$f":"+Bono!J276","v":21666.852051338417},null,21.083333333333332,1695237.1184812321]
[null,254,21,2,65,101564.62261074729,null,963.72567343245237,0,0,-102.52834828417974,102425.81993589556,null,254,21,2,21,1572005.6438191463,{"$f":"IF($G$4=\"mensual\",S276,0)","v":4168.1087476413959},null,14955.986367030981,{"$f":"V276","v":-285.20237160270318},null,-1591.1297389338188,1589253.4068232821,null,{"$f":"+Bono!J277","v":21801.189047256001},null,21.166666666666668,1713480.4158064337]
[null,255,21,3,65,102425.81993589556,null,971.89739652660103,0,{"$f":"-SUM(F278:H278)*$J$21","v":-930.57945599179959},-102.46713787643037,102364.67073855393,null,255,21,3,21,1589253.4068232821,{"$f":"IF($G$4=\"mensual\",S277,0)","v":4168.1087476413959},null,15119.646818761987,-285.20237160270318,null,-1608.5411623896855,1606647.418855693,null,{"$f":"+Bono!J278","v":21738.734092741834},null,21.25,1730750.8236869886]
[null,256,21,4,65,102364.67073855393,null,971.31716445491043,0,0,-103.33598790300886,103232.65191510585,null,256,21,4,21,1606647.418855693,{"$f":"IF($G$4=\"mensual\",S276,IF($G$4=\"trimestral\",S276,0))","v":4168.1087476413959},null,15284.694997239179,-285.20237160270318,null,-1626.1002226005735,1624188.9200063702,null,{"$f":"+Bono!J279","v":21873.516765653916},null,21.333333333333332,1749295.0886871298]
[null,257,21,5,65,103232.65191510585,null,{"$f":"SUM(F280:G280)*$G$8","v":979.55325811032731},0,0,-104.21220517321618,{"$f":"SUM(F280:K280)","v":104107.99296804296},null,257,21,5,21,1624188.9200063702,{"$f":"IF($G$4=\"mensual\",S279,0)","v":4168.1087476413959},null,15451.142669419705,-285.20237160270318,null,{"$f":"-SUM(R280:U280)*0.1%","v":-1643.8081714234313},{"$f":"SUM(R280:X280)","v":1641879.1608804052},null,{"$f":"+Bono!J280","v":22009.135106771875},null,{"$f":"+B280/12","v":21.416666666666668},{"$f":"+AA280+Y280+L280","v":1767996.28895522}]
[null,{"$f":"+B280+1","v":258},21,6,65,{"$f":"L280","v":104107.99296804296},null,987.85918810878752,0,{"$f":"-SUM(F281:H281)*$J$21","v":-945.86266940536586},{"$f":"-SUM(F281:J281)*0.1%","v":-104.14998948674639},104045.83949725964,null,{"$f":"+N280+1","v":258},21,6,21,{"$f":"Y280","v":1641879.1608804052},{"$f":"IF($G$4=\"mensual\",S280,0)","v":4168.1087476413959},null,15619.001702036321,-285.20237160270318,null,-1661.6662713300827,1659719.4026871501,null,{"$f":"+Bono!J281","v":21946.084438800965},null,21.5,1785711.3266232107]
[null,259,21,7,65,104045.83949725964,null,987.26942669435891,0,0,-105.033108923954,104928.07581503005,null,259,21,7,21,1659719.4026871501,{"$f":"+IF($G$4=\"mensual\",S276,IF($G$4=\"trimestral\",S276,IF($G$4=\"semestral\",S276,0)))","v":4168.1087476413959},null,15788.284062443416,-285.20237160270318,null,-1679.6757954972347,1677710.9173301349,null,{"$f":"+Bono!J282","v":22082.152707909765},null,21.583333333333332,1804721.1458530747]
[null,260,21,8,65,104928.07581503005,null,995.64078443305129,0,0,-105.92371659946311,105817.79288286365,null,260,21,8,21,1677710.9173301349,{"$f":"IF($G$4=\"mensual\",S282,0)","v":4168.1087476413959},null,15959.001819470217,-285.20237160270318,null,-1697.8380278972465,1695854.9874977465,null,{"$f":"+Bono!J283","v":22219.064616069983},null,21.666666666666668,1823891.84499668]
[null,261,21,9,65,105817.79288286365,null,1004.0831254600887,0,{"$f":"-SUM(F284:H284)*$J$21","v":-961.39688407491383},-105.86047912424883,105754.61864512457,null,261,21,9,21,1695854.9874977465,{"$f":"IF($G$4=\"mensual\",S283,0)","v":4168.1087476413959},null,16131.167144281229,-285.20237160270318,null,-1716.1542633896693,1714152.9067546767,null,{"$f":"+Bono!J284","v":22155.412552554735},null,21.75,1842062.9379523559]
[null,262,21,10,65,105754.61864512457,null,1003.4836781993824,0,0,-106.75810232332395,106651.34422100063,null,262,21,10,21,1714152.9067546767,{"$f":"IF($G$4=\"mensual\",S276,IF($G$4=\"trimestral\",S276,0))","v":4168.1087476413959},null,16304.79231124396,-285.20237160270318,null,-1734.625807813562,1732605.9796341457,null,{"$f":"+Bono!J285","v":22292.778680249365},null,21.833333333333332,1861550.1025353957]
[null,263,21,11,65,106651.34422100063,null,1011.9925215080151,0,0,-107.66333674250865,107555.67340576614,null,263,21,11,21,1732605.9796341457,{"$f":"IF($G$17=\"si\",S274*(1+$G$20),S274)","v":4168.1087476413959},null,16479.889698804011,-285.20237160270318,null,-1753.2539780805912,1751215.521730908,null,{"$f":"+Bono!J286","v":22430.996493869188},null,21.916666666666668,1881202.1916305432]
[null,264,21,12,65,107555.67340576614,null,1020.5735138869553,0,{"$f":"-SUM(F287:H287)*$J$21","v":-977.18622227687786},-107.5990606973762,107491.46163667883,null,264,21,12,21,1751215.521730908,{"$f":"IF($G$4=\"mensual\",S286,0)","v":4168.1087476413959},null,16656.471790367596,-285.20237160270318,null,-1772.0401022689168,1769982.8597950453,null,{"$f":"+Bono!J287","v":22366.737298524597},null,22,1899841.0587302488]
[null,265,22,1,66,107491.46163667883,null,1019.9642217061225,0,0,-108.51142585838495,108402.91443252657,null,265,22,1,22,1769982.8597950453,{"$f":"IF($G$17=\"si\",S276*(1+$G$20),S276)","v":4375.9731645080219},null,16836.523557601631,{"$f":"V287*(1+$G$18)","v":-299.42547091500433},null,-1791.1953565171552,1789104.7356897232,null,{"$f":"+Bono!J288","v":22505.413664156393},null,22.083333333333332,1920013.0637864061]
[null,266,22,2,66,108402.91443252657,null,1028.6128085555686,0,0,-109.43152724108214,109322.09571384106,null,266,22,2,22,1789104.7356897232,{"$f":"IF($G$4=\"mensual\",S288,0)","v":4375.9731645080219},null,17017.967078487021,{"$f":"V288","v":-299.42547091500433},null,-1810.4986759327182,1808388.7517858706,null,{"$f":"+Bono!J289","v":22644.94983934057},null,22.166666666666668,1940355.7973390522]
[null,267,22,3,66,109322.09571384106,null,1037.3347294033065,0,{"$f":"-SUM(F290:H290)*$J$21","v":-993.2348739891994},-109.36619556925515,109256.82937368591,null,267,22,3,22,1808388.7517858706,{"$f":"IF($G$4=\"mensual\",S289,0)","v":4375.9731645080219},null,17200.949114170533,-299.42547091500433,null,-1829.9656740645494,1827836.2829195699,null,{"$f":"+Bono!J290","v":22580.077721167294},null,22.25,1959673.1900144231]
[null,268,22,4,66,109256.82937368591,null,1036.7154306159762,0,0,-110.29354480430189,110183.25125949759,null,268,22,4,22,1827836.2829195699,{"$f":"IF($G$4=\"mensual\",S288,IF($G$4=\"trimestral\",S288,0))","v":4375.9731645080219},null,17385.482710187061,-299.42547091500433,null,-1849.5977387942651,1847448.7155845559,null,{"$f":"+Bono!J291","v":22720.076822165436},null,22.333333333333332,1980352.0436662189]
[null,269,{"$f":"C280+1","v":22},{"$f":"D280","v":5},{"$f":"E280+1","v":66},110183.25125949759,null,1045.5060560605091,0,0,-111.2287573155581,111117.52855824253,null,269,{"$f":"O280+1","v":22},{"$f":"P280","v":5},{"$f":"Q280+1","v":22},1847448.7155845559,{"$f":"IF($G$4=\"mensual\",S291,0)","v":4375.9731645080219},null,{"$f":"SUM(R292:T292)*$G$8","v":17571.581022688566},-299.42547091500433,null,-1869.3962697717527,1867227.448031066,null,{"$f":"+Bono!J292","v":22860.943933828657},null,22.416666666666668,2001205.9205231373]
[null,270,22,6,66,111117.52855824253,null,1054.3712198917815,0,{"$f":"-SUM(F293:H293)*$J$21","v":-1009.5470980032088},-111.16235268013109,111051.19032745097,null,270,22,6,22,1867227.448031066,{"$f":"IF($G$4=\"mensual\",S292,0)","v":4375.9731645080219},null,17759.257319382021,-299.42547091500433,null,-1889.3626785149561,1887173.8903655261,null,{"$f":"+Bono!J293","v":22795.453046591116},null,22.5,2021020.533739568]
[null,271,22,7,66,111051.19032745097,null,1053.7417501561538,0,0,-112.10493207760713,111992.82714552952,null,271,22,7,22,1887173.8903655261,{"$f":"+IF($G$4=\"mensual\",S288,IF($G$4=\"trimestral\",S288,IF($G$4=\"semestral\",S288,0)))","v":4375.9731645080219},null,17948.524980475311,-299.42547091500433,null,-1909.4983885105094,1907289.464651084,null,{"$f":"+Bono!J294","v":22936.787499588878},null,22.583333333333332,2042219.0792962024]
[null,272,22,8,66,111992.82714552952,null,1062.6767469424808,0,0,-113.055503892472,112942.44838857953,null,272,22,8,22,1907289.464651084,{"$f":"IF($G$4=\"mensual\",S294,0)","v":4375.9731645080219},null,18139.397499631195,-299.42547091500433,null,-1929.8048353152233,1927575.6050089931,null,{"$f":"+Bono!J295","v":23078.998242589008},null,22.666666666666668,2063597.0516401615]
[null,273,22,9,66,112942.44838857953,null,1071.6875062840638,0,{"$f":"-SUM(F296:H296)*$J$21","v":-1026.1272230537725},-112.98800867180984,112875.02066313803,null,273,22,9,22,1927575.6050089931,{"$f":"IF($G$4=\"mensual\",S295,0)","v":4375.9731645080219},null,18331.888484929284,-299.42547091500433,null,-1950.2834666584304,1948033.7577208572,null,{"$f":"+Bono!J296","v":23012.882684288539},null,22.75,2083921.6610682837]
[null,274,22,10,66,112875.02066313803,null,1071.0476985592993,0,0,-113.94606836169733,113832.12229333563,null,274,22,10,22,1948033.7577208572,{"$f":"IF($G$4=\"mensual\",S288,IF($G$4=\"trimestral\",S288,0))","v":4375.9731645080219},null,18526.01165983624,-299.42547091500433,null,-1970.9357425452015,1968665.3813317413,null,{"$f":"+Bono!J297","v":23155.5652262603},null,22.833333333333332,2105653.0688513373]
[null,275,22,11,66,113832.12229333563,null,1080.1294377455963,0,0,-114.91225173108123,114797.33947935015,null,275,22,11,22,1968665.3813317413,{"$f":"IF($G$17=\"si\",S286*(1+$G$20),S286)","v":4375.9731645080219},null,18721.780864184173,-299.42547091500433,null,-1991.7631353604338,1989471.9467541585,null,{"$f":"+Bono!J298","v":23299.132416542438},null,22.916666666666668,2127568.4186500511]
[null,276,22,12,66,114797.33947935015,null,1089.2881837605889,0,{"$f":"-SUM(F299:H299)*$J$21","v":-1042.9796489679968},-114.84364801414273,114728.80436612859,null,276,22,12,22,1989471.9467541585,{"$f":"IF($G$4=\"mensual\",S298,0)","v":4375.9731645080219},null,18919.210055157346,-299.42547091500433,null,-2012.767129973824,2010454.9373729352,null,{"$f":"+Bono!J299","v":23232.3862288854},null,23,2148416.1279679495]
[null,277,23,1,67,114728.80436612859,null,1088.6378682624816,0,0,-115.81744223439107,115701.62479215668,null,277,23,1,23,2010454.9373729352,{"$f":"IF($G$17=\"si\",S288*(1+$G$20),S288)","v":4594.2038214166696},null,19120.384053802602,{"$f":"V299*(1+$G$18)","v":-314.35787903462978},null,-2034.1695252481545,2031820.9978438716,null,{"$f":"+Bono!J300","v":23376.429718294497},null,23.083333333333332,2170899.0523543227]
[null,278,23,2,67,115701.62479215668,null,1097.8687598475949,0,0,-116.79949355200428,116682.69405845227,null,278,23,2,23,2031820.9978438716,{"$f":"IF($G$4=\"mensual\",S300,0)","v":4594.2038214166696},null,19323.122177439094,{"$f":"V300","v":-314.35787903462978},null,-2055.7383238427274,2053368.22763985,null,{"$f":"+Bono!J301","v":23521.36629404594},null,23.166666666666668,2193572.287992348]
[null,279,23,3,67,116682.69405845227,null,1107.1779229699571,0,{"$f":"-SUM(F302:H302)*$J$21","v":-1060.1088478328002},-116.72976313358943,116613.03337045584,null,279,23,3,23,2053368.22763985,{"$f":"IF($G$4=\"mensual\",S301,0)","v":4594.2038214166696},null,19527.579379287014,-314.35787903462978,null,-2077.4900108405536,2075098.1629506785,null,{"$f":"+Bono!J302","v":23453.983461906766},null,23.25,2215165.1797830411]
[null,280,23,4,67,116613.03337045584,null,1106.5169271258783,0,0,-117.71955029758172,117601.83074728414,null,280,23,4,23,2075098.1629506785,{"$f":"IF($G$4=\"mensual\",S300,IF($G$4=\"trimestral\",S300,0))","v":4594.2038214166696},null,19733.770235933349,-314.35787903462978,null,-2099.4261370080285,2097012.3529919859,null,{"$f":"+Bono!J303","v":23599.400879864283},null,23.333333333333332,2238213.5846191342]
[null,281,23,5,67,117601.83074728414,null,1115.899420688861,0,0,-118.717730167973,118599.01243780502,null,281,23,5,23,2097012.3529919859,{"$f":"IF($G$4=\"mensual\",S303,0)","v":4594.2038214166696},null,19941.709447564415,-314.35787903462978,null,-2121.548266260967,2119112.3601156715,null,{"$f":"+Bono!J304","v":23745.71990268051},null,23.416666666666668,2261457.0924561573]
[null,282,23,6,67,118599.01243780502,null,1125.3614712683711,0,{"$f":"-SUM(F305:H305)*$J$21","v":-1077.5193651816608},-118.64685454389173,118528.20768934784,null,282,23,6,23,2119112.3601156715,{"$f":"IF($G$4=\"mensual\",S304,0)","v":4594.2038214166696},null,20151.411839013879,-314.35787903462978,null,-2143.8579757761022,2141399.7599212909,null,{"$f":"+Bono!J305","v":23677.694353559615},null,23.5,2283605.6619641981]
[null,283,23,7,67,118528.20768934784,null,1124.6896196714756,0,0,-119.65289730901932,119533.2444117103,null,283,23,7,23,2141399.7599212909,{"$f":"+IF($G$4=\"mensual\",S300,IF($G$4=\"trimestral\",S300,IF($G$4=\"semestral\",S300,0)))","v":4594.2038214166696},null,20362.892360819667,-314.35787903462978,null,-2166.3568561035268,2163876.1413683887,null,{"$f":"+Bono!J306","v":23824.498804994237},null,23.583333333333332,2307233.8845850932]
[null,284,23,8,67,119533.2444117103,null,1134.226205021625,0,0,-120.66747061673193,120546.8031461152,null,284,23,8,23,2163876.1413683887,{"$f":"IF($G$4=\"mensual\",S306,0)","v":4594.2038214166696},null,20576.16609028988,-314.35787903462978,null,-2189.0465112800953,2186543.1068897806,null,{"$f":"+Bono!J307","v":23972.213461056017},null,23.666666666666668,2331062.1234969515]
[null,285,23,9,67,120546.8031461152,null,1143.8436539794311,0,{"$f":"-SUM(F308:H308)*$J$21","v":-1095.2158212008519},-120.59543097889379,120474.83554791489,null,285,23,9,23,2186543.1068897806,{"$f":"IF($G$4=\"mensual\",S307,0)","v":4594.2038214166696},null,20791.248232577702,-314.35787903462978,null,-2211.928558943775,2209402.2725057965,null,{"$f":"+Bono!J308","v":23903.539064532557},null,23.75,2353780.6471182439]
[null,286,23,10,67,120474.83554791489,null,1143.1607683421091,0,0,-121.61799631625699,121496.37831994073,null,286,23,10,23,2209402.2725057965,{"$f":"IF($G$4=\"mensual\",S300,IF($G$4=\"trimestral\",S300,0))","v":4594.2038214166696},null,21008.154121765419,-314.35787903462978,null,-2235.0046304489783,2232455.2679394949,null,{"$f":"+Bono!J309","v":24051.743779371576},null,23.833333333333332,2378003.3900388069]
[null,287,23,11,67,121496.37831994073,null,1152.8539761796824,0,0,-122.64923229612042,122526.58306382429,null,287,23,11,23,2232455.2679394949,{"$f":"IF($G$17=\"si\",S298*(1+$G$20),S298)","v":4594.2038214166696},null,21226.899221957672,-314.35787903462978,null,-2258.2763709828691,2255703.7367328517,null,{"$f":"+Bono!J310","v":24200.867380633281},null,23.916666666666668,2402431.1871773093]
[null,288,23,12,67,122526.58306382429,null,1162.6293756746186,0,{"$f":"-SUM(F311:H311)*$J$21","v":-1113.2029119554902},-122.57600952754342,122453.43351801587,null,288,23,12,23,2255703.7367328517,{"$f":"IF($G$4=\"mensual\",S310,0)","v":4594.2038214166696},null,21447.499128383948,-314.35787903462978,null,-2281.7454396826524,2279149.3363639349,null,{"$f":"+Bono!J311","v":24131.537947812685},null,24,2425734.3078297633]
[null,289,24,1,68,122453.43351801587,null,1161.9352747811836,0,0,-123.61536879279704,123491.75342400424,null,289,24,1,24,2279149.3363639349,{"$f":"IF($G$17=\"si\",S300*(1+$G$20),S300)","v":4823.3176848314833},null,21672.143582518824,{"$f":"V311*(1+$G$18)","v":-330.03496933366256},null,-2305.6447976312852,2303009.1178643205,null,{"$f":"+Bono!J312","v":24281.156282174274},null,24.083333333333332,2450782.0275704991]
[null,290,24,2,68,123491.75342400424,null,1171.7876773689632,0,0,-124.66354110137321,124538.87756027184,null,290,24,2,24,2303009.1178643205,{"$f":"IF($G$4=\"mensual\",S312,0)","v":4823.3176848314833},null,21898.544108640377,{"$f":"V312","v":-330.03496933366256},null,-2329.7309796577924,2327071.2137088012,null,{"$f":"+Bono!J313","v":24431.702267563556},null,24.166666666666668,2476041.7935366365]
[null,291,24,3,68,124538.87756027184,null,1181.7236214748104,0,{"$f":"-SUM(F314:H314)*$J$21","v":-1131.48541063572},-124.58911577111093,124464.52665533981,null,291,24,3,24,2327071.2137088012,{"$f":"IF($G$4=\"mensual\",S313,0)","v":4823.3176848314833},null,22126.864353680743,-330.03496933366256,null,-2354.0213957473134,2351337.3393822326,null,{"$f":"+Bono!J314","v":24361.71155051978},null,24.25,2500163.5775880921]
[null,292,24,4,68,124464.52665533981,null,1181.0181211334116,0,0,-125.64554477647323,125519.89923169675,null,292,24,4,24,2351337.3393822326,{"$f":"IF($G$4=\"mensual\",S312,IF($G$4=\"trimestral\",S312,0))","v":4823.3176848314833},null,22357.120595520504,-330.03496933366256,null,-2378.5177776625846,2375809.2249155883,null,{"$f":"+Bono!J315","v":24512.75698791664},null,24.333333333333332,2525841.881135202]
[null,293,24,5,68,125519.89923169675,null,1191.0323329793,0,0,-126.71093156467606,126584.22063311137,null,293,24,5,24,2375809.2249155883,{"$f":"IF($G$4=\"mensual\",S315,0)","v":4823.3176848314833},null,22589.329250065337,-330.03496933366256,null,-2403.2218718504851,2400488.6150093009,null,{"$f":"+Bono!J316","v":24664.738924545545},null,24.416666666666668,2551737.574566958]
[null,294,24,6,68,126584.22063311137,null,1201.1314583731685,0,{"$f":"-SUM(F317:H317)*$J$21","v":-1150.068168823361},-126.63528392266119,126508.64863873852,null,294,24,6,24,2400488.6150093009,{"$f":"IF($G$4=\"mensual\",S316,0)","v":4823.3176848314833},null,22823.506872416376,{"$f":"V316","v":-330.03496933366256},null,-2428.1354395665489,2425377.269157649,null,{"$f":"+Bono!J317","v":24594.080615758015},null,24.5,2576479.9984121453]
[null,295,24,7,68,126508.64863873852,null,1200.4143713669112,0,0,-127.70906301010544,127581.35394709534,null,295,24,7,24,2425377.269157649,{"$f":"+IF($G$4=\"mensual\",S312,IF($G$4=\"trimestral\",S312,IF($G$4=\"semestral\",S312,0)))","v":4823.3176848314833},null,23059.6701580505,-330.03496933366256,null,-2453.2602570005311,2450476.9617741969,null,{"$f":"+Bono!J318","v":24746.566768312492},null,24.583333333333332,2602804.8824896049]
[null,296,24,8,68,127581.35394709534,null,1210.5930499177371,0,0,-128.79194699701307,128663.15505001607,null,296,24,8,24,2450476.9617741969,{"$f":"IF($G$4=\"mensual\",S318,0)","v":4823.3176848314833},null,23297.835944010607,-330.03496933366256,null,-2478.5981154030392,2475789.4823183022,null,{"$f":"+Bono!J319","v":24899.99835270011},null,24.666666666666668,2629352.6357210181]
[null,297,24,9,68,128663.15505001607,null,1220.8580365797554,0,{"$f":"-SUM(F320:H320)*$J$21","v":-1168.9561177793626},-128.71505696881647,128586.34191184764,null,297,24,9,24,2475789.4823183022,{"$f":"IF($G$4=\"mensual\",S319,0)","v":4823.3176848314833},null,23538.021210106002,-330.03496933366256,null,-2504.1508212132399,2501316.6354226931,null,{"$f":"+Bono!J320","v":24828.6660844853},null,24.75,2654731.6434190259]
[null,298,24,10,68,128586.34191184764,null,1220.1291726170198,0,0,-129.80647108446468,129676.6646133802,null,298,24,10,24,2501316.6354226931,{"$f":"IF($G$4=\"mensual\",S312,IF($G$4=\"trimestral\",S312,0))","v":4823.3176848314833},null,23780.243080122964,-330.03496933366256,null,-2529.9201961876474,2527060.2410221263,null,{"$f":"+Bono!J321","v":24982.606694156118},null,24.833333333333332,2681719.5123296627]
[null,299,24,11,68,129676.6646133802,null,1230.4750189637373,0,0,-130.90713963234396,130776.2324927116,null,299,24,11,24,2527060.2410221263,{"$f":"IF($G$17=\"si\",S310*(1+$G$20),S310)","v":4823.3176848314833},null,24024.518823045561,-330.03496933366256,null,-2555.9080775300035,2553022.13448314,null,{"$f":"+Bono!J322","v":25137.501753462904},null,24.916666666666668,2708935.8687293143]
[null,300,24,12,68,130776.2324927116,null,1240.9085908882316,0,{"$f":"-SUM(F323:H323)*$J$21","v":-1188.1542697523985},-130.82898681384742,130698.15782703357,null,300,24,12,24,2553022.13448314,{"$f":"IF($G$4=\"mensual\",S322,0)","v":4823.3176848314833},null,24270.865854286825,-330.03496933366256,null,-2582.1163180222588,2579204.1667349027,null,{"$f":"+Bono!J323","v":25065.489097400463},null,25,2734967.8136593369]
[null,301,25,1,69,130698.15782703357,null,1240.1677565521759,0,0,-131.93832558358574,131806.38725800216,null,301,25,1,25,2579204.1667349027,{"$f":"IF($G$17=\"si\",S312*(1+$G$20),S312)","v":5063.8575024375659},null,24521.584169452162,{"$f":"V323*(1+$G$18)","v":-346.49387926132619},null,-2608.7896084067925,2605834.3249191241,null,{"$f":"+Bono!J324","v":25220.898037221126},null,25.083333333333332,2762861.6102143475]
[null,302,25,2,69,131806.38725800216,null,1250.6835161466477,0,0,-133.0570707741488,132924.01370337466,null,302,25,2,25,2605834.3249191241,{"$f":"IF($G$4=\"mensual\",S324,0)","v":5063.8575024375659},null,24774.272226277433,{"$f":"V324","v":-346.49387926132619},null,-2635.672454647839,2632690.2883139299,null,{"$f":"+Bono!J325","v":25377.270530495},null,25.166666666666668,2790991.5725477994]
[null,303,25,3,69,132924.01370337466,null,1261.2884420650014,0,{"$f":"-SUM(F326:H326)*$J$21","v":-1207.6677193089572},-132.97763442613072,132844.65679170459,null,303,25,3,25,2632690.2883139299,{"$f":"IF($G$4=\"mensual\",S325,0)","v":5063.8575024375659},null,25029.102901989485,-346.49387926132619,null,-2662.7832487183573,2659773.9715903774,null,{"$f":"+Bono!J326","v":25304.570996848452},null,25.25,2817923.1993789305]
[null,304,25,4,69,132844.65679170459,null,1260.5354407622362,0,0,-134.10519223246683,133971.08704023436,null,304,25,4,25,2659773.9715903774,{"$f":"IF($G$4=\"mensual\",S324,IF($G$4=\"trimestral\",S324,0))","v":5063.8575024375659},null,25286.094364505527,-346.49387926132619,null,-2690.1239234573209,2687087.3056546021,null,{"$f":"+Bono!J327","v":25461.462272177476},null,25.333333333333332,2846519.8549670139]
[null,305,25,5,69,133971.08704023436,null,1271.223904145786,0,0,-135.24231094438016,135107.06863343576,null,305,25,5,25,2687087.3056546021,{"$f":"IF($G$4=\"mensual\",S327,0)","v":5063.8575024375659},null,25545.264935794046,-346.49387926132619,null,-2717.6964280928337,2714632.2377854795,null,{"$f":"+Bono!J328","v":25619.3262916118},null,25.416666666666668,2875358.6327105272]
[null,306,25,6,69,135107.06863343576,null,1282.0029982611718,0,{"$f":"-SUM(F329:H329)*$J$21","v":-1227.5016446852724},-135.16156998701163,135026.40841702462,null,306,25,6,25,2714632.2377854795,{"$f":"IF($G$4=\"mensual\",S328,0)","v":5063.8575024375659},null,25806.633093181088,-346.49387926132619,null,-2745.5027283810982,2742410.7317734556,null,{"$f":"+Bono!J329","v":25545.933328743678},null,25.5,2902983.0735192238]
[null,307,25,7,69,135026.40841702462,null,1281.2376301695879,0,0,-136.3076460471942,136171.33840114699,null,307,25,7,25,2742410.7317734556,{"$f":"+IF($G$4=\"mensual\",S324,IF($G$4=\"trimestral\",S324,IF($G$4=\"semestral\",S324,0)))","v":5063.8575024375659},null,26070.217470667551,-346.49387926132619,null,-2773.5448067465609,2770424.7680605524,null,{"$f":"+Bono!J330","v":25704.321078526751},null,25.583333333333332,2932300.4275402264]
[null,308,25,8,69,136171.33840114699,null,1292.1016337135206,0,0,-137.46344003486053,137325.97659482565,null,308,25,8,25,2770424.7680605524,{"$f":"IF($G$4=\"mensual\",S330,0)","v":5063.8575024375659},null,26336.036860257707,-346.49387926132619,null,-2801.8246624232479,2798676.3438815633,null,{"$f":"+Bono!J331","v":25863.69085073032},null,25.666666666666668,2961866.0113271195]
[null,309,25,9,69,137325.97659482565,null,1303.0577564476985,0,{"$f":"-SUM(F332:H332)*$J$21","v":-1247.6613091614604},-137.3813730421119,137243.99166906977,null,309,25,9,25,2798676.3438815633,{"$f":"IF($G$4=\"mensual\",S331,0)","v":5063.8575024375659},null,26604.110213298954,-346.49387926132619,null,-2830.3443115973,2827167.473406441,null,{"$f":"+Bono!J332","v":25789.59784451174},null,25.75,2990201.0629200228]
[null,310,25,10,69,137243.99166906977,null,1302.2798184634437,0,0,-138.5462714875332,138407.72521604566,null,310,25,10,25,2827167.473406441,{"$f":"IF($G$4=\"mensual\",S324,IF($G$4=\"trimestral\",S324,0))","v":5063.8575024375659},null,26874.456641832905,-346.49387926132619,null,-2859.1057875507117,2855900.1878838995,null,{"$f":"+Bono!J333","v":25949.496342555907},null,25.833333333333332,3020257.4094425011]
[null,311,25,11,69,138407.72521604566,null,1313.3222451217257,0,0,-139.72104746116739,139581.32641370621,null,311,25,11,25,2855900.1878838995,{"$f":"IF($G$17=\"si\",S322*(1+$G$20),S322)","v":5063.8575024375659},null,27147.095419958005,-346.49387926132619,null,-2888.1111408062957,2884876.5357862278,null,{"$f":"+Bono!J334","v":26110.386229835025},null,25.916666666666668,3050568.2484297692]
[null,312,25,12,69,139581.32641370621,null,1324.4583038741052,0,{"$f":"-SUM(F335:H335)*$J$21","v":-1268.1520624582229},-139.63763265512208,139497.99502246696,null,312,25,12,25,2884876.5357862278,{"$f":"IF($G$4=\"mensual\",S334,0)","v":5063.8575024375659},null,27422.045985203637,-346.49387926132619,null,-2917.3624392738693,2914098.5829553339,null,{"$f":"+Bono!J335","v":26035.586503049624},null,26,3079632.1644808506]
[null,313,26,1,70,139497.99502246696,null,1323.6675895576855,0,0,-140.82166261202465,140680.84094941261,null,313,26,1,26,2914098.5829553339,{"$f":"IF($G$17=\"si\",S324*(1+$G$20),S324)","v":5316.3930888556279},null,27701.72419780404,{"$f":"V335*(1+$G$18)","v":-363.77359831886434},null,-2947.1167002419938,2943805.8099434329,null,{"$f":"+Bono!J336","v":26197.010159309644},null,26.083333333333332,3110683.6610521548]
[null,314,26,2,70,140680.84094941261,null,1334.8913696319876,0,0,-142.01573231904459,141873.71658672555,null,314,26,2,26,2943805.8099434329,{"$f":"IF($G$4=\"mensual\",S336,0)","v":5316.3930888556279},null,27983.609923354768,{"$f":"V336","v":-363.77359831886434},null,-2977.1058129556436,2973764.9335443689,null,{"$f":"+Bono!J337","v":26359.434660962466},null,26.166666666666668,3141998.0847920571]
[null,315,26,3,70,141873.71658672555,null,1346.2103195511588,0,{"$f":"-SUM(F338:H338)*$J$21","v":-1288.9793421564905},-141.9309475641202,141789.01661655609,null,315,26,3,26,2973764.9335443689,{"$f":"IF($G$4=\"mensual\",S337,0)","v":5316.3930888556279},null,28267.88584370563,-363.77359831886434,null,-3007.3492124769305,3003978.0896661347,null,{"$f":"+Bono!J338","v":26283.92147270466},null,26.25,3172051.0277553955]
[null,316,26,4,70,141789.01661655609,null,1345.4066190726555,0,0,-143.13442323562876,142991.28881239312,null,316,26,4,26,3003978.0896661347,{"$f":"IF($G$4=\"mensual\",S336,IF($G$4=\"trimestral\",S336,0))","v":5316.3930888556279},null,28554.572226045293,-363.77359831886434,null,-3037.8490549810358,3034447.4323277357,null,{"$f":"+Bono!J339","v":26446.884834581615},null,26.333333333333332,3203885.6059747105]
[null,317,26,5,70,142991.28881239312,null,1356.8147309899596,0,0,-144.34810354338308,144203.75543983968,null,317,26,5,26,3034447.4323277357,{"$f":"IF($G$4=\"mensual\",S339,0)","v":5316.3930888556279},null,28843.689509414085,-363.77359831886434,null,-3068.6075149260055,3065175.1338127605,null,{"$f":"+Bono!J340","v":26610.858588204788},null,26.416666666666668,3235989.747840805]
[null,318,26,6,70,144203.75543983968,null,1368.3195757578922,0,{"$f":"-SUM(F341:H341)*$J$21","v":-1310.1486751403784},-144.26192634045719,144117.66441411673,null,318,26,6,26,3065175.1338127605,{"$f":"IF($G$4=\"mensual\",S340,0)","v":5316.3930888556279},null,29135.258306161166,-363.77359831886434,null,-3099.6267852077772,3096163.3848242504,null,{"$f":"+Bono!J341","v":26534.625133272275},null,26.5,3266815.6743716393]
[null,319,26,7,70,144117.66441411673,null,1367.5026758412814,0,0,-145.485167089958,145339.68192286804,null,319,26,7,26,3096163.3848242504,{"$f":"+IF($G$4=\"mensual\",S336,IF($G$4=\"trimestral\",S336,IF($G$4=\"semestral\",S336,0)))","v":5316.3930888556279},null,29429.299403414076,-363.77359831886434,null,-3130.9090773165203,3127414.3946408848,null,{"$f":"+Bono!J342","v":26699.142886924576},null,26.583333333333332,3299453.2194506773]
[null,320,26,8,70,145339.68192286804,null,1379.0981469442575,0,0,-146.71878006981228,146572.06128974247,null,320,26,8,26,3127414.3946408848,{"$f":"IF($G$4=\"mensual\",S342,0)","v":5316.3930888556279},null,29725.833764560743,-363.77359831886434,null,-3162.4566214943011,3158930.3912744881,null,{"$f":"+Bono!J343","v":26864.680669732399},null,26.666666666666668,3332367.133233963]
[null,321,26,9,70,146572.06128974247,null,{"$f":"SUM(F344:G344)*$G$8","v":1390.7919395733816},0,{"$f":"-SUM(F344:H344)*$J$21","v":-1331.6656790638428},-146.63118755025201,{"$f":"SUM(F344:K344)","v":146484.55636270175},null,321,26,9,26,3158930.3912744881,{"$f":"IF($G$4=\"mensual\",S343,0)","v":5316.3930888556279},null,30024.88253074402,-363.77359831886434,null,{"$f":"-SUM(R344:U344)*0.1%","v":-3194.271666894088},{"$f":"SUM(R344:X344)","v":3190713.6216288749},null,{"$f":"+Bono!J344","v":26787.720078012891},null,{"$f":"+B344/12","v":26.75},{"$f":"+AA344+Y344+L344","v":3363985.8980695894}]
[null,{"$f":"+B344+1","v":322},26,10,70,{"$f":"L344","v":146484.55636270175},null,1389.9616234399364,0,0,{"$f":"-SUM(F345:J345)*0.1%","v":-147.87451798614171},147726.64346815555,null,{"$f":"+N344+1","v":322},26,10,26,{"$f":"Y344","v":3190713.6216288749},{"$f":"IF($G$4=\"mensual\",S336,IF($G$4=\"trimestral\",S336,0))","v":5316.3930888556279},null,30326.46702236895,-363.77359831886434,null,-3226.3564817400998,3222766.3516600407,null,{"$f":"+Bono!J345","v":26953.807049679781},null,26.833333333333332,3397446.8021778758]
[null,323,26,11,70,147726.64346815555,null,1401.747530790303,0,0,-149.12839099894586,148979.2626079469,null,323,26,11,26,3222766.3516600407,{"$f":"IF($G$17=\"si\",S334*(1+$G$20),S334)","v":5316.3930888556279},null,30630.608740622774,-363.77359831886434,null,-3258.7133534895192,3255090.8665377107,null,{"$f":"+Bono!J346","v":27120.923779835903},null,26.916666666666668,3431191.0529254936]
[null,324,26,12,70,148979.2626079469,null,1413.6333744336787,0,{"$f":"-SUM(F347:H347)*$J$21","v":-1353.5360638414254},-149.03935991853916,148890.32055862062,null,324,26,12,26,3255090.8665377107,{"$f":"IF($G$4=\"mensual\",S346,0)","v":5316.3930888556279},null,30937.329369007835,-363.77359831886434,null,-3291.3445889955742,3287689.4708082597,null,{"$f":"+Bono!J347","v":27043.229115687987},null,27,3463623.0204825681]
[null,325,27,1,71,148890.32055862062,null,1412.7894217444441,0,0,-150.30310998036506,150152.80687038469,null,325,27,1,27,3287689.4708082597,{"$f":"IF($G$17=\"si\",S336*(1+$G$20),S336)","v":5581.5226754754758},null,31249.166534635755,{"$f":"V347*(1+$G$18)","v":-381.91506042174575},null,-3324.5201600183709,3320813.7247979306,null,{"$f":"+Bono!J348","v":27210.900273025676},null,27.083333333333332,3498177.4319413407]
[null,326,27,2,71,150152.80687038469,null,1424.768892939519,0,0,-151.57757576332423,151425.99818756088,null,326,27,2,27,3320813.7247979306,{"$f":"IF($G$4=\"mensual\",S348,0)","v":5581.5226754754758},null,31563.475721856277,{"$f":"V348","v":-381.91506042174575},null,-3357.9587231952623,3354218.849411645,null,{"$f":"+Bono!J349","v":27379.611010987508},null,27.166666666666668,3533024.4586101933]
[null,327,27,3,71,151425.99818756088,null,1436.8499417143128,0,{"$f":"-SUM(F350:H350)*$J$21","v":-1375.7656331634769},-151.48708249611173,151335.59541361561,null,327,27,3,27,3354218.849411645,{"$f":"IF($G$4=\"mensual\",S349,0)","v":5581.5226754754758},null,31880.450032269757,-381.91506042174575,null,-3391.6808221193901,3387907.2262368486,null,{"$f":"+Bono!J350","v":27301.175272615616},null,27.25,3566543.9969230797]
[null,328,27,4,71,151335.59541361561,null,1435.9921285116341,0,0,-152.77158754212724,152618.81595458509,null,328,27,4,27,3387907.2262368486,{"$f":"IF($G$4=\"mensual\",S348,IF($G$4=\"trimestral\",S348,0))","v":5581.5226754754758},null,32200.112064266323,-381.91506042174575,null,-3425.6888609765906,3421881.2570551918,null,{"$f":"+Bono!J351","v":27470.445726046157},null,27.333333333333332,3601970.5187358232]
[null,329,27,5,71,152618.81595458509,null,1448.1683425142974,0,0,-154.06698429709937,153912.91731280228,null,329,27,5,27,3421881.2570551918,{"$f":"IF($G$4=\"mensual\",S351,0)","v":5581.5226754754758},null,32522.484607854723,-381.91506042174575,null,-3459.9852643385225,3456143.3640137617,null,{"$f":"+Bono!J352","v":27640.765675922125},null,27.416666666666668,3637697.047002486]
[null,330,27,6,71,153912.91731280228,null,1460.4478023387828,0,{"$f":"-SUM(F353:H353)*$J$21","v":-1398.3602860362696},-153.97500482910479,153821.02982427567,null,330,27,6,27,3456143.3640137617,{"$f":"IF($G$4=\"mensual\",S352,0)","v":5581.5226754754758},null,32847.590646287128,-381.91506042174575,null,-3494.5724773355241,3490695.9897977668,null,{"$f":"+Bono!J353","v":27561.581794745529},null,27.5,3672078.6014167881]
[null,331,27,7,71,153821.02982427567,null,1459.575900986875,0,0,-155.28060572526255,155125.32511953727,null,331,27,7,27,3490695.9897977668,{"$f":"+IF($G$4=\"mensual\",S348,IF($G$4=\"trimestral\",S348,IF($G$4=\"semestral\",S348,0)))","v":5581.5226754754758},null,33175.45335769769,-381.91506042174575,null,-3529.4529658309398,3525541.597804687,null,{"$f":"+Bono!J354","v":27732.466798818565},null,27.583333333333332,3708399.389723043]
[null,332,27,8,71,155125.32511953727,null,1471.9520889691632,0,0,-156.59727720850645,156440.67993129796,null,332,27,8,27,3525541.597804687,{"$f":"IF($G$4=\"mensual\",S354,0)","v":5581.5226754754758},null,33506.096116755005,-381.91506042174575,null,-3564.629216596918,3560682.6723198988,null,{"$f":"+Bono!J355","v":27904.411309738283},null,27.666666666666668,3745027.7635609349]
[null,333,{"$f":"C344+1","v":27},{"$f":"D344","v":9},{"$f":"E344+1","v":71},156440.67993129796,null,1484.4332184134678,0,{"$f":"-SUM(F356:H356)*$J$21","v":-1421.3260183474031},-156.50378713136402,156347.28334423265,null,333,{"$f":"O344+1","v":27},{"$f":"P344","v":9},{"$f":"Q344+1","v":27},3560682.6723198988,{"$f":"IF($G$4=\"mensual\",S355,0)","v":5581.5226754754758},null,{"$f":"SUM(R356:T356)*$G$8","v":33839.542496328599},-381.91506042174575,null,-3600.1037374917032,3596121.7186937896,null,{"$f":"+Bono!J356","v":27824.472149754089},null,27.75,3780293.474187776]
[null,334,27,10,71,156347.28334423265,null,1483.5469975380083,0,0,-157.83083034177068,157672.9995114289,null,334,27,10,27,3596121.7186937896,{"$f":"IF($G$4=\"mensual\",S348,IF($G$4=\"trimestral\",S348,0))","v":5581.5226754754758},null,34175.81626916954,-381.91506042174575,null,-3635.8790576384349,3631861.2635203744,null,{"$f":"+Bono!J357","v":27996.98710452157},null,27.833333333333332,3817531.2501363251]
[null,335,27,11,71,157672.9995114289,null,1496.1264437385626,0,0,-159.16912595516746,159009.95682921229,null,335,27,11,27,3631861.2635203744,{"$f":"IF($G$17=\"si\",S346*(1+$G$20),S346)","v":5581.5226754754758},null,34514.94140960525,-381.91506042174575,null,-3671.9577276054551,3667903.8548174277,null,{"$f":"+Bono!J358","v":28170.571672019105},null,27.916666666666668,3855084.3833186589]
[null,336,27,12,71,159009.95682921229,null,1508.8125548893847,0,{"$f":"-SUM(F359:H359)*$J$21","v":-1444.6689244569152},-159.07410045964474,158915.02635918511,null,336,27,12,27,3667903.8548174277,{"$f":"IF($G$4=\"mensual\",S358,0)","v":5581.5226754754758},null,34856.942095248793,-381.91506042174575,null,-3708.3423195881523,3704252.0622081421,null,{"$f":"+Bono!J359","v":28089.870029159152},null,28,3891256.9585964866]
[null,337,28,1,72,158915.02635918511,null,1507.9117793161142,0,0,-160.42293813850122,160262.51520036272,null,337,28,1,28,3704252.0622081421,{"$f":"IF($G$17=\"si\",S348*(1+$G$20),S348)","v":5859.8743276059731},null,35204.483929912625,{"$f":"V359*(1+$G$18)","v":-400.96124086799028},null,-3745.3164204656609,3741170.142804327,null,{"$f":"+Bono!J360","v":28264.030481563193},null,28.083333333333332,3929696.6884862529]
[null,338,28,2,72,160262.51520036272,null,1520.6978219117098,0,0,-161.78321302227442,161621.42980925215,null,338,28,2,28,3741170.142804327,{"$f":"IF($G$4=\"mensual\",S360,0)","v":5859.8743276059731},null,35554.791952232074,{"$f":"V360","v":-400.96124086799028},null,-3782.584809084165,3778401.2630342129,null,{"$f":"+Bono!J361","v":28439.270748973504},null,28.166666666666668,3968461.9635924385]
[null,339,28,3,72,161621.42980925215,null,1533.5922812512415,0,{"$f":"-SUM(F362:H362)*$J$21","v":-1468.3951988145307},-161.68662689168886,161524.94026479716,null,339,28,3,28,3778401.2630342129,{"$f":"IF($G$4=\"mensual\",S361,0)","v":5859.8743276059731},null,35908.070342816027,-400.96124086799028,null,-3820.169207704635,3815948.0772560621,null,{"$f":"+Bono!J362","v":28357.799350455141},null,28.25,4005830.8168713143]
[null,340,28,4,72,161524.94026479716,null,1532.6767119435558,0,0,-163.05761697674072,162894.55935976398,null,340,28,4,28,3815948.0772560621,{"$f":"IF($G$4=\"mensual\",S360,IF($G$4=\"trimestral\",S360,0))","v":5859.8743276059731},null,36264.344288320412,-400.96124086799028,null,-3858.0722958719884,3853813.2623352483,null,{"$f":"+Bono!J363","v":28533.620995729096},null,28.333333333333332,4045241.4426907413]
[null,341,28,5,72,162894.55935976398,null,1545.672743934947,0,0,-164.44023210369892,164275.79187159523,null,341,28,5,28,3853813.2623352483,{"$f":"IF($G$4=\"mensual\",S363,0)","v":5859.8743276059731},null,36623.639188966474,-400.96124086799028,null,-3896.2967758518207,3891999.5178351006,null,{"$f":"+Bono!J364","v":28710.532755597796},null,28.416666666666668,4084985.8424622938]
[null,342,28,6,72,164275.79187159523,null,1558.7789732342278,0,{"$f":"-SUM(F365:H365)*$J$21","v":-1492.5111376034654},-164.34205970722601,164177.71764751876,null,342,28,6,28,3891999.5178351006,{"$f":"IF($G$4=\"mensual\",S364,0)","v":5859.8743276059731},null,36985.980660351655,-400.96124086799028,null,-3934.8453728230584,3930509.566209367,null,{"$f":"+Bono!J365","v":28628.284259268461},null,28.5,4123315.5681161545]
[null,343,28,7,72,164177.71764751876,null,1557.8483672297461,0,0,-165.73556601474851,165569.83044873376,null,343,28,7,28,3930509.566209367,{"$f":"+IF($G$4=\"mensual\",S360,IF($G$4=\"trimestral\",S360,IF($G$4=\"semestral\",S360,0)))","v":5859.8743276059731},null,37351.394535275846,-400.96124086799028,null,-3973.720835072249,3969346.1529963082,null,{"$f":"+Bono!J366","v":28805.782942351365},null,28.583333333333332,4163721.7663873932]
[null,344,28,8,72,165569.83044873376,null,1571.0578373420578,0,0,-167.14088828607581,166973.74739778973,null,344,28,8,28,3969346.1529963082,{"$f":"IF($G$4=\"mensual\",S366,0)","v":5859.8743276059731},null,37719.906865583092,-400.96124086799028,null,-4012.9259341894976,4008512.0470144399,null,{"$f":"+Bono!J367","v":28984.382137857956},null,28.666666666666668,4204470.1765500875]
[null,345,28,9,72,166973.74739778973,null,1584.3793145690015,0,{"$f":"-SUM(F368:H368)*$J$21","v":-1517.0231404112287},-167.0411035719475,166874.06246837554,null,345,28,9,28,4008512.0470144399,{"$f":"IF($G$4=\"mensual\",S367,0)","v":5859.8743276059731},null,38091.543924018973,-400.96124086799028,null,-4052.4634652660648,4048010.0405599307,null,{"$f":"+Bono!J368","v":28901.349131533516},null,28.75,4243785.4521598397]
[null,346,28,10,72,166874.06246837554,null,1583.4334249150918,0,0,-168.45749589329066,168289.03839739735,null,346,28,10,28,4048010.0405599307,{"$f":"IF($G$4=\"mensual\",S360,IF($G$4=\"trimestral\",S360,0))","v":5859.8743276059731},null,38466.332206103631,-400.96124086799028,null,-4092.3362470936404,4087842.9496056787,null,{"$f":"+Bono!J369","v":29080.540848498025},null,28.833333333333332,4285212.5288515743]
[null,347,28,11,72,168289.03839739735,null,1596.859838512999,0,0,-169.88589823591033,169716.01233767442,null,347,28,11,28,4087842.9496056787,{"$f":"IF($G$17=\"si\",S358*(1+$G$20),S358)","v":5859.8743276059731},null,38844.298432020812,-400.96124086799028,null,-4132.5471223653058,4128013.6140020723,null,{"$f":"+Bono!J370","v":29260.843574892671},null,28.916666666666668,4326990.4699146394]
[null,348,28,12,72,169716.01233767442,null,1610.4000987553341,0,{"$f":"-SUM(F371:H371)*$J$21","v":-1541.9377119278681},-169.78447472450191,169614.6902497774,null,348,28,12,28,4128013.6140020723,{"$f":"IF($G$4=\"mensual\",S370,0)","v":5859.8743276059731},null,39225.469548522822,-400.96124086799028,null,-4173.098957878201,4168524.8976794551,null,{"$f":"+Bono!J371","v":29177.018575689428},null,29,4367316.6065049218]
[null,349,29,1,73,169614.6902497774,null,1609.4386744435797,0,0,-171.22412892422099,171052.90479529675,null,349,29,1,29,4168524.8976794551,{"$f":"IF($G$17=\"si\",S360*(1+$G$20),S360)","v":6152.1074322985487},null,39612.645670270715,{"$f":"V371*(1+$G$18)","v":-420.95725814232514},null,-4214.2896507820242,4209654.4038730999,null,{"$f":"+Bono!J372","v":29357.919475183382},null,29.083333333333332,4410065.2281435803]
[null,350,29,2,73,171052.90479529675,null,1623.0855944615182,0,0,-172.67599038975828,172503.31439936854,null,350,29,2,29,4209654.4038730999,{"$f":"IF($G$4=\"mensual\",S372,0)","v":6152.1074322985487},null,40002.915038043866,{"$f":"V372","v":-420.95725814232514},null,-4255.8094263434423,4251132.6596589563,null,{"$f":"+Bono!J373","v":29539.941981237407},null,29.166666666666668,4453175.9160395619]
[null,351,29,3,73,172503.31439936854,null,1636.8482308648859,0,{"$f":"-SUM(F374:H374)*$J$21","v":-1567.2614636721009},-172.57290116656134,172400.32826539475,null,351,29,3,29,4251132.6596589563,{"$f":"IF($G$4=\"mensual\",S373,0)","v":6152.1074322985487},null,40396.493618483524,-420.95725814232514,null,-4297.6812607097381,4292962.6221908862,null,{"$f":"+Bono!J374","v":29455.317434897745},null,29.25,4494818.2678911788]
[null,352,29,4,73,172400.32826539475,null,1635.8710167644756,0,0,-174.03619928215926,173862.16308287709,null,352,29,4,29,4292962.6221908862,{"$f":"IF($G$4=\"mensual\",S372,IF($G$4=\"trimestral\",S372,0))","v":6152.1074322985487},null,40793.409471410378,-420.95725814232514,null,-4339.9081390945948,4335147.2736973576,null,{"$f":"+Bono!J375","v":29637.943819599459},null,29.333333333333332,4538647.380599834]
[null,353,29,5,73,173862.16308287709,null,1649.7420646521293,0,0,-175.51190514752921,175336.39324238169,null,353,29,5,29,4335147.2736973576,{"$f":"IF($G$4=\"mensual\",S375,0)","v":6152.1074322985487},null,41193.690894572828,-420.95725814232514,null,-4382.4930720242291,4377689.6216940619,null,{"$f":"+Bono!J376","v":29821.702509069673},null,29.416666666666668,4582847.7174455132]
[null,354,29,6,73,175336.39324238169,null,1663.7307293735857,0,{"$f":"-SUM(F377:H377)*$J$21","v":-1593.0011157457975},-175.40712285600947,175231.71573315345,null,354,29,6,29,4377689.6216940619,{"$f":"IF($G$4=\"mensual\",S376,0)","v":6152.1074322985487},null,41597.366425664528,-420.95725814232514,null,-4425.4390955520248,4420592.6991983298,null,{"$f":"+Bono!J377","v":29736.27078928128},null,29.5,4625560.685720765]
[null,355,29,7,73,175231.71573315345,null,1662.7374661636113,0,0,-176.89445319931707,176717.55874611775,null,355,29,7,29,4420592.6991983298,{"$f":"+IF($G$4=\"mensual\",S372,IF($G$4=\"trimestral\",S372,IF($G$4=\"semestral\",S372,0)))","v":6152.1074322985487},null,42004.464844358896,-420.95725814232514,null,-4468.7492714749869,4463859.56494537,null,{"$f":"+Bono!J378","v":29920.639117368744},null,29.583333333333332,4670497.7628088566]
[null,356,29,8,73,176717.55874611775,null,1676.8363228469264,0,0,-178.39439506896468,178216.00067389573,null,356,29,8,29,4463859.56494537,{"$f":"IF($G$4=\"mensual\",S378,0)","v":6152.1074322985487},null,42415.01517436096,-420.95725814232514,null,-4512.4266875520298,4507493.3036063351,null,{"$f":"+Bono!J379","v":30106.150550475755},null,29.666666666666668,4715815.4548307061]
[null,357,29,9,73,178216.00067389573,null,1691.0547280241092,0,{"$f":"-SUM(F380:H380)*$J$21","v":-1619.1634986172787},-178.28789190330258,178109.60401139926,null,357,29,9,29,4507493.3036063351,{"$f":"IF($G$4=\"mensual\",S379,0)","v":6152.1074322985487},null,42829.046685476569,-420.95725814232514,null,-4556.4744577241099,4551497.0260082437,null,{"$f":"+Bono!J380","v":30019.90395818435},null,29.75,4759626.533977828]
[null,358,29,10,73,178109.60401139926,null,1690.0451521247494,0,0,-179.79964916352401,179619.84951436048,null,358,29,10,29,4551497.0260082437,{"$f":"IF($G$4=\"mensual\",S372,IF($G$4=\"trimestral\",S372,0))","v":6152.1074322985487},null,43246.588895699155,{"$f":"V380","v":-420.95725814232514},null,-4600.8957223362413,4595873.8693557624,null,{"$f":"+Bono!J381","v":30206.030844818426},null,29.833333333333332,4805699.7497149417]
[null,359,29,11,73,179619.84951436048,null,1704.3755589827338,0,0,-181.3242250733432,181142.90084826987,null,359,29,11,29,4595873.8693557624,{"$f":"IF($G$17=\"si\",S370*(1+$G$20),S370)","v":6152.1074322985487},null,43667.67157331419,-420.95725814232514,null,-4645.6936483613745,4640626.9974548705,null,{"$f":"+Bono!J382","v":30393.311739739016},null,29.916666666666668,4852163.210042879]
[null,360,29,12,73,181142.90084826987,null,1718.8274777189404,0,{"$f":"-SUM(F383:H383)*$J$21","v":-1645.7555549338995},-181.21597277105494,181034.75679828387,null,360,29,12,29,4640626.9974548705,{"$f":"IF($G$4=\"mensual\",S382,0)","v":6152.1074322985487},null,44092.324739021496,-420.95725814232514,null,-4690.8714296261905,4685759.6009384217,null,{"$f":"+Bono!J383","v":30306.242502454494},null,30,4897100.6002391605]
[null,361,30,1,74,181034.75679828387,null,1717.801321221516,0,0,-182.75255811950538,182569.80556138587,null,361,30,1,30,4685759.6009384217,{"$f":"IF($G$17=\"si\",S372*(1+$G$20),S372)","v":6458.9142603687633},null,44523.489894538034,{"$f":"V383*(1+$G$18)","v":-441.95048079733454},null,-4736.7420050933288,4731563.3126074383,null,{"$f":"+Bono!J384","v":30494.144721276261},null,30.083333333333332,4944627.2628901005]
[null,362,30,2,74,182569.80556138587,null,1732.3670810790788,0,0,-184.30217264246497,184117.87046982249,null,362,30,2,30,4731563.3126074383,{"$f":"IF($G$4=\"mensual\",S384,0)","v":6458.9142603687633},null,44958.11183020068,{"$f":"V384","v":-441.95048079733454},null,-4782.9803386980084,4777755.4078785125,null,{"$f":"+Bono!J385","v":30683.211955650029},null,30.166666666666668,4992556.4903039848]
[null,363,30,3,74,184117.87046982249,null,1747.0563484445281,0,{"$f":"-SUM(F386:H386)*$J$21","v":-1672.7843413644032},-184.1921424769026,184007.9503344257,null,363,30,3,30,4777755.4078785125,{"$f":"IF($G$4=\"mensual\",S385,0)","v":6458.9142603687633},null,45396.419057442436,-441.95048079733454,null,-4829.6107411963239,4824339.1799743306,null,{"$f":"+Bono!J386","v":30595.312226746031},null,30.25,5038942.4425355028]
[null,364,30,4,74,184007.9503344257,null,1746.0133390404064,0,0,-185.7539636734661,185568.20970979263,null,364,30,4,30,4824339.1799743306,{"$f":"IF($G$4=\"mensual\",S384,IF($G$4=\"trimestral\",S384,0))","v":6458.9142603687633},null,45838.442824971455,-441.95048079733454,null,-4876.6365370596714,4871317.9500418147,null,{"$f":"+Bono!J387","v":30785.006711388418},null,30.333333333333332,5087671.1664629951]
[null,365,30,5,74,185568.20970979263,null,1760.8183171775052,0,0,-187.32902802697015,187141.69899894317,null,365,30,5,30,4871317.9500418147,{"$f":"IF($G$4=\"mensual\",S387,0)","v":6458.9142603687633},null,46284.214646463202,-441.95048079733454,null,-4924.0610789486473,4918695.0673889006,null,{"$f":"+Bono!J388","v":30975.877323838784},null,30.416666666666668,5136812.6437116824]
[null,366,30,6,74,187141.69899894317,null,1775.7488312270391,0,{"$f":"-SUM(F389:H389)*$J$21","v":-1700.2570304715321},-187.2171907996987,187029.97360889899,null,366,30,6,30,4918695.0673889006,{"$f":"IF($G$4=\"mensual\",S388,0)","v":6458.9142603687633},null,46733.76630280714,-441.95048079733454,null,-4971.887747952077,4966473.9097233275,null,{"$f":"+Bono!J389","v":30887.139181845552},null,30.5,5184391.0225140722]
[null,367,30,7,74,187029.97360889899,null,1774.6886921353741,0,0,-188.80466230103437,188615.85763873335,null,367,30,7,30,4966473.9097233275,{"$f":"+IF($G$4=\"mensual\",S384,IF($G$4=\"trimestral\",S384,IF($G$4=\"semestral\",S384,0)))","v":6458.9142603687633},null,47187.129844372612,-441.95048079733454,null,-5020.1199538280689,5014657.8833934432,null,{"$f":"+Bono!J390","v":31078.643027459388},null,30.583333333333332,5234352.3840596359]
[null,368,30,8,74,188615.85763873335,null,1789.7368173127345,0,0,-190.40559445604609,190215.18886159005,null,368,30,8,30,5014657.8833934432,{"$f":"IF($G$4=\"mensual\",S390,0)","v":6458.9142603687633},null,47644.337593293742,-441.95048079733454,null,-5068.7611352471058,5063250.4236310609,null,{"$f":"+Bono!J391","v":31271.334219129101},null,30.666666666666668,5284736.9467117796]
[null,369,30,9,74,190215.18886159005,null,1804.9125401202355,0,{"$f":"-SUM(F392:H392)*$J$21","v":-1728.1809126153928},-190.29192048909493,190101.62856860581,null,369,30,9,30,5063250.4236310609,{"$f":"IF($G$4=\"mensual\",S391,0)","v":6458.9142603687633},null,48105.422145773889,-441.95048079733454,null,-5117.8147600372031,5112254.9947963692,null,{"$f":"+Bono!J392","v":31181.749667019605},null,30.75,5333538.3730319943]
[null,370,30,10,74,190101.62856860581,null,1803.8349900145172,0,0,-191.90546355862034,191713.55809506171,null,370,30,10,30,5112254.9947963692,{"$f":"IF($G$4=\"mensual\",S384,IF($G$4=\"trimestral\",S384,0))","v":6458.9142603687633},null,48570.416374409542,-441.95048079733454,null,-5167.2843254311474,5161675.0906249192,null,{"$f":"+Bono!J393","v":31375.080131814218},null,30.833333333333332,5384763.7288517952]
[null,371,30,11,74,191713.55809506171,null,1819.1302555161978,0,0,-193.53268835057793,193339.15566222733,null,371,30,11,30,5161675.0906249192,{"$f":"IF($G$17=\"si\",S382*(1+$G$20),S382)","v":6458.9142603687633},null,49039.353430533898,-441.95048079733454,null,-5217.173358315822,5211514.2344767088,null,{"$f":"+Bono!J394","v":31569.609267915504},null,30.916666666666668,5436422.9994068518]
[null,372,30,12,74,193339.15566222733,null,1834.5552142259944,0,{"$f":"-SUM(F395:H395)*$J$21","v":-1756.5633978880801},-193.41714747856523,193223.73033108667,null,372,30,12,30,5211514.2344767088,{"$f":"IF($G$4=\"mensual\",S394,0)","v":6458.9142603687633},null,49512.266746580433,-441.95048079733454,null,-5267.4854154836585,5261775.979587377,null,{"$f":"+Bono!J395","v":31479.170232384746},null,31,5486478.8801508481]
[null,373,31,1,75,193223.73033108667,null,1833.4599671593949,0,0,-195.05719029824607,194862.13310794783,null,373,31,1,31,5261775.979587377,{"$f":"IF($G$17=\"si\",S384*(1+$G$20),S384)","v":6781.0216063162052},null,49992.246448374754,{"$f":"V395*(1+$G$18)","v":-463.99063966479378},null,-5318.5492476420677,5312766.70775476,null,{"$f":"+Bono!J396","v":31674.344739183274},null,31.083333333333332,5539303.185601891]
[null,374,31,2,75,194862.13310794783,null,1849.0064318524762,0,0,-196.71113953980029,196514.42840026048,null,374,31,2,31,5312766.70775476,{"$f":"IF($G$4=\"mensual\",S396,0)","v":6781.0216063162052},null,50476.086909538659,{"$f":"V396","v":-463.99063966479378},null,-5370.0238162706155,5364189.8018146791,null,{"$f":"+Bono!J397","v":31870.729350562797},null,31.166666666666668,5592574.9595655026]
[null,375,31,3,75,196514.42840026048,null,1864.6847197480174,0,{"$f":"-SUM(F398:H398)*$J$21","v":-1785.4120180800767},-196.59370110192842,196397.1074008265,null,375,31,3,31,5364189.8018146791,{"$f":"IF($G$4=\"mensual\",S397,0)","v":6781.0216063162052},null,50964.03000112882,-463.99063966479378,null,-5421.9348534221244,5416048.9279290363,null,{"$f":"+Bono!J398","v":31779.427681300258},null,31.25,5644225.4630111624]
[null,376,31,4,75,196397.1074008265,null,1863.57148507751,0,0,-198.26067888590399,198062.41820701808,null,376,31,4,31,5416048.9279290363,{"$f":"IF($G$4=\"mensual\",S396,IF($G$4=\"trimestral\",S396,0))","v":6781.0216063162052},null,51456.110510596387,-463.99063966479378,null,-5474.286060045948,5468347.7833462367,null,{"$f":"+Bono!J399","v":31976.463819109773},null,31.333333333333332,5698386.6653723642]
[null,377,31,5,75,198062.41820701808,null,1879.3732744891856,0,0,-199.94179148150727,199741.84969002576,null,377,31,5,31,5468347.7833462367,{"$f":"IF($G$4=\"mensual\",S399,0)","v":6781.0216063162052},null,51952.363520365892,-463.99063966479378,null,-5527.0811684729188,5521090.0966647808,null,{"$f":"+Bono!J400","v":32174.721603828486},null,31.416666666666668,5753006.6679586349]
[null,378,31,6,75,199741.84969002576,null,1895.3090520792653,0,{"$f":"-SUM(F401:H401)*$J$21","v":-1814.7344286789455},-199.82242431342607,199622.60188911264,null,378,31,6,31,5521090.0966647808,{"$f":"IF($G$4=\"mensual\",S400,0)","v":6781.0216063162052},null,52452.824410336463,-463.99063966479378,null,-5580.3239426814325,5574279.6280990858,null,{"$f":"+Bono!J401","v":32082.549072783626},null,31.5,5805984.7790609822]
[null,379,31,7,75,199622.60188911264,null,1894.1775343884963,0,0,-201.51677942350113,201315.26264407765,null,379,31,7,31,5574279.6280990858,{"$f":"+IF($G$4=\"mensual\",S396,IF($G$4=\"trimestral\",S396,IF($G$4=\"semestral\",S396,0)))","v":6781.0216063162052},null,52957.528860404076,-463.99063966479378,null,-5634.018178565806,5627920.1697475752,null,{"$f":"+Bono!J402","v":32281.464598380244},null,31.583333333333332,5861516.8969900329]
[null,380,31,8,75,201315.26264407765,null,1910.2388418008543,0,0,-203.22550148587851,203022.27598439265,null,380,31,8,31,5627920.1697475752,{"$f":"IF($G$4=\"mensual\",S402,0)","v":6781.0216063162052},null,53466.512853005472,-463.99063966479378,null,-5688.1677042068968,5682015.5458630249,null,{"$f":"+Bono!J403","v":32481.613423308336},null,31.666666666666668,5917519.4352707257]
[null,381,31,9,75,203022.27598439265,null,1926.436337923674,0,{"$f":"-SUM(F404:H404)*$J$21","v":-1844.5384109008469},-203.10417391141544,202901.06973750403,null,381,31,9,31,5682015.5458630249,{"$f":"IF($G$4=\"mensual\",S403,0)","v":6781.0216063162052},null,53979.812675683366,-463.99063966479378,null,-5742.7763801450246,5736569.6131252144,null,{"$f":"+Bono!J404","v":32388.561723949086},null,31.75,5971859.244586668]
[null,382,31,10,75,202901.06973750403,null,1925.2862369445702,0,0,-204.8263559744486,204621.52961847416,null,382,31,10,31,5736569.6131252144,{"$f":"IF($G$4=\"mensual\",S396,IF($G$4=\"trimestral\",S396,0))","v":6781.0216063162052},null,54497.464923673593,-463.99063966479378,null,-5797.8480996552034,5791586.2609158829,null,{"$f":"+Bono!J405","v":32589.374563478199},null,31.833333333333332,6028797.1650978345]
[null,383,31,11,75,204621.52961847416,null,1941.6113245073529,0,0,-206.56314094298153,206356.57780203855,null,383,31,11,31,5791586.2609158829,{"$f":"IF($G$17=\"si\",S394*(1+$G$20),S394)","v":6781.0216063162052},null,55019.506502514138,-463.99063966479378,null,-5853.3867890247129,5847069.4115960225,null,{"$f":"+Bono!J406","v":32791.432465905244},null,31.916666666666668,6086217.4218639666]
[null,384,31,12,75,206356.57780203855,null,1958.07483745272,0,{"$f":"-SUM(F407:H407)*$J$21","v":-1874.8318737554218},-206.43982076573587,206233.38094497015,null,384,31,12,31,5847069.4115960225,{"$f":"IF($G$4=\"mensual\",S406,0)","v":6781.0216063162052},null,55545.974630676254,-463.99063966479378,null,-5909.3964078330146,5903023.0207855161,null,{"$f":"+Bono!J407","v":32697.493212469424},null,32,6141953.894942956]
[null,385,32,1,76,206233.38094497015,null,{"$f":"SUM(F408:G408)*$G$8","v":1956.9058479858065},0,0,-208.19028679295596,{"$f":"SUM(F408:K408)","v":207982.09650616298},null,385,32,1,32,5903023.0207855161,{"$f":"IF($G$17=\"si\",S396*(1+$G$20),S396)","v":7119.1925100275157},null,56080.11567589976,{"$f":"V407*(1+$G$18)","v":-487.12994566300495},null,{"$f":"-SUM(R408:U408)*0.1%","v":-5966.2223289714439},{"$f":"SUM(R408:X408)","v":5959768.9766968098},null,{"$f":"+Bono!J408","v":32900.2214630612},null,{"$f":"+B408/12","v":32.083333333333336},{"$f":"+AA408+Y408+L408","v":6200651.2946660332}]
[null,{"$f":"+B408+1","v":386},32,2,76,{"$f":"L408","v":207982.09650616298},null,1973.4990478474485,0,0,{"$f":"-SUM(F409:J409)*0.1%","v":-209.95559555401042},209745.63995845642,null,{"$f":"+N408+1","v":386},32,2,32,{"$f":"Y408","v":5959768.9766968098},{"$f":"IF($G$4=\"mensual\",S408,0)","v":7119.1925100275157},null,56618.566301416999,{"$f":"V408","v":-487.12994566300495},null,-6023.5067355082538,6016996.0988270827,null,{"$f":"+Bono!J409","v":33104.206652321664},null,32.166666666666664,6259845.9454378607]
[null,387,32,3,76,209745.63995845642,null,1990.2329464974007,0,{"$f":"-SUM(F410:H410)*$J$21","v":-1905.6228561445846},-209.83025004880923,209620.41979876041,null,387,32,3,32,6016996.0988270827,{"$f":"IF($G$4=\"mensual\",S409,0)","v":7119.1925100275157},null,57161.582613553255,-487.12994566300495,null,-6081.2768739506628,6074708.4671310494,null,{"$f":"+Bono!J410","v":33009.37137906126},null,32.25,6317338.2583088716]
[null,388,32,4,76,209620.41979876041,null,1989.0447583308098,0,0,-211.60946455709123,211397.85509253413,null,388,32,4,32,6074708.4671310494,{"$f":"IF($G$4=\"mensual\",S408,IF($G$4=\"trimestral\",S408,0))","v":7119.1925100275157},null,57709.203326153991,-487.12994566300495,null,-6139.5368629672303,6132910.1961586,null,{"$f":"+Bono!J411","v":33214.033310461535},null,32.333333333333336,6377522.0845615957]
[null,389,32,5,76,211397.85509253413,null,2005.9104737880484,0,0,-213.40376556632216,213190.36180075584,null,389,32,5,32,6132910.1961586,{"$f":"IF($G$4=\"mensual\",S411,0)","v":7119.1925100275157},null,58261.467481331129,-487.12994566300495,null,-6198.2908561499589,6191605.4353481457,null,{"$f":"+Bono!J412","v":33419.964169575804},null,32.416666666666664,6438215.7613184769]
[null,390,32,6,76,213190.36180075584,null,2022.9191987762154,0,{"$f":"-SUM(F413:H413)*$J$21","v":-1936.9195289957888},-213.27636147053627,213063.08510906572,null,390,32,6,32,6191605.4353481457,{"$f":"IF($G$4=\"mensual\",S412,0)","v":7119.1925100275157},null,58818.41445224655,-487.12994566300495,null,-6257.5430423104199,6250798.3693224462,null,{"$f":"+Bono!J413","v":33324.224329994046},null,32.5,6497185.6787615055]
[null,391,32,7,76,213063.08510906572,null,2021.7114966033689,0,0,-215.08479660566908,214869.71180906342,null,391,32,7,32,6250798.3693224462,{"$f":"+IF($G$4=\"mensual\",S408,IF($G$4=\"trimestral\",S408,IF($G$4=\"semestral\",S408,0)))","v":7119.1925100275157},null,59380.083945919134,-487.12994566300495,null,-6317.2976457783925,6310493.2181869512,null,{"$f":"+Bono!J414","v":33530.83838621078},null,32.583333333333336,6558893.7683822252]
[null,392,32,8,76,214869.71180906342,null,2038.8542032697362,0,0,-216.90856601233315,216691.65744632081,null,392,32,8,32,6310493.2181869512,{"$f":"IF($G$4=\"mensual\",S414,0)","v":7119.1925100275157},null,59946.516006055652,-487.12994566300495,null,-6377.5589267030336,6370694.2378306678,null,{"$f":"+Bono!J415","v":33738.733473541812},null,32.666666666666664,6621124.628750531]
[null,393,32,9,76,216691.65744632081,null,2056.1422681597387,0,{"$f":"-SUM(F416:H416)*$J$21","v":-1968.7301974303252},-216.77906951705023,216562.29044753319,null,393,32,9,32,6370694.2378306678,{"$f":"IF($G$4=\"mensual\",S415,0)","v":7119.1925100275157},null,60517.751015905647,-487.12994566300495,null,-6438.3311813566006,6431405.720229581,null,{"$f":"+Bono!J416","v":33642.080439622965},null,32.75,6681610.0911167366]
[null,394,32,10,76,216562.29044753319,null,2054.9147314956745,0,0,-218.61720517902887,218398.58797384982,null,394,32,10,32,6431405.720229581,{"$f":"IF($G$4=\"mensual\",S408,IF($G$4=\"trimestral\",S408,0))","v":7119.1925100275157},null,61093.829701140516,-487.12994566300495,null,-6499.618742440749,6492631.9937526453,null,{"$f":"+Bono!J417","v":33850.665240588423},null,32.833333333333336,6744881.2469670838]
[null,395,32,11,76,218398.58797384982,null,2072.3389784891797,0,0,-220.47092695233903,220250.45602538667,null,395,32,11,32,6492631.9937526453,{"$f":"IF($G$17=\"si\",S406*(1+$G$20),S406)","v":7119.1925100275157},null,61674.793132757019,-487.12994566300495,null,-6561.4259793954297,6554377.4234703714,null,{"$f":"+Bono!J418","v":34060.543291514216},null,32.916666666666664,6808688.4227872714]
[null,396,32,12,76,220250.45602538667,null,2089.910970972383,0,{"$f":"-SUM(F419:H419)*$J$21","v":-2001.0633029672317},-220.33930369339183,220118.96438969843,null,396,32,12,32,6554377.4234703714,{"$f":"IF($G$4=\"mensual\",S418,0)","v":7119.1925100275157},null,62260.68273000537,-487.12994566300495,null,-6623.757298710404,6616646.4114660304,null,{"$f":"+Bono!J419","v":33962.968352946038},null,33,6870728.3442086754]
[null,397,{"$f":"C408+1","v":33},{"$f":"D408","v":1},{"$f":"E408+1","v":77},220118.96438969843,null,2088.6632740687073,0,0,-222.20762766376714,221985.42003610337,null,397,{"$f":"O408+1","v":33},{"$f":"P408","v":1},{"$f":"Q408+1","v":33},6616646.4114660304,{"$f":"IF($G$17=\"si\",S408*(1+$G$20),S408)","v":7474.2280643410895},null,{"$f":"SUM(R420:T420)*$G$8","v":62854.909122201519},{"$f":"V419*(1+$G$18)","v":-511.42321347920813},null,-6686.9755486525737,6679777.1498904414,null,{"$f":"+Bono!J420","v":34173.542696194796},null,33.083333333333336,6935936.1126227397]
[null,398,33,2,77,221985.42003610337,null,2106.3736852190273,0,0,-224.0917937213224,223867.7019276011,null,398,33,2,33,6679777.1498904414,{"$f":"IF($G$4=\"mensual\",S420,0)","v":7474.2280643410895},null,63453.943626918081,{"$f":"V420","v":-511.42321347920813},null,-6750.7053215817014,6743443.1930466397,null,{"$f":"+Bono!J421","v":34385.422624796811},null,33.166666666666664,7001696.3175990377]
[null,399,33,3,77,223867.7019276011,null,2124.2342683319648,0,{"$f":"-SUM(F422:H422)*$J$21","v":-2033.9274257633977},-223.95800877016967,223734.0507613995,null,399,33,3,33,6743443.1930466397,{"$f":"IF($G$4=\"mensual\",S421,0)","v":7474.2280643410895},null,64058.057527391473,-511.42321347920813,null,-6814.9754786383728,6807649.0799462553,null,{"$f":"+Bono!J422","v":34286.916988185571},null,33.25,7065670.0476958407]
[null,400,33,4,77,223734.0507613995,null,2122.9660800904121,0,0,-225.85701684148992,225631.15982464841,null,400,33,4,33,6807649.0799462553,{"$f":"IF($G$4=\"mensual\",S420,IF($G$4=\"trimestral\",S420,0))","v":7474.2280643410895},null,64667.293893363189,-511.42321347920813,null,-6879.7906019039601,6872399.3880885774,null,{"$f":"+Bono!J423","v":34499.499850548535},null,33.333333333333336,7132530.0477637742]
[null,401,33,5,77,225631.15982464841,null,2140.9673551659016,0,0,-227.77212717981431,227544.35505263449,null,401,33,5,33,6872399.3880885774,{"$f":"IF($G$4=\"mensual\",S423,0)","v":7474.2280643410895},null,65281.696159776126,-511.42321347920813,null,-6945.1553123126951,6937698.7337869033,null,{"$f":"+Bono!J424","v":34713.400751316229},null,33.416666666666664,7199956.4895908535]
[null,402,33,6,77,227544.35505263449,null,2159.1212685276942,0,{"$f":"-SUM(F425:H425)*$J$21","v":-2067.33128689046},-227.63614503427172,227408.50888923745,null,402,33,6,33,6937698.7337869033,{"$f":"IF($G$4=\"mensual\",S424,0)","v":7474.2280643410895},null,65901.308129871293,-511.42321347920813,null,-7011.0742699811162,7003551.7724976558,null,{"$f":"+Bono!J425","v":34613.95553939425},null,33.5,7265574.2369262874]
[null,403,33,7,77,227408.50888923745,null,2157.8322524122618,0,0,-229.5663411416497,229336.77480050805,null,403,33,7,33,7003551.7724976558,{"$f":"+IF($G$4=\"mensual\",S420,IF($G$4=\"trimestral\",S420,IF($G$4=\"semestral\",S420,0)))","v":7474.2280643410895},null,66526.173978310704,-511.42321347920813,null,-7077.5521745403084,7069963.199152289,null,{"$f":"+Bono!J426","v":34828.566078708827},null,33.583333333333336,7334128.5400315057]
[null,404,33,8,77,229336.77480050805,null,2176.1291683671238,0,0,-231.51290396887518,231281.39106490632,null,404,33,8,33,7069963.199152289,{"$f":"IF($G$4=\"mensual\",S426,0)","v":7474.2280643410895},null,67156.338254326765,-511.42321347920813,null,-7144.5937654709578,7136937.7484920071,null,{"$f":"+Bono!J427","v":35044.507228260438},null,33.666666666666664,7403263.6467851745]
[null,405,33,9,77,231281.39106490632,null,2194.5812294372213,0,{"$f":"-SUM(F428:H428)*$J$21","v":-2101.2837506490923},-231.37468854369445,231143.31385515074,null,405,33,9,33,7136937.7484920071,{"$f":"IF($G$4=\"mensual\",S427,0)","v":7474.2280643410895},null,67791.845884898372,-511.42321347920813,null,-7212.2038224412472,7204480.1954053268,null,{"$f":"+Bono!J428","v":34944.113479086111},null,33.75,7470567.6227395637]
[null,406,33,10,77,231143.31385515074,null,2193.2710433848656,0,0,-233.33658489853559,233103.24831363707,null,406,33,10,33,7204480.1954053268,{"$f":"IF($G$4=\"mensual\",S420,IF($G$4=\"trimestral\",S420,0))","v":7474.2280643410895},null,68432.742177953929,-511.42321347920813,null,-7280.3871656476222,7272595.3552684952,null,{"$f":"+Bono!J429","v":35160.771035922728},null,33.833333333333336,7540859.3746180553]
[null,407,33,11,77,233103.24831363707,null,2211.8684556267967,0,0,-235.31511676926388,235079.80165249461,null,407,33,11,33,7272595.3552684952,{"$f":"IF($G$17=\"si\",S418*(1+$G$20),S418)","v":7474.2280643410895},null,69079.072825601557,-511.42321347920813,null,-7349.1486561584379,7341288.0842888001,null,{"$f":"+Bono!J430","v":35378.771894742458},null,33.916666666666664,7611746.6578360377]
[null,408,33,12,77,235079.80165249461,null,2230.6235609833748,0,{"$f":"-SUM(F431:H431)*$J$21","v":-2135.7938269213023},-235.17463138655668,234939.45675517013,null,408,33,12,33,7341288.0842888001,{"$f":"IF($G$4=\"mensual\",S430,0)","v":7474.2280643410895},null,69730.883907386655,-511.42321347920813,null,-7418.4931962605287,7410563.2798507893,null,{"$f":"+Bono!J431","v":35277.420560892562},null,34,7680780.1571668517]
[null,409,34,1,78,234939.45675517013,null,2229.2918573132374,0,0,-237.1687486124834,236931.57986387089,null,409,34,1,34,7410563.2798507893,{"$f":"IF($G$17=\"si\",S420*(1+$G$20),S420)","v":7846.9693127553919},null,70391.758758101496,{"$f":"V431*(1+$G$18)","v":-536.9279914200589},null,-7488.8020079216467,7480776.2779223043,null,{"$f":"+Bono!J432","v":35496.144660297607},null,34.083333333333336,7753204.0024464726]
[null,410,34,2,78,236931.57986387089,null,2248.1947009918968,0,0,-239.17977456486281,238940.59479029794,null,410,34,2,34,7480776.2779223043,{"$f":"IF($G$4=\"mensual\",S432,0)","v":7846.9693127553919},null,71057.99535811838,{"$f":"V432","v":-536.9279914200589},null,-7559.6812425931785,7551584.6333591649,null,{"$f":"+Bono!J433","v":35716.224874489395},null,34.166666666666664,7826241.4530239515]
[null,411,34,3,78,238940.59479029794,null,2267.2578276312497,0,{"$f":"-SUM(F434:H434)*$J$21","v":-2170.8706735613632},-239.03698194436785,238797.94496242347,null,411,34,3,34,7551584.6333591649,{"$f":"IF($G$4=\"mensual\",S433,0)","v":7846.9693127553919},null,71729.881180897108,-536.9279914200589,null,-7631.1614838528176,7622993.3943775445,null,{"$f":"+Bono!J434","v":35613.906822243764},null,34.25,7897405.2461622115]
[null,412,34,4,78,238797.94496242347,null,2265.9042529523949,0,0,-241.06384921537588,240822.7853661605,null,412,34,4,34,7622993.3943775445,{"$f":"IF($G$4=\"mensual\",S432,IF($G$4=\"trimestral\",S432,0))","v":7846.9693127553919},null,72407.464127915635,-536.9279914200589,null,-7703.2478278182161,7695007.6519989772,null,{"$f":"+Bono!J435","v":35834.71717549918},null,34.333333333333336,7971665.1545406375]
[null,413,34,5,78,240822.7853661605,null,2285.1175442690333,0,0,-243.10790291042954,242864.7950075191,null,413,34,5,34,7695007.6519989772,{"$f":"IF($G$4=\"mensual\",S435,0)","v":7846.9693127553919},null,73090.792506823127,-536.9279914200589,null,-7775.9454138185556,7767632.5404133173,null,{"$f":"+Bono!J436","v":36056.896578557193},null,34.416666666666664,8046554.2319993936]
[null,414,34,6,78,242864.7950075191,null,2304.4937509263073,0,{"$f":"-SUM(F437:H437)*$J$21","v":-2206.5235988260088},-242.96276515961944,242719.80239445981,null,414,34,6,34,7767632.5404133173,{"$f":"IF($G$4=\"mensual\",S436,0)","v":7846.9693127553919},null,73779.915034884005,-536.9279914200589,null,-7849.2594247609568,7840873.2373447753,null,{"$f":"+Bono!J437","v":35953.602587075606},null,34.5,8119546.6423263112]
[null,415,34,7,78,242719.80239445981,null,2303.1179460439434,0,0,-245.02292034050376,244777.89742016324,null,415,34,7,34,7840873.2373447753,{"$f":"+IF($G$4=\"mensual\",S432,IF($G$4=\"trimestral\",S432,IF($G$4=\"semestral\",S432,0)))","v":7846.9693127553919},null,74474.880842451166,-536.9279914200589,null,-7923.195087499982,7914734.9644210618,null,{"$f":"+Bono!J438","v":36176.519093475254},null,34.583333333333336,8195689.3809347004]
[null,416,34,8,78,244777.89742016324,null,2322.6467835825383,0,0,-247.10054420374578,246853.44365954204,null,416,34,8,34,7914734.9644210618,{"$f":"IF($G$4=\"mensual\",S438,0)","v":7846.9693127553919},null,75175.739476468734,-536.9279914200589,null,-7997.7576732102862,7989222.9875456551,null,{"$f":"+Bono!J439","v":36400.817708071285},null,34.666666666666664,8272477.2489132686]
[null,417,34,9,78,246853.44365954204,null,2342.3412120741564,0,{"$f":"-SUM(F440:H440)*$J$21","v":-2242.762063844546},-246.95302280777167,246706.06978496388,null,417,34,9,34,7989222.9875456551,{"$f":"IF($G$4=\"mensual\",S439,0)","v":7846.9693127553919},null,75882.540904004432,-536.9279914200589,null,-8072.9524977624151,8064342.617273232,null,{"$f":"+Bono!J440","v":36296.538468562459},null,34.75,8347345.2255267575]
[null,418,34,10,78,246706.06978496388,null,2340.9428118943169,0,0,-249.0470125968582,248797.96558426134,null,418,34,10,34,8064342.617273232,{"$f":"IF($G$4=\"mensual\",S432,IF($G$4=\"trimestral\",S432,0))","v":7846.9693127553919},null,76595.335515811952,-536.9279914200589,null,-8148.7849221017996,8140099.2091882778,null,{"$f":"+Bono!J441","v":36521.581217205421},null,34.833333333333336,8425418.7559897453]
[null,419,34,11,78,248797.96558426134,null,2360.7923779745747,0,0,-251.15875796223591,250907.59920427369,null,419,34,11,34,8140099.2091882778,{"$f":"IF($G$17=\"si\",S430*(1+$G$20),S430)","v":7846.9693127553919},null,77314.174129923529,-536.9279914200589,null,-8225.2603526309576,8216498.1642869059,null,{"$f":"+Bono!J442","v":36748.019256993313},null,34.916666666666664,8504153.7827481721]
[null,420,34,12,78,250907.59920427369,null,2380.8102545627066,0,{"$f":"-SUM(F443:H443)*$J$21","v":-2279.5956851295277},-251.00881377370689,250757.80495993316,null,420,34,12,34,8216498.1642869059,{"$f":"IF($G$4=\"mensual\",S442,0)","v":7846.9693127553919},null,78039.10799527292,-536.9279914200589,null,-8302.3842415949348,8293544.9293619189,null,{"$f":"+Bono!J443","v":36642.745371876023},null,35,8580945.4796937276]
[null,421,35,1,79,250757.80495993316,null,2379.388887995367,0,0,-253.13719384792853,252884.05665408057,null,421,35,1,35,8293544.9293619189,{"$f":"IF($G$17=\"si\",S432*(1+$G$20),S432)","v":8238.2992417763653},null,78773.902044014772,{"$f":"V443*(1+$G$18)","v":-563.70469773777552},null,-8380.5571306477104,8371612.8688193252,null,{"$f":"+Bono!J444","v":36869.934643477041},null,35.083333333333336,8661366.8601168822]
[null,422,35,2,79,252884.05665408057,null,2399.5644500479384,0,0,-255.28362110412851,255028.3374830244,null,422,35,2,35,8371612.8688193252,{"$f":"IF($G$4=\"mensual\",S444,0)","v":8238.2992417763653},null,79514.672556355668,{"$f":"V444","v":-563.70469773777552},null,-8459.3658406174582,8450342.7700791024,null,{"$f":"+Bono!J445","v":37098.532514914317},null,35.166666666666664,8742469.6400770415]
[null,423,35,3,79,255028.3374830244,null,2419.9110868273824,0,{"$f":"-SUM(F446:H446)*$J$21","v":-2317.0342371286661},-255.13121433272312,254876.08311839041,null,423,35,3,35,8450342.7700791024,{"$f":"IF($G$4=\"mensual\",S445,0)","v":8238.2992417763653},null,80261.724287169855,-563.70469773777552,null,-8538.8427936080479,8529740.2461167015,null,{"$f":"+Bono!J446","v":36992.254496970483},null,35.25,8821608.583732063]
[null,424,35,4,79,254876.08311839041,null,2418.4663766879839,0,0,-257.2945494950784,257037.25494558332,null,424,35,4,35,8529740.2461167015,{"$f":"IF($G$4=\"mensual\",S444,IF($G$4=\"trimestral\",S444,0))","v":8238.2992417763653},null,81015.11049681915,-563.70469773777552,null,-8618.9936558552963,8609810.9575017039,null,{"$f":"+Bono!J447","v":37221.610765687641},null,35.333333333333336,8904069.8232129756]
[null,425,35,5,79,257037.25494558332,null,2438.973288652272,0,0,-259.47622823423563,259216.75200600136,null,425,35,5,35,8609810.9575017039,{"$f":"IF($G$4=\"mensual\",S447,0)","v":8238.2992417763653},null,81774.884897276192,-563.70469773777552,null,-8699.8241416407564,8690560.6128013786,null,{"$f":"+Bono!J448","v":37452.389069874524},null,35.416666666666664,8987229.7538772542]
[null,426,35,6,79,259216.75200600136,null,2459.6540849601115,0,{"$f":"-SUM(F449:H449)*$J$21","v":-2355.0876548186534},-259.3213184361428,259061.99711770666,null,426,35,6,35,8690560.6128013786,{"$f":"IF($G$4=\"mensual\",S448,0)","v":8238.2992417763653},null,82541.101655953767,-563.70469773777552,null,-8781.3400136991095,8771994.9689876717,null,{"$f":"+Bono!J449","v":37345.097341394227},null,35.5,9068402.0634467732]
[null,427,35,7,79,259061.99711770666,null,2458.1856478694685,0,0,-261.52018276557612,261258.66258281056,null,427,35,7,35,8771994.9689876717,{"$f":"+IF($G$4=\"mensual\",S444,IF($G$4=\"trimestral\",S444,IF($G$4=\"semestral\",S444,0)))","v":8238.2992417763653},null,83313.815399566578,-563.70469773777552,null,-8863.5470836290133,8854119.8318476472,null,{"$f":"+Bono!J450","v":37576.641276674047},null,35.583333333333336,9152955.1357071325]
[null,428,35,8,79,261258.66258281056,null,2479.0293516143888,0,0,-263.73769193442496,263473.95424249052,null,428,35,8,35,8854119.8318476472,{"$f":"IF($G$4=\"mensual\",S450,0)","v":8238.2992417763653},null,84093.081218025924,-563.70469773777552,null,-8946.4512123074492,8936941.0563974045,null,{"$f":"+Bono!J451","v":37809.620811210036},null,35.666666666666664,9238224.6314511057]
[null,429,35,9,79,263473.95424249052,null,2500.0497954628008,0,{"$f":"-SUM(F452:H452)*$J$21","v":-2393.7660363415803},-263.58023800161175,263316.65776361013,null,429,35,9,35,8936941.0563974045,{"$f":"IF($G$4=\"mensual\",S451,0)","v":8238.2992417763653},null,84878.95466836718,-563.70469773777552,null,-9030.0583103075478,9020464.5472995024,null,{"$f":"+Bono!J452","v":37701.30570312839},null,35.75,9321482.5107662398]
[null,430,35,10,79,263316.65776361013,null,2498.5572417453659,0,0,-265.81521500535547,265549.39979035011,null,430,35,10,35,9020464.5472995024,{"$f":"IF($G$4=\"mensual\",S444,IF($G$4=\"trimestral\",S444,0))","v":8238.2992417763653},null,85671.491778710712,-563.70469773777552,null,-9114.374338319989,9104696.2592839319,null,{"$f":"+Bono!J453","v":37935.058171568577},null,35.833333333333336,9408180.7172458507]
[null,431,35,11,79,265549.39979035011,null,2519.7432685134427,0,0,-268.06914305886357,267801.07391580474,null,431,35,11,35,9104696.2592839319,{"$f":"IF($G$17=\"si\",S442*(1+$G$20),S442)","v":8238.2992417763653},null,86470.749052256404,-563.70469773777552,null,-9199.4053075779648,9189642.1975726485,null,{"$f":"+Bono!J454","v":38170.259932426699},null,35.916666666666664,9495613.5314208791]
[null,432,35,12,79,267801.07391580474,null,2541.1089380460398,0,{"$f":"-SUM(F455:H455)*$J$21","v":-2433.0796456846574},-267.90910320816613,267641.19410495798,null,432,35,12,35,9189642.1975726485,{"$f":"IF($G$4=\"mensual\",S454,0)","v":8238.2992417763653},null,87276.783471311908,-563.70469773777552,null,-9285.1572802857372,9275308.4183077142,null,{"$f":"+Bono!J455","v":38060.911683452476},null,36,9581010.5240961257]
[null,433,36,1,80,267641.19410495798,null,2539.5918716264946,0,0,-270.1807859765845,269910.60519060789,null,433,36,1,36,9275308.4183077142,{"$f":"IF($G$17=\"si\",S444*(1+$G$20),S444)","v":8649.1448726236013},null,88093.550930474434,{"$f":"V455*(1+$G$18)","v":-591.81676375489792},null,-9372.0511141108127,9362087.2462329473,null,{"$f":"+Bono!J456","v":38296.893750682386},null,36.083333333333336,9670294.7451742385]
[null,434,36,2,80,269910.60519060789,null,2561.1258435016744,0,0,-272.47173103410955,272199.25930307544,null,434,36,2,36,9362087.2462329473,{"$f":"IF($G$4=\"mensual\",S456,0)","v":8649.1448726236013},null,88916.977259762774,{"$f":"V456","v":-591.81676375489792},null,-9459.6533683653342,9449601.8982332144,null,{"$f":"+Bono!J457","v":38534.338934101339},null,36.166666666666664,9760335.4964703918]
[null,435,36,3,80,272199.25930307544,null,2582.8424084737608,0,{"$f":"-SUM(F458:H458)*$J$21","v":-2473.0389154039431},-272.30906279614527,272036.75373334915,null,435,36,3,36,9449601.8982332144,{"$f":"IF($G$4=\"mensual\",S457,0)","v":8649.1448726236013},null,89747.385671335403,-591.81676375489792,null,-9547.9984287771749,9537858.6135846432,null,{"$f":"+Bono!J458","v":38423.947689837274},null,36.25,9848319.31500783]
[null,436,36,4,80,272036.75373334915,null,2581.3004267719116,0,0,-274.61805416012106,274343.43610596092,null,436,36,4,36,9537858.6135846432,{"$f":"IF($G$4=\"mensual\",S456,IF($G$4=\"trimestral\",S456,0))","v":8649.1448726236013},null,90584.835368391548,-591.81676375489792,null,-9637.0925938256587,9626863.6844680775,null,{"$f":"+Bono!J459","v":38662.18062241633},null,36.333333333333336,9939869.3011964541]
[null,437,36,5,80,274343.43610596092,null,2603.1880581714772,0,0,-276.9466241641324,276669.67753996828,null,437,36,5,36,9626863.6844680775,{"$f":"IF($G$4=\"mensual\",S459,0)","v":8649.1448726236013},null,91429.386056132338,-591.81676375489792,null,-9726.9422153968353,9716623.4564176835,null,{"$f":"+Bono!J460","v":38901.890626810695},null,36.416666666666664,10032195.024584463]
[null,438,36,6,80,276669.67753996828,null,2625.2612814546205,0,{"$f":"-SUM(F461:H461)*$J$21","v":-2513.6544493928068},-276.78128437203014,276504.50308765809,null,438,36,6,36,9716623.4564176835,{"$f":"IF($G$4=\"mensual\",S460,0)","v":8649.1448726236013},null,92281.097946017559,-591.81676375489792,null,-9817.5536992363268,9807144.3287733346,null,{"$f":"+Bono!J461","v":38790.446438865438},null,36.5,10122439.278299859]
[null,439,36,7,80,276504.50308765809,null,2623.6939752785661,0,0,-279.12819706293669,278849.06886587373,null,439,36,7,36,9807144.3287733346,{"$f":"+IF($G$4=\"mensual\",S456,IF($G$4=\"trimestral\",S456,IF($G$4=\"semestral\",S456,0)))","v":8649.1448726236013},null,93140.031760058147,-591.81676375489792,null,-9908.9335054060175,9898432.7551368549,null,{"$f":"+Bono!J462","v":39030.951706199696},null,36.583333333333336,10216312.775708927]
[null,440,36,8,80,278849.06886587373,null,2645.9410744695638,0,0,-281.49500994034332,281213.51493040298,null,440,36,8,36,9898432.7551368549,{"$f":"IF($G$4=\"mensual\",S462,0)","v":8649.1448726236013},null,94006.24873514552,-591.81676375489792,null,-10001.088148744624,9990495.2438321244,null,{"$f":"+Bono!J463","v":39272.948134088314},null,36.666666666666664,10310981.706896616]
[null,441,36,9,80,281213.51493040298,null,2668.3768135808714,0,{"$f":"-SUM(F464:H464)*$J$21","v":-2554.937025695855},-281.32695471828799,281045.6277635697,null,441,36,9,36,9990495.2438321244,{"$f":"IF($G$4=\"mensual\",S463,0)","v":8649.1448726236013},null,94879.810627417333,-591.81676375489792,null,-10094.024199332167,10083338.358369078,null,{"$f":"+Bono!J464","v":39160.440959179869},null,36.75,10403544.427091828]
[null,442,36,10,80,281045.6277635697,null,2666.7837670184167,0,0,-283.7124115305881,283428.69911905751,null,442,36,10,36,10083338.358369078,{"$f":"IF($G$4=\"mensual\",S456,IF($G$4=\"trimestral\",S456,0))","v":8649.1448726236013},null,95760.779716660269,-591.81676375489792,null,-10187.748282958362,10176968.717911649,null,{"$f":"+Bono!J465","v":39403.240235456789},null,36.833333333333336,10499800.657266164]
[null,443,36,11,80,283428.69911905751,null,2689.3962376589766,0,0,-286.11809535671648,285831.97726135975,null,443,36,11,36,10176968.717911649,{"$f":"IF($G$17=\"si\",S454*(1+$G$20),S454)","v":8649.1448726236013},null,96649.218810750288,-591.81676375489792,null,-10282.267081595024,10271392.997749675,null,{"$f":"+Bono!J466","v":39647.544895409599},null,36.916666666666664,10596872.519906443]
[null,444,36,12,80,285831.97726135975,null,2712.2004463154922,0,{"$f":"-SUM(F467:H467)*$J$21","v":-2596.8975993690779},-285.94728010830619,285661.33282819792,null,444,36,12,36,10271392.997749675,{"$f":"IF($G$4=\"mensual\",S466,0)","v":8649.1448726236013},null,97545.191250130432,-591.81676375489792,null,-10377.58733387243,10366617.929774802,null,{"$f":"+Bono!J467","v":39533.964594460245},null,37,10691813.227197461]
[null,445,37,1,81,285661.33282819792,null,2710.5812366237801,0,0,-288.37191406482168,288083.54215075687,null,445,37,1,37,10366617.929774802,{"$f":"IF($G$17=\"si\",S456*(1+$G$20),S456)","v":9080.4794572503142},null,98452.853756885641,{"$f":"V467*(1+$G$18)","v":-621.33078412670739},null,-10474.151262988938,10463055.780941822,null,{"$f":"+Bono!J468","v":39779.079760601962},null,37.083333333333336,10790918.40285318]
[null,446,37,2,81,288083.54215075687,null,2733.5650793297586,0,0,-290.81710723008666,290526.29012285656,null,446,37,2,37,10463055.780941822,{"$f":"IF($G$4=\"mensual\",S468,0)","v":9080.4794572503142},null,99367.932557665627,{"$f":"V468","v":-621.33078412670739},null,-10571.504192956736,10560311.357979652,null,{"$f":"+Bono!J469","v":40025.71466920535},null,37.166666666666664,10890863.362771714]
[null,447,37,3,81,290526.29012285656,null,2756.7438090283854,0,{"$f":"-SUM(F470:H470)*$J$21","v":-2639.547305386965},-290.64348662649797,290352.84313987149,null,447,37,3,37,10560311.357979652,{"$f":"IF($G$4=\"mensual\",S469,0)","v":9080.4794572503142},null,100290.77058991099,-621.33078412670739,null,-10669.682608026813,10658391.594634658,null,{"$f":"+Bono!J470","v":39911.051006427893},null,37.25,10988655.488780957]
[null,448,37,4,81,290352.84313987149,null,2755.0980065217118,0,0,-293.10794114639322,292814.83320524677,null,448,37,4,37,10658391.594634658,{"$f":"IF($G$4=\"mensual\",S468,IF($G$4=\"trimestral\",S468,0))","v":9080.4794572503142},null,101221.43364650525,-621.33078412670739,null,-10768.693507738413,10757303.483446548,null,{"$f":"+Bono!J471","v":40158.50415206312},null,37.333333333333336,11090276.820803858]
[null,449,37,5,81,292814.83320524677,null,{"$f":"SUM(F472:G472)*$G$8","v":2778.4593204590587},0,0,-295.59329252570581,{"$f":"SUM(F472:K472)","v":295297.69923318014},null,449,37,5,37,10757303.483446548,{"$f":"IF($G$4=\"mensual\",S471,0)","v":9080.4794572503142},null,102159.98807820976,-621.33078412670739,null,{"$f":"-SUM(R472:U472)*0.1%","v":-10868.543950982008},{"$f":"SUM(R472:X472)","v":10857054.076246899},null,{"$f":"+Bono!J472","v":40407.491535904075},null,{"$f":"+B472/12","v":37.416666666666664},{"$f":"+AA472+Y472+L472","v":11192759.267015982}]
[null,{"$f":"+B472+1","v":450},37,6,81,{"$f":"L472","v":295297.69923318014},null,2802.0187220824291,0,{"$f":"-SUM(F473:H473)*$J$21","v":-2682.8974615973634},{"$f":"-SUM(F473:J473)*0.1%","v":-295.41682049366523},295121.40367317159,null,{"$f":"+N472+1","v":450},37,6,37,{"$f":"Y472","v":10857054.076246899},{"$f":"IF($G$4=\"mensual\",S472,0)","v":9080.4794572503142},null,103106.50079839421,-621.33078412670739,null,-10969.241056502544,10957650.484661914,null,{"$f":"+Bono!J473","v":40291.734177879422},null,37.5,11293063.622512966]
[null,451,37,7,81,295121.40367317159,null,2800.3458900182213,0,0,-297.92174956318979,297623.82781362662,null,451,37,7,37,10957650.484661914,{"$f":"+IF($G$4=\"mensual\",S468,IF($G$4=\"trimestral\",S468,IF($G$4=\"semestral\",S468,0)))","v":9080.4794572503142},null,104061.03928780704,-621.33078412670739,null,-11070.792003406972,11059099.880619438,null,{"$f":"+Bono!J474","v":40541.547603334162},null,37.583333333333336,11397265.256036399]
[null,452,37,8,81,297623.82781362662,null,2824.0908745215011,0,0,-300.44791868814815,300147.47076946002,null,452,37,8,37,11059099.880619438,{"$f":"IF($G$4=\"mensual\",S474,0)","v":9080.4794572503142},null,105023.67159938651,-621.33078412670739,null,-11173.204031676074,11161409.496860271,null,{"$f":"+Bono!J475","v":40792.909901003295},null,37.666666666666664,11502349.877530733]
[null,453,37,9,81,300147.47076946002,null,2848.0371999702234,0,{"$f":"-SUM(F476:H476)*$J$21","v":-2726.9595717248726},-300.26854839770539,299968.27984930767,null,453,37,9,37,11161409.496860271,{"$f":"IF($G$4=\"mensual\",S475,0)","v":9080.4794572503142},null,105994.46636311243,-621.33078412670739,null,-11276.484442680632,11264586.627453825,null,{"$f":"+Bono!J476","v":40676.048415749196},null,37.75,11605230.955718881]
[null,454,37,10,81,299968.27984930767,null,2846.3368944331405,0,0,-302.81461674374083,302511.80212699703,null,454,37,10,37,11264586.627453825,{"$f":"IF($G$4=\"mensual\",S468,IF($G$4=\"trimestral\",S468,0))","v":9080.4794572503142},null,106973.49279089909,-621.33078412670739,null,-11380.640599701974,11368638.628318144,null,{"$f":"+Bono!J477","v":40928.24463405642},null,37.833333333333336,11712078.675079197]
[null,455,37,11,81,302511.80212699703,null,2870.4718506506338,0,0,-305.38227397764769,305076.89170367003,null,455,37,11,37,11368638.628318144,{"$f":"IF($G$17=\"si\",S466*(1+$G$20),S466)","v":9080.4794572503142},null,107960.82068152967,-621.33078412670739,null,-11485.679928456922,11473572.917744339,null,{"$f":"+Bono!J478","v":41182.004498170107},null,37.916666666666664,11819831.81394618]
[null,456,37,12,81,305076.89170367003,null,2894.8114545023413,0,{"$f":"-SUM(F479:H479)*$J$21","v":-2771.7453284235517},-305.19995782974883,304894.75787191908,null,456,37,12,37,11473572.917744339,{"$f":"IF($G$4=\"mensual\",S478,0)","v":9080.4794572503142},null,108956.52042563244,-621.33078412670739,null,-11591.609917627222,11579396.976925466,null,{"$f":"+Bono!J479","v":41064.028354201058},null,38,11925355.763151586]
[null,457,38,1,82,304894.75787191908,null,2893.0832242864744,0,0,-307.78784109620557,307480.05325510935,null,457,38,1,38,11579396.976925466,{"$f":"IF($G$17=\"si\",S468*(1+$G$20),S468)","v":9533.3247838792795},null,109964.95996623499,{"$f":"V479*(1+$G$18)","v":-652.31667459726305},null,-11698.89526167558,11686544.049739307,null,{"$f":"+Bono!J480","v":41318.630093129577},null,38.083333333333336,12035342.733087545]
[null,458,38,2,82,307480.05325510935,null,2917.6145568523002,0,0,-310.3976678119617,310087.27014414972,null,458,38,2,38,11686544.049739307,{"$f":"IF($G$4=\"mensual\",S480,0)","v":9533.3247838792795},null,110981.65635371221,{"$f":"V480","v":-652.31667459726305},null,-11807.059030876897,11794599.655171422,null,{"$f":"+Bono!J481","v":41574.810392371422},null,38.166666666666664,12146261.735707944]
[null,459,38,3,82,310087.27014414972,null,2942.353898047952,0,{"$f":"-SUM(F482:H482)*$J$21","v":-2817.2666163797794},-310.21235742581786,309902.14506839204,null,459,38,3,38,11794599.655171422,{"$f":"IF($G$4=\"mensual\",S481,0)","v":9533.3247838792795},null,112006.97361907858,-652.31667459726305,null,-11916.13995357438,11903571.496946208,null,{"$f":"+Bono!J482","v":41455.708957749564},null,38.25,12254929.350972351]
[null,460,38,4,82,309902.14506839204,null,2940.5972845370884,0,0,-312.84274235292912,312529.89961057622,null,460,38,4,38,11903571.496946208,{"$f":"IF($G$4=\"mensual\",S480,IF($G$4=\"trimestral\",S480,0))","v":9533.3247838792795},null,113040.98486137966,-652.31667459726305,null,-12026.145806591467,12013467.344110277,null,{"$f":"+Bono!J483","v":41712.739161852223},null,38.333333333333336,12367709.982882705]
[null,461,{"$f":"C472+1","v":38},{"$f":"D472","v":5},{"$f":"E472+1","v":82},312529.89961057622,null,2965.531503270784,0,0,-315.49543111384702,315179.93568273314,null,461,{"$f":"O472+1","v":38},{"$f":"P472","v":5},{"$f":"Q472+1","v":38},12013467.344110277,{"$f":"IF($G$4=\"mensual\",S483,0)","v":9533.3247838792795},null,{"$f":"SUM(R484:T484)*$G$8","v":114083.76379949009},-652.31667459726305,null,-12137.084432693646,12124295.031586355,null,{"$f":"+Bono!J484","v":41971.362983033978},null,38.416666666666664,12481446.33025212]
[null,462,38,6,82,315179.93568273314,null,2990.677146828657,0,{"$f":"-SUM(F485:H485)*$J$21","v":-2863.5355154660565},-315.30707731409575,314991.77023678162,null,462,38,6,38,12124295.031586355,{"$f":"IF($G$4=\"mensual\",S484,0)","v":9533.3247838792795},null,115135.38477736928,-652.31667459726305,null,-12248.963741147601,12236062.460731857,null,{"$f":"+Bono!J485","v":41851.125524410927},null,38.5,12592905.356493048]
[null,463,38,7,82,314991.77023678162,null,2988.8916838745795,0,0,-317.98066192065625,317662.68125873554,null,463,38,7,38,12236062.460731857,{"$f":"+IF($G$4=\"mensual\",S480,IF($G$4=\"trimestral\",S480,IF($G$4=\"semestral\",S480,0)))","v":9533.3247838792795},null,116195.92276936163,-652.31667459726305,null,-12361.791708285098,12348777.599902214,null,{"$f":"+Bono!J486","v":42110.607357092362},null,38.583333333333336,12708550.888518043]
[null,464,38,8,82,317662.68125873554,null,3014.2354055085957,0,0,-320.67691666424417,320356.23974757991,null,464,38,8,38,12348777.599902214,{"$f":"IF($G$4=\"mensual\",S486,0)","v":9533.3247838792795},null,117265.45338554187,-652.31667459726305,null,-12475.576378071635,12462448.485018965,null,{"$f":"+Bono!J487","v":42371.69800723446},null,38.666666666666664,12825176.42277378]
[null,465,38,9,82,320356.23974757991,null,3039.7940242664286,0,{"$f":"-SUM(F488:H488)*$J$21","v":-2910.5643039466172},-320.48546946789969,320164.98399843182,null,465,38,9,38,12462448.485018965,{"$f":"IF($G$4=\"mensual\",S487,0)","v":9533.3247838792795},null,118344.05287710548,-652.31667459726305,null,-12590.325862679949,12577083.220142672,null,{"$f":"+Bono!J488","v":42250.313688884045},null,38.75,12939498.517829988]
[null,466,38,10,82,320164.98399843182,null,3037.9792380652138,0,0,-323.202963236497,322879.76027326053,null,466,38,10,38,12577083.220142672,{"$f":"IF($G$4=\"mensual\",S480,IF($G$4=\"trimestral\",S480,0))","v":9533.3247838792795},null,119431.79814180512,-652.31667459726305,null,-12706.048343068356,12692689.97805069,null,{"$f":"+Bono!J489","v":42512.270534488183},null,38.833333333333336,13058082.008858439]
[null,467,38,11,82,322879.76027326053,null,3063.7391880007822,0,0,-325.94349946126135,325617.55596180004,null,467,38,11,38,12692689.97805069,{"$f":"IF($G$17=\"si\",S478*(1+$G$20),S478)","v":9533.3247838792795},null,120528.76672943277,-652.31667459726305,null,-12822.752069564001,12809277.00081984,null,{"$f":"+Bono!J490","v":42775.85154292018},null,38.916666666666664,13177670.40832456]
[null,468,38,12,82,325617.55596180004,null,3089.7175643865276,0,{"$f":"-SUM(F491:H491)*$J$21","v":-2958.3654617356797},-325.74890806445092,325423.15915638645,null,468,38,12,38,12809277.00081984,{"$f":"IF($G$4=\"mensual\",S490,0)","v":9533.3247838792795},null,121635.03684734875,-652.31667459726305,null,-12940.445362451068,12926852.600414019,null,{"$f":"+Bono!J491","v":42653.309425761938},null,39,13294929.068996167]
[null,469,39,1,83,325423.15915638645,null,3087.8729733528139,0,0,-328.51103212973925,328182.52109760948,null,469,39,1,39,12926852.600414019,{"$f":"IF($G$17=\"si\",S480*(1+$G$20),S480)","v":10008.753597516295},null,122755.19861162512,{"$f":"V491*(1+$G$18)","v":-684.84783762276345},null,-13059.61655262316,13045872.088232914,null,{"$f":"+Bono!J492","v":42917.764891679326},null,39.083333333333336,13416972.374222202]
[null,470,39,2,83,328182.52109760948,null,3114.0559874446481,0,0,-331.29657708505414,330965.28050796909,null,470,39,2,39,13045872.088232914,{"$f":"IF($G$4=\"mensual\",S492,0)","v":10008.753597516295},null,123884.54988671874,{"$f":"V492","v":-684.84783762276345},null,-13179.76539171715,13165900.778487809,null,{"$f":"+Bono!J493","v":43183.860012160345},null,39.166666666666664,13540049.919007938]
[null,471,39,3,83,330965.28050796909,null,3140.461015276313,0,{"$f":"-SUM(F494:H494)*$J$21","v":-3006.951673709209},-331.09878984953622,330767.69105968665,null,471,39,3,39,13165900.778487809,{"$f":"IF($G$4=\"mensual\",S493,0)","v":10008.753597516295},null,125023.47727475665,-684.84783762276345,null,-13300.933009360082,13286947.228513099,null,{"$f":"+Bono!J494","v":43060.149052773704},null,39.25,13660775.06862556]
[null,472,39,4,83,330767.69105968665,null,3138.5861299155022,0,0,-333.90627718960218,333572.37091241253,null,472,39,4,39,13286947.228513099,{"$f":"IF($G$4=\"mensual\",S492,IF($G$4=\"trimestral\",S492,0))","v":10008.753597516295},null,126172.06197451298,-684.84783762276345,null,-13423.128044085128,13409020.068203419,null,{"$f":"+Bono!J495","v":43327.126971569043},null,39.333333333333336,13785919.566087401]
[null,473,39,5,83,333572.37091241253,null,3165.1991562858152,0,0,-336.73757006869835,336400.83249862964,null,473,39,5,39,13409020.068203419,{"$f":"IF($G$4=\"mensual\",S495,0)","v":10008.753597516295},null,127330.38587327098,-684.84783762276345,null,-13546.359207674208,13532128.000628909,null,{"$f":"+Bono!J496","v":43595.760184428436},null,39.416666666666664,13912124.593311967]
[null,474,39,6,83,336400.83249862964,null,3192.0378426008515,0,{"$f":"-SUM(F497:H497)*$J$21","v":-3056.3358330710748},-336.53653450815938,336199.99797365122,null,474,39,6,39,13532128.000628909,{"$f":"IF($G$4=\"mensual\",S496,0)","v":10008.753597516295},null,128498.53155266109,-684.84783762276345,null,-13670.635285779088,13656279.802655684,null,{"$f":"+Bono!J497","v":43470.869234057463},null,39.5,14035950.669863392]
[null,475,39,7,83,336199.99797365122,null,3190.1321653792161,0,0,-339.39013013903048,339050.74000889144,null,475,39,7,39,13656279.802655684,{"$f":"+IF($G$4=\"mensual\",S492,IF($G$4=\"trimestral\",S492,IF($G$4=\"semestral\",S492,0)))","v":10008.753597516295},null,129676.5822945485,-684.84783762276345,null,-13795.965138547748,13781484.325571578,null,{"$f":"+Bono!J498","v":43740.393665617354},null,39.583333333333336,14164275.459246086]
[null,476,39,8,83,339050.74000889144,null,3217.1822662615223,0,0,-342.26792227515301,341925.65435287781,null,476,39,8,39,13781484.325571578,{"$f":"IF($G$4=\"mensual\",S498,0)","v":10008.753597516295},null,130864.62208697067,-684.84783762276345,null,-13922.357701256065,13907750.495717185,null,{"$f":"+Bono!J499","v":44011.58917991582},null,39.666666666666664,14293687.739249978]
[null,477,39,9,83,341925.65435287781,null,3244.4617331762715,0,{"$f":"-SUM(F500:H500)*$J$21","v":-3106.5310447744869},-342.06358504127957,341721.52145623829,null,477,39,9,39,13907750.495717185,{"$f":"IF($G$4=\"mensual\",S499,0)","v":10008.753597516295},null,132062.73563012516,-684.84783762276345,null,-14049.821984944827,14035087.315122258,null,{"$f":"+Bono!J500","v":43885.506983464533},null,39.75,14420694.34356196]
[null,478,39,10,83,341721.52145623829,null,3242.5247583889227,0,0,-344.96404621462722,344619.08216841257,null,478,39,10,39,14035087.315122258,{"$f":"IF($G$4=\"mensual\",S492,IF($G$4=\"trimestral\",S492,0))","v":10008.753597516295},null,133271.00834240831,-684.84783762276345,null,-14178.367077062183,14163503.862147497,null,{"$f":"+Bono!J501","v":44157.602217165753},null,39.833333333333336,14552280.546533076]
[null,479,39,11,83,344619.08216841257,null,3270.0191120021273,0,0,-347.88910128041471,347541.21217913425,null,479,39,11,39,14163503.862147497,{"$f":"IF($G$17=\"si\",S490*(1+$G$20),S490)","v":10008.753597516295},null,134489.52636650496,-684.84783762276345,null,-14308.00214211152,14293009.292131785,null,{"$f":"+Bono!J502","v":44431.384472877013},null,39.916666666666664,14684981.888783796]
[null,480,39,12,83,347541.21217913425,null,3297.7465986017964,0,{"$f":"-SUM(F503:H503)*$J$21","v":-3157.5506289996247},-347.68140814873647,347333.72674058774,null,480,39,12,39,14293009.292131785,{"$f":"IF($G$4=\"mensual\",S502,0)","v":10008.753597516295},null,135718.37657553001,-684.84783762276345,null,-14438.736422304832,14423612.838044904,null,{"$f":"+Bono!J503","v":44304.099667895047},null,40,14815250.664453387]
[null,481,40,1,84,347333.72674058774,null,3295.7778122384871,0,0,-350.62950455282623,350278.87504827342,null,481,40,1,40,14423612.838044904,{"$f":"IF($G$17=\"si\",S492*(1+$G$20),S492)","v":10507.892141175153},null,136962.38280150833,{"$f":"V503*(1+$G$18)","v":-719.00133625457818},null,-14571.083112987588,14555793.028538346,null,{"$f":"+Bono!J504","v":44578.790224793484},null,40.083333333333336,14950650.693811415]
[null,482,40,2,84,350278.87504827342,null,3323.7237146917541,0,0,-353.60259876296516,353248.99616420222,null,482,40,2,40,14555793.028538346,{"$f":"IF($G$4=\"mensual\",S504,0)","v":10507.892141175153},null,138216.61325915434,{"$f":"V504","v":-719.00133625457818},null,-14704.517533938675,14689094.015068481,null,{"$f":"+Bono!J505","v":44855.18389500682},null,40.166666666666664,15087198.19512769]
[null,483,40,3,84,353248.99616420222,null,3351.9065789514357,0,{"$f":"-SUM(F506:H506)*$J$21","v":-3209.4081246883834},-353.39149461846534,353038.10312384687,null,483,40,3,40,14689094.015068481,{"$f":"IF($G$4=\"mensual\",S505,0)","v":10507.892141175153},null,139481.47871831444,-719.00133625457818,null,-14839.08338592797,14823525.301205788,null,{"$f":"+Bono!J506","v":44726.685010665467},null,40.25,15221290.089340301]
[null,484,40,4,84,353038.10312384687,null,3349.9054585601589,0,0,-356.38800858240705,356031.62057382462,null,484,40,4,40,14823525.301205788,{"$f":"IF($G$4=\"mensual\",S504,IF($G$4=\"trimestral\",S504,0))","v":10507.892141175153},null,140757.06935640104,-719.00133625457818,null,-14974.790262703364,14959096.471104406,null,{"$f":"+Bono!J507","v":45003.995645705945},null,40.333333333333336,15360132.087323936]
[null,485,40,5,84,356031.62057382462,null,3378.3103257890589,0,0,-359.40993089961364,359050.52096871403,null,485,40,5,40,14959096.471104406,{"$f":"IF($G$4=\"mensual\",S507,0)","v":10507.892141175153},null,142043.47611546819,-719.00133625457818,null,-15111.647839361049,15095817.190185433,null,{"$f":"+Bono!J508","v":45283.025638849715},null,40.416666666666664,15500150.736792998]
[null,486,40,6,84,359050.52096871403,null,3406.9560465262953,0,{"$f":"-SUM(F509:H509)*$J$21","v":-3262.1172931371634},-359.19535972210315,358836.16436238104,null,486,40,6,40,15095817.190185433,{"$f":"IF($G$4=\"mensual\",S508,0)","v":10507.892141175153},null,143340.79070869536,{"$f":"V508","v":-719.00133625457818},null,-15249.665873035303,15233697.205826012,null,{"$f":"+Bono!J509","v":45153.301094908195},null,40.5,15637686.671283301]
[null,487,40,7,84,358836.16436238104,null,3404.9220610746415,0,0,-362.24108642345567,361878.84533703222,null,487,40,7,40,15233697.205826012,{"$f":"+IF($G$4=\"mensual\",S504,IF($G$4=\"trimestral\",S504,IF($G$4=\"semestral\",S504,0)))","v":10507.892141175153},null,144649.10562692588,-719.00133625457818,null,-15388.854203594114,15372746.348054264,null,{"$f":"+Bono!J510","v":45433.256799155373},null,40.583333333333336,15780058.450190451]
[null,488,40,8,84,361878.84533703222,null,3433.7934308091021,0,0,-365.31263876784135,364947.32612907351,null,488,40,8,40,15372746.348054264,{"$f":"IF($G$4=\"mensual\",S510,0)","v":10507.892141175153},null,145968.51414526114,-719.00133625457818,null,-15529.222754340699,15512974.530250104,null,{"$f":"+Bono!J511","v":45714.948261241741},null,40.666666666666664,15923636.80464042]
[null,489,40,9,84,364947.32612907351,null,3462.9096096685271,0,{"$f":"-SUM(F512:H512)*$J$21","v":-3315.6921216486789},-365.09454361709334,364729.44907347625,null,489,40,9,40,15512974.530250104,{"$f":"IF($G$4=\"mensual\",S511,0)","v":10507.892141175153},null,147299.11032971047,-719.00133625457818,null,-15670.781532720988,15654391.749852013,null,{"$f":"+Bono!J512","v":45583.986367003563},null,40.75,16064705.185292494]
[null,490,40,10,84,364729.44907347625,null,3460.842219402768,0,0,-368.19029129287907,367822.10100158612,null,490,40,10,40,15654391.749852013,{"$f":"IF($G$4=\"mensual\",S504,IF($G$4=\"trimestral\",S504,0))","v":10507.892141175153},null,148640.98904389743,-719.00133625457818,null,-15813.540631037085,15797008.089069793,null,{"$f":"+Bono!J513","v":45866.612369894137},null,40.833333333333336,16210696.802441275]
[null,491,40,11,84,367822.10100158612,null,3490.1877531673417,0,0,-371.31228875475347,370940.97646599874,null,491,40,11,40,15797008.089069793,{"$f":"IF($G$17=\"si\",S502*(1+$G$20),S502)","v":10507.892141175153},null,149994.24595582322,-719.00133625457818,null,-15957.510227166791,15940833.71560337,null,{"$f":"+Bono!J514","v":46150.990686785219},null,40.916666666666664,16357925.682756154]
[null,492,40,12,84,370940.97646599874,null,3519.7821166379049,0,{"$f":"-SUM(F515:H515)*$J$21","v":-3370.1468272437305},-371.09061175539296,370719.52114363754,null,492,40,12,40,15940833.71560337,{"$f":"IF($G$4=\"mensual\",S514,0)","v":10507.892141175153},null,151358.97754468699,-719.00133625457818,null,-16102.700585289233,16085878.883367689,null,{"$f":"+Bono!J515","v":46018.779640044646},null,41,16502617.184151372]
[null,493,41,1,85,370719.52114363754,null,3517.6807729397578,0,0,-374.23720191657731,373862.96471466072,null,493,41,1,41,16085878.883367689,{"$f":"IF($G$17=\"si\",S504*(1+$G$20),S504)","v":11031.922823833986},null,152740.2535264036,{"$f":"V515*(1+$G$18)","v":-754.85807669386122},null,-16249.651059717928,16232646.550581515,null,{"$f":"+Bono!J516","v":46304.101411660973},null,41.083333333333336,16652813.616707837]
[null,494,41,2,85,373862.96471466072,null,3547.5082580867434,0,0,-377.41047297274747,377033.06249977474,null,494,41,2,41,16232646.550581515,{"$f":"IF($G$4=\"mensual\",S516,0)","v":11031.922823833986},null,154132.90153008737,{"$f":"V516","v":-754.85807669386122},null,-16397.811374935434,16380658.705483805,null,{"$f":"+Bono!J517","v":46591.192211356596},null,41.166666666666664,16804282.960194938]
[null,495,41,3,85,377033.06249977474,null,3577.5886595520706,0,{"$f":"-SUM(F518:H518)*$J$21","v":-3425.4958604339413},-377.18515529889282,376807.97014359391,null,495,41,3,41,16380658.705483805,{"$f":"IF($G$4=\"mensual\",S517,0)","v":11031.922823833986},null,155537.35821975666,-754.85807669386122,null,-16547.227986527396,16529925.900464173,null,{"$f":"+Bono!J518","v":46457.720097335034},null,41.25,16953191.590705104]
[null,496,41,4,85,376807.97014359391,null,3575.452804793113,0,0,-380.38342294838708,380003.03952543868,null,496,41,4,41,16529925.900464173,{"$f":"IF($G$4=\"mensual\",S516,IF($G$4=\"trimestral\",S516,0))","v":11031.922823833986},null,156953.72372485138,-754.85807669386122,null,-16697.91154701286,16680458.777389152,null,{"$f":"+Bono!J519","v":46745.763350700501},null,41.333333333333336,17107207.580265291]
[null,497,41,5,85,380003.03952543868,null,3605.7701565690645,0,0,-383.60880968200775,383225.20087232575,null,497,41,5,41,16680458.777389152,{"$f":"IF($G$4=\"mensual\",S519,0)","v":11031.922823833986},null,158382.09902383958,-754.85807669386122,null,-16849.872799236826,16832268.068360895,null,{"$f":"+Bono!J520","v":47035.592505647786},null,41.416666666666664,17262528.861738868]
[null,498,41,6,85,383225.20087232575,null,3636.3445783914931,0,{"$f":"-SUM(F521:H521)*$J$21","v":-3481.7539090564551},-383.37979154166072,382996.41175011906,null,498,41,6,41,16832268.068360895,{"$f":"IF($G$4=\"mensual\",S520,0)","v":11031.922823833986},null,159822.58595141635,-754.85807669386122,null,-17003.12257713615,16985364.596482318,null,{"$f":"+Bono!J521","v":46900.847295920023},null,41.5,17415261.855528358]
[null,499,41,7,85,382996.41175011906,null,3634.1736457851889,0,0,-386.63058539590429,386243.95481050835,null,499,41,7,41,16985364.596482318,{"$f":"+IF($G$4=\"mensual\",S516,IF($G$4=\"trimestral\",S516,IF($G$4=\"semestral\",S516,0)))","v":11031.922823833986},null,161275.28720576409,-754.85807669386122,null,-17157.671806511917,17139759.27662871,null,{"$f":"+Bono!J522","v":47191.637989316288},null,41.583333333333336,17573194.869428534]
[null,500,41,8,85,386243.95481050835,null,3664.9889094313648,0,0,-389.90894371993977,389519.03477621981,null,500,41,8,41,17139759.27662871,{"$f":"IF($G$4=\"mensual\",S522,0)","v":11031.922823833986},null,162740.3063558744,-754.85807669386122,null,-17313.53150580842,17295463.116225917,null,{"$f":"+Bono!J523","v":47484.231618741243},null,41.666666666666664,17732466.382620875]
[null,501,41,9,85,389519.03477621981,null,3696.0654650702022,0,{"$f":"-SUM(F524:H524)*$J$21","v":-3538.9359021716105},-389.67616433911843,389286.48817477928,null,501,41,9,41,17295463.116225917,{"$f":"IF($G$4=\"mensual\",S523,0)","v":11031.922823833986},null,164217.74784893182,-754.85807669386122,null,-17470.712786898683,17452487.21603509,null,{"$f":"+Bono!J524","v":47348.201170151471},null,41.75,17889121.905380018]
[null,502,41,10,85,389286.48817477928,null,3693.858878521492,0,0,-392.98034705330076,392587.36670624744,null,502,41,10,41,17452487.21603509,{"$f":"IF($G$4=\"mensual\",S516,IF($G$4=\"trimestral\",S516,0))","v":11031.922823833986},null,165707.71701776035,-754.85807669386122,null,-17629.226855876685,17610842.770944111,null,{"$f":"+Bono!J525","v":47641.765509457815},null,41.833333333333336,18051071.903159816]
[null,503,41,11,85,392587.36670624744,null,3725.180231408804,0,0,-396.31254693765624,395916.23439071857,null,503,41,11,41,17610842.770944111,{"$f":"IF($G$17=\"si\",S514*(1+$G$20),S514)","v":11031.922823833986},null,167210.32008833307,-754.85807669386122,null,-17789.085013856282,17770541.07076573,null,{"$f":"+Bono!J526","v":47937.149981719216},null,41.916666666666664,18214394.455138166]
[null,504,41,12,85,395916.23439071857,null,3756.7671675733754,0,{"$f":"-SUM(F527:H527)*$J$21","v":-3597.0570140246282},-396.07594454426732,395679.86859972304,null,504,41,12,41,17770541.07076573,{"$f":"IF($G$4=\"mensual\",S526,0)","v":11031.922823833986},null,168725.66418734536,-754.85807669386122,null,-17950.298657776912,17931593.501042437,null,{"$f":"+Bono!J527","v":47799.822035286685},null,42,18375073.191677447]
[null,505,42,1,86,395679.86859972304,null,3754.5243415258001,0,0,-399.43439294124886,399034.95854830759,null,505,42,1,42,17931593.501042437,{"$f":"IF($G$17=\"si\",S516*(1+$G$20),S516)","v":11582.087021443151},null,170259.07774400353,{"$f":"V527*(1+$G$18)","v":-792.50299995019941},null,-18113.434665807883,18094528.728142127,null,{"$f":"+Bono!J528","v":48096.186476341645},null,42.083333333333336,18541659.873166777]
[null,506,42,2,86,399034.95854830759,null,3786.3600953248197,0,0,-402.82131864363242,402418.49732498877,null,506,42,2,42,18094528.728142127,{"$f":"IF($G$4=\"mensual\",S528,0)","v":11582.087021443151},null,171805.13637570175,{"$f":"V528","v":-792.50299995019941},null,-18277.915951539275,18258845.532587785,null,{"$f":"+Bono!J529","v":48394.388411307293},null,42.166666666666664,18709658.418324079]
[null,507,42,3,86,402418.49732498877,null,3818.4657941628798,0,{"$f":"-SUM(F530:H530)*$J$21","v":-3656.1326680723655},-402.58083045107929,402178.24962062819,null,507,42,3,42,18258845.532587785,{"$f":"IF($G$4=\"mensual\",S529,0)","v":11582.087021443151},null,173364.304508759,-792.50299995019941,null,-18443.791924117992,18424555.629193921,null,{"$f":"+Bono!J530","v":48255.750591121541},null,42.25,18874989.62940567]
[null,508,42,4,86,402178.24962062819,null,3816.1861334431933,0,0,-405.99443575407139,405588.44131831732,null,508,42,4,42,18424555.629193921,{"$f":"IF($G$4=\"mensual\",S528,IF($G$4=\"trimestral\",S528,0))","v":11582.087021443151},null,174936.69330262436,-792.50299995019941,null,-18611.074409517991,18591670.83210852,null,{"$f":"+Bono!J531","v":48554.941842107117},null,42.333333333333336,19045814.215268947]
[null,509,42,5,86,405588.44131831732,null,3848.5447363297994,0,0,-409.43698605464715,409027.54906859249,null,509,42,5,42,18591670.83210852,{"$f":"IF($G$4=\"mensual\",S531,0)","v":11582.087021443151},null,176522.41485930182,-792.50299995019941,null,-18779.775333989266,18760203.055655327,null,{"$f":"+Bono!J532","v":48855.988113552834},null,42.416666666666664,19218086.592837472]
[null,510,42,6,86,409027.54906859249,null,3881.1777176518804,0,{"$f":"-SUM(F533:H533)*$J$21","v":-3716.1785410762},-409.19254824516821,408783.35569692298,null,510,42,6,42,18760203.055655327,{"$f":"IF($G$4=\"mensual\",S532,0)","v":11582.087021443151},null,178121.58223134233,-792.50299995019941,null,-18949.906724908113,18930164.315183256,null,{"$f":"+Bono!J533","v":48716.027925658374},null,42.5,19387663.698805839]
[null,511,42,7,86,408783.35569692298,null,3878.8606173121107,0,0,-412.66221631423514,412249.55409792089,null,511,42,7,42,18930164.315183256,{"$f":"+IF($G$4=\"mensual\",S528,IF($G$4=\"trimestral\",S528,IF($G$4=\"semestral\",S528,0)))","v":11582.087021443151},null,179734.30942990378,-792.50299995019941,null,-19121.480711634602,19101566.727923017,null,{"$f":"+Bono!J534","v":49018.072949506946},null,42.583333333333336,19562834.354970444]
[null,512,42,8,86,412249.55409792089,null,3911.7506562093627,0,0,-416.16130475413024,415745.1434493761,null,512,42,8,42,19101566.727923017,{"$f":"IF($G$4=\"mensual\",S534,0)","v":11582.087021443151},null,181360.71143287933,-792.50299995019941,null,-19294.50952637734,19274422.513851013,null,{"$f":"+Bono!J535","v":49321.990687538426},null,42.666666666666664,19739489.647987928]
[null,513,42,9,86,415745.1434493761,null,{"$f":"SUM(F536:G536)*$G$8","v":3944.919579749655},0,{"$f":"-SUM(F536:H536)*$J$21","v":-3777.2105672621319},-415.91285246186362,{"$f":"SUM(F536:K536)","v":415496.93960940174},null,513,42,9,42,19274422.513851013,{"$f":"IF($G$4=\"mensual\",S535,0)","v":11582.087021443151},null,183000.90419309467,-792.50299995019941,null,{"$f":"-SUM(R536:U536)*0.1%","v":-19469.005505065554},{"$f":"SUM(R536:X536)","v":19448743.996560536},null,{"$f":"+Bono!J536","v":49180.69551880881},null,{"$f":"+B536/12","v":42.75},{"$f":"+AA536+Y536+L536","v":19913421.631688748}]
[null,{"$f":"+B536+1","v":514},42,10,86,{"$f":"L536","v":415496.93960940174},null,3942.5644249065699,0,0,{"$f":"-SUM(F537:J537)*0.1%","v":-419.4395040343083},419020.06453027402,null,{"$f":"+N536+1","v":514},42,10,42,{"$f":"Y536","v":19448743.996560536},{"$f":"IF($G$4=\"mensual\",S528,IF($G$4=\"trimestral\",S528,0))","v":11582.087021443151},null,184655.00464657485,-792.50299995019941,null,-19644.981088228553,19624543.604140375,null,{"$f":"+Bono!J537","v":49485.621535633014},null,42.833333333333336,20093049.290206283]
[null,515,42,11,86,419020.06453027402,null,3975.9946277633958,0,0,-422.99605915803744,422573.06309887936,null,515,42,11,42,19624543.604140375,{"$f":"IF($G$17=\"si\",S526*(1+$G$20),S526)","v":11582.087021443151},null,186323.1307208809,-792.50299995019941,null,-19822.448821882699,19801833.870060865,null,{"$f":"+Bono!J538","v":49792.438129130758},null,42.916666666666664,20274199.371288873]
[null,516,42,12,86,422573.06309887936,null,4009.708295477762,0,{"$f":"-SUM(F539:H539)*$J$21","v":-3839.2449425492146},-422.74352645180795,422320.78292535612,null,516,42,12,42,19801833.870060865,{"$f":"IF($G$4=\"mensual\",S538,0)","v":11582.087021443151},null,188005.40134351759,-792.50299995019941,null,-20001.421358425825,19980627.43406745,null,{"$f":"+Bono!J539","v":49649.795246131878},null,43,20452598.012238938]
[null,517,43,1,87,422320.78292535612,null,4007.3144611496991,0,0,-426.32809738650582,425901.76928911929,null,517,43,1,43,19980627.43406745,{"$f":"IF($G$17=\"si\",S528*(1+$G$20),S528)","v":12159.688017619925},null,189707.41718666375,{"$f":"V539*(1+$G$18)","v":-832.02528305831584},null,-20182.494539271735,20161480.019449405,null,{"$f":"+Bono!J540","v":49957.629735677692},null,43.083333333333336,20637339.418474205]
[null,518,43,2,87,425901.76928911929,null,4041.2936992570135,0,0,-429.94306298837631,429513.1199253879,null,518,43,2,43,20161480.019449405,{"$f":"IF($G$4=\"mensual\",S540,0)","v":12159.688017619925},null,191423.48992103711,{"$f":"V540","v":-832.02528305831584},null,-20365.063197388066,20343866.108907618,null,{"$f":"+Bono!J541","v":50267.372834765272},null,43.166666666666664,20823646.601667769]
[null,519,43,3,87,429513.1199253879,null,4075.561057658741,0,{"$f":"-SUM(F542:H542)*$J$21","v":-3902.2981288474202},-429.68638285419922,429256.69647134503,null,519,43,3,43,20343866.108907618,{"$f":"IF($G$4=\"mensual\",S541,0)","v":12159.688017619925},null,193154.11375805442,-832.02528305831584,null,-20549.179910683295,20527798.705489554,null,{"$f":"+Bono!J542","v":50123.369382607831},null,43.25,21007178.771343507]
[null,520,43,4,87,429256.69647134503,null,4073.1279085997576,0,0,-433.3298243799448,432896.49455556483,null,520,43,4,43,20527798.705489554,{"$f":"IF($G$4=\"mensual\",S540,IF($G$4=\"trimestral\",S540,0))","v":12159.688017619925},null,194899.41208094062,-832.02528305831584,null,-20734.857805588115,20713290.92249947,null,{"$f":"+Bono!J543","v":50434.140086730993},null,43.333333333333336,21196621.55714177]
[null,521,43,5,87,432896.49455556483,null,4107.6651989446118,0,0,-437.00415975450949,436567.15559475496,null,521,43,5,43,20713290.92249947,{"$f":"IF($G$4=\"mensual\",S543,0)","v":12159.688017619925},null,196659.50931912445,-832.02528305831584,null,-20922.110119836216,20900355.984433323,null,{"$f":"+Bono!J544","v":50746.837605266883},null,43.416666666666664,21387669.977633346]
[null,522,43,6,87,436567.15559475496,null,4142.4953414785277,0,{"$f":"-SUM(F545:H545)*$J$21","v":-3966.3868584261022},-436.74326407780745,436306.52081372961,null,522,43,6,43,20900355.984433323,{"$f":"IF($G$4=\"mensual\",S544,0)","v":12159.688017619925},null,198434.53095710973,-832.02528305831584,null,-21110.950203408054,21089007.22792159,null,{"$f":"+Bono!J545","v":50601.460606447938},null,43.5,21575915.209341768]
[null,523,43,7,87,436306.52081372961,null,4140.0222320098283,0,0,-440.44654304573947,440006.09650269372,null,523,43,7,43,21089007.22792159,{"$f":"+IF($G$4=\"mensual\",S540,IF($G$4=\"trimestral\",S540,IF($G$4=\"semestral\",S540,0)))","v":12159.688017619925},null,200224.60354342152,-832.02528305831584,null,-21301.391519482637,21279258.102680095,null,{"$f":"+Bono!J546","v":50915.195531614052},null,43.583333333333336,21770179.394714404]
[null,524,43,8,87,440006.09650269372,null,4175.126739668226,0,0,-444.18122324236197,443737.0420191196,null,524,43,8,43,21279258.102680095,{"$f":"IF($G$4=\"mensual\",S546,0)","v":12159.688017619925},null,202029.85469962825,-832.02528305831584,null,-21493.447645397344,21471122.17246889,null,{"$f":"+Bono!J547","v":51230.875649707195},null,43.666666666666664,21966090.090137716]
[null,525,{"$f":"C536+1","v":43},{"$f":"D536","v":9},{"$f":"E536+1","v":87},443737.0420191196,null,4210.5289091238019,0,{"$f":"-SUM(F548:H548)*$J$21","v":-4031.528138354191},-443.91604278988922,443472.12674709933,null,525,{"$f":"O536+1","v":43},{"$f":"P536","v":9},{"$f":"Q536+1","v":43},21471122.17246889,{"$f":"IF($G$4=\"mensual\",S547,0)","v":12159.688017619925},null,{"$f":"SUM(R548:T548)*$G$8","v":203850.41312944051},-832.02528305831584,null,-21687.132273615953,21664613.116059281,null,{"$f":"+Bono!J548","v":51084.112002940601},null,43.75,22159169.354809318]
[null,526,43,10,87,443472.12674709933,null,4208.0151829623928,0,0,-447.68014193006172,447232.46178813168,null,526,43,10,43,21664613.116059281,{"$f":"IF($G$4=\"mensual\",S540,IF($G$4=\"trimestral\",S540,0))","v":12159.688017619925},null,205686.40862788682,-832.02528305831584,null,-21882.459212704791,21859744.728209026,null,{"$f":"+Bono!J549","v":51400.839422749072},null,43.833333333333336,22358378.029419906]
[null,527,43,11,87,447232.46178813168,null,4243.6962235314058,0,0,-451.47615801166307,451024.68185365142,null,527,43,11,43,21859744.728209026,{"$f":"IF($G$17=\"si\",S538*(1+$G$20),S538)","v":12159.688017619925},null,207537.97209056714,-832.02528305831584,null,-22079.442388317217,22056530.92064584,null,{"$f":"+Bono!J550","v":51719.530589298462},null,43.916666666666664,22559275.13308879]
[null,528,43,12,87,451024.68185365142,null,4279.6798144954937,0,{"$f":"-SUM(F551:H551)*$J$21","v":-4097.7392550133227},-451.20662241313363,450755.41579072049,null,528,43,12,43,22056530.92064584,{"$f":"IF($G$4=\"mensual\",S550,0)","v":12159.688017619925},null,209405.23552298508,-832.02528305831584,null,-22278.09584418645,22254985.723059203,null,{"$f":"+Bono!J551","v":51571.367068334213},null,44,22757312.505918261]
[null,529,44,1,88,450755.41579072049,null,4277.1248045800321,0,0,-455.03254059530059,454577.50805470528,null,529,44,1,44,22254985.723059203,{"$f":"IF($G$17=\"si\",S540*(1+$G$20),S540)","v":12766.094090996234},null,211294.08611162359,{"$f":"V551*(1+$G$18)","v":-873.51855032949061},null,-22479.045903261824,22455693.338808231,null,{"$f":"+Bono!J552","v":51891.115526066213},null,44.083333333333336,22962161.962389]
[null,530,44,2,88,454577.50805470528,null,4313.3918466498553,0,0,-458.89089990135517,458432.00900145381,null,530,44,2,44,22455693.338808231,{"$f":"IF($G$4=\"mensual\",S552,0)","v":12766.094090996234},null,213198.55911785996,{"$f":"V552","v":-873.51855032949061},null,-22681.657992017088,22658102.815474741,null,{"$f":"+Bono!J553","v":52212.846461324676},null,44.166666666666664,23168747.67093752]
[null,531,44,3,88,458432.00900145381,null,4349.9664079997065,0,{"$f":"-SUM(F554:H554)*$J$21","v":-4165.0377786850822},-458.6169376307684,458158.32069313765,null,531,44,3,44,22658102.815474741,{"$f":"IF($G$4=\"mensual\",S553,0)","v":12766.094090996234},null,215119.1807299458,-873.51855032949061,null,-22885.988090295679,22862228.583655056,null,{"$f":"+Bono!J554","v":52063.269713756978},null,44.25,23372450.17406195]
[null,532,44,4,88,458158.32069313765,null,4347.3694363134773,0,0,-462.50569012945112,462043.18443932163,null,532,44,4,44,22862228.583655056,{"$f":"IF($G$4=\"mensual\",S552,IF($G$4=\"trimestral\",S552,0))","v":12766.094090996234},null,217056.08787682149,-873.51855032949061,null,-23092.050765622873,23068085.196306922,null,{"$f":"+Bono!J555","v":52386.068024947774},null,44.333333333333336,23582514.44877119]
[null,533,44,5,88,462043.18443932163,null,4384.2321039800863,0,0,-466.42741654330172,465960.98912675842,null,533,44,5,44,23068085.196306922,{"$f":"IF($G$4=\"mensual\",S555,0)","v":12766.094090996234},null,219009.41864848972,-873.51855032949061,null,-23299.860709046407,23275687.329787031,null,{"$f":"+Bono!J556","v":52710.867723110241},null,44.416666666666664,23794359.186636899]
[null,534,44,6,88,465960.98912675842,null,4421.4073414173126,0,{"$f":"-SUM(F557:H557)*$J$21","v":-4233.4415682135823},-466.14895489996218,465682.80594506219,null,534,44,6,44,23275687.329787031,{"$f":"IF($G$4=\"mensual\",S556,0)","v":12766.094090996234},null,220979.31230586013,-873.51855032949061,null,-23509.432736183888,23485049.784897372,null,{"$f":"+Bono!J557","v":52559.864269174162},null,44.5,24003292.455111608]
[null,535,44,7,88,465682.80594506219,null,4418.7677188083135,0,0,-470.10157366387051,469631.47209020663,null,535,44,7,44,23485049.784897372,{"$f":"+IF($G$4=\"mensual\",S552,IF($G$4=\"trimestral\",S552,IF($G$4=\"semestral\",S552,0)))","v":12766.094090996234},null,222965.9092906781,-873.51855032949061,null,-23720.781788279044,23696187.487940438,null,{"$f":"+Bono!J558","v":52885.741524209945},null,44.583333333333336,24218704.701554853]
[null,536,44,8,88,469631.47209020663,null,4456.2357942273875,0,0,-474.08770788443405,473613.62017654959,null,536,44,8,44,23696187.487940438,{"$f":"IF($G$4=\"mensual\",S558,0)","v":12766.094090996234},null,224969.35123553724,-873.51855032949061,null,-23933.922933266971,23909115.491783377,null,{"$f":"+Bono!J559","v":53213.639256026378},null,44.666666666666664,24435942.751215953]
[null,537,44,9,88,473613.62017654959,null,4494.0215728535422,0,{"$f":"-SUM(F560:H560)*$J$21","v":-4302.9687757446291},-473.80467297365857,473330.8683006849,null,537,44,9,44,23909115.491783377,{"$f":"IF($G$4=\"mensual\",S559,0)","v":12766.094090996234},null,226989.780973977,-873.51855032949061,null,-24148.871366848351,24123848.976931173,null,{"$f":"+Bono!J560","v":53061.195487383091},null,44.75,24650241.040719241]
[null,538,44,10,88,473330.8683006849,null,4491.3385988515975,0,0,-477.82220689953647,477344.38469263696,null,538,44,10,44,24123848.976931173,{"$f":"IF($G$4=\"mensual\",S552,IF($G$4=\"trimestral\",S552,0))","v":12766.094090996234},null,229027.34255066581,-873.51855032949061,null,-24365.642413572834,24340403.252608933,null,{"$f":"+Bono!J561","v":53390.181054122593},null,44.833333333333336,24871137.818355691]
[null,539,44,11,88,477344.38469263696,null,4529.4220248343845,0,0,-481.87380671747133,481391.93291075388,null,539,44,11,44,24340403.252608933,{"$f":"IF($G$17=\"si\",S550*(1+$G$20),S550)","v":12766.094090996234},null,231082.18123167066,-873.51855032949061,null,-24584.251527931599,24558793.757853337,null,{"$f":"+Bono!J562","v":53721.206369535845},null,44.916666666666664,25093906.897133626]
[null,540,44,12,88,481391.93291075388,null,4567.8283717688373,0,{"$f":"-SUM(F563:H563)*$J$21","v":-4373.637851542705},-481.58612343098002,481104.53730754904,null,540,44,12,44,24558793.757853337,{"$f":"IF($G$4=\"mensual\",S562,0)","v":12766.094090996234},null,233154.44351481379,-873.51855032949061,null,-24804.714295459144,24779036.062613357,null,{"$f":"+Bono!J563","v":53567.308548046254},null,45,25313707.908468951]
[null,541,45,1,89,481104.53730754904,null,4565.1013343997165,0,0,-485.66963864194878,485183.96900330682,null,541,45,1,45,24779036.062613357,{"$f":"IF($G$17=\"si\",S552*(1+$G$20),S552)","v":13402.741756533034},null,235250.31815798755,{"$f":"V563*(1+$G$18)","v":-917.08109513813235},null,-25027.689122527874,25001744.35231021,null,{"$f":"+Bono!J564","v":53899.432074467346},null,45.083333333333336,25540827.753387988]
[null,542,45,2,89,485183.96900330682,null,4603.8102170515376,0,0,-489.78777922035835,489297.99144113797,null,542,45,2,45,25001744.35231021,{"$f":"IF($G$4=\"mensual\",S564,0)","v":13402.741756533034},null,237363.55100373612,{"$f":"V564","v":-917.08109513813235},null,-25252.510645070477,25226341.053330272,null,{"$f":"+Bono!J565","v":54233.6148052762},null,45.166666666666664,25769872.659576688]
[null,543,45,3,89,489297.99144113797,null,4642.8473240923458,0,{"$f":"-SUM(F566:H566)*$J$21","v":-4445.4675488870735},-489.49537121634324,489005.87584512692,null,543,45,3,45,25226341.053330272,{"$f":"IF($G$4=\"mensual\",S565,0)","v":13402.741756533034},null,239494.70259350594,-917.08109513813235,null,-25479.238497680311,25452842.178087492,null,{"$f":"+Bono!J566","v":54078.249061762843},null,45.25,25995926.302994382]
[null,544,45,4,89,489005.87584512692,null,4640.0754996888345,0,0,-493.64595134481578,493152.30539347098,null,544,45,4,45,25452842.178087492,{"$f":"IF($G$4=\"mensual\",S564,IF($G$4=\"trimestral\",S564,0))","v":13402.741756533034},null,241643.92486577734,-917.08109513813235,null,-25707.888844709803,25681263.874769956,null,{"$f":"+Bono!J567","v":54413.540478634415},null,45.333333333333336,26228829.720642064]
[null,545,45,5,89,493152.30539347098,null,4679.420111090908,0,0,-497.83172550456192,497333.89377905737,null,545,45,5,45,25681263.874769956,{"$f":"IF($G$4=\"mensual\",S567,0)","v":13402.741756533034},null,243811.37104736338,-917.08109513813235,null,-25938.477987573853,25911622.428491142,null,{"$f":"+Bono!J568","v":54750.910741181986},null,45.416666666666664,26463707.23301138]
[null,546,45,6,89,497333.89377905737,null,4719.0983374193947,0,{"$f":"-SUM(F569:H569)*$J$21","v":-4518.4769290482909},-497.53451518742844,497036.98067224101,null,546,45,6,45,25911622.428491142,{"$f":"IF($G$4=\"mensual\",S568,0)","v":13402.741756533034},null,245997.19566433376,-917.08109513813235,null,-26171.022365912009,26143934.26245096,null,{"$f":"+Bono!J569","v":54594.063074179161},null,45.5,26695565.306197379]
[null,547,45,7,89,497036.98067224101,null,4716.2809904292508,0,0,-501.75326166267024,501251.50840100757,null,547,45,7,45,26143934.26245096,{"$f":"+IF($G$4=\"mensual\",S564,IF($G$4=\"trimestral\",S564,IF($G$4=\"semestral\",S564,0)))","v":13402.741756533034},null,248201.55455303169,-917.08109513813235,null,-26405.538558760523,26378215.939106628,null,{"$f":"+Bono!J570","v":54932.552597758433},null,45.583333333333336,26934400.000105392]
[null,548,45,8,89,501251.50840100757,null,4756.2717713645752,0,0,-506.00778017237212,505501.77239219972,null,548,45,8,45,26378215.939106628,{"$f":"IF($G$4=\"mensual\",S570,0)","v":13402.741756533034},null,250424.60487118427,-917.08109513813235,null,-26642.043285734344,26614484.161353473,null,{"$f":"+Bono!J571","v":55273.14079564625},null,45.666666666666664,27175259.074541319]
[null,549,45,9,89,505501.77239219972,null,4796.6016462943116,0,{"$f":"-SUM(F572:H572)*$J$21","v":-4592.6853663464462},-505.70568867214757,505199.98298347543,null,549,45,9,45,26614484.161353473,{"$f":"IF($G$4=\"mensual\",S571,0)","v":13402.741756533034},null,252666.50510910663,-917.08109513813235,null,-26880.553408219112,26852755.773715753,null,{"$f":"+Bono!J572","v":55114.797070138236},null,45.75,27413070.553769365]
[null,550,45,10,89,505199.98298347543,null,4793.738029085077,0,0,-509.99372101256057,509483.72729154798,null,550,45,10,45,26852755.773715753,{"$f":"IF($G$4=\"mensual\",S564,IF($G$4=\"trimestral\",S564,0))","v":13402.741756533034},null,254927.41510100156,{"$f":"V572","v":-917.08109513813235},null,-27121.085930573288,27093047.763547577,null,{"$f":"+Bono!J573","v":55456.515204893862},null,45.833333333333336,27657988.006044019]
[null,551,45,11,89,509483.72729154798,null,4834.3855918090758,0,0,-514.318112883357,513803.79477047367,null,551,45,11,45,27093047.763547577,{"$f":"IF($G$17=\"si\",S562*(1+$G$20),S562)","v":13402.741756533034},null,257207.49603635466,-917.08109513813235,null,-27363.658001340464,27335377.262243986,null,{"$f":"+Bono!J574","v":55800.352031721828},null,45.916666666666664,27904981.409046184]
[null,552,45,12,89,513803.79477047367,null,4875.377817580028,0,{"$f":"-SUM(F575:H575)*$J$21","v":-4668.1125532924834},-514.01106003476127,513497.04897472647,null,552,45,12,45,27335377.262243986,{"$f":"IF($G$4=\"mensual\",S574,0)","v":13402.741756533034},null,259506.91047142621,-917.08109513813235,null,-27608.286914471944,27579761.546462335,null,{"$f":"+Bono!J575","v":55640.497977869003},null,46,28148899.093414929]
[null,553,46,1,90,513497.04897472647,null,4872.4671702406285,0,0,-518.36951614496718,517851.14662882214,null,553,46,1,46,27579761.546462335,{"$f":"IF($G$17=\"si\",S564*(1+$G$20),S564)","v":14071.139168479687},null,261832.16462548036,{"$f":"V575*(1+$G$18)","v":-962.81611276888998},null,-27855.664850256293,27826846.369293269,null,{"$f":"+Bono!J576","v":55985.475519230087},null,46.083333333333336,28400682.991441321]
[null,554,46,2,90,517851.14662882214,null,4913.7823012972967,0,0,-522.76492893011948,522242.16400118929,null,554,46,2,46,27826846.369293269,{"$f":"IF($G$4=\"mensual\",S576,0)","v":14071.139168479687},null,264176.70134660124,{"$f":"V576","v":-962.81611276888998},null,-28105.094209808351,28076026.299485773,null,{"$f":"+Bono!J577","v":56332.59196136253},null,46.166666666666664,28654601.055448323]
[null,555,46,3,90,522242.16400118929,null,4955.4477559158449,0,{"$f":"-SUM(F578:H578)*$J$21","v":-4744.7785058139461},-522.45283325129117,521930.38041803986,null,555,46,3,46,28076026.299485773,{"$f":"IF($G$4=\"mensual\",S577,0)","v":14071.139168479687},null,266541.11810765177,-962.81611276888998,null,-28356.638556761904,28327319.10209237,null,{"$f":"+Bono!J578","v":56171.213173215438},null,46.25,28905420.695683625]
[null,556,46,4,90,521930.38041803986,null,4952.4893060549375,0,0,-526.8828697240948,526355.98685437068,null,556,46,4,46,28327319.10209237,{"$f":"IF($G$4=\"mensual\",S576,IF($G$4=\"trimestral\",S576,0))","v":14071.139168479687},null,268925.5834775368,-962.81611276888998,null,-28610.315824738387,28580742.692800879,null,{"$f":"+Bono!J579","v":56519.481210346821},null,46.333333333333336,29163618.160865597]
[null,557,46,5,90,526355.98685437068,null,4994.4829691392388,0,0,-531.35046982350991,530819.11935368646,null,557,46,5,46,28580742.692800879,{"$f":"IF($G$4=\"mensual\",S579,0)","v":14071.139168479687},null,271330.2674545084,-962.81611276888998,null,-28866.144099423866,28836315.139211673,null,{"$f":"+Bono!J580","v":56869.908549705011},null,46.416666666666664,29424004.167115062]
[null,558,46,6,90,530819.11935368646,null,5036.8327092648542,0,{"$f":"-SUM(F581:H581)*$J$21","v":-4822.7035685665624},-531.03324849438468,530502.21524589031,null,558,46,6,46,28836315.139211673,{"$f":"IF($G$4=\"mensual\",S580,0)","v":14071.139168479687},null,273755.34147828526,-962.81611276888998,null,-29124.141619858437,29094054.662125811,null,{"$f":"+Bono!J581","v":56706.99048390604},null,46.5,29681263.867855608]
[null,559,46,7,90,530502.21524589031,null,5033.8256718058583,0,0,-535.53604091769625,535000.50487677846,null,559,46,7,46,29094054.662125811,{"$f":"+IF($G$4=\"mensual\",S576,IF($G$4=\"trimestral\",S576,IF($G$4=\"semestral\",S576,0)))","v":14071.139168479687},null,276200.97844227572,-962.81611276888998,null,-29384.326779736562,29353979.636844058,null,{"$f":"+Bono!J582","v":57058.58040251003},null,46.583333333333336,29946038.722123343]
[null,560,46,8,90,535000.50487677846,null,5076.5090106731377,0,0,-540.07701388745159,539536.93687356415,null,560,46,8,46,29353979.636844058,{"$f":"IF($G$4=\"mensual\",S582,0)","v":14071.139168479687},null,278667.35270590388,-962.81611276888998,null,-29646.718128718439,29616108.594476953,null,{"$f":"+Bono!J583","v":57412.350219391265},null,46.666666666666664,30213057.881569907]
[null,561,46,9,90,539536.93687356415,null,5119.5542745524544,0,{"$f":"-SUM(F584:H584)*$J$21","v":-4901.9084203330503},-539.7545827277836,539214.8281450558,null,561,46,9,46,29616108.594476953,{"$f":"IF($G$4=\"mensual\",S583,0)","v":14071.139168479687},null,281154.64010704053,-962.81611276888998,null,-29911.33437375247,29880460.22326595,null,{"$f":"+Bono!J584","v":57247.878193864068},null,46.75,30476922.929604869]
[null,562,46,10,90,539214.8281450558,null,5116.4978515252169,0,0,-544.33132599658097,543786.99467058445,null,562,46,10,46,29880460.22326595,{"$f":"IF($G$4=\"mensual\",S576,IF($G$4=\"trimestral\",S576,0))","v":14071.139168479687},null,283663.01797453908,-962.81611276888998,null,-30178.194380408968,30147053.369915791,null,{"$f":"+Bono!J585","v":57602.821679008892},null,46.833333333333336,30748443.186265383]
[null,563,46,11,90,543786.99467058445,null,5159.8821929483902,0,0,-548.94687686353279,548397.92998666933,null,563,46,11,46,30147053.369915791,{"$f":"IF($G$17=\"si\",S574*(1+$G$20),S574)","v":14071.139168479687},null,286192.66514087835,-962.81611276888998,null,-30447.317174225147,30415907.040938154,null,{"$f":"+Bono!J586","v":57959.96585493251},null,46.916666666666664,31022264.936779756]
[null,564,46,12,90,548397.92998666933,null,5203.6344033974756,0,{"$f":"-SUM(F587:H587)*$J$21","v":-4982.4140795106014},-548.61915031055617,548070.53116024565,null,564,46,12,46,30415907.040938154,{"$f":"IF($G$4=\"mensual\",S586,0)","v":14071.139168479687},null,288743.76195491204,-962.81611276888998,null,-30718.721942061544,30687040.404006716,null,{"$f":"+Bono!J587","v":57793.925047558841},null,47,31292904.86021452]
[null,565,47,1,91,548070.53116024565,null,5200.5277837265157,0,0,-553.27105894397209,552717.78788502817,null,565,47,1,47,30687040.404006716,{"$f":"IF($G$17=\"si\",S576*(1+$G$20),S576)","v":14772.869693039602},null,291323.14887037023,{"$f":"V587*(1+$G$18)","v":-1010.8319448758971},null,-30993.136422570129,30961132.454202682,null,{"$f":"+Bono!J588","v":58152.254086534085},null,47.083333333333336,31572002.496174246]
[null,566,47,2,91,552717.78788502817,null,5244.6246405018255,0,0,-557.96241252553,557404.45011300442,null,566,47,2,47,30961132.454202682,{"$f":"IF($G$4=\"mensual\",S588,0)","v":14772.869693039602},null,293923.9515796951,{"$f":"V588","v":-1010.8319448758971},null,-31269.829275475418,31237548.614255067,null,{"$f":"+Bono!J589","v":58512.804807114575},null,47.166666666666664,31853465.869175188]
[null,567,47,3,91,557404.45011300442,null,5289.0954079374242,0,{"$f":"-SUM(F590:H590)*$J$21","v":-5064.2419096884769},-557.62930361125336,557071.67430764216,null,567,47,3,47,31237548.614255067,{"$f":"IF($G$4=\"mensual\",S589,0)","v":14772.869693039602},null,296546.80728620471,-1010.8319448758971,null,-31548.86829123431,31516308.590998203,null,{"$f":"+Bono!J590","v":58345.18025439851},null,47.25,32131725.445560243]
[null,568,47,4,91,557071.67430764216,null,5285.9377672267028,0,0,-562.35761207486883,561795.25446279405,null,568,47,4,47,31516308.590998203,{"$f":"IF($G$4=\"mensual\",S588,IF($G$4=\"trimestral\",S588,0))","v":14772.869693039602},null,299191.90298396954,-1010.8319448758971,null,-31830.273363675216,31797432.258366663,null,{"$f":"+Bono!J591","v":58706.927139597807},null,47.333333333333336,32417934.439969055]
[null,569,47,5,91,561795.25446279405,null,5330.7588412288442,0,0,-567.12601330402288,566558.88729071885,null,569,47,5,47,31797432.258366663,{"$f":"IF($G$4=\"mensual\",S591,0)","v":14772.869693039602},null,301859.42725263943,-1010.8319448758971,null,-32114.064555312343,32080939.658812154,null,{"$f":"+Bono!J592","v":59070.916897445379},null,47.416666666666664,32706569.46300032]
[null,570,47,6,91,566558.88729071885,null,5375.9599667494049,0,{"$f":"-SUM(F593:H593)*$J$21","v":-5147.4136253172146},-566.78743363215108,566220.64619851892,null,570,47,6,47,32080939.658812154,{"$f":"IF($G$4=\"mensual\",S592,0)","v":14772.869693039602},null,304549.57027088862,-1010.8319448758971,null,-32400.262098776086,32366851.004732434,null,{"$f":"+Bono!J593","v":58901.69349316485},null,47.5,32991973.344424117]
[null,571,47,7,91,566220.64619851892,null,5372.7504670635526,0,0,-571.59339666558242,571021.8032689169,null,571,47,7,47,32366851.004732434,{"$f":"+IF($G$4=\"mensual\",S588,IF($G$4=\"trimestral\",S588,IF($G$4=\"semestral\",S588,0)))","v":14772.869693039602},null,307262.52382997412,-1010.8319448758971,null,-32688.88639825545,32655186.679912318,null,{"$f":"+Bono!J594","v":59266.890824996044},null,47.583333333333336,33285475.37400623]
[null,572,47,8,91,571021.8032689169,null,5418.307652350969,0,0,-576.44011092126789,575863.67081034661,null,572,47,8,47,32655186.679912318,{"$f":"IF($G$4=\"mensual\",S594,0)","v":14772.869693039602},null,309998.48134740925,-1010.8319448758971,null,-32979.958030952766,32945967.240976937,null,{"$f":"+Bono!J595","v":59634.35242264485},null,47.666666666666664,33581465.264209926]
[null,573,47,9,91,575863.67081034661,null,5464.2511308682742,0,{"$f":"-SUM(F596:H596)*$J$21","v":-5231.9512974709351},-576.09597064374395,575519.87467310019,null,573,47,9,47,32945967.240976937,{"$f":"IF($G$4=\"mensual\",S595,0)","v":14772.869693039602},null,312757.63788075326,-1010.8319448758971,null,-33273.497748550733,33239213.418857306,null,{"$f":"+Bono!J596","v":59463.514916490254},null,47.75,33874196.808446899]
[null,574,47,10,91,575519.87467310019,null,5460.9889205102327,0,0,-580.98086359361048,580399.88273001683,null,574,47,10,47,33239213.418857306,{"$f":"IF($G$4=\"mensual\",S588,IF($G$4=\"trimestral\",S588,0))","v":14772.869693039602},null,315540.19014151802,-1010.8319448758971,null,-33569.526478691871,33534946.1202683,null,{"$f":"+Bono!J597","v":59832.195606313311},null,47.833333333333336,34175178.198604628]
[null,575,47,11,91,580399.88273001683,null,5507.2943064814117,0,0,-585.90717703649818,585321.2698594617,null,575,47,11,47,33534946.1202683,{"$f":"IF($G$17=\"si\",S586*(1+$G$20),S586)","v":14772.869693039602},null,318346.33650919184,-1010.8319448758971,null,-33868.065326470532,33833186.429199189,null,{"$f":"+Bono!J598","v":60203.162159177584},null,47.916666666666664,34478710.861217827]
[null,576,47,12,91,585321.2698594617,null,5553.9923299036363,0,{"$f":"-SUM(F599:H599)*$J$21","v":-5317.8773597042891},-585.55738482966115,584971.82744483149,null,576,47,12,47,33833186.429199189,{"$f":"IF($G$4=\"mensual\",S598,0)","v":14772.869693039602},null,321176.27704538312,-1010.8319448758971,null,-34169.135575937617,34133955.608416803,null,{"$f":"+Bono!J599","v":60030.695155377456},null,48,34778958.131017007]
[null,577,48,1,92,584971.82744483149,null,{"$f":"SUM(F600:G600)*$G$8","v":5550.6765431886497},0,0,-590.52250398802016,{"$f":"SUM(F600:K600)","v":589931.98148403212},null,577,48,1,48,34133955.608416803,{"$f":"IF($G$17=\"si\",S588*(1+$G$20),S588)","v":15509.595659205424},null,324037.20414822601,{"$f":"V599*(1+$G$18)","v":-1061.2423361332469},null,{"$f":"-SUM(R600:U600)*0.1%","v":-34473.502408224231},{"$f":"SUM(R600:X600)","v":34437967.663479879},null,{"$f":"+Bono!J600","v":60402.892428470448},null,{"$f":"+B600/12","v":48.083333333333336},{"$f":"+AA600+Y600+L600","v":35088302.537392385}]
[null,{"$f":"+B600+1","v":578},48,2,92,{"$f":"L600","v":589931.98148403212},null,5597.7424177902603,0,0,{"$f":"-SUM(F601:J601)*0.1%","v":-595.52972390182231},594934.19417792058,null,{"$f":"+N600+1","v":578},48,2,48,{"$f":"Y600","v":34437967.663479879},{"$f":"IF($G$4=\"mensual\",S600,0)","v":15509.595659205424},null,326921.91158833657,{"$f":"V600","v":-1061.2423361332469},null,-34780.399170727418,34744557.529220559,null,{"$f":"+Bono!J601","v":60777.397367828824},null,48.166666666666664,35400269.120766304]
[null,579,48,3,92,594934.19417792058,null,5645.2073782573107,0,{"$f":"-SUM(F602:H602)*$J$21","v":-5405.2146140056011},-595.17418694217224,594579.01275523007,null,579,48,3,48,34744557.529220559,{"$f":"IF($G$4=\"mensual\",S601,0)","v":15509.595659205424},null,329831.0793401915,-1061.2423361332469,null,-35089.89820421995,35053747.063679598,null,{"$f":"+Bono!J602","v":60603.285323762364},null,48.25,35708929.36175859]
[null,580,48,4,92,594579.01275523007,null,5641.83713528319,0,0,-600.22084989051325,599620.62904062273,null,580,48,4,48,35053747.063679598,{"$f":"IF($G$4=\"mensual\",S600,IF($G$4=\"trimestral\",S600,0))","v":15509.595659205424},null,332764.91481021343,-1061.2423361332469,null,-35402.02157414901,35365558.310238734,null,{"$f":"+Bono!J603","v":60979.032722315693},null,48.333333333333336,36026157.972001672]
[null,581,48,5,92,599620.62904062273,null,5689.6759882709021,0,0,-605.31030502889359,604704.99472386471,null,581,48,5,48,35365558.310238734,{"$f":"IF($G$4=\"mensual\",S603,0)","v":15509.595659205424},null,335723.62716348731,-1061.2423361332469,null,-35716.79153306142,35680013.49919223,null,{"$f":"+Bono!J604","v":61357.109798324054},null,48.416666666666664,36346075.603714421]
[null,582,48,6,92,604704.99472386471,null,5737.9204814428858,0,{"$f":"-SUM(F605:H605)*$J$21","v":-5493.9862368477698},-604.94892896845988,604343.98003949132,null,582,48,6,48,35680013.49919223,{"$f":"IF($G$4=\"mensual\",S604,0)","v":15509.595659205424},null,338707.42733867222,-1061.2423361332469,null,-36034.230522190112,35997135.049331784,null,{"$f":"+Bono!J605","v":61181.337023120432},null,48.5,36662660.366394401]
[null,583,48,7,92,604343.98003949132,null,5734.4948878565228,0,0,-610.07847492734788,609468.39645242051,null,583,48,7,48,35997135.049331784,{"$f":"+IF($G$4=\"mensual\",S600,IF($G$4=\"trimestral\",S600,IF($G$4=\"semestral\",S600,0)))","v":15509.595659205424},null,341716.52806304046,-1061.2423361332469,null,-36354.361173054036,36316945.569544844,null,{"$f":"+Bono!J606","v":61560.668409259626},null,48.583333333333336,36987974.634406522]
[null,584,48,8,92,609468.39645242051,null,5783.1194141093865,0,0,-615.25151586652987,614636.2643506634,null,584,48,8,48,36316945.569544844,{"$f":"IF($G$4=\"mensual\",S606,0)","v":15509.595659205424},null,344751.14386764343,-1061.2423361332469,null,-36677.206309071691,36639467.860426486,null,{"$f":"+Bono!J607","v":61942.351693992605},null,48.666666666666664,37316046.476471141]
[null,585,48,9,92,614636.2643506634,null,5832.1562425090924,0,{"$f":"-SUM(F608:H608)*$J$21","v":-5584.2157853385534},-614.88420480783407,614269.32060302619,null,585,48,9,48,36639467.860426486,{"$f":"IF($G$4=\"mensual\",S607,0)","v":15509.595659205424},null,347811.4911026067,-1061.2423361332469,null,-37002.788947188295,36964724.915904976,null,{"$f":"+Bono!J608","v":61764.902347116928},null,48.75,37640759.138855122]
[null,586,48,10,92,614269.32060302619,null,5828.6743892691229,0,0,-620.0979949922953,619477.896997303,null,586,48,10,48,36964724.915904976,{"$f":"IF($G$4=\"mensual\",S600,IF($G$4=\"trimestral\",S600,0))","v":15509.595659205424},null,350897.7879525543,-1061.2423361332469,null,-37331.132299516736,37292739.924881086,null,{"$f":"+Bono!J609","v":62147.851905954289},null,48.833333333333336,37974365.673784345]
[null,587,48,11,92,619477.896997303,null,5878.0974921583729,0,0,-625.35599448946141,624730.63849497191,null,587,48,11,48,37292739.924881086,{"$f":"IF($G$17=\"si\",S598*(1+$G$20),S598)","v":15509.595659205424},null,354010.25445216399,-1061.2423361332469,null,-37662.259774992453,37623536.272881329,null,{"$f":"+Bono!J610","v":62533.175796475844},null,48.916666666666664,38310800.087172776]
[null,588,48,12,92,624730.63849497191,null,5927.9396685686443,0,{"$f":"-SUM(F611:H611)*$J$21","v":-5675.9272034718661},-624.98265096006867,624357.66830910859,null,588,48,12,48,37623536.272881329,{"$f":"IF($G$4=\"mensual\",S610,0)","v":15509.595659205424},null,357149.1125018546,-1061.2423361332469,null,-37996.194981042383,37957137.543725207,null,{"$f":"+Bono!J611","v":62354.0338863016},null,49,38643849.245920613]
[null,589,{"$f":"C600+1","v":49},{"$f":"D600","v":1},{"$f":"E600+1","v":93},624357.66830910859,null,5924.400631704214,0,0,-630.28206894081291,629651.78687187203,null,589,{"$f":"O600+1","v":49},{"$f":"P600","v":1},{"$f":"Q600+1","v":49},37957137.543725207,{"$f":"IF($G$17=\"si\",S600*(1+$G$20),S600)","v":16283.06229664913},null,{"$f":"SUM(R612:T612)*$G$8","v":360321.92514837044},{"$f":"V611*(1+$G$18)","v":-1114.1667036846791},null,-38333.742531170225,38294294.621935368,null,{"$f":"+Bono!J612","v":62740.636129016937},null,49.083333333333336,38986687.044936255]
[null,590,49,2,93,629651.78687187203,null,5974.6354265174086,0,0,-635.62642229838946,634990.79587609111,null,590,49,2,49,38294294.621935368,{"$f":"IF($G$4=\"mensual\",S612,0)","v":16283.06229664913},null,363521.13884993567,{"$f":"V612","v":-1114.1667036846791},null,-38674.098823081957,38634310.557555184,null,{"$f":"+Bono!J613","v":63129.635350480188},null,49.166666666666664,39332430.988781758]
[null,591,49,3,93,634990.79587609111,null,6025.2961774343185,0,{"$f":"-SUM(F614:H614)*$J$21","v":-5769.1448284817288},-635.24694722504364,634611.7002778186,null,591,49,3,49,38634310.557555184,{"$f":"IF($G$4=\"mensual\",S613,0)","v":16283.06229664913},null,366747.47965749062,-1114.1667036846791,null,-39017.341099509329,38977209.591706134,null,{"$f":"+Bono!J614","v":62948.7847328481},null,49.25,39674770.076716803]
[null,592,49,4,93,634611.7002778186,null,6021.6990177998987,0,0,-640.63339929561857,639992.7658963229,null,592,49,4,49,38977209.591706134,{"$f":"IF($G$4=\"mensual\",S612,IF($G$4=\"trimestral\",S612,0))","v":16283.06229664913},null,370001.17759001756,-1114.1667036846791,null,-39363.493831592808,39323016.17105753,null,{"$f":"+Bono!J615","v":63339.074499798851},null,49.333333333333336,40026348.011453651]
[null,593,49,5,93,639992.7658963229,null,6072.7588352212897,0,0,-646.0655247315442,645419.45920681267,null,593,49,5,49,39323016.17105753,{"$f":"IF($G$4=\"mensual\",S615,0)","v":16283.06229664913},null,373282.46461689938,-1114.1667036846791,null,-39712.581697971087,39671754.949569426,null,{"$f":"+Bono!J616","v":63731.784108575506},null,49.416666666666664,40380906.192884818]
[null,594,49,6,93,645419.45920681267,null,6124.2516043640144,0,{"$f":"-SUM(F617:H617)*$J$21","v":-5863.8933973005906},-645.67981741387609,645034.13759646215,null,594,49,6,49,39671754.949569426,{"$f":"IF($G$4=\"mensual\",S616,0)","v":16283.06229664913},null,376591.57467445818,-1114.1667036846791,null,-40064.629586540534,40023450.790250309,null,{"$f":"+Bono!J617","v":63549.208485338633},null,49.5,40732034.13633211]
[null,595,49,7,93,645034.13759646215,null,6120.5953673901786,0,0,-651.15473296385233,650503.57823088847,null,595,49,7,49,40023450.790250309,{"$f":"+IF($G$4=\"mensual\",S612,IF($G$4=\"trimestral\",S612,IF($G$4=\"semestral\",S612,0)))","v":16283.06229664913},null,379928.74368263321,-1114.1667036846791,null,-40419.662596229595,40378128.766929671,null,{"$f":"+Bono!J618","v":63943.220949199669},null,49.583333333333336,41092575.566109762]
[null,596,49,8,93,650503.57823088847,null,6172.4937570382444,0,0,-656.67607198792678,656019.39591593877,null,596,49,8,49,40378128.766929671,{"$f":"IF($G$4=\"mensual\",S618,0)","v":16283.06229664913},null,383294.20956180053,-1114.1667036846791,null,-40777.706038788128,40735814.166045651,null,{"$f":"+Bono!J619","v":64339.676336039265},null,49.666666666666664,41456173.238297634]
[null,597,49,9,93,656019.39591593877,null,6224.8322089165977,0,{"$f":"-SUM(F620:H620)*$J$21","v":-5960.1980531236986},-656.28403007173165,655627.74604165996,null,597,49,9,49,40735814.166045651,{"$f":"IF($G$4=\"mensual\",S619,0)","v":16283.06229664913},null,386688.21224973578,-1114.1667036846791,null,-41138.785440592037,41096532.488447756,null,{"$f":"+Bono!J620","v":64155.359253594201},null,49.75,41816315.593743011]
[null,598,49,10,93,655627.74604165996,null,6221.1159243567108,0,0,-661.84886196601667,661187.01310405065,null,598,49,10,49,41096532.488447756,{"$f":"IF($G$4=\"mensual\",S612,IF($G$4=\"trimestral\",S612,0))","v":16283.06229664913},null,390110.99371871952,-1114.1667036846791,null,-41502.926544463131,41460309.451214977,null,{"$f":"+Bono!J621","v":64553.129922527558},null,49.833333333333336,42186049.594241552]
[null,599,49,11,93,661187.01310405065,null,6273.8666583797831,0,0,-667.46087976243041,666793.41888266802,null,599,49,11,49,41460309.451214977,{"$f":"IF($G$17=\"si\",S610*(1+$G$20),S610)","v":16283.06229664913},null,393562.79799278919,-1114.1667036846791,null,-41870.155311504415,41827170.989489228,null,{"$f":"+Bono!J622","v":64953.366815746842},null,49.916666666666664,42558917.775187641]
[null,600,49,12,93,666793.41888266802,null,6327.0646819203339,0,{"$f":"-SUM(F623:H623)*$J$21","v":-6058.0843520812959},-667.0623992125071,666395.33681329456,null,600,49,12,49,41827170.989489228,{"$f":"IF($G$4=\"mensual\",S622,0)","v":16283.06229664913},null,397043.87116513617,-1114.1667036846791,null,-42240.497922951014,42197143.258324377,null,{"$f":"+Bono!J623","v":64767.291663550954},null,50,42928305.88680122]
[null,601,50,1,94,666395.33681329456,null,6323.2873635930782,0,0,-672.71862417688772,672045.90555271076,null,601,50,1,50,42197143.258324377,{"$f":"IF($G$17=\"si\",S612*(1+$G$20),S612)","v":17095.10186999548},null,400562.16669101693,{"$f":"V623*(1+$G$18)","v":-1169.7304200307747},null,-42614.800526885389,42571015.995938472,null,{"$f":"+Bono!J624","v":65168.856384405815},null,50.083333333333336,43308230.757875584]
[null,602,50,2,94,672045.90555271076,null,6376.9044403240268,0,0,-678.42280999303478,677744.38718304178,null,602,50,2,50,42571015.995938472,{"$f":"IF($G$4=\"mensual\",S624,0)","v":17095.10186999548},null,404109.76768212277,{"$f":"V624","v":-1169.7304200307747},null,-42992.220865490584,42948058.914205067,null,{"$f":"+Bono!J625","v":65572.910853108595},null,50.166666666666664,43691376.212241217]
[null,603,50,3,94,677744.38718304178,null,6430.9761525557633,0,{"$f":"-SUM(F626:H626)*$J$21","v":-6157.578270020379},-678.01778506557719,677339.76728051156,null,603,50,3,50,42948058.914205067,{"$f":"IF($G$4=\"mensual\",S625,0)","v":17095.10186999548},null,407687.44986100541,-1169.7304200307747,null,-43372.841465936064,43328298.894050099,null,{"$f":"+Bono!J626","v":65385.060862183083},null,50.25,44071023.722192794]
[null,604,50,4,94,677339.76728051156,null,6427.136798083443,0,0,-683.76690407859496,683083.13717451645,null,604,50,4,50,43328298.894050099,{"$f":"IF($G$4=\"mensual\",S624,IF($G$4=\"trimestral\",S624,0))","v":17095.10186999548},null,411295.46829520492,-1169.7304200307747,null,-43756.689464215291,43711763.044331044,null,{"$f":"+Bono!J627","v":65790.455823726254},null,50.333333333333336,44460636.637329288]
[null,605,50,5,94,683083.13717451645,null,6481.6344457543728,0,0,-689.56477162027079,688875.20684865047,null,605,50,5,50,43711763.044331044,{"$f":"IF($G$4=\"mensual\",S627,0)","v":17095.10186999548},null,414934.08021505666,-1169.7304200307747,null,-44143.792226416095,44098478.703769647,null,{"$f":"+Bono!J628","v":66198.364281053888},null,50.416666666666664,44853552.274899349]
[null,606,50,6,94,688875.20684865047,null,6536.5941955549088,0,{"$f":"-SUM(F629:H629)*$J$21","v":-6258.7062093978493},-689.15309483480758,688463.9417399728,null,606,50,6,50,44098478.703769647,{"$f":"IF($G$4=\"mensual\",S628,0)","v":17095.10186999548},null,418603.54503203032,-1169.7304200307747,null,-44534.177350671671,44488473.442900971,null,{"$f":"+Bono!J629","v":66008.72252247257},null,50.5,45242946.107163422]
[null,607,50,7,94,688463.9417399728,null,6532.6917860974472,0,0,-694.99663352607024,694301.63689254422,null,607,50,7,50,44488473.442900971,{"$f":"+IF($G$4=\"mensual\",S624,IF($G$4=\"trimestral\",S624,IF($G$4=\"semestral\",S624,0)))","v":17095.10186999548},null,422304.12435722415,-1169.7304200307747,null,-44927.872669128184,44881775.066039026,null,{"$f":"+Bono!J630","v":66417.984258649813},null,50.583333333333336,45642494.68719022]
[null,608,50,8,94,694301.63689254422,null,6588.0844666154171,0,0,-700.88972135915969,700188.83163780055,null,608,50,8,50,44881775.066039026,{"$f":"IF($G$4=\"mensual\",S630,0)","v":17095.10186999548},null,426036.08202001656,-1169.7304200307747,null,-45324.906249929038,45278411.613259077,null,{"$f":"+Bono!J631","v":66829.783465062777},null,50.666666666666664,46045430.228361942]
[null,609,50,9,94,700188.83163780055,null,6643.9468385187192,0,{"$f":"-SUM(F632:H632)*$J$21","v":-6361.4950062868738},-700.4712834700324,699770.81218656234,null,609,50,9,50,45278411.613259077,{"$f":"IF($G$4=\"mensual\",S631,0)","v":17095.10186999548},null,429799.68408687564,-1169.7304200307747,null,-45725.306399215944,45678411.362396695,null,{"$f":"+Bono!J632","v":66638.332848426464},null,50.75,46444820.507431686]
[null,610,50,10,94,699770.81218656234,null,6639.9803385032919,0,0,-706.41079252506563,705704.38173254055,null,610,50,10,50,45678411.362396695,{"$f":"IF($G$4=\"mensual\",S624,IF($G$4=\"trimestral\",S624,0))","v":17095.10186999548},null,433595.19888032763,-1169.7304200307747,null,-46129.101663147019,46081802.831063837,null,{"$f":"+Bono!J633","v":67051.498241654888},null,50.833333333333336,46854558.711038031]
[null,611,50,11,94,705704.38173254055,null,6696.2827512880276,0,0,-712.40066448382856,711688.26381934481,null,611,50,11,50,46081802.831063837,{"$f":"IF($G$17=\"si\",S622*(1+$G$20),S622)","v":17095.10186999548},null,437422.89699808747,-1169.7304200307747,null,-46536.320829931916,46488614.778681949,null,{"$f":"+Bono!J634","v":67467.225308245557},null,50.916666666666664,47267770.26780954]
[null,612,50,12,94,711688.26381934481,null,6753.0625693546735,0,{"$f":"-SUM(F635:H635)*$J$21","v":-6465.971937498296},-711.97535445120116,711263.37909674994,null,612,50,12,50,46488614.778681949,{"$f":"IF($G$4=\"mensual\",S634,0)","v":17095.10186999548},null,441283.05133235018,-1169.7304200307747,null,-46946.992931884291,46898876.208532371,null,{"$f":"+Bono!J635","v":67273.948580141878},null,51,47677413.536209255]
[null,613,51,1,95,711263.37909674994,null,6749.0309262009032,0,0,-718.01241002295092,717294.39761292795,null,613,51,1,51,46898876.208532371,{"$f":"IF($G$17=\"si\",S624*(1+$G$20),S624)","v":17947.63801927253},null,445184.02662823658,{"$f":"V635*(1+$G$18)","v":-1228.0651100237933},null,-47362.007873179879,47313417.800196677,null,{"$f":"+Bono!J636","v":67691.054864633799},null,51.083333333333336,48098403.252674237]
[null,614,51,2,95,717294.39761292795,null,6806.2580120855528,0,0,-724.10065562501359,723376.55496938853,null,614,51,2,51,47313417.800196677,{"$f":"IF($G$4=\"mensual\",S636,0)","v":17947.63801927253},null,449117.52595431166,{"$f":"V636","v":-1228.0651100237933},null,-47780.48296417026,47731474.416096069,null,{"$f":"+Bono!J637","v":68110.747256470917},null,51.166666666666664,48522961.718321927]
[null,615,51,3,95,723376.55496938853,null,6863.9703438365577,0,{"$f":"-SUM(F638:H638)*$J$21","v":-6572.1647278190267},-723.66836058540605,722944.69222482061,null,615,51,3,51,47731474.416096069,{"$f":"IF($G$4=\"mensual\",S637,0)","v":17947.63801927253},null,453084.37861751352,-1228.0651100237933,null,-48202.506432732851,48153075.861190096,null,{"$f":"+Bono!J638","v":67915.626998919441},null,51.25,48943936.180413835]
[null,616,51,4,95,722944.69222482061,null,6859.8724876771921,0,0,-729.80456471249772,729074.7601477853,null,616,51,4,51,48153075.861190096,{"$f":"IF($G$4=\"mensual\",S636,IF($G$4=\"trimestral\",S636,0))","v":17947.63801927253},null,457084.86743093171,-1228.0651100237933,null,-48628.108366640299,48578252.193163641,null,{"$f":"+Bono!J639","v":68336.711764037871},null,51.333333333333336,49375663.665075466]
[null,617,51,5,95,729074.7601477853,null,6918.0394328731336,0,0,-735.99279958065847,735256.80678107776,null,617,51,5,51,48578252.193163641,{"$f":"IF($G$4=\"mensual\",S639,0)","v":17947.63801927253},null,461119.27760571422,-1228.0651100237933,null,-49057.319108788623,49007033.724569812,null,{"$f":"+Bono!J640","v":68760.407303542845},null,51.416666666666664,49811050.93865443]
[null,618,51,6,95,735256.80678107776,null,6976.6995932883819,0,{"$f":"-SUM(F641:H641)*$J$21","v":-6680.1015573692957},-735.55340481699682,734817.85141217976,null,618,51,6,51,49007033.724569812,{"$f":"IF($G$4=\"mensual\",S640,0)","v":17947.63801927253},null,465187.89677140082,-1228.0651100237933,null,-49490.169259360489,49439451.024991103,null,{"$f":"+Bono!J641","v":68563.425932425438},null,51.5,50242832.302335702]
[null,619,51,7,95,734817.85141217976,null,6972.534436685386,0,0,-741.79038584886518,741048.5954630163,null,619,51,7,51,49439451.024991103,{"$f":"+IF($G$4=\"mensual\",S636,IF($G$4=\"trimestral\",S636,IF($G$4=\"semestral\",S636,0)))","v":17947.63801927253},null,469291.01499642979,-1228.0651100237933,null,-49926.689678006805,49875534.923218779,null,{"$f":"+Bono!J642","v":68988.52712607164},null,51.583333333333336,50685572.045807868]
[null,620,51,8,95,741048.5954630163,null,7031.6566768121584,0,0,-748.08025213982853,747332.17188768869,null,620,51,8,51,49875534.923218779,{"$f":"IF($G$4=\"mensual\",S642,0)","v":17947.63801927253},null,473428.92480881803,-1228.0651100237933,null,-50366.911486046869,50315316.509450801,null,{"$f":"+Bono!J643","v":69416.263996427122},null,51.666666666666664,51132064.945334919]
[null,621,51,9,95,747332.17188768869,null,7091.2802323945025,0,{"$f":"-SUM(F644:H644)*$J$21","v":-6789.8110690807489},-747.63364105100243,746886.00740995142,null,621,51,9,51,50315316.509450801,{"$f":"IF($G$4=\"mensual\",S643,0)","v":17947.63801927253},null,477601.92121701612,-1228.0651100237933,null,-50810.866068687086,50758827.137508385,null,{"$f":"+Bono!J644","v":69217.403759903187},null,51.75,51574930.548678242]
[null,622,51,10,95,746886.00740995142,null,7087.0466700504876,0,0,-753.97305408000193,753219.08102592186,null,622,51,10,51,50758827.137508385,{"$f":"IF($G$4=\"mensual\",S636,IF($G$4=\"trimestral\",S636,0))","v":17947.63801927253},null,481810.30173094146,-1228.0651100237933,null,-51258.585077258598,51206098.427071318,null,{"$f":"+Bono!J645","v":69646.559691936476},null,51.833333333333336,52028964.067789175]
[null,623,51,11,95,753219.08102592186,null,7147.139894231902,0,0,-760.36622092015375,759605.85469923366,null,623,51,11,51,51206098.427071318,{"$f":"IF($G$17=\"si\",S634*(1+$G$20),S634)","v":17947.63801927253},null,486054.36638318805,-1228.0651100237933,null,-51710.10043147378,51657162.265932284,null,{"$f":"+Bono!J646","v":70078.376440527383},null,51.916666666666664,52486846.497072041]
[null,624,51,12,95,759605.85469923366,null,7207.7426671380044,0,{"$f":"-SUM(F647:H647)*$J$21","v":-6901.3223762973457},-759.91227499007437,759152.36271508422,null,624,51,12,51,51657162.265932284,{"$f":"IF($G$4=\"mensual\",S646,0)","v":17947.63801927253},null,490334.4177504179,-1228.0651100237933,null,-52165.444321701973,52112050.812270254,null,{"$f":"+Bono!J647","v":69877.619417434151},null,52,52941080.794402778]
[null,625,52,1,96,759152.36271508422,null,7203.4395756029171,0,0,-766.35580229068717,765589.44648839638,null,625,52,1,52,52112050.812270254,{"$f":"IF($G$17=\"si\",S636*(1+$G$20),S636)","v":18842.690316821256},null,494659.25394084945,{"$f":"V647*(1+$G$18)","v":-1289.3089626737019},null,-52625.552756527926,52571637.894808725,null,{"$f":"+Bono!J648","v":70310.868763124425},null,52.083333333333336,53407538.210060246]
[null,626,52,2,96,765589.44648839638,null,7264.5197306304408,0,0,-772.8539662190268,772081.11225280783,null,626,52,2,52,52571637.894808725,{"$f":"IF($G$4=\"mensual\",S648,0)","v":18842.690316821256},null,499020.18060246611,{"$f":"V648","v":-1289.3089626737019},null,-53089.500765728015,53035121.955999613,null,{"$f":"+Bono!J649","v":70746.804305011785},null,52.166666666666664,53877949.872557431]
[null,627,52,3,96,772081.11225280783,null,7326.1178028694621,0,{"$f":"-SUM(F650:H650)*$J$21","v":-7014.6650705010961},-772.39256498517625,771620.172420191,null,627,52,3,52,53035121.955999613,{"$f":"IF($G$4=\"mensual\",S649,0)","v":18842.690316821256},null,503418.08488758607,-1289.3089626737019,null,-53557.382731204016,53502536.039510138,null,{"$f":"+Bono!J650","v":70544.132403249227},null,52.25,54344700.344333574]
[null,628,52,4,96,771620.172420191,null,7321.74404024246,0,0,-778.9419164604335,778162.97454397311,null,628,52,4,52,53502536.039510138,{"$f":"IF($G$4=\"mensual\",S648,IF($G$4=\"trimestral\",S648,0))","v":18842.690316821256},null,507853.28034072532,-1289.3089626737019,null,-54029.232010167681,53973913.469194837,null,{"$f":"+Bono!J651","v":70981.514206762266},null,52.333333333333336,54823057.95794557]
[null,629,52,5,96,778162.97454397311,null,7383.8273348069788,0,0,-785.54680187878012,784761.25507690129,null,629,52,5,52,53973913.469194837,{"$f":"IF($G$4=\"mensual\",S651,0)","v":18842.690316821256},null,512326.08316503942,-1289.3089626737019,null,-54505.082242676697,54449287.85147135,null,{"$f":"+Bono!J652","v":71421.60782819023},null,52.416666666666664,55305470.714376442]
[null,630,52,6,96,784761.25507690129,null,7446.437052508224,0,{"$f":"-SUM(F653:H653)*$J$21","v":-7129.8692291646867},-785.07782290024488,784292.74507734459,null,630,52,6,52,54449287.85147135,{"$f":"IF($G$4=\"mensual\",S652,0)","v":18842.690316821256},null,516836.81224486657,-1289.3089626737019,null,-54984.96735403304,54928693.077716336,null,{"$f":"+Bono!J653","v":71217.002783090662},null,52.5,55784202.825576767]
[null,631,52,7,96,784292.74507734459,null,7441.9914581346493,0,0,-791.73473653547921,790943.00179894373,null,631,52,7,52,54928693.077716336,{"$f":"+IF($G$4=\"mensual\",S648,IF($G$4=\"trimestral\",S648,IF($G$4=\"semestral\",S648,0)))","v":18842.690316821256},null,521385.78916846216,-1289.3089626737019,null,-55468.921557201618,55412163.326681741,null,{"$f":"+Bono!J654","v":71658.556461006854},null,52.583333333333336,56274764.88494169]
[null,632,52,8,96,790943.00179894373,null,7505.0943671277228,0,0,-798.44809616607154,797649.64806990547,null,632,52,8,52,55412163.326681741,{"$f":"IF($G$4=\"mensual\",S654,0)","v":18842.690316821256},null,525973.33825092623,-1289.3089626737019,null,-55956.979355249488,55899733.066931568,null,{"$f":"+Bono!J655","v":72102.847822943193},null,52.666666666666664,56769485.562824413]
[null,633,52,9,96,797649.64806990547,null,7568.7323448783718,0,{"$f":"-SUM(F656:H656)*$J$21","v":-7246.9654237330551},-797.97141499105078,797173.44357605965,null,633,52,9,52,55899733.066931568,{"$f":"IF($G$4=\"mensual\",S655,0)","v":18842.690316821256},null,530599.78655732528,-1289.3089626737019,null,-56449.175543805715,56391437.059299231,null,{"$f":"+Bono!J656","v":71896.291195625177},null,52.75,57260506.794070914]
[null,634,52,10,96,797173.44357605965,null,7564.2137390417511,0,0,-804.73765731510139,803932.91965778626,null,634,52,10,52,56391437.059299231,{"$f":"IF($G$4=\"mensual\",S648,IF($G$4=\"trimestral\",S648,0))","v":18842.690316821256},null,535265.46392600983,-1289.3089626737019,null,-56945.545213542064,56887310.359365843,null,{"$f":"+Bono!J657","v":72342.056540491656},null,52.833333333333336,57763585.335564122]
[null,635,52,11,96,803932.91965778626,null,7628.3530079275215,0,0,-811.56127266571377,810749.71139304806,null,635,52,11,52,56887310.359365843,{"$f":"IF($G$17=\"si\",S646*(1+$G$20),S646)","v":18842.690316821256},null,539970.7029921303,-1289.3089626737019,null,-57446.123752674794,57387388.319959447,null,{"$f":"+Bono!J658","v":72790.585682201898},null,52.916666666666664,58270928.617034696]
[null,636,52,12,96,810749.71139304806,null,7693.0361331815975,0,{"$f":"-SUM(F659:H659)*$J$21","v":-7365.9847277360686},-811.07676279849363,810265.68603569514,null,636,52,12,52,57387388.319959447,{"$f":"IF($G$4=\"mensual\",S658,0)","v":18842.690316821256},null,544715.83921135159,-1289.3089626737019,null,-57950.94684948762,57891706.593675457,null,{"$f":"+Bono!J659","v":72582.058857908632},null,53,58774554.33856906]
[null,637,53,1,97,810265.68603569514,null,7688.4433167905881,0,0,-817.95412935248578,817136.17522313329,null,637,53,1,53,57891706.593675457,{"$f":"IF($G$17=\"si\",S648*(1+$G$20),S648)","v":19782.379051459193},null,549510.12739559519,{"$f":"V659*(1+$G$18)","v":-1353.607058504032},null,-58460.999100122513,58401184.49396389,null,{"$f":"+Bono!J660","v":73032.076041825407},null,53.083333333333336,59291352.745228849]
[null,638,53,2,97,817136.17522313329,null,7753.6359660494809,0,0,-824.88981118918286,824064.92137799365,null,638,53,2,53,58401184.49396389,{"$f":"IF($G$4=\"mensual\",S660,0)","v":19782.379051459193},null,554344.45769617823,{"$f":"V660","v":-1353.607058504032},null,-58975.311330711527,58914982.412322313,null,{"$f":"+Bono!J661","v":73484.883384481218},null,53.166666666666664,59812532.217084788]
[null,639,53,3,97,824064.92137799365,null,7819.381403609239,0,{"$f":"-SUM(F662:H662)*$J$21","v":-7486.9587250344275},-824.39734405656861,823572.94671251206,null,639,53,3,53,58914982.412322313,{"$f":"IF($G$4=\"mensual\",S661,0)","v":19782.379051459193},null,559219.77975370106,-1353.607058504032,null,-59493.984571127476,59433136.979497842,null,{"$f":"+Bono!J662","v":73274.367570902963},null,53.25,60329984.293781251]
[null,640,53,4,97,823572.94671251206,null,7814.7131578794233,0,0,-831.38765987039153,830556.27221052104,null,640,53,4,53,59433136.979497842,{"$f":"IF($G$4=\"mensual\",S660,IF($G$4=\"trimestral\",S660,0))","v":19782.379051459193},null,564136.44114973827,-1353.607058504032,null,-60017.055799699046,59955685.136840843,null,{"$f":"+Bono!J663","v":73728.677149143128},null,53.333333333333336,60859970.086200513]
[null,641,53,5,97,830556.27221052104,null,{"$f":"SUM(F664:G664)*$G$8","v":7880.9764875248247},0,0,-838.43724869804589,{"$f":"SUM(F664:K664)","v":837598.81144934776},null,641,53,5,53,59955685.136840843,{"$f":"IF($G$4=\"mensual\",S663,0)","v":19782.379051459193},null,569094.79241311387,-1353.607058504032,null,{"$f":"-SUM(R664:U664)*0.1%","v":-60544.562308305423},{"$f":"SUM(R664:X664)","v":60482664.138938613},null,{"$f":"+Bono!J664","v":74185.803499465037},null,{"$f":"+B664/12","v":53.416666666666664},{"$f":"+AA664+Y664+L664","v":61394448.75388743}]
[null,{"$f":"+B664+1","v":642},53,6,97,{"$f":"L664","v":837598.81144934776},null,7947.801684095728,0,{"$f":"-SUM(F665:H665)*$J$21","v":-7609.9195182009926},{"$f":"-SUM(F665:J665)*0.1%","v":-837.93669361524246},837098.75692162721,null,{"$f":"+N664+1","v":642},53,6,53,{"$f":"Y664","v":60482664.138938613},{"$f":"IF($G$4=\"mensual\",S664,0)","v":19782.379051459193},null,574095.18704489281,-1353.607058504032,null,-61076.541705034972,61014111.556271434,null,{"$f":"+Bono!J665","v":73973.279725045519},null,53.5,61925183.592918105]
[null,643,53,7,97,837098.75692162721,null,7943.0567702261869,0,0,-845.04181369185346,844196.77187816158,null,643,53,7,53,61014111.556271434,{"$f":"+IF($G$4=\"mensual\",S660,IF($G$4=\"trimestral\",S660,IF($G$4=\"semestral\",S660,0)))","v":19782.379051459193},null,579137.98154358286,-1353.607058504032,null,-61613.031916866479,61550065.277891114,null,{"$f":"+Bono!J666","v":74431.922639710174},null,53.583333333333336,62468693.972408988]
[null,644,53,8,97,844196.77187816158,null,8010.4083643953145,0,0,-852.20718024255689,851354.97306231433,null,644,53,8,53,61550065.277891114,{"$f":"IF($G$4=\"mensual\",S666,0)","v":19782.379051459193},null,584223.53543055116,-1353.607058504032,null,-62154.071192373129,62090563.514122248,null,{"$f":"+Bono!J667","v":74893.409193645028},null,53.666666666666664,63016811.896378204]
[null,645,53,9,97,851354.97306231433,null,8078.3310532158275,0,{"$f":"-SUM(F668:H668)*$J$21","v":-7734.8997370397719},-851.6984043784903,850846.7059741118,null,645,53,9,53,62090563.514122248,{"$f":"IF($G$4=\"mensual\",S667,0)","v":19782.379051459193},null,589352.21127565578,-1353.607058504032,null,-62699.698104449366,62635644.79928641,null,{"$f":"+Bono!J668","v":74678.858305871836},null,53.75,63561170.363566391]
[null,646,53,10,97,850846.7059741118,null,8073.5082120604102,0,0,-858.9202141861723,858061.29397198604,null,646,53,10,53,62635644.79928641,{"$f":"IF($G$4=\"mensual\",S660,IF($G$4=\"trimestral\",S660,0))","v":19782.379051459193},null,594524.37472309498,-1353.607058504032,null,-63249.951553060964,63185347.994449399,null,{"$f":"+Bono!J669","v":75141.875889579649},null,53.833333333333336,64118551.164310962]
[null,647,53,11,97,858061.29397198604,null,8141.9659436805669,0,0,-866.20325991566665,865337.05665575096,null,647,53,11,53,63185347.994449399,{"$f":"IF($G$17=\"si\",S658*(1+$G$20),S658)","v":19782.379051459193},null,599740.39451747527,-1353.607058504032,null,-63804.870768018336,63739712.290191814,null,{"$f":"+Bono!J670","v":75607.764236013172},null,53.916666666666664,64680657.111083575]
[null,648,53,12,97,865337.05665575096,null,8211.0041492279779,0,{"$f":"-SUM(F671:H671)*$J$21","v":-7861.9325472448118},-865.68612825773414,864820.44212947635,null,648,53,12,53,63739712.290191814,{"$f":"IF($G$4=\"mensual\",S670,0)","v":19782.379051459193},null,605000.642530101,-1353.607058504032,null,-64364.495311773375,64298777.209403098,null,{"$f":"+Bono!J671","v":75391.166899691641},null,54,65238988.818432264]
[null,649,54,1,98,864820.44212947635,null,8206.1021009611613,0,0,-873.02654423043748,872153.51768620708,null,649,54,1,54,64298777.209403098,{"$f":"IF($G$17=\"si\",S660*(1+$G$20),S660)","v":20768.930251231272},null,610314.85496554023,{"$f":"V671*(1+$G$18)","v":-1421.1117132330398},null,-64929.86099461987,64863510.021912016,null,{"$f":"+Bono!J672","v":75858.60087930382},null,54.083333333333336,65811522.140477531]
[null,650,54,2,98,872153.51768620708,null,8275.6841364926313,0,0,-880.42920182269972,879548.77262087702,null,650,54,2,54,64863510.021912016,{"$f":"IF($G$4=\"mensual\",S672,0)","v":20768.930251231272},null,615673.48768680205,{"$f":"V672","v":-1421.1117132330398},null,-65499.952439850058,65433031.375696972,null,{"$f":"+Bono!J673","v":76328.933003808575},null,54.166666666666664,66388909.081321657]
[null,651,54,3,98,879548.77262087702,null,8345.8561792661676,0,{"$f":"-SUM(F674:H674)*$J$21","v":-7991.0516592012891},-879.90357714094193,879023.67356380087,null,651,54,3,54,65433031.375696972,{"$f":"IF($G$4=\"mensual\",S673,0)","v":20768.930251231272},null,621077.55788469093,-1421.1117132330398,null,-66074.877863832895,66007381.874255836,null,{"$f":"+Bono!J674","v":76110.269699319353},null,54.25,66962515.817518957]
[null,652,54,4,98,879023.67356380087,null,8340.8736230434279,0,0,-887.36454718684433,886477.1826396574,null,652,54,4,54,66007381.874255836,{"$f":"IF($G$4=\"mensual\",S672,IF($G$4=\"trimestral\",S672,0))","v":20768.930251231272},null,626527.4508373905,-1421.1117132330398,null,-66654.678255344465,66586602.465375885,null,{"$f":"+Bono!J675","v":76582.162199699989},null,54.333333333333336,67549661.810215235]
[null,653,{"$f":"C664+1","v":54},{"$f":"D664","v":5},{"$f":"E664+1","v":98},886477.1826396574,null,8411.598427300265,0,0,-894.88878106695768,893993.89228589064,null,653,{"$f":"O664+1","v":54},{"$f":"P664","v":5},{"$f":"Q664+1","v":54},66586602.465375885,{"$f":"IF($G$4=\"mensual\",S675,0)","v":20768.930251231272},null,{"$f":"SUM(R676:T676)*$G$8","v":632023.55508997547},-1421.1117132330398,null,-67239.394950717091,67170734.444053143,null,{"$f":"+Bono!J676","v":77056.980488319139},null,54.416666666666664,68141785.316827342]
[null,654,54,6,98,893993.89228589064,null,8482.9229286827558,0,{"$f":"-SUM(F677:H677)*$J$21","v":-8122.2913369311618},-894.35452387764224,893460.16935376462,null,654,54,6,54,67170734.444053143,{"$f":"IF($G$4=\"mensual\",S676,0)","v":20768.930251231272},null,637566.26248211216,-1421.1117132330398,null,-67829.069636786473,67759819.455436453,null,{"$f":"+Bono!J677","v":76836.231509859062},null,54.5,68730115.856300086]
[null,655,54,7,98,893460.16935376462,null,8477.8585422953729,0,0,-901.93802789606002,901036.08986816392,null,655,54,7,54,67759819.455436453,{"$f":"+IF($G$4=\"mensual\",S672,IF($G$4=\"trimestral\",S672,IF($G$4=\"semestral\",S672,0)))","v":20768.930251231272},null,643155.96817599493,-1421.1117132330398,null,-68423.744353863673,68353899.49779658,null,{"$f":"+Bono!J678","v":77312.625057671408},null,54.583333333333336,69332248.212722406]
[null,656,54,8,98,901036.08986816392,null,8549.7448833453673,0,0,-909.58583475150931,908676.24891675776,null,656,54,8,54,68353899.49779658,{"$f":"IF($G$4=\"mensual\",S678,0)","v":20768.930251231272},null,648793.07068451843,-1421.1117132330398,null,-69023.461498732329,68953016.92552036,null,{"$f":"+Bono!J679","v":77791.972300738416},null,54.666666666666664,69939485.146737859]
[null,657,54,9,98,908676.24891675776,null,8622.2407705447567,0,{"$f":"-SUM(F680:H680)*$J$21","v":-8255.6864071857235},-909.0428032801168,908133.76047683659,null,657,54,9,54,68953016.92552036,{"$f":"IF($G$4=\"mensual\",S679,0)","v":20768.930251231272},null,654477.97189968941,-1421.1117132330398,null,-69628.263827671282,69557214.452130377,null,{"$f":"+Bono!J680","v":77569.117754544699},null,54.75,70542917.330361769]
[null,658,54,10,98,908133.76047683659,null,8617.0932100689388,0,0,-916.75085368690543,915834.10283321852,null,658,54,10,54,69557214.452130377,{"$f":"IF($G$4=\"mensual\",S672,IF($G$4=\"trimestral\",S672,0))","v":20768.930251231272},null,660211.07712127909,-1421.1117132330398,null,-70238.194459502876,70166535.153330147,null,{"$f":"+Bono!J681","v":78050.055282083631},null,54.833333333333336,71160419.311445445]
[null,659,54,11,98,915834.10283321852,null,8690.1601642140467,0,0,-924.52426299743263,923599.73873443517,null,659,54,11,54,70166535.153330147,{"$f":"IF($G$17=\"si\",S670*(1+$G$20),S670)","v":20768.930251231272},null,665992.79508571874,-1421.1117132330398,null,-70853.296878667083,70781022.47007519,null,{"$f":"+Bono!J682","v":78533.974678078608},null,54.916666666666664,71783156.183487713]
[null,660,54,12,98,923599.73873443517,null,8763.846675286055,0,{"$f":"-SUM(F683:H683)*$J$21","v":-8391.2722686874913},-923.97231314103374,923048.34082789277,null,660,54,12,54,70781022.47007519,{"$f":"IF($G$4=\"mensual\",S682,0)","v":20768.930251231272},null,671823.53799523995,-1421.1117132330398,null,-71473.614938321654,71400720.211670101,null,{"$f":"+Bono!J683","v":78308.994480635971},null,55,72402077.546978638]
[null,661,55,1,99,923048.34082789277,null,8758.6145747263126,0,0,-931.80695540261911,930875.14844721649,null,661,55,1,55,71400720.211670101,{"$f":"IF($G$17=\"si\",S672*(1+$G$20),S672)","v":21804.680956646225},null,677713.54957123834,{"$f":"V683*(1+$G$18)","v":-1491.9828385943142},null,-72100.23844219798,72026646.22091718,null,{"$f":"+Bono!J684","v":78794.519329697054},null,55.083333333333336,73036315.888694093]
[null,662,55,2,99,930875.14844721649,null,8832.8815315648917,0,0,-939.70802997878138,938768.32194880256,null,662,55,2,55,72026646.22091718,{"$f":"IF($G$4=\"mensual\",S684,0)","v":21804.680956646225},null,683652.83186535386,{"$f":"V684","v":-1491.9828385943142},null,-72732.10373373919,72657879.647166848,null,{"$f":"+Bono!J685","v":79283.054489139715},null,55.166666666666664,73675931.02360478]
[null,663,55,3,99,938768.32194880256,null,8907.7782205181793,0,{"$f":"-SUM(F686:H686)*$J$21","v":-8529.0849015238873},-939.14701526779686,938207.86825252906,null,663,55,3,55,72657879.647166848,{"$f":"IF($G$4=\"mensual\",S685,0)","v":21804.680956646225},null,689642.47514042433,-1491.9828385943142,null,-73369.326803263917,73294465.49362205,null,{"$f":"+Bono!J686","v":79055.928365370492},null,55.25,74311729.290239945]
[null,664,55,4,99,938207.86825252906,null,8902.4601914448194,0,0,-947.11032844397391,946163.21811552998,null,664,55,4,55,73294465.49362205,{"$f":"IF($G$4=\"mensual\",S684,IF($G$4=\"trimestral\",S684,0))","v":21804.680956646225},null,695682.90642252401,-1491.9828385943142,null,-74011.953081001222,73936449.145081624,null,{"$f":"+Bono!J687","v":79546.084291155901},null,55.333333333333336,74962158.447488308]
[null,665,55,5,99,946163.21811552998,null,8977.9468590169981,0,0,-955.141164974547,954186.02380957245,null,665,55,5,55,73936449.145081624,{"$f":"IF($G$4=\"mensual\",S687,0)","v":21804.680956646225},null,701774.55635861144,-1491.9828385943142,null,-74660.028382396878,74583876.371175885,null,{"$f":"+Bono!J688","v":80039.279240535747},null,55.416666666666664,75618101.674225986]
[null,666,55,6,99,954186.02380957245,null,9054.073601002161,0,{"$f":"-SUM(F689:H689)*$J$21","v":-8669.1608766951722},-954.57093653387938,953616.36559734552,null,666,55,6,55,74583876.371175885,{"$f":"IF($G$4=\"mensual\",S688,0)","v":21804.680956646225},null,707917.85924723139,-1491.9828385943142,null,-75313.59891137977,75236793.329629794,null,{"$f":"+Bono!J689","v":79809.986721972702},null,55.5,76270219.681949124]
[null,667,55,7,99,953616.36559734552,null,9048.6682321828539,0,0,-962.6650338295284,961702.36879569886,null,667,55,7,55,75236793.329629794,{"$f":"+IF($G$4=\"mensual\",S684,IF($G$4=\"trimestral\",S684,IF($G$4=\"semestral\",S684,0)))","v":21804.680956646225},null,714113.25306947832,-1491.9828385943142,null,-75972.711263655918,75895246.569553658,null,{"$f":"+Bono!J690","v":80304.817897034402},null,55.583333333333336,76937253.756246388]
[null,668,55,8,99,961702.36879569886,null,9125.3946422004065,0,0,-970.82776343789931,969856.93567446142,null,668,55,8,55,75895246.569553658,{"$f":"IF($G$4=\"mensual\",S690,0)","v":21804.680956646225},null,720361.17952022119,-1491.9828385943142,null,-76637.412430030527,76559283.034761891,null,{"$f":"+Bono!J691","v":80802.717082778356},null,55.666666666666664,77609942.687519133]
[null,669,55,9,99,969856.93567446142,null,9202.7716387841938,0,{"$f":"-SUM(F692:H692)*$J$21","v":-8811.5373658192111},-970.24816994742639,969277.921777479,null,669,55,9,55,76559283.034761891,{"$f":"IF($G$4=\"mensual\",S691,0)","v":21804.680956646225},null,726662.08403959451,-1491.9828385943142,null,-77307.749799758138,77228950.067119777,null,{"$f":"+Bono!J692","v":80571.237505720084},null,55.75,78278799.226402968]
[null,670,55,10,99,969277.921777479,null,9197.2774958094815,0,0,-978.47519927328847,977496.72407401516,null,670,55,10,55,77228950.067119777,{"$f":"IF($G$4=\"mensual\",S684,IF($G$4=\"trimestral\",S684,0))","v":21804.680956646225},null,733016.41584475525,-1491.9828385943142,null,-77983.771163921178,77904295.409918651,null,{"$f":"+Bono!J693","v":81070.788523940646},null,55.833333333333336,78962862.922516614]
[null,671,55,11,99,977496.72407401516,null,9275.2640089715878,0,0,-986.77198808298681,985785.21609490376,null,671,55,11,55,77904295.409918651,{"$f":"IF($G$17=\"si\",S682*(1+$G$20),S682)","v":21804.680956646225},null,739424.62796190882,-1491.9828385943142,null,-78665.524718837201,78585367.211279765,null,{"$f":"+Bono!J694","v":81573.436816418514},null,55.916666666666664,79652725.8641911]
[null,672,55,12,99,985785.21609490376,null,9353.9117934977439,0,{"$f":"-SUM(F695:H695)*$J$21","v":-8956.252150995615},-986.18287573740588,985196.69286166842,null,672,55,12,55,78585367.211279765,{"$f":"IF($G$4=\"mensual\",S694,0)","v":21804.680956646225},null,745887.17725860782,-1491.9828385943142,null,-79353.059069495022,79272214.027586922,null,{"$f":"+Bono!J695","v":81339.749320067262},null,56,80338750.469768643]
[null,673,56,1,100,985196.69286166842,null,9348.3274184003822,0,0,-994.5450202800688,993550.47525978868,null,673,56,1,56,79272214.027586922,{"$f":"IF($G$17=\"si\",S684*(1+$G$20),S684)","v":22892.084756890363},null,752414.84262582089,{"$f":"V695*(1+$G$18)","v":-1566.3883211515804},null,-80047.520954969645,79965907.045693532,null,{"$f":"+Bono!J696","v":81844.06520067864},null,56.083333333333336,81041301.586153999]
[null,674,56,2,100,993550.47525978868,null,9427.5947297967105,0,0,-1002.9780699895855,1001975.0919195958,null,674,56,2,56,79965907.045693532,{"$f":"IF($G$4=\"mensual\",S696,0)","v":22892.084756890363},null,758997.1520348005,{"$f":"V696","v":-1566.3883211515804},null,-80747.796282485229,80665482.0978816,null,{"$f":"+Bono!J697","v":82351.507898246811},null,56.166666666666664,81749808.697699443]
[null,675,56,3,100,1001975.0919195958,null,9507.5341728348594,0,{"$f":"-SUM(F698:H698)*$J$21","v":-9103.3436348318774},-1002.3792824575988,1001376.9031751412,null,675,56,3,56,80665482.0978816,{"$f":"IF($G$4=\"mensual\",S697,0)","v":22892.084756890363},null,765635.27484721318,-1566.3883211515804,null,-81454.009457485707,81370989.059707075,null,{"$f":"+Bono!J698","v":82115.591422828453},null,56.25,82454481.554305047]
[null,676,56,4,100,1001376.9031751412,null,9501.8580837029313,0,0,-1010.8787612588442,1009867.8824975854,null,676,56,4,56,81370989.059707075,{"$f":"IF($G$4=\"mensual\",S696,IF($G$4=\"trimestral\",S696,0))","v":22892.084756890363},null,772329.68432188197,-1566.3883211515804,null,-82166.210828785857,82082478.229635924,null,{"$f":"+Bono!J699","v":82624.717614469046},null,56.333333333333336,83174970.829747975]
[null,677,56,5,100,1009867.8824975854,null,9582.4272283054288,0,0,-1019.4503097258907,1018430.8594161648,null,677,56,5,56,82082478.229635924,{"$f":"IF($G$4=\"mensual\",S699,0)","v":22892.084756890363},null,779080.85773053509,-1566.3883211515804,null,-82884.451172123358,82800000.332630083,null,{"$f":"+Bono!J700","v":83137.000447552797},null,56.416666666666664,83901568.192493811]
[null,678,56,6,100,1018430.8594161648,null,9663.6795431894443,0,{"$f":"-SUM(F701:H701)*$J$21","v":-9252.8508506341896},-1018.8416881087202,1017822.8464206114,null,678,56,6,56,82800000.332630083,{"$f":"IF($G$4=\"mensual\",S700,0)","v":22892.084756890363},null,785889.27639183332,{"$f":"V700","v":-1566.3883211515804},null,-83608.781693778816,83523606.523763895,null,{"$f":"+Bono!J701","v":82898.833732418992},null,56.5,84624328.203916937]
[null,679,56,7,100,1017822.8464206114,null,9657.9102337731019,0,0,-1027.4807566543845,1026453.27589773,null,679,56,7,56,83523606.523763895,{"$f":"+IF($G$4=\"mensual\",S696,IF($G$4=\"trimestral\",S696,IF($G$4=\"semestral\",S696,0)))","v":22892.084756890363},null,792755.42570568435,-1566.3883211515804,null,-84339.254034226484,84253348.39187111,null,{"$f":"+Bono!J702","v":83412.816117229537},null,56.583333333333336,85363214.483886063]
[null,680,56,8,100,1026453.27589773,null,9739.8025920180025,0,0,-1036.1930784897481,1035156.8854112583,null,680,56,8,56,84253348.39187111,{"$f":"IF($G$4=\"mensual\",S702,0)","v":22892.084756890363},null,799679.79518784955,-1566.3883211515804,null,-85075.920271815849,84989277.963222891,null,{"$f":"+Bono!J703","v":83929.985252444181},null,56.666666666666664,86108364.833886594]
[null,681,56,9,100,1035156.8854112583,null,9822.3893404753398,0,{"$f":"-SUM(F704:H704)*$J$21","v":-9404.8134727656034},-1035.5744612789681,1034538.8868176891,null,681,56,9,56,84989277.963222891,{"$f":"IF($G$4=\"mensual\",S703,0)","v":22892.084756890363},null,806662.87850484299,-1566.3883211515804,null,-85818.832926484625,85731447.705237001,null,{"$f":"+Bono!J704","v":83689.546834156368},null,56.75,86849676.138888851]
[null,682,56,10,100,1034538.8868176891,null,9816.5252797870962,0,0,-1044.3554120974761,1043311.0566853787,null,682,56,10,56,85731447.705237001,{"$f":"IF($G$4=\"mensual\",S696,IF($G$4=\"trimestral\",S696,0))","v":22892.084756890363},null,813705.17350912781,-1566.3883211515804,null,-86568.044963503024,86479910.530218363,null,{"$f":"+Bono!J705","v":84208.431731914723},null,56.833333333333336,87607430.018635646]
[null,683,56,11,100,1043311.0566853787,null,9899.7625832485919,0,0,-1053.2108192686273,1052157.6084493587,null,683,56,11,56,86479910.530218363,{"$f":"IF($G$17=\"si\",S694*(1+$G$20),S694)","v":22892.084756890363},null,820807.18227460911,-1566.3883211515804,null,-87323.609797249868,87234719.799131468,null,{"$f":"+Bono!J706","v":84730.533776226119},null,56.916666666666664,88371607.941357046]
[null,684,56,12,100,1052157.6084493587,null,9983.70568112207,0,{"$f":"-SUM(F707:H707)*$J$21","v":-9559.2718271743288},-1052.5820423033065,1051529.4602610031,null,684,56,12,56,87234719.799131468,{"$f":"IF($G$4=\"mensual\",S706,0)","v":22892.084756890363},null,827969.41113242949,-1566.3883211515804,null,-88085.581295020791,87995929.325404629,null,{"$f":"+Bono!J707","v":84487.801986621227},null,57,89131946.587652251]
[null,685,57,1,101,1051529.4602610031,null,9977.7453130305294,0,0,-1061.5072055740336,1060445.6983684595,null,685,57,1,57,87995929.325404629,{"$f":"IF($G$17=\"si\",S696*(1+$G$20),S696)","v":24033.717602133434},null,835203.20342474338,{"$f":"V707*(1+$G$18)","v":-1644.5044200050738},null,-88855.166246431501,88764666.575765058,null,{"$f":"+Bono!J708","v":85011.636158916735},null,57.083333333333336,89910123.910292432]
[null,686,57,2,101,1060445.6983684595,null,10062.349650187622,0,0,-1070.5080480186471,1069437.5399706285,null,686,57,2,57,88764666.575765058,{"$f":"IF($G$4=\"mensual\",S708,0)","v":24033.717602133434},null,842497.59201451426,{"$f":"V708","v":-1644.5044200050738},null,-89631.197885381713,89539922.183076322,null,{"$f":"+Bono!J709","v":85538.718163841477},null,57.166666666666664,90694898.441210791]
[null,687,57,3,101,1069437.5399706285,null,10147.671373251173,0,{"$f":"-SUM(F710:H710)*$J$21","v":-9716.2669020949179},-1069.8689444417846,1068799.0754973427,null,687,57,3,57,89539922.183076322,{"$f":"IF($G$4=\"mensual\",S709,0)","v":24033.717602133434},null,849853.83194366517,-1644.5044200050738,null,-90413.809732622118,90321751.418469489,null,{"$f":"+Bono!J710","v":85293.671128079208},null,57.25,91475844.165094912]
[null,688,57,4,101,1068799.0754973427,null,10141.613116068078,0,0,-1078.9406886134109,1077861.7479247975,null,688,57,4,57,90321751.418469489,{"$f":"IF($G$4=\"mensual\",S708,IF($G$4=\"trimestral\",S708,0))","v":24033.717602133434},null,857272.44766851433,-1644.5044200050738,null,-91203.057583740127,91110210.021736383,null,{"$f":"+Bono!J711","v":85822.501782526801},null,57.333333333333336,92273894.27144371]
[null,689,57,5,101,1077861.7479247975,null,10227.606938166151,0,0,-1088.0893548629635,1087001.2655081006,null,689,57,5,57,91110210.021736383,{"$f":"IF($G$4=\"mensual\",S711,0)","v":24033.717602133434},null,864753.96809240454,-1644.5044200050738,null,-91998.997707430928,91905354.20530349,null,{"$f":"+Bono!J712","v":86354.61124837253},null,57.416666666666664,93078710.082059965]
[null,690,57,6,101,1087001.2655081006,null,10314.329928036095,0,{"$f":"-SUM(F713:H713)*$J$21","v":-9875.8403589252321},-1087.4397550772114,1086352.3153221342,null,690,57,6,57,91905354.20530349,{"$f":"IF($G$4=\"mensual\",S712,0)","v":24033.717602133434},null,872298.92660341086,-1644.5044200050738,null,-92801.686849509031,92707240.658239514,null,{"$f":"+Bono!J713","v":86107.226882964067},null,57.5,93879700.200444609]
[null,691,57,7,101,1086352.3153221342,null,10308.1721740966,0,0,-1096.6604874962309,1095563.8270087345,null,691,57,7,57,92707240.658239514,{"$f":"+IF($G$4=\"mensual\",S708,IF($G$4=\"trimestral\",S708,IF($G$4=\"semestral\",S708,0)))","v":24033.717602133434},null,879907.86111236806,-1644.5044200050738,null,-93611.182236954017,93515926.550297052,null,{"$f":"+Bono!J714","v":86641.101677458559},null,57.583333333333336,94698131.478983253]
[null,692,57,8,101,1095563.8270087345,null,10395.578301105241,0,0,-1105.9594053098397,1104853.4459045299,null,692,57,8,57,93515926.550297052,{"$f":"IF($G$4=\"mensual\",S714,0)","v":24033.717602133434},null,887581.31409122061,-1644.5044200050738,null,-94427.541581990401,94331469.535988405,null,{"$f":"+Bono!J715","v":87178.286557604559},null,57.666666666666664,95523501.268450528]
[null,693,57,9,101,1104853.4459045299,null,10483.725571248635,0,{"$f":"-SUM(F716:H716)*$J$21","v":-10038.034543282009},-1105.2991369324964,1104193.837795564,null,693,57,9,57,94331469.535988405,{"$f":"IF($G$4=\"mensual\",S715,0)","v":24033.717602133434},null,895319.83261169749,-1644.5044200050738,null,-95250.823086202232,95153927.75869602,null,{"$f":"+Bono!J716","v":86928.542568422316},null,57.75,96345050.139060006]
[null,694,57,10,101,1104193.837795564,null,10477.466686484686,0,0,-1114.6713044820485,1113556.6331775666,null,694,57,10,57,95153927.75869602,{"$f":"IF($G$4=\"mensual\",S708,IF($G$4=\"trimestral\",S708,0))","v":24033.717602133434},null,903123.96838431526,-1644.5044200050738,null,-96081.085444682467,95983359.854817763,null,{"$f":"+Bono!J717","v":87467.509615433373},null,57.833333333333336,97184383.997610763]
[null,695,57,11,101,1113556.6331775666,null,10566.308313153379,0,0,-1124.12294149072,1122998.8185492293,null,695,57,11,57,95983359.854817763,{"$f":"IF($G$17=\"si\",S706*(1+$G$20),S706)","v":24033.717602133434},null,910994.27779771166,-1644.5044200050738,null,-96918.387850217609,96819824.957947373,null,{"$f":"+Bono!J718","v":88009.818320652208},null,57.916666666666664,98030833.594817251]
[null,696,57,12,101,1122998.8185492293,null,10655.903254995035,0,{"$f":"-SUM(F719:H719)*$J$21","v":-10202.892496238021},-1123.4518293079864,1122328.3774786785,null,696,57,12,57,96819824.957947373,{"$f":"IF($G$4=\"mensual\",S718,0)","v":24033.717602133434},null,918931.32195831311,-1644.5044200050738,null,-97762.789997507833,97663382.70309031,null,{"$f":"+Bono!J719","v":87757.692200920748},null,58,98873468.772769898]
[null,697,58,1,102,1122328.3774786785,null,10649.541578501738,0,0,-1132.9779190571801,1131844.9411381229,null,697,58,1,58,97663382.70309031,{"$f":"IF($G$17=\"si\",S708*(1+$G$20),S708)","v":25232.283905695349},null,926947.0396778112,{"$f":"V719*(1+$G$18)","v":-1726.5161843316109},null,-98615.562026673826,98515219.948462814,null,{"$f":"+Bono!J720","v":88301.800071828708},null,58.083333333333336,99735366.689672768]
[null,698,58,2,102,1131844.9411381229,null,10739.842280514984,0,0,-1142.5847834186379,1141442.1986352194,null,698,58,2,58,98515219.948462814,{"$f":"IF($G$4=\"mensual\",S720,0)","v":25232.283905695349},null,935029.9469131165,{"$f":"V720","v":-1726.5161843316109},null,-99475.482179281636,99374280.180918023,null,{"$f":"+Bono!J721","v":88849.281474648888},null,58.166666666666664,100604571.66102789]
[null,699,58,3,102,1141442.1986352194,null,10830.908669644807,0,{"$f":"-SUM(F722:H722)*$J$21","v":-10370.457965743779},-1141.9026493391204,1140760.7466897813,null,699,58,3,58,99374280.180918023,{"$f":"IF($G$4=\"mensual\",S721,0)","v":25232.283905695349},null,943181.39157721878,-1726.5161843316109,null,-100342.69385640093,100240624.6463602,null,{"$f":"+Bono!J722","v":88594.750502916693},null,58.25,101469980.1435529]
[null,700,58,4,102,1140760.7466897813,null,10824.442513239677,0,0,-1151.5851892030209,1150433.6040138179,null,700,58,4,58,100240624.6463602,{"$f":"IF($G$4=\"mensual\",S720,IF($G$4=\"trimestral\",S720,0))","v":25232.283905695349},null,951401.95481982164,-1726.5161843316109,null,-101217.25888508573,101114315.11001632,null,{"$f":"+Bono!J723","v":89144.048232389774},null,58.333333333333336,102353892.76226252]
[null,701,58,5,102,1150433.6040138179,null,10916.226253473224,0,0,-1161.3498302672911,1160188.4804370238,null,701,58,5,58,101114315.11001632,{"$f":"IF($G$4=\"mensual\",S723,0)","v":25232.283905695349},null,959692.22271837434,-1726.5161843316109,null,-102099.23961664039,101995413.86083941,null,{"$f":"+Bono!J724","v":89696.751671500184},null,58.416666666666664,103245299.09294793]
[null,702,58,6,102,1160188.4804370238,null,11008.788255955471,0,{"$f":"-SUM(F725:H725)*$J$21","v":-10540.775418236815},-1160.6564932747426,1159495.8367814678,null,702,58,6,58,101995413.86083941,{"$f":"IF($G$4=\"mensual\",S724,0)","v":25232.283905695349},null,968052.78631985444,-1726.5161843316109,null,-102988.69893106497,102883983.71594957,null,{"$f":"+Bono!J725","v":89439.792909591866},null,58.5,104132919.34564063]
[null,703,58,7,102,1159495.8367814678,null,11002.215903730448,0,0,-1170.4980526851982,1169327.5546325129,null,703,58,7,58,102883983.71594957,{"$f":"+IF($G$4=\"mensual\",S720,IF($G$4=\"trimestral\",S720,IF($G$4=\"semestral\",S720,0)))","v":25232.283905695349},null,976484.24168290722,-1726.5161843316109,null,-103885.70024153817,103780088.0251123,null,{"$f":"+Bono!J726","v":89994.330000005182},null,58.583333333333336,105039409.90974481]
[null,704,58,8,102,1169327.5546325129,null,11095.507038610258,0,0,-1180.4230616711232,1179242.6386094519,null,704,58,8,58,103780088.0251123,{"$f":"IF($G$4=\"mensual\",S726,0)","v":25232.283905695349},null,984987.18992033997,-1726.5161843316109,null,-104790.30749893835,104683790.67525508,null,{"$f":"+Bono!J727","v":90552.305284701375},null,58.666666666666664,105953585.61914924]
[null,705,58,9,102,1179242.6386094519,null,{"$f":"SUM(F728:G728)*$G$8","v":11189.589217396435},0,{"$f":"-SUM(F728:H728)*$J$21","v":-10713.890050441636},-1179.7183377764068,{"$f":"SUM(F728:K728)","v":1178538.6194386303},null,705,58,9,58,104683790.67525508,{"$f":"IF($G$4=\"mensual\",S727,0)","v":25232.283905695349},null,993562.23724197864,-1726.5161843316109,null,{"$f":"-SUM(R728:U728)*0.1%","v":-105702.58519640275},{"$f":"SUM(R728:X728)","v":105595156.09502202},null,{"$f":"+Bono!J728","v":90292.895575650648},null,{"$f":"+B728/12","v":58.75},{"$f":"+AA728+Y728+L728","v":106863987.61003631}]
[null,{"$f":"+B728+1","v":706},58,10,102,{"$f":"L728","v":1178538.6194386303},null,11182.908925262533,0,0,{"$f":"-SUM(F729:J729)*0.1%","v":-1189.7215283638927},1188531.8068355289,null,{"$f":"+N728+1","v":706},58,10,58,{"$f":"Y728","v":105595156.09502202},{"$f":"IF($G$4=\"mensual\",S720,IF($G$4=\"trimestral\",S720,0))","v":25232.283905695349},null,1002209.9949978866,-1726.5161843316109,null,-106622.59837392562,106514249.25936736,null,{"$f":"+Bono!J729","v":90852.722001547314},null,58.833333333333336,107793633.78820445]
[null,707,58,11,102,1188531.8068355289,null,11277.732211228189,0,0,-1199.8095390467572,1198609.7295077103,null,707,58,11,58,106514249.25936736,{"$f":"IF($G$17=\"si\",S718*(1+$G$20),S718)","v":25232.283905695349},null,1010931.0797219502,-1726.5161843316109,null,-107550.41262299502,107441135.6941877,null,{"$f":"+Bono!J730","v":91416.019416220384},null,58.916666666666664,108731161.44311163]
[null,708,58,12,102,1198609.7295077103,null,11373.359532675257,0,{"$f":"-SUM(F731:H731)*$J$21","v":-10889.847801363472},-1199.0932412390221,1197894.147997783,null,708,58,12,58,107441135.6941877,{"$f":"IF($G$4=\"mensual\",S730,0)","v":25232.283905695349},null,1019726.1131758343,-1726.5161843316109,null,-108486.09409126925,108375881.48099364,null,{"$f":"+Bono!J731","v":91154.135382183042},null,59,109664929.76437362]
[null,709,59,1,103,1197894.147997783,null,11366.569527899741,0,0,-1209.2607175256828,1208051.4568081573,null,709,59,1,59,108375881.48099364,{"$f":"IF($G$17=\"si\",S720*(1+$G$20),S720)","v":26490.622950529156},null,1028607.6625119477,{"$f":"V731*(1+$G$18)","v":-1812.6178917474651},null,-109430.97976645612,109319736.16879791,null,{"$f":"+Bono!J732","v":91719.301594777848},null,59.083333333333336,110619506.92720085]
[null,710,59,2,103,1208051.4568081573,null,11462.950127973998,0,0,-1219.5144069361313,1218294.8925291949,null,710,59,2,59,109319736.16879791,{"$f":"IF($G$4=\"mensual\",S732,0)","v":26490.622950529156},null,1037563.7042048579,{"$f":"V732","v":-1812.6178917474651},null,-110383.79049595329,110271594.0875656,null,{"$f":"+Bono!J733","v":92287.97190344597},null,59.166666666666664,111582176.95199823]
[null,711,59,3,103,1218294.8925291949,null,11560.147968469635,0,{"$f":"-SUM(F734:H734)*$J$21","v":-11068.695364478983},-1218.7863451331857,1217567.5587880525,null,711,59,3,59,110271594.0875656,{"$f":"IF($G$4=\"mensual\",S733,0)","v":26490.622950529156},null,1046595.6868991876,-1812.6178917474651,null,-111344.68039741532,111231523.09912615,null,{"$f":"+Bono!J734","v":92023.589943593193},null,59.25,112541114.24785778]
[null,712,59,4,103,1217567.5587880525,null,11553.246449205601,0,0,-1229.1208052372581,1227891.6844320209,null,712,59,4,59,111231523.09912615,{"$f":"IF($G$4=\"mensual\",S732,IF($G$4=\"trimestral\",S732,0))","v":26490.622950529156},null,1055704.2545217846,-1812.6178917474651,null,-112313.71797659846,112199591.64073011,null,{"$f":"+Bono!J735","v":92594.146875319231},null,59.333333333333336,113520077.47203745]
[null,713,59,5,103,1227891.6844320209,null,11651.209939671835,0,0,-1239.5428943716929,1238303.351477321,null,713,59,5,59,112199591.64073011,{"$f":"IF($G$4=\"mensual\",S735,0)","v":26490.622950529156},null,1064890.0564595484,-1812.6178917474651,null,-113290.97232014018,113175868.7299283,null,{"$f":"+Bono!J736","v":93168.241326202478},null,59.416666666666664,114507340.32273182]
[null,714,59,6,103,1238303.351477321,null,11750.00409236851,0,{"$f":"-SUM(F737:H737)*$J$21","v":-11250.480200127207},-1238.8028753695623,1237564.0724941927,null,714,59,6,59,113175868.7299283,{"$f":"IF($G$4=\"mensual\",S736,0)","v":26490.622950529156},null,1074153.7476057275,-1812.6178917474651,null,-114276.51310048455,114160423.96949232,null,{"$f":"+Bono!J737","v":92901.337614593911},null,59.5,115490889.37960111]
[null,715,59,7,103,1237564.0724941927,null,11742.989227176717,0,0,-1249.3070617213693,1248057.7546596481,null,715,59,7,59,114160423.96949232,{"$f":"+IF($G$4=\"mensual\",S732,IF($G$4=\"trimestral\",S732,IF($G$4=\"semestral\",S732,0)))","v":26490.622950529156},null,1083495.9884066093,-1812.6178917474651,null,-115270.41058084945,115153327.55237687,null,{"$f":"+Bono!J738","v":93477.336683692571},null,59.583333333333336,116494862.64372021]
[null,716,59,8,103,1248057.7546596481,null,11842.561604366048,0,0,-1259.900316264014,1258640.41594775,null,716,59,8,59,115153327.55237687,{"$f":"IF($G$4=\"mensual\",S738,0)","v":26490.622950529156},null,1092917.4449086064,-1812.6178917474651,null,-116272.735620236,116154650.26672402,null,{"$f":"+Bono!J739","v":94056.907013831413},null,59.666666666666664,117507347.5896856]
[null,717,{"$f":"C728+1","v":59},{"$f":"D728","v":9},{"$f":"E728+1","v":103},1258640.41594775,null,11942.978286025676,0,{"$f":"-SUM(F740:H740)*$J$21","v":-11435.250548103981},-1259.1481436856716,1257888.9955419858,null,717,{"$f":"O728+1","v":59},{"$f":"P728","v":9},{"$f":"Q728+1","v":59},116154650.26672402,{"$f":"IF($G$4=\"mensual\",S739,0)","v":26490.622950529156},null,{"$f":"SUM(R740:T740)*$G$8","v":1102418.7888057411},-1812.6178917474651,null,-117283.55967848029,117164463.50091006,null,{"$f":"+Bono!J740","v":93787.45749726794},null,59.75,118516139.95394932]
[null,718,59,10,103,1257888.9955419858,null,11935.848213388559,0,0,-1269.8248437553746,1268555.018911619,null,718,59,10,59,117164463.50091006,{"$f":"IF($G$4=\"mensual\",S732,IF($G$4=\"trimestral\",S732,0))","v":26490.622950529156},null,1112000.6974875343,-1812.6178917474651,null,-118302.95482134812,118182839.24863502,null,{"$f":"+Bono!J741","v":94368.950612422734},null,59.833333333333336,119545763.21815906]
[null,719,59,11,103,1268555.018911619,null,12037.055900578433,0,0,-1280.5920748121973,1279311.4827373852,null,719,59,11,59,118182839.24863502,{"$f":"IF($G$17=\"si\",S730*(1+$G$20),S730)","v":26490.622950529156},null,1121663.8540872976,-1812.6178917474651,null,-119330.99372567284,119209850.11405542,null,{"$f":"+Bono!J742","v":94954.049052340517},null,59.916666666666664,120584115.64584516]
[null,720,59,12,103,1279311.4827373852,null,12139.121758529462,0,{"$f":"-SUM(F743:H743)*$J$21","v":-11623.055440463233},-1279.8275490554515,1278547.7215063961,null,720,59,12,59,119209850.11405542,{"$f":"IF($G$4=\"mensual\",S742,0)","v":26490.622950529156},null,1131408.9475308387,-1812.6178917474651,null,-120367.74968453679,120245569.3169605,null,{"$f":"+Bono!J743","v":94682.02944819667},null,60,121618799.0679151]
[null,721,60,1,104,1278547.7215063961,null,12131.874586357142,0,0,-1290.6795960927532,1289388.9164966603,null,721,60,1,60,120245569.3169605,{"$f":"IF($G$17=\"si\",S732*(1+$G$20),S732)","v":27811.715615196634},null,1141249.2081603187,{"$f":"V743*(1+$G$18)","v":-1903.0135085324896},null,-121414.63024073602,121291312.59698676,null,{"$f":"+Bono!J744","v":95269.069013211149},null,60.083333333333336,122675970.58249663]
[null,722,60,2,104,1289388.9164966603,null,12234.744440783199,0,0,-1301.6236609374437,1300322.0372765062,null,722,60,2,60,121291312.59698676,{"$f":"IF($G$4=\"mensual\",S744,0)","v":27811.715615196634},null,1151172.0496072196,{"$f":"V744","v":-1903.0135085324896},null,-122470.29636220918,122345923.05233844,null,{"$f":"+Bono!J745","v":95859.748291621087},null,60.166666666666664,123742104.83790657]
[null,723,60,3,104,1300322.0372765062,null,12338.486559991943,0,{"$f":"-SUM(F746:H746)*$J$21","v":-11813.944714528485},-1300.8465791219696,1299545.7325428477,null,723,60,3,60,122345923.05233844,{"$f":"IF($G$4=\"mensual\",S745,0)","v":27811.715615196634},null,1161179.029844698,-1903.0135085324896,null,-123534.91379779833,123409475.87049201,null,{"$f":"+Bono!J746","v":95585.134085656653},null,60.25,124804606.73712051]
[null,724,60,4,104,1299545.7325428477,null,12331.120365120121,0,0,-1311.8768529079678,1310564.9760550598,null,724,60,4,60,123409475.87049201,{"$f":"IF($G$4=\"mensual\",S744,IF($G$4=\"trimestral\",S744,0))","v":27811.715615196634},null,1171270.8623111495,-1903.0135085324896,null,-124608.55844841836,124482046.87646142,null,{"$f":"+Bono!J747","v":96177.773004177041},null,60.333333333333336,125888789.62552065]
[null,725,60,5,104,1310564.9760550598,null,12435.67968510325,0,0,-1323.000655740163,1321677.6550844228,null,725,60,5,60,124482046.87646142,{"$f":"IF($G$4=\"mensual\",S747,0)","v":27811.715615196634},null,1181448.2664944306,-1903.0135085324896,null,-125691.30685857106,125563712.53820395,null,{"$f":"+Bono!J748","v":96774.086352734099},null,60.416666666666664,126982164.27964111]
[null,726,60,6,104,1321677.6550844228,null,12541.125595361358,0,{"$f":"-SUM(F749:H749)*$J$21","v":-12007.96902611806},-1322.2108116536663,1320888.6008420126,null,726,60,6,60,125563712.53820395,{"$f":"IF($G$4=\"mensual\",S748,0)","v":27811.715615196634},null,1191711.9679831543,-1903.0135085324896,null,-126783.23622180232,126654549.97207198,null,{"$f":"+Bono!J749","v":96496.852796884967},null,60.5,128071935.42571087]
[null,727,60,7,104,1320888.6008420126,null,12533.638423040973,0,0,-1333.4222392650536,1332088.8170257886,null,727,60,7,60,126654549.97207198,{"$f":"+IF($G$4=\"mensual\",S744,IF($G$4=\"trimestral\",S744,IF($G$4=\"semestral\",S744,0)))","v":27811.715615196634},null,1202062.6985184199,-1903.0135085324896,null,-127884.4243862056,127754636.94831087,null,{"$f":"+Bono!J750","v":97095.144477167778},null,60.583333333333336,129183820.90981384]
[null,728,60,8,104,1332088.8170257886,null,12639.91495523139,0,0,-1344.72873198102,1343384.0032490389,null,728,60,8,60,127754636.94831087,{"$f":"IF($G$4=\"mensual\",S750,0)","v":27811.715615196634},null,1212501.1960459824,-1903.0135085324896,null,-128994.94985997205,128864051.89660354,null,{"$f":"+Bono!J751","v":97697.145635265886},null,60.666666666666664,130305133.04548784]
[null,729,60,9,104,1343384.0032490389,null,12747.092638461369,0,{"$f":"-SUM(F752:H752)*$J$21","v":-12205.179862987505},-1343.9259160245128,1342581.9901084884,null,729,60,9,60,128864051.89660354,{"$f":"IF($G$4=\"mensual\",S751,0)","v":27811.715615196634},null,1223028.2047688628,-1903.0135085324896,null,-130114.89181698761,129982873.91166209,null,{"$f":"+Bono!J752","v":97417.267745413701},null,60.75,131422873.169516]
[null,730,60,10,104,1342581.9901084884,null,12739.48250183987,0,0,-1355.3214726103283,1353966.151137718,null,730,60,10,60,129982873.91166209,{"$f":"IF($G$4=\"mensual\",S744,IF($G$4=\"trimestral\",S744,0))","v":27811.715615196634},null,1233644.4752004063,-1903.0135085324896,null,-131244.33010247769,131111182.75886668,null,{"$f":"+Bono!J753","v":98021.26610513893},null,60.833333333333336,132563170.17610955]
[null,731,60,11,104,1353966.151137718,null,12847.504448580179,0,0,-1366.8136555862982,1365446.8419307119,null,731,60,11,60,131111182.75886668,{"$f":"IF($G$17=\"si\",S742*(1+$G$20),S742)","v":27811.715615196634},null,1244350.7642177888,-1903.0135085324896,null,-132383.34523869967,132249058.87995245,null,{"$f":"+Bono!J754","v":98629.009324753933},null,60.916666666666664,133713134.73120792]
[null,732,60,12,104,1365446.8419307119,null,12956.442346260872,0,{"$f":"-SUM(F755:H755)*$J$21","v":-12405.629558492756},-1365.9976547184801,1364631.6570637615,null,732,60,12,60,132249058.87995245,{"$f":"IF($G$4=\"mensual\",S754,0)","v":27811.715615196634},null,1255147.835115978,-1903.0135085324896,null,-133532.01843068362,133396583.39874442,null,{"$f":"+Bono!J755","v":98346.461878474627},null,61,134859561.51768667]

{"sheet":"Bono","index":7,"n_rows":755,"n_cols":21,"rows_kept":755,"cut":false,"hidden":true,"merged":[[22,13,22,17],[25,11,45,11]]}
[]
[null,null,null,null,"Edad",{"$f":"+'OptiMaxx plus'!T7","v":44},null,"Aportación Anual",{"$f":"+'OptiMaxx plus'!D12","v":1500}]
[null,null,null,null,"Aportación",{"$f":"+'OptiMaxx plus'!D12","v":1500}]
[null,null,null,null,"Periodicidad",{"$f":"+'OptiMaxx plus'!K12","v":"Mensual"}]
[null,null,null,null,"Plazo",{"$f":"+'OptiMaxx plus'!D15","v":21},null,null,null,null,null,null,null,null,null,null,null,null,"mensual",12]
[null,null,null,null,"Portafolio",null,null,null,null,null,null,null,null,null,null,null,null,null,"trimestral",4]
[null,null,null,null,"Interés Anual",0.09,null,null,null,null,null,null,null,null,null,null,null,null,"semestral",2]
[null,null,null,null,"Interés Mensual",{"$f":"(1+F7)^(0.0833333333333333)-1","v":7.2073233161367156E-3},null,null,null,null,null,null,null,null,null,null,null,null,"anual",1]
[null,null,null,null,"% Bono",{"$f":"+T26","v":0.55000000000000004}]
[]
[]
[]
[]
[]
[]
[]
[null,null,null,null,"Incremento Inflación",{"$f":"+'OptiMaxx plus'!J15","v":0}]
[null,null,null,null,"Inflación",{"$f":"+Rendimientos_UDI_Inflación!S36/100","v":4.9870199999999996E-2}]
[null,null,null,null,"Udi",{"$f":"+Rendimientos_UDI_Inflación!S17","v":6.8424887369862981}]
[]
[null,null,null,null,null,null,null,{"$f":"3.6%/4","v":9.0000000000000011E-3}]
[]
[null,"Año","Mes","Edad","Saldo Anterior","Bono","Interés","Cargo Administrativo","Cargo Gestión Inversión","Saldo Final",null,null,null,"Aportación Anual",null,null,null,null,null,{"$f":"+I2*VLOOKUP(F4,$S$5:$T$8,2,0)","v":18000},"Aportación Anual"]
[1,0,1,{"$f":"F2","v":44},0,{"$f":"+$F$3*$F$9","v":825.00000000000011},{"$f":"SUM(E24:F24)*$F$8","v":5.9460417358127913},0,{"$f":"-SUM(E24:G24)*0.1%","v":-0.83094604173581288},{"$f":"SUM(E24:I24)","v":830.11509569407701},null,null,null,0,12000,36000,60000,90000,null,{"$f":"+F5","v":21},"Plazo Comprometido"]
[{"$f":"+A24+1","v":2},0,2,{"$f":"D24","v":44},{"$f":"J24","v":830.11509569407701},{"$f":"IF($F$4=\"mensual\",$F$3*$F$9,\"\")","v":825.00000000000011},11.928949620085774,0,-1.6670440453141631,1665.3770012688487,null,null,null,2,3,4,5,6]
[3,0,3,44,1665.3770012688487,{"$f":"IF($F$4=\"mensual\",$F$3*$F$9,\"\")","v":825.00000000000011},17.94895222721561,{"$f":"-SUM(E26:G26)*$H$21","v":-22.574933581464581},-2.5083259534960645,2483.2426939611041,null,"Plazo",5,0,0,0,0,0,null,{"$f":"VLOOKUP(T24,M26:R46,HLOOKUP(T23,N24:R25,2))","v":0.55000000000000004},"Bono según la tabla"]
[4,0,4,44,2483.2426939611041,{"$f":"IF(OR($F$4=\"mensual\",$F$4=\"trimestral\"),$F$3*$F$9,\"\")","v":825.00000000000011},23.843574703624807,0,-3.332086268664729,3328.7541823960642,null,null,6,0,0,0,0,0]
[5,0,5,44,3328.7541823960642,{"$f":"IF($F$4=\"mensual\",$F$3*$F$9,\"\")","v":825.00000000000011},29.937449368283556,0,-4.183691631764348,4179.5079401325838,null,null,7,0,0,0,0,0]
[6,0,6,44,4179.5079401325838,{"$f":"IF($F$4=\"mensual\",$F$3*$F$9,\"\")","v":825.00000000000011},36.069106762708898,{"$f":"-SUM(E29:G29)*$H$21","v":-45.365193422057636},-5.0405770468952928,4990.1712764263393,null,null,8,0,0,0,0,0]
[7,0,7,44,4990.1712764263393,{"$f":"IF(OR($F$4=\"mensual\",$F$4=\"trimestral\",$F$4=\"semestral\"),$F$3*$F$9,\"\")","v":825.00000000000011},41.911819527916059,0,-5.8570830959542555,5851.2260128583011,null,null,9,0,0,0,0,0]
[8,0,8,44,5851.2260128583011,{"$f":"IF($F$4=\"mensual\",$F$3*$F$9,\"\")","v":825.00000000000011},48.117719406272094,0,-6.7243437322645736,6717.6193885323082,null,null,10,0,0.05,0.15,0.25,0.35]
[9,0,9,44,6717.6193885323082,{"$f":"IF($F$4=\"mensual\",$F$3*$F$9,\"\")","v":825.00000000000011},54.362096583713765,{"$f":"-SUM(E32:G32)*$H$21","v":-68.372833366044205},-7.5969814851160216,7521.011670264862,null,null,11,0,0.05,0.15,0.25,0.35]
[10,0,10,44,7521.011670264862,{"$f":"IF(OR($F$4=\"mensual\",$F$4=\"trimestral\"),$F$3*$F$9,\"\")","v":825.00000000000011},60.152404507849077,0,-8.4061640747727129,8397.7579106979392,null,null,12,0,0.05,0.15,0.25,0.35]
[11,0,11,44,8397.7579106979392,{"$f":"IF($F$4=\"mensual\",$F$3*$F$9,\"\")","v":825.00000000000011},66.471398128857601,0,-9.2892293088267959,9279.9400795179699,null,null,13,0,0.05,0.15,0.25,0.35]
[12,0,12,44,9279.9400795179699,{"$f":"IF($F$4=\"mensual\",$F$3*$F$9,\"\")","v":825.00000000000011},72.829570243274262,{"$f":"-SUM(E35:G35)*$H$21","v":-91.599926847851222},-10.177769649761245,10075.991953263632,null,null,14,0,0.05,0.15,0.25,0.35]
[13,{"$f":"B24+1","v":1},{"$f":"C24","v":1},{"$f":"D24+1","v":45},10075.991953263632,null,72.620931737962906,0,-10.148612885001596,10138.464272116595,null,null,15,0,0.3,0.4,0.5,0.6]
[14,1,2,45,10138.464272116595,null,73.071189938244984,0,-10.21153546205484,10201.323926592786,null,null,16,0,0.3,0.4,0.5,0.6]
[15,1,3,45,10201.323926592786,null,73.524239791595534,{"$f":"-SUM(E38:G38)*$H$21","v":-92.473633497459446},-10.274848166384382,10172.099684720539,null,null,17,0,0.3,0.4,0.5,0.6]
[16,1,4,45,10172.099684720539,null,73.313611231753271,0,-10.245413295952293,10235.16788265634,null,null,18,0,0.3,0.4,0.5,0.6]
[17,1,5,45,10235.16788265634,null,73.768164125242706,0,-10.308936046781582,10298.6271107348,null,null,19,0,0.3,0.4,0.5,0.6]
[18,1,6,45,10298.6271107348,null,74.225535299396626,{"$f":"-SUM(E41:G41)*$H$21","v":-93.355673814307778},-10.372852646034197,10269.124119573855,null,null,20,0,0.55000000000000004,0.65,0.75,1]
[19,1,7,45,10269.124119573855,null,74.012897703306564,0,-10.343137017277162,10332.793880259886,null,null,21,0,0.55000000000000004,0.65,0.75,1]
[20,1,8,45,10332.793880259886,null,74.471786254031841,0,{"$f":"-SUM(E43:G43)*0.1%","v":-10.407265666513917},10396.858400847403,null,null,22,0,0.55000000000000004,0.65,0.75,1]
[21,1,9,45,10396.858400847403,null,74.93351996699937,{"$f":"-SUM(E44:G44)*$H$21","v":-94.246127287329628},-10.471791920814402,10367.074001606257,null,null,23,0,0.55000000000000004,0.65,0.75,1]
[22,1,10,45,10367.074001606257,null,74.718854171891536,0,-10.441792855778148,10431.351062922371,null,null,24,0,0.55000000000000004,0.65,0.75,1]
[23,1,11,45,10431.351062922371,null,75.182119734607923,0,-10.506533182656979,10496.026649474321,null,null,25,0,0.55000000000000004,0.65,0.75,1]
[24,1,12,45,10496.026649474321,null,75.648257597548607,{"$f":"-SUM(E47:G47)*$H$21","v":-95.145074163646825},-10.57167490707187,10465.958158001149]
[25,2,1,46,10465.958158001149,null,75.431544257872957,0,-10.541389702259023,10530.848312556764]
[26,2,2,46,10530.848312556764,null,75.899228581789345,0,-10.606747541138553,10596.140793597415]
[27,2,3,46,10596.140793597415,null,76.369812602762053,{"$f":"-SUM(E50:G50)*$H$21","v":-96.052595455801594},-10.672510606200175,10565.785500138174]
[28,2,4,46,10565.785500138174,null,76.151032188445086,0,-10.64193653232662,10631.294595794292]
[29,2,5,46,10631.294595794292,null,76.623177420986465,0,-10.707917773215279,10697.209855442063]
[30,2,6,46,10697.209855442063,null,77.09825000873505,{"$f":"-SUM(E53:G53)*$H$21","v":-96.968772949057197},-10.774308105450798,10666.56502439629]
[31,2,7,46,10666.56502439629,null,76.877382803419778,0,-10.743442407199709,10732.698964792509]
[32,2,8,46,10732.698964792509,null,77.354031494025449,0,-10.810052996286535,10799.242943290248]
[33,2,9,46,10799.242943290248,null,77.833635461800696,{"$f":"-SUM(E56:G56)*$H$21","v":-97.89368920876845},-10.87707657875205,10768.305812964529]
[34,2,10,46,10768.305812964529,null,77.610661561069776,0,-10.845916474525598,10835.070558051073]
[35,2,11,46,10835.070558051073,null,78.091856665027947,0,-10.913162414716099,10902.249252301384]
[36,2,12,46,10902.249252301384,null,78.57603523444584,{"$f":"-SUM(E59:G59)*$H$21","v":-98.827427587822484},-10.980825287535831,10871.017034660472]
[37,3,1,47,10871.017034660472,null,78.350934544027837,0,-10.949367969204499,10938.418601235295]
[38,3,2,47,10938.418601235295,null,78.836719426346704,0,-11.017255320661642,11006.23806534098]
[39,3,3,47,11006.23806534098,null,79.325516231283501,{"$f":"-SUM(E62:G62)*$H$21","v":-99.770072234150376},-11.085563581572263,10974.707945756541]
[40,3,4,47,10974.707945756541,null,79.098268465242001,0,-11.053806214221785,11042.752408007562]
[41,3,5,47,11042.752408007562,null,79.588686904557761,0,-11.12234109491212,11111.218753817207]
[42,3,6,47,11111.218753817207,null,80.0821459950823,{"$f":"-SUM(E65:G65)*$H$21","v":-100.72170809831061},-11.19130089981229,11079.387890814167]
[43,3,7,47,11079.387890814167,null,79.852730673987736,0,-11.159240621488154,11148.081380866666]
[44,3,8,47,11148.081380866666,null,80.347826866509919,0,-11.228429207733177,11217.200778525443]
[45,3,9,47,11217.200778525443,null,80.845992712853345,{"$f":"-SUM(E68:G68)*$H$21","v":-101.68242094114467},-11.298046771238296,11185.066303525913]
[46,3,10,47,11185.066303525913,null,80.614389161937424,0,-11.265680692687852,11254.415011995163]
[47,3,11,47,11254.415011995163,null,81.114207725431811,0,-11.335529219720595,11324.193690500873]
[48,3,12,47,11324.193690500873,null,81.617125221995224,{"$f":"-SUM(E71:G71)*$H$21","v":-102.65229734150583},-11.405810815722869,11291.75270756564]
[49,4,1,48,11291.75270756564,null,81.383312569287725,0,-11.373136020134927,11361.762884114793]
[50,4,2,48,11361.762884114793,null,81.887898547097279,0,-11.443650782661889,11432.207131879228]
[51,4,3,48,11432.207131879228,null,82.395613016497606,{"$f":"-SUM(E74:G74)*$H$21","v":-103.63142470406153},-11.514602744895726,11399.456717446768]
[52,4,4,48,11399.456717446768,null,82.159570190945402,0,-11.481616287637713,11470.134671350075]
[53,4,5,48,11470.134671350075,null,82.668969056049548,0,-11.552803640406124,11541.250836765717]
[54,4,6,48,11541.250836765717,null,83.181526253203941,{"$f":"-SUM(E77:G77)*$H$21","v":-104.6198912671703},-11.624432363018922,11508.188039388733]
[55,4,7,48,11508.188039388733,null,82.94323198277209,0,-11.591131271371506,11579.540140100135]
[56,4,8,48,11579.540140100135,null,83.457489641884706,0,-11.662997629742019,11651.334632112277]
[57,4,9,48,11651.334632112277,null,83.974935758134023,{"$f":"-SUM(E80:G80)*$H$21","v":-105.61778611083371},-11.735309567870411,11617.956472191707]
[58,4,10,48,11617.956472191707,null,83.734368567888751,0,-11.701690840759595,11689.989149918834]
[59,4,11,48,11689.989149918834,null,84.253531365595236,0,-11.774242681284431,11762.468438603146]
[60,4,12,48,11762.468438603146,null,84.775913032866683,{"$f":"-SUM(E83:G83)*$H$21","v":-106.62519916472412},-11.847244351636013,11728.771908119652]
[61,5,1,49,11728.771908119652,null,84.533051243040077,0,-11.813304959362693,11801.491654403329]
[62,5,2,49,11801.491654403329,null,85.057165965973979,0,-11.886548820369304,11874.662271548934]
[63,5,3,49,11874.662271548934,null,85.584530260983612,{"$f":"-SUM(E86:G86)*$H$21","v":-107.64222121628927},-11.960246801809918,11840.644333791819]
[64,5,4,49,11840.644333791819,null,85.33935198501986,0,-11.925983685776838,11914.057702091062]
[65,5,5,49,11914.057702091062,null,{"$f":"SUM(E88:F88)*$F$8","v":85.868465866079134},0,{"$f":"-SUM(E88:G88)*0.1%","v":-11.999926167957142},{"$f":"SUM(E88:I88)","v":11987.926241789184}]
[{"$f":"+A88+1","v":66},5,6,49,{"$f":"J88","v":11987.926241789184},null,86.400860314574373,{"$f":"-SUM(E89:G89)*$H$21","v":-108.66894391893383},-12.074327102103759,11953.58383108272]
[67,5,7,49,11953.58383108272,null,86.153343457157334,0,-12.039737174539878,12027.697437365337]
[68,5,8,49,12027.697437365337,null,86.687504179761021,0,-12.114384941545099,12102.270556603553]
[69,5,9,49,12102.270556603553,null,87.224976760803656,{"$f":"-SUM(E92:G92)*$H$21","v":-109.70545980027921},-12.189495533364356,12067.600578030711]
[70,5,10,49,12067.600578030711,null,86.975099015865652,0,-12.154575677046578,12142.421101369531]
[71,5,11,49,12142.421101369531,null,87.514354718251084,0,-12.229935456087782,12217.705520631695]
[72,5,12,49,12217.705520631695,null,88.056953868541086,{"$f":"-SUM(E95:G95)*$H$21","v":-110.75186227050213},-12.305762474500236,12182.704849755233]
[73,6,1,50,12182.704849755233,null,87.804692717252735,0,-12.270509542472487,12258.239032930014]
[74,6,2,50,12258.239032930014,null,88.349091996813669,0,-12.346588124926829,12334.241536801901]
[75,6,3,50,12334.241536801901,null,88.896866615054293,{"$f":"-SUM(E98:G98)*$H$21","v":-111.80824563075261},-12.423138403416955,12298.907019382785]
[76,6,4,50,12298.907019382785,null,88.642199323795055,0,-12.38754921870658,12375.161669487872]
[77,{"$f":"B88+1","v":6},{"$f":"C88","v":5},{"$f":"D88+1","v":50},12375.161669487872,null,89.191791241461303,0,-12.464353460729333,12451.889107268604]
[78,6,6,50,12451.889107268604,null,89.744790692765804,{"$f":"-SUM(E101:G101)*$H$21","v":-112.87470508165235},-12.54163389796137,12416.217558981756]
[79,6,7,50,12416.217558981756,null,89.487694311075302,0,-12.505705253292833,12493.19954803954]
[80,6,8,50,12493.19954803954,null,90.042528395734053,0,-12.583242076435274,12570.658834358839]
[81,6,9,50,12570.658834358839,null,90.600802516074452,{"$f":"-SUM(E104:G104)*$H$21","v":-113.95133673187422},-12.661259636874913,12534.647040506165]
[82,6,10,50,12534.647040506165,null,90.341253874584154,0,-12.624988294380747,12612.363306086367]
[83,6,11,50,12612.363306086367,null,90.901380127543419,0,-12.70326468621391,12690.561421527696]
[84,6,12,50,12690.561421527696,null,91.464979228241674,{"$f":"-SUM(E107:G107)*$H$21","v":-115.03823760680346},-12.782026400755939,12654.20613674838]
[85,7,1,51,12654.20613674838,null,91.202954936586906,0,-12.745409091684968,12732.663682593282]
[86,7,2,51,12732.663682593282,null,91.768423836081737,0,-12.824432106429365,12811.607674322935]
[87,7,3,51,12811.607674322935,null,92.33739870834377,{"$f":"-SUM(E110:G110)*$H$21","v":-116.13550565728151},-12.903945073031279,12774.905622300967]
[88,7,4,51,12774.905622300967,null,92.072875153055776,0,-12.866978497454022,12854.111518956568]
[89,7,5,51,12854.111518956568,null,92.643737658797207,0,-12.946755256615365,12933.80850135875]
[90,7,6,51,12933.80850135875,null,93.218139578290192,{"$f":"-SUM(E113:G113)*$H$21","v":-117.24323976843337},-13.02702664093704,12896.756374527669]
[91,7,7,51,12896.756374527669,null,92.951092920668088,0,-12.989707467448337,12976.717759980889]
[92,7,8,51,12976.717759980889,null,93.52740047843568,0,-13.070245160459324,13057.174915298865]
[93,7,9,51,13057.174915298865,null,94.107281209908962,{"$f":"-SUM(E116:G116)*$H$21","v":-118.36153976857898},-13.151282196508774,13019.769374543686]
[94,7,10,51,13019.769374543686,null,93.837687383871454,0,-13.113607061927558,13100.493454865631]
[95,7,11,51,13100.493454865631,null,94.419491930149505,0,-13.194912946795782,13181.718033848985]
[96,7,12,51,13181.718033848985,null,95.004903732099621,{"$f":"-SUM(E119:G119)*$H$21","v":-119.49050643822979},-13.276722937581086,13143.955708205276]
[97,8,1,52,13143.955708205276,null,94.732738442016156,0,-13.238688446647293,13225.449758200646]
[98,8,2,52,13225.449758200646,null,95.320092408674199,0,-13.32076985060932,13307.449080758712]
[99,8,3,52,13307.449080758712,null,95.911088038054359,{"$f":"-SUM(E122:G122)*$H$21","v":-120.63024151917091},-13.403360168796766,13269.326567108797]
[100,8,4,52,13269.326567108797,null,95.636326756555604,0,-13.364962893865354,13351.597930971488]
[101,8,5,52,13351.597930971488,null,96.229283075573534,0,-13.447827214047061,13434.379386833014]
[102,8,6,52,13434.379386833014,null,96.825915792548059,{"$f":"-SUM(E125:G125)*$H$21","v":-121.78084772363007},-13.531205302625562,13395.893249599305]
[103,8,7,52,13395.893249599305,null,96.5485337583155,0,-13.492441783357622,13478.949341574264]
[104,8,8,52,13478.949341574264,null,97.147145866553828,0,-13.576096487440818,13562.520390953378]
[105,8,9,52,13562.520390953378,null,97.749469439297926,{"$f":"-SUM(E128:G128)*$H$21","v":-122.94242874353408},-13.660269860392676,13523.667161788748]
[106,8,10,52,13523.667161788748,null,97.46944165483248,0,-13.621136603443579,13607.515466840136]
[107,8,11,52,13607.515466840136,null,98.073763498847896,0,-13.705589230338983,13691.883641108643]
[108,8,12,52,13691.883641108643,null,98.681832208393189,{"$f":"-SUM(E131:G131)*$H$21","v":-124.11508925985333},-13.790565473317036,13652.659818583867]
[109,9,1,53,13652.659818583867,null,98.399133437762359,0,-13.75105895202163,13737.307893069607]
[110,9,2,53,13737.307893069607,null,99.009219478669507,0,-13.836317112548278,13822.480795435729]
[111,9,3,53,13822.480795435729,null,99.62308812379591,{"$f":"-SUM(E134:G134)*$H$21","v":-125.29893495203574},-13.922103883559524,13782.882844723928]
[112,9,4,53,13782.882844723928,null,99.337692890359506,0,-13.882220537614289,13868.338317076674]
[113,9,5,53,13868.338317076674,null,99.95359810873893,0,-13.968291915185413,13954.323623270227]
[114,9,6,53,13954.323623270227,null,100.57332201091289,{"$f":"-SUM(E137:G137)*$H$21","v":-126.49407250753028},-14.05489694528114,13914.347975828328]
[115,9,7,53,13914.347975828328,null,100.28520459502722,0,-14.014633180423356,14000.618547242933]
[116,9,8,53,14000.618547242933,null,100.90698449588014,0,-14.101525531738814,14087.424006207075]
[117,9,9,53,14087.424006207075,null,101.53261950424034,{"$f":"-SUM(E140:G140)*$H$21","v":-127.70060963140185},-14.188956625711315,14047.067059454203]
[118,9,10,53,14047.067059454203,null,101.24175394094028,0,-14.148308813395143,14134.160504581747]
[119,9,11,53,14134.160504581747,null,101.86946455869071,0,-14.236029969140438,14221.793939171297]
[120,9,12,53,14221.793939171297,null,102.50106705508112,{"$f":"-SUM(E143:G143)*$H$21","v":-128.91865505603744},-14.324295006226379,14181.052056164115]
[121,10,1,54,14181.052056164115,null,102.20742713174015,0,-14.283259483295856,14268.976223812559]
[122,10,2,54,14268.976223812559,null,102.84112503528468,0,-14.371817348847843,14357.445531498994]
[123,10,3,54,14357.445531498994,null,103.4787519393356,{"$f":"-SUM(E146:G146)*$H$21","v":-130.14831855094499},-14.460924283438329,14316.315040603948]
[124,10,4,54,14316.315040603948,null,103.18231119330358,0,-14.419497351797251,14405.077854445453]
[125,10,5,54,14405.077854445453,null,103.82205349110937,0,-14.508899907936563,14494.391008028626]
[126,10,6,54,14494.391008028626,null,104.46576226536708,{"$f":"-SUM(E149:G149)*$H$21","v":-131.38971093264595},-14.598856770293994,14452.868202591053]
[127,10,7,54,14452.868202591053,null,104.16649398158545,0,-14.557034696572639,14542.477661876066]
[128,10,8,54,14542.477661876066,null,104.81233832683672,0,-14.647290000202904,14632.642710202701]
[129,10,9,54,14632.642710202701,null,{"$f":"SUM(E152:F152)*$F$8","v":105.46218698194187},{"$f":"-SUM(E152:G152)*$H$21","v":-132.64294407466181},{"$f":"-SUM(E152:G152)*0.1%","v":-14.738104897184643},{"$f":"SUM(E152:I152)","v":14590.723848212798}]
[{"$f":"+A152+1","v":130},10,10,54,{"$f":"J152","v":14590.723848212798},null,105.16006419053612,0,-14.695883912403335,14681.188028490931]
[131,10,11,54,14681.188028490931,null,105.8120687863299,0,-14.787000097277261,14772.213097179983]
[132,10,12,54,14772.213097179983,null,106.46811588624546,{"$f":"-SUM(E155:G155)*$H$21","v":-133.90813091759608},-14.87868121306623,14729.894400935567]
[133,11,1,55,14729.894400935567,null,106.16311136009458,0,-14.836057512295662,14821.221454783366]
[134,11,2,55,14821.221454783366,null,106.82133496468589,0,-14.928042789748053,14913.114746958305]
[135,11,3,55,14913.114746958305,null,107.48363963197488,{"$f":"-SUM(E158:G158)*$H$21","v":-135.18538547931254},-15.020598386590279,14870.392402724377]
[136,11,4,55,14870.392402724377,null,107.17572588425769,0,-14.977568128608635,14962.590560480026]
[137,11,5,55,14962.590560480026,null,107.84022781635483,0,-15.070430788296381,15055.360357508083]
[138,11,6,55,15055.360357508083,null,108.50884973750841,{"$f":"-SUM(E161:G161)*$H$21","v":-136.47482286521034},-15.163869207245593,15012.230515173138]
[139,11,7,55,15012.230515173138,null,108.19799901922646,0,-15.120428514192366,15105.308085678173]
[140,11,8,55,15105.308085678173,null,108.86883916333674,0,-15.21417692484151,15198.962747916668]
[141,{"$f":"B152+1","v":11},{"$f":"C152","v":9},{"$f":"D152+1","v":55},15198.962747916668,null,109.54383859415317,{"$f":"-SUM(E164:G164)*$H$21","v":-137.7765592785974},-15.308506586510822,15155.421520645712]
[142,11,10,55,15155.421520645712,null,109.23002289163,0,-15.264651543537342,15249.386891993805]
[143,11,11,55,15249.386891993805,null,109.90726170345656,0,-15.359294153697261,15343.934859543564]
[144,11,12,55,15343.934859543564,null,110.58869947447127,{"$f":"-SUM(E167:G167)*$H$21","v":-139.09071203116233},-15.454523559018035,15299.978323427855]
[145,12,1,56,15299.978323427855,null,110.27189050682792,0,-15.410250213934683,15394.839963720749]
[146,12,2,56,15394.839963720749,null,110.95558901871787,0,-15.505795552739468,15490.289757186729]
[147,12,3,56,15490.289757186729,null,111.64352654068566,{"$f":"-SUM(E170:G170)*$H$21","v":-140.41739955354674},-15.601933283727414,15445.913950890139]
[148,12,4,56,15445.913950890139,null,111.32369575729187,0,-15.557237646647431,15541.680409000783]
[149,12,5,56,15541.680409000783,null,112.01391558373655,0,-15.653694324584519,15638.040630259935]
[150,12,6,56,15638.040630259935,null,112.70841485316573,{"$f":"-SUM(E173:G173)*$H$21","v":-141.75674140601791},-15.7507490451131,15593.241554661969]
[151,12,7,56,15593.241554661969,null,112.38553343106713,0,-15.705627088093035,15689.921461004942]
[152,12,8,56,15689.921461004942,null,113.08233677425476,0,-15.803003797779196,15787.200793981418]
[153,12,9,56,15787.200793981418,null,113.78346037899433,{"$f":"-SUM(E176:G176)*$H$21","v":-143.10885828924373},-15.900984254360413,15741.974411816807]
[154,12,10,56,15741.974411816807,null,113.45749922031483,0,-15.855431911037122,15839.576479126084]
[155,12,11,56,15839.576479126084,null,114.16094887573614,0,-15.953737428001821,15937.783690573819]
[156,12,12,56,15937.783690573819,null,114.86876000061616,{"$f":"-SUM(E179:G179)*$H$21","v":-144.47387205516992},-16.052652450574435,15892.125926068689]
[157,13,1,57,15892.125926068689,null,114.53968972993566,0,-16.006665615798624,15990.658950182828]
[158,13,2,57,15990.658950182828,null,115.24984909204295,0,-16.105908799274872,16089.802890475596]
[159,13,3,57,16089.802890475596,null,115.96441152456869,{"$f":"-SUM(E182:G182)*$H$21","v":-145.85190571800149},-16.205767302000165,16043.709628980161]
[160,13,4,57,16043.709628980161,null,115.63220248627584,0,-16.159341831466438,16143.182489634972]
[161,13,5,57,16143.182489634972,null,116.34913555419608,0,-16.259531625189169,16243.272093563977]
[162,13,6,57,16243.272093563977,null,117.07051369029649,{"$f":"-SUM(E185:G185)*$H$21","v":-147.24308346528846},-16.360342607254275,16196.739181181731]
[163,13,7,57,16196.739181181731,null,116.73513594591618,0,-16.313474317127646,16297.160842810519]
[164,13,8,57,16297.160842810519,null,117.45890732921855,0,-16.414619750139735,16398.205130389597]
[165,13,9,57,16398.205130389597,null,118.18716617904965,{"$f":"-SUM(E188:G188)*$H$21","v":-148.64753066911783},-16.516392296568647,16351.22837360296]
[166,13,10,57,16351.22837360296,null,117.84858950454485,0,-16.469076963107504,16452.607886144397]
[167,13,11,57,16452.607886144397,null,118.57926442906331,0,-16.571187150573461,16554.615963422886]
[168,13,12,57,16554.615963422886,null,119.31446962286684,{"$f":"-SUM(E191:G191)*$H$21","v":-150.0653738974118},-16.673930433045754,16507.191128715298]
[169,14,1,58,16507.191128715298,null,118.97266350591491,0,-16.626163792221213,16609.537628428992]
[170,14,2,58,16609.537628428992,null,119.71030781962641,0,-16.729247936248619,16712.518688312372]
[171,14,3,58,16712.518688312372,null,120.45252561364435,{"$f":"-SUM(E194:G194)*$H$21","v":-151.49674092533417},-16.832971213926015,16664.641501786755]
[172,14,4,58,16664.641501786755,null,120.10745925088725,0,-16.784748961037643,16767.964212076604]
[173,14,5,58,16767.964212076604,null,120.85213942984572,0,-16.888816351506449,16871.92753515494]
[174,14,6,58,16871.92753515494,null,121.60143671229127,{"$f":"-SUM(E197:G197)*$H$21","v":-152.9417607468051},-16.993528971867232,16823.593682148559]
[175,14,7,58,16823.593682148559,null,121.25307900655966,0,-16.944846761155119,16927.901914393966]
[176,14,8,58,16927.901914393966,null,122.00486216088697,0,-17.049906776554852,17032.856869778298]
[177,14,9,58,17032.856869778298,null,122.76130645797255,{"$f":"-SUM(E200:G200)*$H$21","v":-154.40056358612642},-17.155618176236271,16984.061994473908]
[178,14,10,58,16984.061994473908,null,122.40962601548325,0,-17.106471620489394,17089.365148868903]
[179,14,11,58,17089.365148868903,null,123.16857989541704,0,-17.212533728764321,17195.321195035554]
[180,14,12,58,17195.321195035554,null,123.9322393774396,{"$f":"-SUM(E203:G203)*$H$21","v":-155.87328090971695},-17.319253434412992,17146.060900068864]
[181,15,1,59,17146.060900068864,null,123.5772045049664,0,-17.269638104573833,17252.368466469256]
[182,15,2,59,17252.368466469256,null,124.3433975069657,0,-17.376711863976222,17359.335152112246]
[183,15,3,59,17359.335152112246,null,125.11434099445029,{"$f":"-SUM(E206:G206)*$H$21","v":-157.36004543796028},-17.484449493106695,17309.60499817563]
[184,15,4,59,17309.60499817563,null,124.75591969646784,0,-17.434360917872098,17416.926556954226]
[185,15,5,59,17416.926556954226,null,125.52942086937696,0,-17.542455977823604,17524.913521845781]
[186,15,6,59,17524.913521845781,null,126.30771783927871,{"$f":"-SUM(E209:G209)*$H$21","v":-158.86099115716556},-17.651221239685061,17474.709027288209]
[187,15,7,59,17474.709027288209,null,125.94587781507906,0,-17.600654905103291,17583.054250198187]
[188,15,8,59,17583.054250198187,null,126.72675686635017,0,-17.709781007064539,17692.071226057473]
[189,15,9,59,17692.071226057473,null,127.51247745831552,{"$f":"-SUM(E212:G212)*$H$21","v":-160.37625333164212},-17.819583703515789,17641.387866480633]
[190,15,10,59,17641.387866480633,null,127.14718609909721,0,-17.768535052579729,17750.76651752715]
[191,15,11,59,17750.76651752715,null,127.93551340107236,0,-17.878702030928224,17860.823328897295]
[192,15,12,59,17860.823328897295,null,128.72872842376006,{"$f":"-SUM(E215:G215)*$H$21","v":-161.90596851588953},-17.989552057321056,17809.656536747843]
[193,16,1,60,17809.656536747843,null,{"$f":"SUM(E216:F216)*$F$8","v":128.35995280968939},0,{"$f":"-SUM(E216:G216)*0.1%","v":-17.938016489557533},{"$f":"SUM(E216:I216)","v":17920.078473067973}]
[{"$f":"+A216+1","v":194},16,2,60,{"$f":"J216","v":17920.078473067973},null,129.15579940594245,0,-18.049234272473917,18031.185038201442]
[195,16,3,60,18031.185038201442,null,129.95658034340474,{"$f":"-SUM(E218:G218)*$H$21","v":-163.45027456690363},-18.161141618544846,17979.530202359398]
[196,16,4,60,17979.530202359398,null,129.58428724064916,0,-18.109114489600049,18091.005375110446]
[197,16,5,60,18091.005375110446,null,130.38772485238817,0,-18.221393099962835,18203.171706862871]
[198,16,6,60,18203.171706862871,null,131.19614387051294,{"$f":"-SUM(E221:G221)*$H$21","v":-165.00931065660046},-18.334367850733383,18151.024172226047]
[199,16,7,60,18151.024172226047,null,130.82029972824591,0,-18.281844471954294,18263.562627482337]
[200,16,8,60,18263.562627482337,null,131.63140076077659,0,-18.395194028243115,18376.798834214871]
[201,16,9,60,18376.798834214871,null,132.44753071379085,{"$f":"-SUM(E224:G224)*$H$21","v":-166.58321728435797},-18.509246364928661,18324.153901279376]
[202,16,10,60,18324.153901279376,null,132.06810166116841,0,-18.456222002940542,18437.765780937603]
[203,16,11,60,18437.765780937603,null,132.88693921041926,0,-18.570652720148026,18552.082067427877]
[204,16,12,60,18552.082067427877,null,133.71085364745477,{"$f":"-SUM(E227:G227)*$H$21","v":-168.17213628967801},-18.685792921075333,18498.934991864578]
[205,{"$f":"B216+1","v":17},{"$f":"C216","v":1},{"$f":"D216+1","v":61},18498.934991864578,null,133.32780549056295,0,-18.632262797355143,18613.630534557786]
[206,17,2,61,18613.630534557786,null,134.15445334967265,0,-18.747784987907462,18729.037202919553]
[207,17,3,61,18729.037202919553,null,134.98622652139406,{"$f":"-SUM(E230:G230)*$H$21","v":-169.77621086496853},-18.864023429440945,18675.383195146536]
[208,17,4,61,18675.383195146536,null,134.59952474016742,0,-18.809982719886701,18791.172737166817]
[209,17,5,61,18791.172737166817,null,135.434057406135,0,-18.926606794572951,18907.68018777838]
[210,17,6,61,18907.68018777838,null,136.27376427143136,{"$f":"-SUM(E233:G233)*$H$21","v":-171.39558556844833},-19.043953952049812,18853.514412529315]
[211,17,7,61,18853.514412529315,null,135.88337401654215,0,-18.989397786545858,18970.408388759311]
[212,17,8,61,18970.408388759311,null,136.72586669694053,0,-19.107134255456252,19088.027121200794]
[213,17,9,61,19088.027121200794,null,137.57358292968047,{"$f":"-SUM(E236:G236)*$H$21","v":-173.03040633717427},-19.225600704130475,19033.344697089171]
[214,17,10,61,19033.344697089171,null,137.17946901939789,0,-19.170524166108567,19151.35364194246]
[215,17,11,61,19151.35364194246,null,138.0299976391517,0,-19.289383639581612,19270.094255942029]
[216,17,12,61,19270.094255942029,null,138.88579963500317,{"$f":"-SUM(E239:G239)*$H$21","v":-174.68082050019331},-19.408980055577032,19214.890255021259]
[217,18,1,62,19214.890255021259,null,138.48792655202288,0,-19.35337818157328,19334.024803391705]
[218,18,2,62,19334.024803391705,null,139.34656776025062,0,-19.473371371151956,19453.897999780806]
[219,18,3,62,19453.897999780806,null,140.21053264356561,{"$f":"-SUM(E242:G242)*$H$21","v":-176.34697679181937},-19.594108532424372,19398.167447100132]
[220,18,4,62,19398.167447100132,null,139.80886453180901,0,-19.53797631163194,19518.438335320308]
[221,18,5,62,19518.438335320308,null,140.67569570873076,0,-19.659114031029041,19639.454916998009]
[222,18,6,62,19639.454916998009,null,141.54790133949561,{"$f":"-SUM(E245:G245)*$H$21","v":-178.02902536503754},-19.781002818337505,19583.192790154128]
[223,18,7,62,19583.192790154128,null,141.14240200087826,0,-19.724335192155007,19704.610856962852]
[224,18,8,62,19704.610856962852,null,142.01750126478905,0,-19.84662835822764,19826.781729869414]
[225,18,9,62,19826.781729869414,null,142.89802624564126,{"$f":"-SUM(E248:G248)*$H$21","v":-179.72711780503553},-19.969679756115056,19769.982958553905]
[226,18,10,62,19769.982958553905,null,142.48865913681109,0,-19.912471617690716,19892.559146073025]
[227,18,11,62,19892.559146073025,null,143.37210535112078,0,-20.035931251424145,20015.895320172724]
[228,18,12,62,20015.895320172724,null,144.26102903443265,{"$f":"-SUM(E251:G251)*$H$21","v":-181.44140714286442},-20.160156349207156,19958.554785715081]
[229,19,1,63,19958.554785715081,null,143.84775726347632,0,-20.10240254297856,20082.300140435578]
[230,19,2,63,20082.300140435578,null,144.73963004381699,0,-20.227039770479394,20206.812730708916]
[231,19,3,63,20206.812730708916,null,145.6370325388466,{"$f":"-SUM(E254:G254)*$H$21","v":-183.17204786922989},-20.352449763247762,20148.925265615286]
[232,19,4,63,20148.925265615286,null,145.21981886196522,0,-20.29414508447725,20273.850939392774]
[233,19,5,63,20273.850939392774,null,146.12019858336581,0,-20.419971137976141,20399.551166838162]
[234,19,6,63,20399.551166838162,null,147.02616076347664,{"$f":"-SUM(E257:G257)*$H$21","v":-184.9191959484148},-20.546577327601643,20341.111554325624]
[235,19,7,63,20341.111554325624,null,146.60496758162901,0,-20.487716521907252,20467.228805385344]
[236,19,8,63,20467.228805385344,null,147.5139353857588,0,-20.614742740771103,20594.127998030333]
[237,19,9,63,20594.127998030333,null,148.42853889570796,{"$f":"-SUM(E260:G260)*$H$21","v":-186.68300883233439},-20.742556536926042,20535.13097155678]
[238,19,10,63,20535.13097155678,null,148.0033282512224,0,-20.683134299808003,20662.451165508195]
[239,19,11,63,20662.451165508195,null,148.92096605370347,0,-20.811372131561896,20790.560759430336]
[240,19,12,63,20790.560759430336,null,149.84429331699931,{"$f":"-SUM(E263:G263)*$H$21","v":-188.46364547472606},-20.940405052747337,20731.001002219862]
[241,20,1,64,20731.001002219862,null,149.41502689015283,0,-20.880416029110016,20859.535613080905]
[242,20,2,64,20859.535613080905,null,150.34141738794219,0,-21.009877030468846,20988.867153438379]
[243,20,3,64,20988.867153438379,null,151.27355161427249,{"$f":"-SUM(E266:G266)*$H$21","v":-190.26126634547387},-21.140140705052652,20928.739298002121]
[244,20,4,64,20928.739298002121,null,150.84019071983744,0,-21.079579488721961,21058.499909233236]
[245,20,5,64,21058.499909233236,null,151.77541739867962,0,-21.210275326631916,21189.065051305282]
[246,20,6,64,21189.065051305282,null,152.71644259141019,{"$f":"-SUM(E269:G269)*$H$21","v":-192.07603344507024},-21.341781493896693,21128.363678957721]
[247,20,7,64,21128.363678957721,null,152.2789481751681,0,-21.280642627132888,21259.361984505755]
[248,20,8,64,21259.361984505755,null,153.22309531711883,0,-21.412585079822875,21391.172494743052]
[249,20,9,64,21391.172494743052,null,154.173096280864,{"$f":"-SUM(E272:G272)*$H$21","v":-193.90811031921527},-21.545345591023917,21329.892135113678]
[250,20,10,64,21329.892135113678,null,153.73142891608597,0,-21.483623564029763,21462.139940465735]
[251,20,11,64,21462.139940465735,null,154.68458160710776,0,-21.616824522072843,21595.20769755077]
[252,20,12,64,21595.20769755077,null,155.64364395537274,{"$f":"-SUM(E275:G275)*$H$21","v":-195.75766207355531},-21.750851341506142,21533.342828091081]
[253,21,1,65,21533.342828091081,null,155.19776383926617,0,-21.688540591930348,21666.852051338417]
[254,21,2,65,21666.852051338417,null,156.160007976896,0,-21.823012059315314,21801.189047256001]
[255,21,3,65,21801.189047256001,null,157.12821813979255,{"$f":"-SUM(E278:G278)*$H$21","v":-197.62485538856214},-21.958317265395792,21738.734092741834]
[256,21,4,65,21738.734092741834,null,156.67808508991436,0,-21.895412177831751,21873.516765653916]
[257,21,5,65,21873.516765653916,null,{"$f":"SUM(E280:F280)*$F$8","v":157.64950739100482},0,{"$f":"-SUM(E280:G280)*0.1%","v":-22.031166273044921},{"$f":"SUM(E280:I280)","v":22009.135106771875}]
[{"$f":"+A280+1","v":258},21,6,65,{"$f":"J280","v":22009.135106771875},null,158.62695262304007,{"$f":"-SUM(E281:G281)*$H$21","v":-199.50985853455424},-22.167762059394914,21946.084438800965]
[259,21,7,65,21946.084438800965,null,158.17252607367533,0,-22.10425696487464,22082.152707909765]
[260,21,8,65,22082.152707909765,null,159.15321408220956,0,-22.241305921991973,22219.064616069983]
[261,21,9,65,22219.064616069983,null,160.13998247014948,{"$f":"-SUM(E284:G284)*$H$21","v":-201.41284138686123},-22.379204598540134,22155.412552554735]
[262,21,10,65,22155.412552554735,null,159.68122146865582,0,-22.315093774023389,22292.778680249365]
[263,21,11,65,22292.778680249365,null,160.67126356363673,0,-22.453449943813002,22430.996493869188]
[264,21,12,65,22430.996493869188,null,161.66744403444432,{"$f":"-SUM(E287:G287)*$H$21","v":-203.33397544113271},-22.59266393790363,22366.737298524597]
[265,22,1,66,22366.737298524597,null,161.20430723756107,0,-22.527941605762155,22505.413664156393]
[266,22,2,66,22505.413664156393,null,162.20379264097622,0,-22.66761745679737,22644.94983934057]
[267,22,3,66,22644.94983934057,null,163.20947496982566,{"$f":"-SUM(E290:G290)*$H$21","v":-205.2734338287936},-22.808159314310398,22580.077721167294]
[268,22,4,66,22580.077721167294,null,162.74192063994823,0,-22.742819641807245,22720.076822165436]
[269,{"$f":"B280+1","v":22},{"$f":"C280","v":5},{"$f":"D280+1","v":66},22720.076822165436,null,163.75093942481033,0,-22.883827761590247,22860.943933828657]
[270,22,6,66,22860.943933828657,null,164.7662142431775,{"$f":"-SUM(E293:G293)*$H$21","v":-207.23139133264652},-23.025710148071834,22795.453046591116]
[271,22,7,66,22795.453046591116,null,164.29420024459588,0,-22.959747246835711,22936.787499588878]
[272,22,8,66,22936.787499588878,null,165.31284334306008,0,-23.102100342931941,23078.998242589008]
[273,22,9,66,23078.998242589008,null,166.33780214689006,{"$f":"-SUM(E296:G296)*$H$21","v":-209.2080244026231},-23.245336044735897,23012.882684288539]
[274,22,10,66,23012.882684288539,null,165.86128594199167,0,-23.178743970230531,23155.5652262603]
[275,22,11,66,23155.5652262603,null,166.88964515355039,0,-23.32245487141385,23299.132416542438]
[276,22,12,66,23299.132416542438,null,167.92438031150309,{"$f":"-SUM(E299:G299)*$H$21","v":-211.20351117168548},-23.467056796853939,23232.3862288854]
[277,23,1,67,23232.3862288854,null,167.44331895693929,0,-23.399829547842341,23376.429718294497]
[278,23,2,67,23376.429718294497,null,168.48148695669516,0,-23.544911205251193,23521.36629404594]
[279,23,3,67,23521.36629404594,null,169.52609171846956,{"$f":"-SUM(E302:G302)*$H$21","v":-213.2180314718797},-23.690892385764407,23453.983461906766]
[280,23,4,67,23453.983461906766,null,169.04044186128556,0,-23.623023903768051,23599.400879864283]
[281,23,5,67,23599.400879864283,null,170.08851220830317,0,-23.769489392072586,23745.71990268051]
[282,23,6,67,23745.71990268051,null,171.14308071304092,{"$f":"-SUM(E305:G305)*$H$21","v":-215.251766850542},-23.916862983393553,23677.694353559615]
[283,23,7,67,23677.694353559615,null,170.65279858676888,0,-23.848347152146385,23824.498804994237]
[284,23,8,67,23824.498804994237,null,171.71086573250628,0,-23.996209670726746,23972.213461056017]
[285,23,9,67,23972.213461056017,null,172.77549301727547,{"$f":"-SUM(E308:G308)*$H$21","v":-217.30490058665964},-24.144988954073291,23903.539064532557]
[286,23,10,67,23903.539064532557,null,172.28053443799033,0,-24.075819598970547,24051.743779371576]
[287,23,11,67,24051.743779371576,null,173.34869373481098,0,-24.225092473106386,24200.867380633281]
[288,23,12,67,24200.867380633281,null,174.42347574317074,{"$f":"-SUM(E311:G311)*$H$21","v":-219.37761770738808},-24.375290856376452,24131.537947812685]
[289,24,1,68,24131.537947812685,null,173.9237961055083,0,-24.305461743918194,24281.156282174274]
[290,24,2,68,24281.156282174274,null,175.00214381527414,0,-24.456158425989546,24431.702267563556]
[291,24,3,68,24431.702267563556,null,176.0871774059211,{"$f":"-SUM(E314:G314)*$H$21","v":-221.4701050047253},-24.607789444969477,24361.71155051978]
[292,24,4,68,24361.71155051978,null,175.58273167905836,0,-24.53729428219884,24512.75698791664]
[293,24,5,68,24512.75698791664,null,176.6713649818048,0,-24.689428352898446,24664.738924545545]
[294,24,6,68,24664.738924545545,null,177.76674793730191,{"$f":"-SUM(E317:G317)*$H$21","v":-223.58255105234565},-24.842505672482847,24594.080615758015]
[295,24,7,68,24594.080615758015,null,177.25749066089878,0,-24.771338106418913,24746.566768312492]
[296,24,8,68,24746.566768312492,null,178.35650766359262,0,-24.924923275976084,24899.99835270011]
[297,24,9,68,24899.99835270011,null,179.46233869918132,{"$f":"-SUM(E320:G320)*$H$21","v":-225.71514622259363},-25.079460691399291,24828.6660844853]
[298,24,10,68,24828.6660844853,null,178.9482239792838,0,-25.007614308464586,24982.606694156118]
[299,24,11,68,24982.606694156118,null,180.05772372466458,0,-25.162664417880784,25137.501753462904]
[300,24,12,68,25137.501753462904,null,181.17410249716076,{"$f":"-SUM(E323:G323)*$H$21","v":-227.8680827036406},-25.318675855960066,25065.489097400463]
[301,25,1,69,25065.489097400463,null,180.655084002065,0,-25.246144181402528,25220.898037221126]
[302,25,2,69,25220.898037221126,null,181.77516647757054,0,-25.402673203698697,25377.270530495]
[303,25,3,69,25377.270530495,null,182.90219359434576,{"$f":"-SUM(E326:G326)*$H$21","v":-230.04155451680413},-25.560172724089345,25304.570996848452]
[304,25,4,69,25304.570996848452,null,182.37822455042274,0,-25.486949221398874,25461.462272177476]
[305,25,5,69,25461.462272177476,null,183.50899069720003,0,-25.644971262874677,25619.3262916118]
[306,25,6,69,25619.3262916118,null,184.64676772524811,{"$f":"-SUM(E329:G329)*$H$21","v":-232.23575753403347},-25.80397305933705,25545.933328743678]
[307,25,7,69,25545.933328743678,null,184.11780091272834,0,-25.730051129656406,25704.321078526751]
[308,25,8,69,25704.321078526751,null,185.25935263473031,0,-25.88958043116148,25863.69085073032]
[309,25,9,69,25863.69085073032,null,186.40798210982047,{"$f":"-SUM(E332:G332)*$H$21","v":-234.45088949556128},-26.050098832840142,25789.59784451174]
[310,25,10,69,25789.59784451174,null,185.87396985853866,0,-25.975471814370277,25949.496342555907]
[311,25,11,69,25949.496342555907,null,187.02641003170763,0,-26.136522752587616,26110.386229835025]
[312,25,12,69,26110.386229835025,null,188.18599546762502,{"$f":"-SUM(E335:G335)*$H$21","v":-236.68715002772387},-26.298572225302649,26035.586503049624]
[313,26,1,70,26035.586503049624,null,187.64688965272393,0,-26.223233392702348,26197.010159309644]
[314,26,2,70,26197.010159309644,null,188.8103221342628,0,-26.385820481443908,26359.434660962466]
[315,26,3,70,26359.434660962466,null,189.98096803213707,{"$f":"-SUM(E338:G338)*$H$21","v":-238.94474066095145},-26.549415628994605,26283.92147270466]
[316,26,4,70,26283.92147270466,null,189.43672006973077,0,-26.473358192774391,26446.884834581615]
[317,26,5,70,26446.884834581615,null,190.61124970746258,0,-26.637496084289076,26610.858588204788]
[318,26,6,70,26610.858588204788,null,191.79306156518533,{"$f":"-SUM(E341:G341)*$H$21","v":-241.2238648479298},-26.802651649769974,26534.625133272275]
[319,26,7,70,26534.625133272275,null,191.24362240798058,0,-26.725868755680256,26699.142886924576]
[320,26,8,70,26699.142886924576,null,192.42935504979724,0,-26.891572241974373,26864.680669732399]
[321,26,9,70,26864.680669732399,null,{"$f":"SUM(E344:F344)*$F$8","v":193.62243937152962},{"$f":"-SUM(E344:G344)*$H$21","v":-243.5247279819354},{"$f":"-SUM(E344:G344)*0.1%","v":-27.058303109103932},{"$f":"SUM(E344:I344)","v":26787.720078012891}]
[{"$f":"+A344+1","v":322},26,10,70,{"$f":"J344","v":26787.720078012891},null,193.06775950440596,0,-26.980787837517298,26953.807049679781]
[323,26,11,70,26953.807049679781,null,194.26480200780725,0,-27.14807185168759,27120.923779835903]
[324,26,12,70,27120.923779835903,null,195.469266313578,{"$f":"-SUM(E347:G347)*$H$21","v":-245.84753741534536},-27.316393046149482,27043.229115687987]
[325,27,1,71,27043.229115687987,null,194.90929574912533,0,-27.238138411437113,27210.900273025676]
[326,27,2,71,27210.900273025676,null,196.11775599084888,0,-27.407018029016527,27379.611010987508]
[327,27,3,71,27379.611010987508,null,197.33370882624382,{"$f":"-SUM(E350:G350)*$H$21","v":-248.1925024783238},-27.576944719813753,27301.175272615616]
[328,27,4,71,27301.175272615616,null,196.76839710025769,0,-27.497943669715873,27470.445726046157]
[329,27,5,71,27470.445726046157,null,197.98838398600066,0,-27.668434110032159,27640.765675922125]
[330,27,6,71,27640.765675922125,null,199.21593493194496,{"$f":"-SUM(E353:G353)*$H$21","v":-250.55983449768664},-27.839981610854071,27561.581794745529]
[331,27,7,71,27561.581794745529,null,198.64523109887867,0,-27.760227025844408,27732.466798818565]
[332,27,8,71,27732.466798818565,null,199.87685457311238,0,-27.932343653391676,27904.411309738283]
[333,{"$f":"B344+1","v":27},{"$f":"C344","v":9},{"$f":"D344+1","v":71},27904.411309738283,null,201.1161142557458,{"$f":"-SUM(E356:G356)*$H$21","v":-252.9497468159463},-28.10552742399403,27824.472149754089]
[334,27,10,71,27824.472149754089,null,200.53996688411934,0,-28.025012116638209,27996.98710452157]
[335,27,11,71,27996.98710452157,null,201.78333793999727,0,-28.198770442461566,28170.571672019105]
[336,27,12,71,28170.571672019105,null,203.03441804064374,{"$f":"-SUM(E359:G359)*$H$21","v":-255.36245481053777},-28.373606090059749,28089.870029159152]
[337,28,1,72,28089.870029159152,null,202.4527752084087,0,-28.292322804367565,28264.030481563193]
[338,28,2,72,28264.030481563193,null,203.70800589776925,0,-28.467738487460963,28439.270748973504]
[339,28,3,72,28439.270748973504,null,204.97101916300161,{"$f":"-SUM(E362:G362)*$H$21","v":-257.79817591322859},-28.644241768136506,28357.799350455141]
[340,28,4,72,28357.799350455141,null,204.38382845286196,0,-28.562183178908004,28533.620995729096]
[341,28,5,72,28533.620995729096,null,205.65103189632643,0,-28.739272027625422,28710.532755597796]
[342,28,6,72,28710.532755597796,null,206.92609214812691,{"$f":"-SUM(E365:G365)*$H$21","v":-260.25712962971335},-28.917458847745923,28628.284259268461]
[343,28,7,72,28628.284259268461,null,206.33330064281529,0,-28.834617559911276,28805.782942351365]
[344,28,8,72,28805.782942351365,null,207.61259103998228,0,-29.013395533391346,28984.382137857956]
[345,28,9,72,28984.382137857956,null,208.89981318600019,{"$f":"-SUM(E368:G368)*$H$21","v":-262.73953755939561},-29.193281951043957,28901.349131533516]
[346,28,10,72,28901.349131533516,null,208.30136746350914,0,-29.109650498997024,29080.540848498025]
[347,28,11,72,29080.540848498025,null,209.59286010324601,0,-29.290133708601271,29260.843574892671]
[348,28,12,72,29260.843574892671,null,210.89236014715317,{"$f":"-SUM(E371:G371)*$H$21","v":-265.24562341535847},-29.471735935039828,29177.018575689428]
[349,29,1,73,29177.018575689428,null,210.28820627592049,0,-29.38730678196535,29357.919475183382]
[350,29,2,73,29357.919475183382,null,211.59201754675337,0,-29.569511492730136,29539.941981237407]
[351,29,3,73,29539.941981237407,null,212.90391259869818,{"$f":"-SUM(E374:G374)*$H$21","v":-267.77561304452496},-29.752845893836103,29455.317434897745]
[352,29,4,73,29455.317434897745,null,212.29399613274683,0,-29.66761143103049,29637.943819599459]
[353,29,5,73,29637.943819599459,null,213.61024353334926,0,-29.851554063132809,29821.702509069673]
[354,29,6,73,29821.702509069673,null,214.93465182051065,{"$f":"-SUM(E377:G377)*$H$21","v":-270.32973444801166},-30.036637160890184,29736.27078928128]
[355,29,7,73,29736.27078928128,null,214.3189177945421,0,-29.950589707075821,29920.639117368744]
[356,29,8,73,29920.639117368744,null,215.64771994432402,0,-30.136286837313069,30106.150550475755]
[357,29,9,73,30106.150550475755,null,216.98476082156611,{"$f":"-SUM(E380:G380)*$H$21","v":-272.90821780167596},-30.323135311297325,30019.90395818435]
[358,29,10,73,30019.90395818435,null,216.36315374600693,0,-30.236267111930356,30206.030844818426]
[359,29,11,73,30206.030844818426,null,217.70463039580466,0,-30.423735475214233,30393.311739739016]
[360,29,12,73,30393.311739739016,null,219.05442435643278,{"$f":"-SUM(E383:G383)*$H$21","v":-275.51129547685906},-30.612366164095448,30306.242502454494]
[361,30,1,74,30306.242502454494,null,218.42688821243379,0,-30.524669390666929,30494.144721276261]
[362,30,2,74,30494.144721276261,null,219.78116025530176,0,-30.713925881531562,30683.211955650029]
[363,30,3,74,30683.211955650029,null,221.1438289419213,{"$f":"-SUM(E386:G386)*$H$21","v":-278.13920206132758},-30.904355784591949,30595.312226746031]
[364,30,4,74,30595.312226746031,null,220.5103071763094,0,-30.81582253392234,30785.006711388418]
[365,30,5,74,30785.006711388418,null,221.87749665841503,0,-31.006884208046831,30975.877323838784]
[366,30,6,74,30975.877323838784,null,223.25316287389384,{"$f":"-SUM(E389:G389)*$H$21","v":-280.79217438041411},-31.199130486712679,30887.139181845552]
[367,30,7,74,30887.139181845552,null,222.61359839407535,0,-31.109752780239628,31078.643027459388]
[368,30,8,74,31078.643027459388,null,223.99382852569781,0,-31.302636855985085,31271.334219129101]
[369,30,9,74,31271.334219129101,null,225.38261624423311,{"$f":"-SUM(E392:G392)*$H$21","v":-283.47045151836005},-31.496716835373338,31181.749667019605]
[370,30,10,74,31181.749667019605,null,224.73695141304867,0,-31.406486618432652,31375.080131814218]
[371,30,11,74,31375.080131814218,null,226.13034657968242,0,-31.601210478393899,31569.609267915504]
[372,30,12,74,31569.609267915504,null,227.53238095797317,{"$f":"-SUM(E395:G395)*$H$21","v":-286.17427483986137},-31.797141648873481,31479.170232384746]
[373,31,1,75,31479.170232384746,null,226.88055758850342,0,-31.706050789973247,31674.344739183274]
[374,31,2,75,31674.344739183274,null,228.28724336206793,0,-31.902631982545344,31870.729350562797]
[375,31,3,75,31870.729350562797,null,229.70265075059402,{"$f":"-SUM(E398:G398)*$H$21","v":-288.90388801182053},-32.100432001313393,31779.427681300258]
[376,31,4,75,31779.427681300258,null,229.04461010091592,0,-32.008472291401176,31976.463819109773]
[377,31,5,75,31976.463819109773,null,230.46471325107194,0,-32.206928532360848,32174.721603828486]
[378,31,6,75,32174.721603828486,null,231.89362120548074,{"$f":"-SUM(E401:G401)*$H$21","v":-291.65953702530572},-32.406615225033967,32082.549072783626]
[379,31,7,75,32082.549072783626,null,231.22930397337379,0,-32.313778376757,32281.464598380244]
[380,31,8,75,32281.464598380244,null,232.66295247894789,0,-32.514127550859193,32481.613423308336]
[381,31,9,75,32481.613423308336,null,234.10548977154949,{"$f":"-SUM(E404:G404)*$H$21","v":-294.44147021771903},-32.71571891307989,32388.561723949086]
[382,31,10,75,32388.561723949086,null,233.43483608915142,0,-32.621996560038241,32589.374563478199]
[383,31,11,75,32589.374563478199,null,234.88215914966923,0,-32.824256722627872,32791.432465905244]
[384,31,12,75,32791.432465905244,null,236.33845578104135,{"$f":"-SUM(E407:G407)*$H$21","v":-297.24993829517661},-33.027770921686283,32697.493212469424]
[385,32,1,76,32697.493212469424,null,{"$f":"SUM(E408:F408)*$F$8","v":235.66140520945288},0,{"$f":"-SUM(E408:G408)*0.1%","v":-32.933154617678873},{"$f":"SUM(E408:I408)","v":32900.2214630612}]
[{"$f":"+A408+1","v":386},32,2,76,{"$f":"J408","v":32900.2214630612},null,237.12253325678259,0,-33.137343996317988,33104.206652321664]
[387,32,3,76,33104.206652321664,null,238.59272046748609,{"$f":"-SUM(E410:G410)*$H$21","v":-300.08519435510237},-33.342799372789152,33009.37137906126]
[388,32,4,76,33009.37137906126,null,237.90921199132418,0,-33.247280591052586,33214.033310461535]
[389,32,5,76,33214.033310461535,null,239.38427670143096,0,-33.453417587162967,33419.964169575804]
[390,32,6,76,33419.964169575804,null,240.8684869838373,{"$f":"-SUM(E413:G413)*$H$21","v":-302.94749390903684},-33.660832656559641,33324.224329994046]
[391,32,7,76,33324.224329994046,null,240.1784590057365,0,-33.564402788999779,33530.83838621078]
[392,32,8,76,33530.83838621078,null,241.66759331054897,0,-33.772505979521334,33738.733473541812]
[393,32,9,76,33738.733473541812,null,243.16596042078018,{"$f":"-SUM(E416:G416)*$H$21","v":-305.83709490566338},-33.981899433962596,33642.080439622965]
[394,32,10,76,33642.080439622965,null,242.46935075584153,0,-33.884549790378806,33850.665240588423]
[395,32,11,76,33850.665240588423,null,243.97268885523161,0,-34.094637929443657,34060.543291514216]
[396,32,12,76,34060.543291514216,null,245.4853478252144,{"$f":"-SUM(E419:G419)*$H$21","v":-308.75425775405489},-34.306028639339431,33962.968352946038]
[397,{"$f":"B408+1","v":33},{"$f":"C408","v":1},{"$f":"D408+1","v":77},33962.968352946038,null,244.78209369540136,0,-34.207750446641441,34173.542696194796]
[398,33,2,77,34173.542696194796,null,246.29977106927831,0,-34.419842467264075,34385.422624796811]
[399,33,3,77,34385.422624796811,null,247.826858218913,{"$f":"-SUM(E422:G422)*$H$21","v":-311.69924534714153},-34.633249483015724,34286.916988185571]
[400,33,4,77,34286.916988185571,null,247.11689624739392,0,-34.534033884432965,34499.499850548535]
[401,33,5,77,34499.499850548535,null,248.6490496679136,0,-34.748148900216449,34713.400751316229]
[402,33,6,77,34713.400751316229,null,250.19070261735925,{"$f":"-SUM(E425:G425)*$H$21","v":-314.6723230854023},-34.963591453933589,34613.95553939425]
[403,33,7,77,34613.95553939425,null,249.4739688227958,0,-34.863429508217045,34828.566078708827]
[404,33,8,77,34828.566078708827,null,251.02073636668644,0,-35.079586815075515,35044.507228260438]
[405,33,9,77,35044.507228260438,null,252.57709404876312,{"$f":"-SUM(E428:G428)*$H$21","v":-317.67375890078284},-35.297084322309203,34944.113479086111]
[406,33,10,77,34944.113479086111,null,251.85352383954461,0,-35.195967002925656,35160.771035922728]
[407,33,11,77,35160.771035922728,null,253.41504490055038,0,-35.414186080823285,35378.771894742458]
[408,33,12,77,35378.771894742458,null,254.98624757325965,{"$f":"-SUM(E431:G431)*$H$21","v":-320.7038232808415},-35.63375814231572,35277.420560892562]
[409,34,1,78,35277.420560892562,null,254.25577574168173,0,-35.531676336634241,35496.144660297607]
[410,34,2,78,35496.144660297607,null,255.83219104312471,0,-35.751976851340736,35716.224874489395]
[411,34,3,78,35716.224874489395,null,257.41838030228956,{"$f":"-SUM(E434:G434)*$H$21","v":-323.76278929312519},-35.973643254791682,35613.906822243764]
[412,34,4,78,35613.906822243764,null,256.68094101867791,0,-35.870587763262442,35834.71717549918]
[413,34,5,78,35834.71717549918,null,258.27239262614006,0,-36.092989568125319,36056.896578557193]
[414,34,6,78,36056.896578557193,null,259.87371141816544,{"$f":"-SUM(E437:G437)*$H$21","v":-326.85093260977823},-36.316770289975359,35953.602587075606]
[415,34,7,78,35953.602587075606,null,259.12923822494338,0,-36.212731825300551,36176.519093475254]
[416,34,8,78,36176.519093475254,null,260.73586955906927,0,-36.43725496303432,36400.817708071285]
[417,34,9,78,36400.817708071285,null,262.35246219382441,{"$f":"-SUM(E440:G440)*$H$21","v":-329.96853153238607},-36.663170170265111,36296.538468562459]
[418,34,10,78,36296.538468562459,null,261.60088799952342,0,-36.558139356561981,36521.581217205421]
[419,34,11,78,36521.581217205421,null,263.22284384894539,0,-36.784804061054366,36748.019256993313]
[420,34,12,78,36748.019256993313,null,264.85485601276895,{"$f":"-SUM(E443:G443)*$H$21","v":-333.11586701705477},-37.012874113006085,36642.745371876023]
[421,35,1,79,36642.745371876023,null,264.09611308598278,0,-36.906841484962001,36869.934643477041]
[422,35,2,79,36869.934643477041,null,265.7335396203689,0,-37.135668183097415,37098.532514914317]
[423,35,3,79,37098.532514914317,null,267.38111838919804,{"$f":"-SUM(E446:G446)*$H$21","v":-336.29322269973164},-37.365913633303514,36992.254496970483]
[424,35,4,79,36992.254496970483,null,266.61513835247865,0,-37.258869635322959,37221.610765687641]
[425,35,5,79,37221.610765687641,null,268.2681831357059,0,-37.489878948823346,37452.389069874524]
[426,35,6,79,37452.389069874524,null,269.93147698833053,{"$f":"-SUM(E449:G449)*$H$21","v":-339.5008849217657},-37.722320546862854,37345.097341394227]
[427,35,7,79,37345.097341394227,null,269.15819081202591,0,-37.614255532206258,37576.641276674047]
[428,35,8,79,37576.641276674047,null,270.82700281547818,0,-37.847468279489526,37809.620811210036]
[429,35,9,79,37809.620811210036,null,272.50616164692207,{"$f":"-SUM(E452:G452)*$H$21","v":-342.73914275571269},-38.082126972856962,37701.30570312839]
[430,35,10,79,37701.30570312839,null,271.72549964295536,0,-37.973031202771345,37935.058171568577]
[431,35,11,79,37935.058171568577,null,273.41022925894885,0,-38.208468400827527,38170.259932426699]
[432,35,12,79,38170.259932426699,null,275.10540439397801,{"$f":"-SUM(E455:G455)*$H$21","v":-346.00828803138614},-38.445365336820679,38060.911683452476]
[433,36,1,80,38060.911683452476,null,274.31729620956736,0,-38.335228979662048,38296.893750682386]
[434,36,2,80,38296.893750682386,null,276.01809526490365,0,-38.572911845947289,38534.338934101339]
[435,36,3,80,38534.338934101339,null,277.7294394716634,{"$f":"-SUM(E458:G458)*$H$21","v":-349.30861536215707},-38.812068373573005,38423.947689837274]
[436,36,4,80,38423.947689837274,null,276.93381408298166,0,-38.70088150392025,38662.18062241633]
[437,36,5,80,38662.18062241633,null,278.65083585263034,0,-38.940831458268967,38901.890626810695]
[438,36,6,80,38901.890626810695,null,280.37850335641309,{"$f":"-SUM(E461:G461)*$H$21","v":-352.64042217150399},-39.182269130167107,38790.446438865438]
[439,36,7,80,38790.446438865438,null,279.57528906218732,0,-39.070021727927625,39030.951706199696]
[440,36,8,80,39030.951706199696,null,281.30868828309917,0,-39.312260394482792,39272.948134088314]
[441,36,9,80,39272.948134088314,null,283.05283478024262,{"$f":"-SUM(E464:G464)*$H$21","v":-356.00400871981702},-39.556000968868553,39160.440959179869]
[442,36,10,80,39160.440959179869,null,282.24195919529234,0,-39.442682918375162,39403.240235456789]
[443,36,11,80,39403.240235456789,null,283.99189208034409,0,-39.687232127537136,39647.544895409599]
[444,36,12,80,39647.544895409599,null,285.75267475226281,{"$f":"-SUM(E467:G467)*$H$21","v":-359.39967813145682},-39.933297570161862,39533.964594460245]
[445,37,1,81,39533.964594460245,null,284.93406480097673,0,-39.818898659261222,39779.079760601962]
[446,37,2,81,39779.079760601962,null,286.70068905304862,0,-40.065780449655009,40025.71466920535]
[447,37,3,81,40025.71466920535,null,288.47826658039907,{"$f":"-SUM(E470:G470)*$H$21","v":-362.82773642207178},-40.314192935785755,39911.051006427893]
[448,37,4,81,39911.051006427893,null,287.65184849014946,0,-40.198702854918039,40158.50415206312]
[449,37,5,81,40158.50415206312,null,{"$f":"SUM(E472:F472)*$F$8","v":289.43532331633764},0,{"$f":"-SUM(E472:G472)*0.1%","v":-40.447939475379457},{"$f":"SUM(E472:I472)","v":40407.491535904075}]
[{"$f":"+A472+1","v":450},37,6,81,{"$f":"J472","v":40407.491535904075},null,291.22985589331842,{"$f":"-SUM(E473:G473)*$H$21","v":-366.28849252617658},-40.698721391797392,40291.734177879422]
[451,37,7,81,40291.734177879422,null,290.39555518781293,0,-40.582129733067234,40541.547603334162]
[452,37,8,81,40541.547603334162,null,292.1960413137769,0,-40.833743644647939,40792.909901003295]
[453,37,9,81,40792.909901003295,null,294.00769066256532,{"$f":"-SUM(E476:G476)*$H$21","v":-369.78225832499277},-41.086917591665859,40676.048415749196]
[454,37,10,81,40676.048415749196,null,293.16543215513508,0,-40.969213847904328,40928.24463405642]
[455,37,11,81,40928.24463405642,null,294.98309183958224,0,-41.223227725896002,41182.004498170107]
[456,37,12,81,41182.004498170107,null,296.81202122490851,{"$f":"-SUM(E479:G479)*$H$21","v":-373.30934867455517},-41.478816519395011,41064.028354201058]
[457,38,1,82,41064.028354201058,null,295.96172901173247,0,-41.359990083212793,41318.630093129577]
[458,38,2,82,41318.630093129577,null,297.79672606104094,0,-41.616426819190615,41574.810392371422]
[459,38,3,82,41574.810392371422,null,299.64310030490157,{"$f":"-SUM(E482:G482)*$H$21","v":-376.87008143408696},-41.874453492676324,41455.708957749564]
[460,38,4,82,41455.708957749564,null,298.78469775816615,0,-41.75449365550773,41712.739161852223]
[461,{"$f":"B472+1","v":38},{"$f":"C472","v":5},{"$f":"D472+1","v":82},41712.739161852223,null,300.63719754114663,0,-42.013376359393369,41971.362983033978]
[462,38,6,82,41971.362983033978,null,302.50118303765822,{"$f":"-SUM(E485:G485)*$H$21","v":-380.46477749464481},-42.27386416607164,41851.125524410927]
[463,38,7,82,41851.125524410927,null,301.63459279865128,0,-42.152760117209574,42110.607357092362]
[464,38,8,82,42110.607357092362,null,303.50476226145008,0,-42.414112119353817,42371.69800723446]
[465,38,9,82,42371.69800723446,null,305.38652699184451,{"$f":"-SUM(E488:G488)*$H$21","v":-384.09376080803679},-42.677084534226303,42250.313688884045]
[466,38,10,82,42250.313688884045,null,304.51167096398422,0,-42.554825359848031,42512.270534488183]
[467,38,11,82,42512.270534488183,null,306.39967864512857,0,-42.818670213133316,42775.85154292018]
[468,38,12,82,42775.85154292018,null,308.29939219289133,{"$f":"-SUM(E491:G491)*$H$21","v":-387.75735841601772},-43.084150935113072,42653.309425761938]
[469,39,1,83,42653.309425761938,null,307.41619153468798,0,-42.960725617296625,42917.764891679326]
[470,39,2,83,42917.764891679326,null,309.32220758027415,0,-43.227087099259606,43183.860012160345]
[471,39,3,83,43183.860012160345,null,311.24004114642719,{"$f":"-SUM(E494:G494)*$H$21","v":-391.455900479761},-43.495100053306771,43060.149052773704]
[472,39,4,83,43060.149052773704,null,310.34841626437822,0,-43.370497469038085,43327.126971569043]
[473,39,5,83,43327.126971569043,null,312.27261244340554,0,-43.639399584012452,43595.760184428436]
[474,39,6,83,43595.760184428436,null,314.20873886193573,{"$f":"-SUM(E497:G497)*$H$21","v":-395.18972030961339},-43.909968923290371,43470.869234057463]
[475,39,7,83,43470.869234057463,null,313.30860940335259,0,-43.784177843460817,43740.393665617354]
[476,39,8,83,43740.393665617354,null,315.25115912320268,0,-44.055644824740561,44011.58917991582]
[477,39,9,83,44011.58917991582,null,317.20575287663769,{"$f":"-SUM(E500:G500)*$H$21","v":-398.95915439513215},-44.328794932792462,43885.506983464533]
[478,39,10,83,43885.506983464533,null,316.29703772240458,0,-44.201804021186938,44157.602217165753]
[479,39,11,83,44157.602217165753,null,318.25811604446909,0,-44.475860333210221,44431.384472877013]
[480,39,12,83,44431.384472877013,null,320.23135327960131,{"$f":"-SUM(E503:G503)*$H$21","v":-402.76454243540957},-44.751615826156616,44304.099667895047]
[481,40,1,84,44304.099667895047,null,319.31397053686487,0,-44.623413638431913,44578.790224793484]
[482,40,2,84,44578.790224793484,null,321.29375419232156,0,-44.900083978985805,44855.18389500682]
[483,40,3,84,44855.18389500682,null,323.28581273608273,{"$f":"-SUM(E506:G506)*$H$21","v":-406.60622736968617},-45.178469707742899,44726.685010665467]
[484,40,4,84,44726.685010665467,null,322.35967973087179,0,-45.049044690396336,45003.995645705945]
[485,40,5,84,45003.995645705945,null,324.35834713661166,0,-45.328353992842558,45283.025638849715]
[486,40,6,84,45283.025638849715,null,326.36940651209824,{"$f":"-SUM(E509:G509)*$H$21","v":-410.48455540825637},-45.609395045361815,45153.301094908195]
[487,40,7,84,45153.301094908195,null,325.43443978187332,0,-45.478735534690067,45433.256799155373]
[488,40,8,84,45433.256799155373,null,327.45217105657946,0,-45.760708970211958,45714.948261241741]
[489,40,9,84,45714.948261241741,null,329.4824124992312,{"$f":"-SUM(E512:G512)*$H$21","v":-414.39987606366878},-46.044430673740969,45583.986367003563]
[490,40,10,84,45583.986367003563,null,328.53852778536293,0,-45.91252489478893,45866.612369894137]
[491,40,11,84,45866.612369894137,null,330.57550476574272,0,-46.197187874659882,46150.990686785219]
[492,40,12,84,46150.990686785219,null,332.6251112396755,{"$f":"-SUM(E515:G515)*$H$21","v":-418.35254218222411},-46.4836157980249,46018.779640044646]
[493,41,1,85,46018.779640044646,null,331.67222347985137,0,-46.350451863524498,46304.101411660973]
[494,41,2,85,46304.101411660973,null,333.72862973702314,0,-46.637830041397997,46591.192211356596]
[495,41,3,85,46591.192211356596,null,335.79778595151777,{"$f":"-SUM(E518:G518)*$H$21","v":-422.34290997577307},-46.926989997308112,46457.720097335034]
[496,41,4,85,46457.720097335034,null,334.83580927207606,0,-46.792555906607106,46745.763350700501]
[497,41,5,85,46745.763350700501,null,336.91183012811291,0,-47.082675180828616,47035.592505647786]
[498,41,6,85,47035.592505647786,null,339.00072255426068,{"$f":"-SUM(E521:G521)*$H$21","v":-426.37133905381847},-47.374593228202045,46900.847295920023]
[499,41,7,85,46900.847295920023,null,338.02957026245201,0,-47.238876866182473,47191.637989316288]
[500,41,8,85,47191.637989316288,null,340.12539280708251,0,-47.531763382123373,47484.231618741243]
[501,41,9,85,47484.231618741243,null,342.23420969459005,{"$f":"-SUM(E524:G524)*$H$21","v":-430.43819245592255},-47.826465828435829,47348.201170151471]
[502,41,10,85,47348.201170151471,null,341.25379427076444,0,-47.689454964422239,47641.765509457815]
[503,41,11,85,47641.765509457815,null,343.3696073782333,0,-47.985135116836048,47937.149981719216]
[504,41,12,85,47937.149981719216,null,345.49853877238763,{"$f":"-SUM(E527:G527)*$H$21","v":-434.54383668442449},-48.282648520491605,47799.822035286685]
[505,42,1,86,47799.822035286685,null,344.50877186210727,0,-48.144330807148791,48096.186476341645]
[506,42,2,86,48096.186476341645,null,346.64476620819653,0,-48.442831242549843,48394.388411307293]
[507,42,3,86,48394.388411307293,null,348.79400396699151,{"$f":"-SUM(E530:G530)*$H$21","v":-438.68864173746863},-48.743182415274283,48255.750591121541]
[508,42,4,86,48255.750591121541,null,347.79479637306838,0,-48.603545387494613,48554.941842107117]
[509,42,5,86,48554.941842107117,null,349.95116445228081,0,-48.904893006559398,48855.988113552834]
[510,42,6,86,48855.988113552834,null,352.12090226370759,{"$f":"-SUM(E533:G533)*$H$21","v":-442.87298114234892},-49.20810901581654,48716.027925658374]
[511,42,7,86,48716.027925658374,null,351.11216393816494,0,-49.067140089596542,49018.072949506946]
[512,42,8,86,49018.072949506946,null,353.28910008107187,0,-49.371362049588015,49321.990687538426]
[513,42,9,86,49321.990687538426,null,{"$f":"SUM(E536:F536)*$F$8","v":355.47953348057365},{"$f":"-SUM(E536:G536)*$H$21","v":-447.09723198917106},{"$f":"-SUM(E536:G536)*0.1%","v":-49.677470221019},{"$f":"SUM(E536:I536)","v":49180.69551880881}]
[{"$f":"+A536+1","v":514},42,10,86,{"$f":"J536","v":49180.69551880881},null,354.46117351653123,0,-49.535156692325344,49485.621535633014]
[515,42,11,86,49485.621535633014,null,356.658873907285,0,-49.842280409540301,49792.438129130758]
[516,42,12,86,49792.438129130758,null,358.87020029537894,{"$f":"-SUM(E539:G539)*$H$21","v":-451.36177496483532},-50.151308329426136,49649.795246131878]
[517,43,1,87,49649.795246131878,null,357.84212691886017,0,-50.007637373050741,49957.629735677692]
[518,43,2,87,49957.629735677692,null,360.06078961287471,0,-50.317690525290566,50267.372834765272]
[519,43,3,87,50267.372834765272,null,362.29320827294111,{"$f":"-SUM(E542:G542)*$H$21","v":-455.66699438734395},-50.629666043038213,50123.369382607831]
[520,43,4,87,50123.369382607831,null,361.25532883460261,0,-50.484624711442436,50434.140086730993]
[521,43,5,87,50434.140086730993,null,363.49515377640171,0,-50.797635240507397,50746.837605266883]
[522,43,6,87,50746.837605266883,null,365.74886589264349,{"$f":"-SUM(E545:G545)*$H$21","v":-460.0132782404358},-51.112586471159531,50601.460606447938]
[523,43,7,87,50601.460606447938,null,364.70108685942574,0,-50.966161693307363,50915.195531614052]
[524,43,8,87,50915.195531614052,null,366.96227590066189,0,-51.282157807514714,51230.875649707195]
[525,{"$f":"B536+1","v":43},{"$f":"C536","v":9},{"$f":"D536+1","v":87},51230.875649707195,null,369.23748457623537,{"$f":"-SUM(E548:G548)*$H$21","v":-464.40101820855097},-51.600113134283433,51084.112002940601]
[526,43,10,87,51084.112002940601,null,368.17971152293325,0,-51.452291714463534,51400.839422749072]
[527,43,11,87,51400.839422749072,null,370.46246844057868,0,-51.771301891189651,51719.530589298462]
[528,43,12,87,51719.530589298462,null,372.7593787158969,{"$f":"-SUM(E551:G551)*$H$21","v":-468.83060971212927},-52.092289968014363,51571.367068334213]
[529,44,1,88,51571.367068334213,null,371.69151631665034,0,-51.943058584650863,51891.115526066213]
[530,44,2,88,51891.115526066213,null,373.99604683136096,0,-52.265111572897574,52212.846461324676]
[531,44,3,88,52212.846461324676,null,376.31486570257175,{"$f":"-SUM(E554:G554)*$H$21","v":-473.30245194324533},-52.589161327027249,52063.269713756978]
[532,44,4,88,52063.269713756978,null,375.23681772227519,0,-52.438506531479256,52386.068024947774]
[533,44,5,88,52386.068024947774,null,377.56332951693014,0,-52.763631354464707,52710.867723110241]
[534,44,6,88,52710.867723110241,null,379.90426595457069,{"$f":"-SUM(E557:G557)*$H$21","v":-477.81694790158338},-53.09077198906482,52559.864269174162]
[535,44,7,88,52559.864269174162,null,378.81593524020002,0,-52.938680204414361,52885.741524209945]
[536,44,8,88,52885.741524209945,null,381.16463797861803,0,-53.266906162188562,53213.639256026378]
[537,44,9,88,53213.639256026378,null,383.52790294644694,{"$f":"-SUM(E560:G560)*$H$21","v":-482.37450443075545},-53.597167158972823,53061.195487383091]
[538,44,10,88,53061.195487383091,null,382.42919141830441,0,-53.443624678801399,53390.181054122593]
[539,44,11,88,53390.181054122593,null,384.80029676413852,0,-53.774981350886733,53721.206369535845]
[540,44,12,88,53721.206369535845,null,387.18610323814795,{"$f":"-SUM(E563:G563)*$H$21","v":-486.97553225496603},-54.108392472773993,53567.308548046254]
[541,45,1,89,53567.308548046254,null,386.07691188102336,0,-53.953385459927276,53899.432074467346]
[542,45,2,89,53899.432074467346,null,388.47063351683562,0,-54.287902707984188,54233.6148052762]
[543,45,3,89,54233.6148052762,null,390.87919650444456,{"$f":"-SUM(E566:G566)*$H$21","v":-491.62044601602588},-54.624494001780647,54078.249061762843]
[544,45,4,89,54078.249061762843,null,389.75942535869183,0,-54.468008487121537,54413.540478634415]
[545,45,5,89,54413.540478634415,null,392.17597900521082,0,-54.805716457639626,54750.910741181986]
[546,45,6,89,54750.910741181986,null,394.60751556464106,{"$f":"-SUM(E569:G569)*$H$21","v":-496.30966431071971},-55.145518256746627,54594.063074179161]
[547,45,7,89,54594.063074179161,null,393.47706371716998,0,-54.987540137896332,54932.552597758433]
[548,45,8,89,54932.552597758433,null,395.91666715273084,0,-55.328469264911163,55273.14079564625]
[549,45,9,89,55273.14079564625,null,398.37139641256869,{"$f":"-SUM(E572:G572)*$H$21","v":-501.04360972852942},-55.67151219205882,55114.797070138236]
[550,45,10,89,55114.797070138236,null,397.23016198775088,0,-55.512027232125995,55456.515204893862]
[551,45,11,89,55456.515204893862,null,399.69303506792181,0,-55.856208239961788,55800.352031721828]
[552,45,12,89,55800.352031721828,null,402.17117824686551,{"$f":"-SUM(E575:G575)*$H$21","v":-505.82270888971829},-56.202523209968689,55640.497977869003]
[553,46,1,90,55640.497977869003,null,401.01905839735304,0,-56.041517036266356,55985.475519230087]
[554,46,2,90,55985.475519230087,null,403.50542307474831,0,-56.388980942304833,56332.59196136253]
[555,46,3,90,56332.59196136253,null,406.00720350154387,{"$f":"-SUM(E578:G578)*$H$21","v":-510.64739248377674},-56.738599164864077,56171.213173215438]
[556,46,4,90,56171.213173215438,null,404.84409439900145,0,-56.576057267614438,56519.481210346821]
[557,46,5,90,56519.481210346821,null,407.35417474328364,0,-56.926835385090108,56869.908549705011]
[558,46,6,90,56869.908549705011,null,409.87981787685169,{"$f":"-SUM(E581:G581)*$H$21","v":-515.51809530823675},-57.279788367581858,56706.99048390604]
[559,46,7,90,56706.99048390604,null,408.70561470259884,0,-57.115696098608645,57058.58040251003]
[560,46,8,90,57058.58040251003,null,411.23963692067201,0,-57.469820039430701,57412.350219391265]
[561,46,9,90,57412.350219391265,null,413.78937037042556,{"$f":"-SUM(E584:G584)*$H$21","v":-520.4352563078553},-57.826139589761688,57247.878193864068]
[562,46,10,90,57247.878193864068,null,412.60396730599115,0,-57.660482161170059,57602.821679008892]
[563,46,11,90,57602.821679008892,null,415.16215976238624,0,-58.017983838771279,57959.96585493251]
[564,46,12,90,57959.96585493251,null,417.736213308743,{"$f":"-SUM(E587:G587)*$H$21","v":-525.39931861417131},-58.377702068241256,57793.925047558841]
[565,47,1,91,57793.925047558841,null,416.53950352632859,0,-58.210464551085174,58152.254086534085]
[566,47,2,91,58152.254086534085,null,419.1220967637837,0,-58.571376183297872,58512.804807114575]
[567,47,3,91,58512.804807114575,null,421.7207023788734,{"$f":"-SUM(E590:G590)*$H$21","v":-530.41072958544112},-58.934525509493447,58345.18025439851]
[568,47,4,91,58345.18025439851,null,420.51257803172587,0,-58.76569283243024,58706.927139597807]
[569,47,5,91,58706.927139597807,null,423.11980479196262,0,-59.130046944389768,59070.916897445379]
[570,47,6,91,59070.916897445379,null,425.74319666053236,{"$f":"-SUM(E593:G593)*$H$21","v":-535.46994084695325},-59.496660094105906,58901.69349316485]
[571,47,7,91,58901.69349316485,null,424.52354887322531,0,-59.326217042038081,59266.890824996044]
[572,47,8,91,59266.890824996044,null,427.15564411792315,0,-59.694046469113964,59634.35242264485]
[573,47,9,91,59634.35242264485,null,429.80405865844227,{"$f":"-SUM(E596:G596)*$H$21","v":-540.57740833172966},-60.064156481303293,59463.514916490254]
[574,47,10,91,59463.514916490254,null,428.57277751706357,0,-59.892087694007323,59832.195606313311]
[575,47,11,91,59832.195606313311,null,431.22997844903466,0,-60.263425584762345,60203.162159177584]
[576,47,12,91,60203.162159177584,null,433.90365433500023,{"$f":"-SUM(E599:G599)*$H$21","v":-545.73359232161329},-60.637065813512585,60030.695155377456]
[577,48,1,92,60030.695155377456,null,{"$f":"SUM(E600:F600)*$F$8","v":432.66062887724729},0,{"$f":"-SUM(E600:G600)*0.1%","v":-60.463355784254702},{"$f":"SUM(E600:I600)","v":60402.892428470448}]
[{"$f":"+A600+1","v":578},48,2,92,{"$f":"J600","v":60402.892428470448},null,435.34317496181296,0,-60.83823560343226,60777.397367828824]
[579,48,3,92,60777.397367828824,null,438.04235314325894,{"$f":"-SUM(E602:G602)*$H$21","v":-550.93895748874877},-61.215439720972086,60603.285323762364]
[580,48,4,92,60603.285323762364,null,436.78747134843849,0,-61.04007279511081,60979.032722315693]
[581,48,5,92,60979.032722315693,null,439.49560433500966,0,-61.418528326650701,61357.109798324054]
[582,48,6,92,61357.109798324054,null,442.22052806022151,{"$f":"-SUM(E605:G605)*$H$21","v":-556.19397293745851},-61.799330326384279,61181.337023120432]
[583,48,7,92,61181.337023120432,null,440.95367683915435,0,-61.622290699959585,61560.668409259626]
[584,48,8,92,61560.668409259626,null,443.68764078301786,0,-62.004356050042645,61942.351693992605]
[585,48,9,92,61942.351693992605,null,446.43855562045349,{"$f":"-SUM(E608:G608)*$H$21","v":-561.4991122465176},-62.388790249613059,61764.902347116928]
[586,48,10,92,61764.902347116928,null,445.15962080528317,0,-62.210061967922208,62147.851905954289]
[587,48,11,92,62147.851905954289,null,447.91966208959599,0,-62.595771568043887,62533.175796475844]
[588,48,12,92,62533.175796475844,null,450.69681595001646,{"$f":"-SUM(E611:G611)*$H$21","v":-566.85485351183286},-62.983872612425863,62354.0338863016]
[589,{"$f":"B600+1","v":49},{"$f":"C600","v":1},{"$f":"D600+1","v":93},62354.0338863016,null,449.40568228392038,0,-62.803439568585524,62740.636129016937]
[590,49,2,93,62740.636129016937,null,452.1920496419134,0,-63.19282817865885,63129.635350480188]
[591,49,3,93,63129.635350480188,null,454.9956928007245,{"$f":"-SUM(E614:G614)*$H$21","v":-572.26167938952824},-63.584631043280915,62948.7847328481]
[592,49,4,93,62948.7847328481,null,453.69224392752704,0,-63.402476976775631,63339.074499798851]
[593,49,5,93,63339.074499798851,null,456.50518846492076,0,-63.795579688263771,63731.784108575506]
[594,49,6,93,63731.784108575506,null,459.33557358472763,{"$f":"-SUM(E617:G617)*$H$21","v":-577.7200771394422},-64.191119682160235,63549.208485338633]
[595,49,7,93,63549.208485338633,null,458.01969203841435,0,-64.007228177377044,63943.220949199669]
[596,49,8,93,63943.220949199669,null,460.85946725604845,0,-64.404080416455727,64339.676336039265]
[597,49,9,93,64339.676336039265,null,463.71684940942549,{"$f":"-SUM(E620:G620)*$H$21","v":-583.23053866903831},-64.803393185448684,64155.359253594201]
[598,49,10,93,64155.359253594201,null,462.38841660355689,0,-64.617747670197758,64553.129922527558]
[599,49,11,93,64553.129922527558,null,465.25527842023558,0,-65.01838520094779,64953.366815746842]
[600,49,12,93,64953.366815746842,null,468.13991511271303,{"$f":"-SUM(E623:G623)*$H$21","v":-588.793560577736},-65.421506730859548,64767.291663550954]
[601,50,1,94,64767.291663550954,null,466.79881132973793,0,-65.234090474880688,65168.856384405815]
[602,50,2,94,65168.856384405815,null,469.69301810529311,0,-65.638549402511117,65572.910853108595]
[603,50,3,94,65572.910853108595,null,472.60516929856385,{"$f":"-SUM(E626:G626)*$H$21","v":-594.40964420166449},-66.045516022407156,65385.060862183083]
[604,50,4,94,65385.060862183083,null,471.25127367903036,0,-65.856312135862112,65790.455823726254]
[605,50,5,94,65790.455823726254,null,474.17308623760482,0,-66.264628909963861,66198.364281053888]
[606,50,6,94,66198.364281053888,null,477.11301437295162,{"$f":"-SUM(E629:G629)*$H$21","v":-600.0792956588416},-66.675477295426845,66008.72252247257]
[607,50,7,94,66008.72252247257,null,475.7462049046153,0,-66.484468727377191,66417.984258649813]
[608,50,8,94,66417.984258649813,null,478.69588655816813,0,-66.896680145207981,66829.783465062777]
[609,50,9,94,66829.783465062777,null,481.6638565801149,{"$f":"-SUM(E632:G632)*$H$21","v":-605.80302589478606},-67.311447321642888,66638.332848426464]
[610,50,10,94,66638.332848426464,null,480.28401008694323,0,-67.118616858513406,67051.498241654888]
[611,50,11,94,67051.498241654888,null,483.26182665897926,0,-67.534760068313872,67467.225308245557]
[612,50,12,94,67467.225308245557,null,486.25810603916733,{"$f":"-SUM(E635:G635)*$H$21","v":-611.5813507285626},-67.953483414284733,67273.948580141878]
[613,51,1,95,67273.948580141878,null,484.86509817023904,0,-67.758813678312123,67691.054864633799]
[614,51,2,95,67691.054864633799,null,487.87131801976483,0,-68.178926182653569,68110.747256470917]
[615,51,3,95,68110.747256470917,null,490.89617678105765,{"$f":"-SUM(E638:G638)*$H$21","v":-617.41479089926781},-68.601643433251979,67915.626998919441]
[616,51,4,95,67915.626998919441,null,489.48988199935633,0,-68.405116880918797,68336.711764037871]
[617,51,5,95,68336.711764037871,null,492.52477604506436,0,-68.829236540082931,68760.407303542845]
[618,51,6,95,68760.407303542845,null,495.57848678588164,{"$f":"-SUM(E641:G641)*$H$21","v":-623.30387211295852},-69.255985790328722,68563.425932425438]
[619,51,7,95,68563.425932425438,null,494.15877835698257,0,-69.057584710782422,68988.52712607164]
[620,51,8,95,68988.52712607164,null,497.22262010166639,0,-69.485749746173298,69416.263996427122]
[621,51,9,95,69416.263996427122,null,500.30545802055082,{"$f":"-SUM(E644:G644)*$H$21","v":-629.24912509002911},-69.916569454447668,69217.403759903187]
[622,51,10,95,69217.403759903187,null,498.8722080011994,0,-69.71627596790438,69646.559691936476]
[623,51,11,95,69646.559691936476,null,501.96527355640131,0,-70.148524965492882,70078.376440527383]
[624,51,12,95,70078.376440527383,null,505.07751647681891,{"$f":"-SUM(E647:G647)*$H$21","v":-635.25108561303784},-70.583453957004195,69877.619417434151]
[625,52,1,96,69877.619417434151,null,503.63059570340084,0,-70.38125001313756,70310.868763124425]
[626,52,2,96,70310.868763124425,null,506.75316381429536,0,-70.817621926938727,70746.804305011785]
[627,52,3,96,70746.804305011785,null,509.89509220967278,{"$f":"-SUM(E650:G650)*$H$21","v":-641.31029457499312},-71.256699397221453,70544.132403249227]
[628,52,4,96,70544.132403249227,null,508.43437028657377,0,-71.052566773535801,70981.514206762266]
[629,52,5,96,70981.514206762266,null,511.58672235708718,0,-71.49310092911935,71421.60782819023]
[630,52,6,96,71421.60782819023,null,514.75861937608806,{"$f":"-SUM(E653:G653)*$H$21","v":-647.42729802809697},-71.936366447566328,71217.002783090662]
[631,52,7,96,71217.002783090662,null,513.2839646639427,0,-71.730286747754604,71658.556461006854]
[632,52,8,96,71658.556461006854,null,516.46638478211401,0,-72.175022845788973,72102.847822943193]
[633,52,9,96,72102.847822943193,null,519.66853627415594,{"$f":"-SUM(E656:G656)*$H$21","v":-653.6026472329562},-72.622516359217343,71896.291195625177]
[634,52,10,96,71896.291195625177,null,518.1798158779842,0,-72.414471011503167,72342.056540491656]
[635,52,11,96,72342.056540491656,null,521.39259084156606,0,-72.863449131333226,72790.585682201898]
[636,52,12,96,72790.585682201898,null,524.62528538258107,{"$f":"-SUM(E659:G659)*$H$21","v":-659.83689870826038},-73.315210967584491,72582.058857908632]
[637,53,1,97,72582.058857908632,null,523.12236513981236,0,-73.105181223048447,73032.076041825407]
[638,53,2,97,73032.076041825407,null,526.36578448211787,0,-73.558441826307515,73484.883384481218]
[639,53,3,97,73484.883384481218,null,529.629313400559,{"$f":"-SUM(E662:G662)*$H$21","v":-666.13061428093602},-74.01451269788177,73274.367570902963]
[640,53,4,97,73274.367570902963,null,528.11205786894095,0,-73.802479628771906,73728.677149143128]
[641,53,5,97,73728.677149143128,null,{"$f":"SUM(E664:F664)*$F$8","v":531.38641388493556},0,{"$f":"-SUM(E664:G664)*0.1%","v":-74.260063563028055},{"$f":"SUM(E664:I664)","v":74185.803499465037}]
[{"$f":"+A664+1","v":642},53,6,97,{"$f":"J664","v":74185.803499465037},null,534.68107128803115,{"$f":"-SUM(E665:G665)*$H$21","v":-672.48436113677769},-74.720484570753058,73973.279725045519]
[643,53,7,97,73973.279725045519,null,533.14934373342396,0,-74.506429068778942,74431.922639710174]
[644,53,8,97,74431.922639710174,null,536.4549315060674,0,-74.968377571216251,74893.409193645028]
[645,53,9,97,74893.409193645028,null,539.78101430632569,{"$f":"-SUM(E668:G668)*$H$21","v":-678.89871187156223},-75.433190207951355,74678.858305871836]
[646,53,10,97,74678.858305871836,null,538.23467669038007,0,-75.217092982562221,75141.875889579649]
[647,53,11,97,75141.875889579649,null,541.5717941172187,0,-75.683447683696869,75607.764236013172]
[648,53,12,97,75607.764236013172,null,544.92960205918541,{"$f":"-SUM(E671:G671)*$H$21","v":-685.37424454265135},-76.152693838072366,75391.166899691641]
[649,54,1,98,75391.166899691641,null,543.36851502690217,0,-75.934535414718539,75858.60087930382]
[650,54,2,98,75858.60087930382,null,546.73746284691561,0,-76.405338342150728,76328.933003808575]
[651,54,3,98,76328.933003808575,null,550.12729853418682,{"$f":"-SUM(E674:G674)*$H$21","v":-691.91154272108497},-76.879060302342765,76110.269699319353]
[652,54,4,98,76110.269699319353,null,548.55132140135811,0,-76.658821020720723,76582.162199699989]
[653,{"$f":"B664+1","v":54},{"$f":"C664","v":5},{"$f":"D664+1","v":98},76582.162199699989,null,551.95240322206155,0,-77.134114602922054,77056.980488319139]
[654,54,6,98,77056.980488319139,null,555.37457214455446,{"$f":"-SUM(E677:G677)*$H$21","v":-698.51119554417335},-77.612355060463699,76836.231509859062]
[655,54,7,98,76836.231509859062,null,553.78356288508587,0,-77.390015072744148,77312.625057671408]
[656,54,8,98,77312.625057671408,null,557.2170852098908,0,-77.869842142881296,77791.972300738416]
[657,54,9,98,77791.972300738416,null,560.67189577137356,{"$f":"-SUM(E680:G680)*$H$21","v":-705.1737977685882},-78.352644196509786,77569.117754544699]
[658,54,10,98,77569.117754544699,null,559.06571100448446,0,-78.128183465549185,78050.055282083631]
[659,54,11,98,78050.055282083631,null,562.531983260321,0,-78.612587265343961,78533.974678078608]
[660,54,12,98,78533.974678078608,null,566.0197468062064,{"$f":"-SUM(E683:G683)*$H$21","v":-711.89994982396342},-79.099994424884827,78308.994480635971]
[661,55,1,99,78308.994480635971,null,564.39824178350898,0,-78.873392722419482,78794.519329697054]
[662,55,2,99,78794.519329697054,null,567.89757634871069,0,-79.362416906045766,79283.054489139715]
[663,55,3,99,79283.054489139715,null,571.41860719411432,{"$f":"-SUM(E686:G686)*$H$21","v":-718.69025786700445},-79.85447309633382,79055.928365370492]
[664,55,4,99,79055.928365370492,null,569.7816357865687,0,-79.62571000115706,79546.084291155901]
[665,55,5,99,79546.084291155901,null,573.31434801902446,0,-80.119398639174918,80039.279240535747]
[666,55,6,99,80039.279240535747,null,576.86896347709069,{"$f":"-SUM(E689:G689)*$H$21","v":-725.54533383611556},-80.616148204012831,79809.986721972702]
[667,55,7,99,79809.986721972702,null,575.21637816183556,0,-80.385203100134532,80304.817897034402]
[668,55,8,99,80304.817897034402,null,578.78278642740906,0,-80.883600683461822,80802.717082778356]
[669,55,9,99,80802.717082778356,null,582.3713068379069,{"$f":"-SUM(E692:G692)*$H$21","v":-732.46579550654644},-81.385088389616257,80571.237505720084]
[670,55,10,99,80571.237505720084,null,580.70295868496544,0,-81.151940464405058,81070.788523940646]
[671,55,11,99,81070.788523940646,null,584.30338438618628,0,-81.655091908326838,81573.436816418514]
[672,55,12,99,81573.436816418514,null,587.92613314437835,{"$f":"-SUM(E695:G695)*$H$21","v":-739.4522665460662},-82.1613629495629,81339.749320067262]
[673,56,1,100,81339.749320067262,null,586.24187180323634,0,-81.925991191870509,81844.06520067864]
[674,56,2,100,81844.06520067864,null,589.87663940826474,0,-82.433941840086902,82351.507898246811]
[675,56,3,100,82351.507898246811,null,593.53394299405113,{"$f":"-SUM(E698:G698)*$H$21","v":-746.50537657116786},-82.945041841240865,82115.591422828453]
[676,56,4,100,82115.591422828453,null,591.83361668010764,0,-82.70742503950855,82624.717614469046]
[677,56,5,100,82624.717614469046,null,595.50305375197479,0,-83.220220668221032,83137.000447552797]
[678,56,6,100,83137.000447552797,null,599.19524175931588,{"$f":"-SUM(E701:G701)*$H$21","v":-753.62576120380902},-83.736195689312112,82898.833732418992]
[679,56,7,100,82898.833732418992,null,597.47869724020427,0,-83.496312429659199,83412.816117229537]
[680,56,8,100,83412.816117229537,null,601.18313446633283,0,-84.013999251695878,83929.985252444181]
[681,56,9,100,83929.985252444181,null,604.91053963295167,{"$f":"-SUM(E704:G704)*$H$21","v":-760.81406212869433},-84.534895792077137,83689.546834156368]
[682,56,10,100,83689.546834156368,null,603.17762221473083,0,-84.292724456371104,84208.431731914723]
[683,56,11,100,84208.431731914723,null,606.91739343673589,0,-84.815349125351474,84730.533776226119]
[684,56,12,100,84730.533776226119,null,610.68035167410403,{"$f":"-SUM(E707:G707)*$H$21","v":-768.07092715110207},-85.34121412790023,84487.801986621227]
[685,57,1,101,84487.801986621227,null,608.93090518731708,0,-85.096732891808543,85011.636158916735]
[686,57,2,101,85011.636158916735,null,612.70634743109167,0,-85.624342506347816,85538.718163841477]
[687,57,3,101,85538.718163841477,null,616.50519785470192,{"$f":"-SUM(E710:G710)*$H$21","v":-775.39701025526563},-86.155223361696173,85293.671128079208]
[688,57,4,101,85293.671128079208,null,614.73906464030222,0,-85.908410192719515,85822.501782526801]
[689,57,5,101,85822.501782526801,null,618.55051814639023,0,-86.441052300673192,86354.61124837253]
[690,57,6,101,86354.61124837253,null,622.38560310631726,{"$f":"-SUM(E713:G713)*$H$21","v":-782.79297166330969},-86.976996851478845,86107.226882964067]
[691,57,7,101,86107.226882964067,null,620.60262400146109,0,-86.727829506965534,86641.101677458559]
[692,57,8,101,86641.101677458559,null,624.45043225571897,0,-87.265552109714278,87178.286557604559]
[693,57,9,101,87178.286557604559,null,628.32209736747132,{"$f":"-SUM(E716:G716)*$H$21","v":-790.25947789474844},-87.806608654972038,86928.542568422316]
[694,57,10,101,86928.542568422316,null,626.52211169117322,0,-87.555064680113489,87467.509615433373]
[695,57,11,101,87467.509615433373,null,630.40662145572537,0,-88.097916236889105,88009.818320652208]
[696,57,12,101,88009.818320652208,null,634.3152156313929,{"$f":"-SUM(E719:G719)*$H$21","v":-797.79720182655251},-88.644133536283604,87757.692200920748]
[697,58,1,102,87757.692200920748,null,632.49806117004528,0,-88.390190262090798,88301.800071828708]
[698,58,2,102,88301.800071828708,null,636.41962251453378,0,-88.938219694343232,88849.281474648888]
[699,58,3,102,88849.281474648888,null,640.36549799423085,{"$f":"-SUM(E722:G722)*$H$21","v":-805.40682275378822},-89.489646972643129,88594.750502916693]
[700,58,4,102,88594.750502916693,null,638.53101098698653,0,-89.233281513903691,89144.048232389774]
[701,58,5,102,89144.048232389774,null,642.48997732011878,0,-89.786538209709889,89696.751671500184]
[702,58,6,102,89696.751671500184,null,646.47348970372821,{"$f":"-SUM(E725:G725)*$H$21","v":-813.08902645083526},-90.343225161203918,89439.792909591866]
[703,58,7,102,89439.792909591866,null,644.62150482774075,0,-90.084414414419612,89994.330000005182]
[704,58,8,102,89994.330000005182,null,648.61823292913925,0,-90.642948232934316,90552.305284701375]
[705,58,9,102,90552.305284701375,null,{"$f":"SUM(E728:F728)*$F$8","v":652.63974120835815},{"$f":"-SUM(E728:G728)*$H$21","v":-820.84450523318776},{"$f":"-SUM(E728:G728)*0.1%","v":-91.204945025909737},{"$f":"SUM(E728:I728)","v":90292.895575650648}]
[{"$f":"+A728+1","v":706},58,10,102,{"$f":"J728","v":90292.895575650648},null,650.77009156388465,0,-90.943665667214532,90852.722001547314]
[707,58,11,102,90852.722001547314,null,654.80494161623915,0,-91.507526943163555,91416.019416220384]
[708,58,12,102,91416.019416220384,null,658.86480820693191,{"$f":"-SUM(E731:G731)*$H$21","v":-828.67395801984594},-92.074884224427308,91154.135382183042]
[709,59,1,103,91154.135382183042,null,656.97732530229064,0,-91.811112707485336,91719.301594777848]
[710,59,2,103,91719.301594777848,null,661.05066092381787,0,-92.380352255701666,92287.97190344597]
[711,59,3,103,92287.97190344597,null,665.14925169867627,{"$f":"-SUM(E734:G734)*$H$21","v":-836.57809039630195},-92.953121155144643,92023.589943593193]
[712,59,4,103,92023.589943593193,null,663.24376543506344,0,-92.686833709028264,92594.146875319231]
[713,59,5,103,92594.146875319231,null,667.35595371227589,0,-93.261502829031514,93168.241326202478]
[714,59,6,103,93168.241326202478,null,671.4936380337914,{"$f":"-SUM(E737:G737)*$H$21","v":-844.55761467812647},-93.839734964236271,92901.337614593911]
[715,59,7,103,92901.337614593911,null,669.56997668995155,0,-93.570907591283856,93477.336683692571]
[716,59,8,103,93477.336683692571,null,673.72138821073941,0,-94.151058071903321,94056.907013831413]
[717,{"$f":"B728+1","v":59},{"$f":"C728","v":9},{"$f":"D728+1","v":103},94056.907013831413,null,677.89853896449017,{"$f":"-SUM(E740:G740)*$H$21","v":-852.61324997516328},-94.734805552795905,93787.45749726794]
[718,59,10,103,93787.45749726794,null,675.9565291812404,0,-94.463414026449186,94368.950612422734]
[719,59,11,103,94368.950612422734,null,680.14753806826855,0,-95.049098150491005,94954.049052340517]
[720,59,12,103,94954.049052340517,null,684.36453169652316,{"$f":"-SUM(E743:G743)*$H$21","v":-860.74572225633347},-95.638413584037039,94682.02944819667]
[721,60,1,104,94682.02944819667,null,682.40399846113098,0,-95.364433446657799,95269.069013211149]
[722,60,2,104,95269.069013211149,null,686.63498240555464,0,-95.955703995616702,95859.748291621087]
[723,60,3,104,95859.748291621087,null,690.89219894119731,{"$f":"-SUM(E746:G746)*$H$21","v":-868.95576441506057},-96.550640490562273,95585.134085656653]
[724,60,4,104,95585.134085656653,null,688.91296557160751,0,-96.274047051228266,96177.773004177041]
[725,60,5,104,96177.773004177041,null,693.18430586710952,0,-96.870957310044147,96774.086352734099]
[726,60,6,104,96774.086352734099,null,697.48212896788846,{"$f":"-SUM(E749:G749)*$H$21","v":-877.24411633531804},-97.471568481701993,96496.852796884967]
[727,60,7,104,96496.852796884967,null,695.48401709680149,0,-97.192336813981768,97095.144477167778]
[728,60,8,104,97095.144477167778,null,699.79609867395436,0,-97.794940575841736,97697.145635265886]
[729,60,9,104,97697.145635265886,null,704.13491565705613,{"$f":"-SUM(E752:G752)*$H$21","v":-885.61152495830652},-98.401280550922934,97417.267745413701]
[730,60,10,104,97417.267745413701,null,702.11774521585335,0,-98.119385490629568,98021.26610513893]
[731,60,11,104,98021.26610513893,null,706.47095667680935,0,-98.727737061815745,98629.009324753933]
[732,60,12,104,98629.009324753933,null,710.85115855376455,{"$f":"-SUM(E755:G755)*$H$21","v":-894.05874434976943},-99.339860483307703,98346.461878474627]

{"sheet":"Resumen","index":8,"n_rows":568,"n_cols":56,"rows_kept":568,"cut":false,"hidden":true,"merged":[[24,34,31,39],[18,50,22,54],[24,40,27,44],[1,0,1,5],[1,7,1,10],[1,12,1,17],[1,19,1,22],[12,34,16,39],[0,27,2,27],[12,40,16,44],[18,55,22,59],[18,60,22,61],[12,45,16,49],[18,34,22,39],[18,40,21,44],[18,45,22,49]]}
[null,null,null,null,null,null,null,null,null,null,null,null,null,null,null,null,null,null,null,null,null,null,null,"Tope 151",{"$f":"AE1","v":158469},{"$f":"+'OptiMaxx plus'!AK12","v":151},null,{"$f":"+\"Beneficio Deducibilidad Acumulado Re-invertido a tasa \"&ROUND($AC$5,3)*100&\"%\"","v":"Beneficio Deducibilidad Acumulado Re-invertido a tasa 12%"},null,"5 UMA ANUAL",{"$f":"5*AE2","v":158469}]
["Saldo Del Fondo",null,null,null,null,null,null,"Saldo disponible",null,null,null,null,"Saldo neto de retenciones",null,null,null,null,null,null,"Beneficio Fiscal Reinvertido",null,null,null,"Tope 185",152000,"Alternativa del Cliente",null,null,null,"UMA 2019",31693.8,"*https://www.inegi.org.mx/temas/uma/        18/02/2020"]
["Año","Edad","Mes","No Deducible 93","Deducible 151","Deducible 185",null,"Mes","No Deducible 93","Deducible 151","Deducible 185",null,"Año","Edad","Saldo Disponible","No Deducible 93","Deducible 151","Deducible 185",null,null,"Aportación Aual","Reinvertido",null,null,null,null,null,null,null,null,null,null,null,null,1,2]
[null,null,null,null,null,null,null,null,null,null,null,null,null,null,null,null,null,null,null,null,null,null,"Aportación","Tope 151","Tope 185","Base 151","Base 185",{"$f":"+Z1","v":151},"Beneficio Fiscal Re-invertido a una tasa del"]
[{"$f":"+C5/12","v":8.3333333333333329E-2},{"$f":"+'OptiMaxx plus'!T7+A5","v":44.083333333333336},1,{"$f":"+'No Deducible 93'!AD24","v":1842.8340519065496},{"$f":"+'Deducible 151'!AD24","v":1843.1717745962455},{"$f":"+'Deducible 185'!AD24","v":1843.3340519065496},null,1,{"$f":"+'No Deducible 93'!Y24","v":0},{"$f":"+'Deducible 151'!Y24","v":0},{"$f":"+'Deducible 185'!Y24","v":0},null,1,{"$f":"+'OptiMaxx plus'!T7+1","v":45},{"$f":"VLOOKUP(M5,'OptiMaxx plus'!$C$33:$W$57,18,0)","v":0},{"$f":"+O5-AF77","v":0},{"$f":"IF(N5>=65,((122804.25*3)+(O5-(122804.25*3))*0.8),O5*0.8)","v":0},{"$f":"+O5*0.65","v":0},1,1,{"$f":"+'OptiMaxx plus'!G33","v":18000},null,{"$f":"+'OptiMaxx plus'!G33","v":18000},{"$f":"+Y1","v":158469},{"$f":"+Y2","v":152000},{"$f":"IF(W5>X5,X5,W5)","v":18000},{"$f":"IF(W5>Y5,Y5,W5)","v":18000},{"$f":"IF($AB4=185,AA5*'OptiMaxx plus'!$T$15,Z5*'OptiMaxx plus'!$T$15)","v":5400},{"$f":"+'Deducible 151'!L20","v":0.12}]
[{"$f":"+C6/12","v":0.16666666666666666},{"$f":"'OptiMaxx plus'!$T$7+A6","v":44.166666666666664},{"$f":"+C5+1","v":2},{"$f":"+'No Deducible 93'!AD25","v":4199.4020657335332},{"$f":"+'Deducible 151'!AD25","v":4199.3367476680924},{"$f":"+'Deducible 185'!AD25","v":4199.9063053856034},null,{"$f":"+H5+1","v":2},{"$f":"+'No Deducible 93'!Y25","v":0},{"$f":"+'Deducible 151'!Y25","v":0},{"$f":"+'Deducible 185'!Y25","v":0},null,{"$f":"+M5+1","v":2},{"$f":"+N5+1","v":46},{"$f":"VLOOKUP(M6,'OptiMaxx plus'!$C$33:$W$57,18,0)","v":8962.8917063106437},{"$f":"O6-AG77","v":8940.2795378718583},{"$f":"IF(N6>=65,O6,O6*0.8)","v":7170.3133650485152},{"$f":"+O6*0.65","v":5825.8796091019185},{"$f":"+S5+1","v":2},{"$f":"+T5+1","v":2},{"$f":"+'OptiMaxx plus'!G34","v":18897.6636},{"$f":"+U6*'OptiMaxx plus'!$T$15:$X$15+(V5*(1+'Deducible 151'!$L$20))","v":0},{"$f":"+'OptiMaxx plus'!G34","v":18897.6636},{"$f":"+X5*(1+'No Deducible 93'!$G$18)","v":166371.88072379999},{"$f":"+Y5*(1+'No Deducible 93'!$G$18)","v":159580.27040000001},{"$f":"IF(W6>X6,X6,W6)","v":18897.6636},{"$f":"IF(W6>Y6,Y6,W6)","v":18897.6636},{"$f":"IF($AB$4=185,AA6*'OptiMaxx plus'!$T$15,Z6*'OptiMaxx plus'!$T$15)+(AB5*(1+$AC$5))","v":11717.299080000001},{"$f":"CONCATENATE(AC4,\" \",AC5)","v":"Beneficio Fiscal Re-invertido a una tasa del 0.12"}]
[{"$f":"+C7/12","v":0.25},{"$f":"'OptiMaxx plus'!$T$7+A7","v":44.25},{"$f":"+C6+1","v":3},{"$f":"+'No Deducible 93'!AD26","v":6514.8227560254691},{"$f":"+'Deducible 151'!AD26","v":6508.2912145216014},{"$f":"+'Deducible 185'!AD26","v":6515.3633453694656},null,{"$f":"+H6+1","v":3},{"$f":"+'No Deducible 93'!Y26","v":0},{"$f":"+'Deducible 151'!Y26","v":0},{"$f":"+'Deducible 185'!Y26","v":0},null,{"$f":"+M6+1","v":3},{"$f":"+N6+1","v":47},{"$f":"VLOOKUP(M7,'OptiMaxx plus'!$C$33:$W$57,18,0)","v":29198.827773761994},{"$f":"O7-AH77","v":29079.031149034257},{"$f":"IF(N7>=65,O7,O7*0.8)","v":23359.062219009596},18979.238052945297,{"$f":"+S6+1","v":3},3,{"$f":"+'OptiMaxx plus'!G35","v":19840.093863264719},{"$f":"+U7*'OptiMaxx plus'!$T$15:$X$15+(V6*(1+'Deducible 151'!$L$20))","v":0},{"$f":"+'OptiMaxx plus'!G35","v":19840.093863264719},{"$f":"+X6*(1+'No Deducible 93'!$G$18)","v":174668.87968987203},{"$f":"+Y6*(1+'No Deducible 93'!$G$18)","v":167538.5704009021},19840.093863264719,19840.093863264719,{"$f":"IF($AB$4=185,AA7*'OptiMaxx plus'!$T$15,Z7*'OptiMaxx plus'!$T$15)+(AB6*(1+$AC$5))","v":19075.403128579419}]
[0.33333333333333331,{"$f":"'OptiMaxx plus'!$T$7+A8","v":44.333333333333336},4,{"$f":"+'No Deducible 93'!AD27","v":8907.2381941905496},{"$f":"+'Deducible 151'!AD27","v":8899.7588738298509},{"$f":"+'Deducible 185'!AD27","v":8907.7833673560108},null,4,{"$f":"+'No Deducible 93'!Y27","v":0},{"$f":"+'Deducible 151'!Y27","v":0},{"$f":"+'Deducible 185'!Y27","v":0},null,4,48,{"$f":"VLOOKUP(M8,'OptiMaxx plus'!$C$33:$W$57,18,0)","v":52512.05163397421},{"$f":"O8-AI77","v":52117.540967169334},42009.641307179372,34132.833562083237,4,4,{"$f":"+'OptiMaxx plus'!G36","v":20829.523312244502},{"$f":"+U8*'OptiMaxx plus'!$T$15:$X$15+(V7*(1+'Deducible 151'!$L$20))","v":0},{"$f":"+'OptiMaxx plus'!G36","v":20829.523312244502},{"$f":"+X7*(1+'No Deducible 93'!$G$18)","v":183379.65165378188},{"$f":"+Y7*(1+'No Deducible 93'!$G$18)","v":175893.75241450916},20829.523312244502,20829.523312244502,{"$f":"IF($AB$4=185,AA8*'OptiMaxx plus'!$T$15,Z8*'OptiMaxx plus'!$T$15)+(AB7*(1+$AC$5))","v":27613.308497682301},{"$f":"+\"Beneficio Deducibilidad Acumulado Re-invertido a tasa \"&ROUND($AC$5,3)*100&\"%\"","v":"Beneficio Deducibilidad Acumulado Re-invertido a tasa 12%"}]
[0.41666666666666669,{"$f":"'OptiMaxx plus'!$T$7+A9","v":44.416666666666664},5,{"$f":"+'No Deducible 93'!AD28","v":11318.01257072487},{"$f":"+'Deducible 151'!AD28","v":11309.327734933533},{"$f":"+'Deducible 185'!AD28","v":11318.562366579412},null,5,{"$f":"+'No Deducible 93'!Y28","v":0},{"$f":"+'Deducible 151'!Y28","v":0},{"$f":"+'Deducible 185'!Y28","v":0},null,5,49,{"$f":"VLOOKUP(M9,'OptiMaxx plus'!$C$33:$W$57,18,0)","v":79272.16449305517},{"$f":"O9-AJ77","v":78350.30227624104},{"$f":"IF(N9>=65,O9,O9*0.8)","v":63417.731594444136},51526.906920485861,5,5,{"$f":"+'OptiMaxx plus'!G37","v":21868.295805730799},{"$f":"+U9*'OptiMaxx plus'!$T$15:$X$15+(V8*(1+'Deducible 151'!$L$20))","v":0},{"$f":"+'OptiMaxx plus'!G37","v":21868.295805730799},{"$f":"+X8*(1+'No Deducible 93'!$G$18)","v":192524.83155768632},{"$f":"+Y8*(1+'No Deducible 93'!$G$18)","v":184665.60902617121},21868.295805730799,21868.295805730799,{"$f":"IF($AB$4=185,AA9*'OptiMaxx plus'!$T$15,Z9*'OptiMaxx plus'!$T$15)+(AB8*(1+$AC$5))","v":37487.394259123415}]
[0.5,{"$f":"'OptiMaxx plus'!$T$7+A10","v":44.5},6,{"$f":"+'No Deducible 93'!AD29","v":13623.440152599789},{"$f":"+'Deducible 151'!AD29","v":13600.927352704119},{"$f":"+'Deducible 185'!AD29","v":13624.06810448344},null,6,{"$f":"+'No Deducible 93'!Y29","v":0},{"$f":"+'Deducible 151'!Y29","v":0},{"$f":"+'Deducible 185'!Y29","v":0},null,6,50,{"$f":"VLOOKUP(M10,'OptiMaxx plus'!$C$33:$W$57,18,0)","v":109889.78775788537},{"$f":"O10-AK77","v":108124.63458226339},87911.830206308296,71428.362042625493,6,6,{"$f":"+'OptiMaxx plus'!G38","v":22958.872091221754},{"$f":"+U10*'OptiMaxx plus'!$T$15:$X$15+(V9*(1+'Deducible 151'!$L$20))","v":0},{"$f":"+'OptiMaxx plus'!G38","v":22958.872091221754},{"$f":"+X9*(1+'No Deducible 93'!$G$18)","v":202126.08341243444},{"$f":"+Y9*(1+'No Deducible 93'!$G$18)","v":193874.91988142816},22958.872091221754,22958.872091221754,{"$f":"IF($AB$4=185,AA10*'OptiMaxx plus'!$T$15,Z10*'OptiMaxx plus'!$T$15)+(AB9*(1+$AC$5))","v":48873.54319758476}]
[0.58333333333333337,{"$f":"'OptiMaxx plus'!$T$7+A11","v":44.583333333333336},7,{"$f":"+'No Deducible 93'!AD30","v":16070.417957781927},{"$f":"+'Deducible 151'!AD30","v":16046.081193817325},{"$f":"+'Deducible 185'!AD30","v":16071.051234260583},null,7,{"$f":"+'No Deducible 93'!Y30","v":0},{"$f":"+'Deducible 151'!Y30","v":0},{"$f":"+'Deducible 185'!Y30","v":0},null,7,51,{"$f":"VLOOKUP(M11,'OptiMaxx plus'!$C$33:$W$57,18,0)","v":144820.96937585651},{"$f":"O11-AL77","v":141831.26006494919},115856.77550068521,94133.630094306733,7,7,{"$f":"+'OptiMaxx plus'!G39","v":24103.835634185401},{"$f":"+U11*'OptiMaxx plus'!$T$15:$X$15+(V10*(1+'Deducible 151'!$L$20))","v":0},{"$f":"+'OptiMaxx plus'!G39","v":24103.835634185401},{"$f":"+X10*(1+'No Deducible 93'!$G$18)","v":212206.15161742922},{"$f":"+Y10*(1+'No Deducible 93'!$G$18)","v":203543.50091089896},24103.835634185401,24103.835634185401,{"$f":"IF($AB$4=185,AA11*'OptiMaxx plus'!$T$15,Z11*'OptiMaxx plus'!$T$15)+(AB10*(1+$AC$5))","v":61969.51907155056}]
[0.66666666666666663,{"$f":"'OptiMaxx plus'!$T$7+A12","v":44.666666666666664},8,{"$f":"+'No Deducible 93'!AD31","v":18536.181926251298},{"$f":"+'Deducible 151'!AD31","v":18509.749871424785},{"$f":"+'Deducible 185'!AD31","v":18536.820572473822},null,8,{"$f":"+'No Deducible 93'!Y31","v":0},{"$f":"+'Deducible 151'!Y31","v":0},{"$f":"+'Deducible 185'!Y31","v":0},null,8,52,{"$f":"VLOOKUP(M12,'OptiMaxx plus'!$C$33:$W$57,18,0)","v":184572.05662850902},{"$f":"O12-AM77","v":179904.86226628069},147657.64530280721,119971.83680853086,8,8,{"$f":"+'OptiMaxx plus'!G40","v":25305.898738029355},{"$f":"+U12*'OptiMaxx plus'!$T$15:$X$15+(V11*(1+'Deducible 151'!$L$20))","v":0},{"$f":"+'OptiMaxx plus'!G40","v":25305.898738029355},{"$f":"+X11*(1+'No Deducible 93'!$G$18)","v":222788.91483982073},{"$f":"+Y11*(1+'No Deducible 93'!$G$18)","v":213694.25601002568},25305.898738029355,25305.898738029355,{"$f":"IF($AB$4=185,AA12*'OptiMaxx plus'!$T$15,Z12*'OptiMaxx plus'!$T$15)+(AB11*(1+$AC$5))","v":76997.630981545444}]
[0.75,{"$f":"'OptiMaxx plus'!$T$7+A13","v":44.75},9,{"$f":"+'No Deducible 93'!AD32","v":20831.501893892306},{"$f":"+'Deducible 151'!AD32","v":20783.779149047823},{"$f":"+'Deducible 185'!AD32","v":20832.261163293486},null,9,{"$f":"+'No Deducible 93'!Y32","v":0},{"$f":"+'Deducible 151'!Y32","v":0},{"$f":"+'Deducible 185'!Y32","v":0},null,9,53,{"$f":"VLOOKUP(M13,'OptiMaxx plus'!$C$33:$W$57,18,0)","v":229705.08442443353},{"$f":"O13-AN77","v":222827.28572961478},183764.06753954684,149308.30487588179,9,9,{"$f":"+'OptiMaxx plus'!G41","v":26567.908969274624},{"$f":"+U13*'OptiMaxx plus'!$T$15:$X$15+(V12*(1+'Deducible 151'!$L$20))","v":0},{"$f":"+'OptiMaxx plus'!G41","v":26567.908969274624},{"$f":"+X12*(1+'No Deducible 93'!$G$18)","v":233899.44258066555},{"$f":"+Y12*(1+'No Deducible 93'!$G$18)","v":224351.23129609687},26567.908969274624,26567.908969274624,{"$f":"IF($AB$4=185,AA13*'OptiMaxx plus'!$T$15,Z13*'OptiMaxx plus'!$T$15)+(AB12*(1+$AC$5))","v":94207.7193901133},null,null,null,null,null,151,{"$f":"+'Deducible 151'!AK37","v":"Las tasas de crecimiento elegidas tienen fines ilustrativos únicamente. La tasa anual proyectada está expresada antes de cargos. La ganancia real podría ser otra, ya que, debido a la naturaleza de este tipo de inversiones, su rendimiento puede indistintamente subir o bajar. El saldo proyectado se expresa después de los cargos del producto. Si se rescata de forma anticipada el Saldo Sujeto a Retiro, el valor ilustrado le da una estimación de lo que podrá recibir, por lo tanto, para obtener los máximos beneficios de esta inversión, la aportación debería ser realizada por la duración del plazo contratado. En caso de fallecimiento se entregará a los beneficiarios el Saldo del Fondo menos el Bono de fidelidad después de aplicar la retención de impuestos. Dicha retención actualmente es del 20%."},null,null,null,null,null,{"$f":"+'Deducible 151'!AK42","v":"Todo retiro es acumulable al ingreso del (los) beneficiario(s), por lo que la retención representa un pago provisional de los impuestos. La presente ilustración se ofrece únicamente a modo de guía y no debe ser considerada como un contrato desde el punto de vista legal. Para mayores detalles vea el folleto del cliente y las Condiciones de la Póliza."},null,null,null,null,{"$f":"+'Deducible 151'!AK32","v":"De acuerdo con la Ley del Impuesto Sobre la Renta, el monto total de las deducciones personales no podrá exceder de la cantidad que resulte menor entre 5 UMA´s anuales y el 10% de los ingresos anuales percibidos. El fondo exento a edad 65 será el equivalente a 15 UMA´s anuales (dicha exención se podrá realizar cada año) o 90 UMA´s anuales en una sola exhibición. Sobre excedente se retendrá 20%."}]
[0.83333333333333337,{"$f":"'OptiMaxx plus'!$T$7+A14","v":44.833333333333336},10,{"$f":"+'No Deducible 93'!AD33","v":23333.830785418431},{"$f":"+'Deducible 151'!AD33","v":23283.318929174333},{"$f":"+'Deducible 185'!AD33","v":23334.596492895791},null,10,{"$f":"+'No Deducible 93'!Y33","v":0},{"$f":"+'Deducible 151'!Y33","v":0},{"$f":"+'Deducible 185'!Y33","v":0},null,10,54,{"$f":"VLOOKUP(M14,'OptiMaxx plus'!$C$33:$W$57,18,0)","v":280843.73327727464},{"$f":"O14-AO77","v":271131.87502281123},224674.98662181973,182548.42663022853,10,10,{"$f":"+'OptiMaxx plus'!G42","v":27892.855903154141},{"$f":"+U14*'OptiMaxx plus'!$T$15:$X$15+(V13*(1+'Deducible 151'!$L$20))","v":0},{"$f":"+'OptiMaxx plus'!G42","v":27892.855903154141},{"$f":"+X13*(1+'No Deducible 93'!$G$18)","v":245564.05456205184},{"$f":"+Y13*(1+'No Deducible 93'!$G$18)","v":235539.67207107946},27892.855903154141,27892.855903154141,{"$f":"IF($AB$4=185,AA14*'OptiMaxx plus'!$T$15,Z14*'OptiMaxx plus'!$T$15)+(AB13*(1+$AC$5))","v":113880.50248787315}]
[0.91666666666666663,{"$f":"'OptiMaxx plus'!$T$7+A15","v":44.916666666666664},11,{"$f":"+'No Deducible 93'!AD34","v":25855.379415037518},{"$f":"+'Deducible 151'!AD34","v":25801.79268696731},{"$f":"+'Deducible 185'!AD34","v":25856.151615181458},null,11,{"$f":"+'No Deducible 93'!Y34","v":0},{"$f":"+'Deducible 151'!Y34","v":0},{"$f":"+'Deducible 185'!Y34","v":0},null,11,55,{"$f":"VLOOKUP(M15,'OptiMaxx plus'!$C$33:$W$57,18,0)","v":338679.91683311237},{"$f":"O15-AP77","v":325408.56710997655},270943.93346648989,220141.94594152304,11,11,{"$f":"+'OptiMaxx plus'!G43","v":29283.878205615616},{"$f":"+U15*'OptiMaxx plus'!$T$15:$X$15+(V14*(1+'Deducible 151'!$L$20))","v":0},{"$f":"+'OptiMaxx plus'!G43","v":29283.878205615616},{"$f":"+X14*(1+'No Deducible 93'!$G$18)","v":257810.38307587226},{"$f":"+Y14*(1+'No Deducible 93'!$G$18)","v":247286.08262519861},29283.878205615616,29283.878205615616,{"$f":"IF($AB$4=185,AA15*'OptiMaxx plus'!$T$15,Z15*'OptiMaxx plus'!$T$15)+(AB14*(1+$AC$5))","v":136331.32624810262}]
[1,{"$f":"'OptiMaxx plus'!$T$7+A16","v":45},12,{"$f":"+'No Deducible 93'!AD35","v":28140.475855473778},{"$f":"+'Deducible 151'!AD35","v":28058.033355665393},{"$f":"+'Deducible 185'!AD35","v":28141.411817187756},null,12,{"$f":"+'No Deducible 93'!Y35","v":0},{"$f":"+'Deducible 151'!Y35","v":0},{"$f":"+'Deducible 185'!Y35","v":0},null,12,56,{"$f":"VLOOKUP(M16,'OptiMaxx plus'!$C$33:$W$57,18,0)","v":403981.06508414942},{"$f":"O16-AQ77","v":386309.64169606217},323184.85206731956,262587.69230469712,12,12,{"$f":"+'OptiMaxx plus'!G44","v":30744.271068505306},{"$f":"+U16*'OptiMaxx plus'!$T$15:$X$15+(V15*(1+'Deducible 151'!$L$20))","v":0},{"$f":"+'OptiMaxx plus'!G44","v":30744.271068505306},{"$f":"+X15*(1+'No Deducible 93'!$G$18)","v":270667.43844194262},{"$f":"+Y15*(1+'No Deducible 93'!$G$18)","v":259618.28902293378},30744.271068505306,30744.271068505306,{"$f":"IF($AB$4=185,AA16*'OptiMaxx plus'!$T$15,Z16*'OptiMaxx plus'!$T$15)+(AB15*(1+$AC$5))","v":161914.36671842652}]
[1.0833333333333333,{"$f":"'OptiMaxx plus'!$T$7+A17","v":45.083333333333336},13,{"$f":"+'No Deducible 93'!AD36","v":29944.280980598076},{"$f":"+'Deducible 151'!AD36","v":29857.980638948218},{"$f":"+'Deducible 185'!AD36","v":29945.224878616093},null,13,{"$f":"+'No Deducible 93'!Y36","v":0},{"$f":"+'Deducible 151'!Y36","v":0},{"$f":"+'Deducible 185'!Y36","v":0},null,13,57,{"$f":"VLOOKUP(M17,'OptiMaxx plus'!$C$33:$W$57,18,0)","v":477598.17633465235},{"$f":"O17-AR77","v":454556.12922711845},382078.5410677219,310438.81461752404,13,13,{"$f":"+'OptiMaxx plus'!G45","v":32277.494015545879},{"$f":"+U17*'OptiMaxx plus'!$T$15:$X$15+(V16*(1+'Deducible 151'!$L$20))","v":0},{"$f":"+'OptiMaxx plus'!G45","v":32277.494015545879},{"$f":"+X16*(1+'No Deducible 93'!$G$18)","v":284165.67773052998},{"$f":"+Y16*(1+'No Deducible 93'!$G$18)","v":272565.50502016529},32277.494015545879,32277.494015545879,{"$f":"IF($AB$4=185,AA17*'OptiMaxx plus'!$T$15,Z17*'OptiMaxx plus'!$T$15)+(AB16*(1+$AC$5))","v":191027.33892930151},null,null,"Saldo proyectado a edad de 65"]
[1.1666666666666667,{"$f":"'OptiMaxx plus'!$T$7+A18","v":45.166666666666664},14,{"$f":"+'No Deducible 93'!AD37","v":31763.238731821803},{"$f":"+'Deducible 151'!AD37","v":31672.767202675437},{"$f":"+'Deducible 185'!AD37","v":31764.190633438193},null,14,{"$f":"+'No Deducible 93'!Y37","v":0},{"$f":"+'Deducible 151'!Y37","v":0},{"$f":"+'Deducible 185'!Y37","v":0},null,14,58,{"$f":"VLOOKUP(M18,'OptiMaxx plus'!$C$33:$W$57,18,0)","v":560474.7186391002},{"$f":"O18-AS77","v":530944.91465645027},448379.7749112802,364308.56711541512,14,14,{"$f":"+'OptiMaxx plus'!G46","v":33887.179097599954},{"$f":"+U18*'OptiMaxx plus'!$T$15:$X$15+(V17*(1+'Deducible 151'!$L$20))","v":0},{"$f":"+'OptiMaxx plus'!G46","v":33887.179097599954},{"$f":"+X17*(1+'No Deducible 93'!$G$18)","v":298337.07691208704},{"$f":"+Y17*(1+'No Deducible 93'!$G$18)","v":286158.40126862191},33887.179097599954,33887.179097599954,{"$f":"IF($AB$4=185,AA18*'OptiMaxx plus'!$T$15,Z18*'OptiMaxx plus'!$T$15)+(AB17*(1+$AC$5))","v":224116.7733300977},null,93,{"$f":"VLOOKUP(AD25,$B$5:$F$568,3,0)","v":1677070.4034124606}]
[1.25,{"$f":"'OptiMaxx plus'!$T$7+A19","v":45.25},15,{"$f":"+'No Deducible 93'!AD38","v":33294.796739698548},{"$f":"+'Deducible 151'!AD38","v":33167.4379050465},{"$f":"+'Deducible 185'!AD38","v":33295.958279357408},null,15,{"$f":"+'No Deducible 93'!Y38","v":0},{"$f":"+'Deducible 151'!Y38","v":0},{"$f":"+'Deducible 185'!Y38","v":0},null,15,59,{"$f":"VLOOKUP(M19,'OptiMaxx plus'!$C$33:$W$57,18,0)","v":653656.4698873267},{"$f":"O19-AT77","v":616356.59477160627},522925.1759098614,424876.70542676235,15,15,{"$f":"+'OptiMaxx plus'!G47","v":35577.139496633084},{"$f":"+U19*'OptiMaxx plus'!$T$15:$X$15+(V18*(1+'Deducible 151'!$L$20))","v":0},{"$f":"+'OptiMaxx plus'!G47","v":35577.139496633084},{"$f":"+X18*(1+'No Deducible 93'!$G$18)","v":313215.20660510822},{"$f":"+Y18*(1+'No Deducible 93'!$G$18)","v":300429.17797156831},35577.139496633084,35577.139496633084,{"$f":"IF($AB$4=185,AA19*'OptiMaxx plus'!$T$15,Z19*'OptiMaxx plus'!$T$15)+(AB18*(1+$AC$5))","v":261683.92797869939},null,151,{"$f":"VLOOKUP(AD25,$B$5:$F$568,4,0)","v":1611180.7343506103},null,null,185,{"$f":"+'Deducible 185'!AK31","v":"Las tasas de crecimiento elegidas tienen fines ilustrativos únicamente. La tasa anual proyectada está expresada antes de cargos. La ganancia real podría ser otra, ya que, debido a la naturaleza de este tipo de inversiones, su rendimiento puede indistintamente subir o bajar. El saldo proyectado se expresa después de los cargos del producto. Si se rescata de forma anticipada el Saldo Sujeto a Retiro, el valor ilustrado le da una estimación de lo que podrá recibir, por lo tanto, para obtener los máximos beneficios de esta inversión, la aportación debería ser realizada por la duración del plazo contratado. En caso de fallecimiento se entregará a los beneficiarios el Saldo del Fondo menos el Bono de fidelidad después de aplicar la retención de impuestos."},null,null,null,null,null,{"$f":"+'Deducible 185'!AK36","v":"Todo retiro es acumulable al ingreso de (los) beneficiario(s), por lo que la retención representa un pago provisional de los impuestos. La presente ilustración se ofrece únicamente a modo de guía y no debe ser considerada como un contrato desde el punto de vista legal. Para mayores detalles vea el folleto del cliente y las Condiciones de la Póliza."},null,null,null,null,"De acuerdo a la Ley del Impuesto Sobre la Renta el importe de los depósitos, pagos o adquisiciones a que se refiere este artículo no podrán exceder en el año de calendario de que se trate, del equivalente a $152,000.00, considerando todos los conceptos. Por retiros se cobrará la tasa máxima vigente."]
[1.3333333333333333,{"$f":"'OptiMaxx plus'!$T$7+A20","v":45.333333333333336},16,{"$f":"+'No Deducible 93'!AD39","v":35142.087871641284},{"$f":"+'Deducible 151'!AD39","v":35009.680597171173},{"$f":"+'Deducible 185'!AD39","v":35143.25926034819},null,16,{"$f":"+'No Deducible 93'!Y39","v":0},{"$f":"+'Deducible 151'!Y39","v":0},{"$f":"+'Deducible 185'!Y39","v":0},null,16,60,{"$f":"VLOOKUP(M20,'OptiMaxx plus'!$C$33:$W$57,18,0)","v":758302.39505079889},{"$f":"O20-AU77","v":758302.39505079889},606641.91604063916,492896.55678301927,16,16,{"$f":"+'OptiMaxx plus'!G48","v":37351.378558758071},{"$f":"+U20*'OptiMaxx plus'!$T$15:$X$15+(V19*(1+'Deducible 151'!$L$20))","v":0},{"$f":"+'OptiMaxx plus'!G48","v":37351.378558758071},{"$f":"+X19*(1+'No Deducible 93'!$G$18)","v":328835.3116015463},{"$f":"+Y19*(1+'No Deducible 93'!$G$18)","v":315411.641162846},37351.378558758071,37351.378558758071,{"$f":"IF($AB$4=185,AA20*'OptiMaxx plus'!$T$15,Z20*'OptiMaxx plus'!$T$15)+(AB19*(1+$AC$5))","v":304291.41290377075},null,185,{"$f":"VLOOKUP(AD25,$B$5:$F$568,5,0)","v":1677146.9092494531}]
[1.4166666666666667,{"$f":"'OptiMaxx plus'!$T$7+A21","v":45.416666666666664},17,{"$f":"+'No Deducible 93'!AD40","v":37004.899002640639},{"$f":"+'Deducible 151'!AD40","v":36867.113112021776},{"$f":"+'Deducible 185'!AD40","v":37006.080323908653},null,17,{"$f":"+'No Deducible 93'!Y40","v":0},{"$f":"+'Deducible 151'!Y40","v":0},{"$f":"+'Deducible 185'!Y40","v":0},null,17,61,{"$f":"VLOOKUP(M21,'OptiMaxx plus'!$C$33:$W$57,18,0)","v":875696.66942056909},{"$f":"O21-AV77","v":875696.66942056909},700557.33553645527,569202.83512336994,17,17,{"$f":"+'OptiMaxx plus'!G49","v":39214.099277759051},{"$f":"+U21*'OptiMaxx plus'!$T$15:$X$15+(V20*(1+'Deducible 151'!$L$20))","v":0},{"$f":"+'OptiMaxx plus'!G49","v":39214.099277759051},{"$f":"+X20*(1+'No Deducible 93'!$G$18)","v":345234.39435817773},{"$f":"+Y20*(1+'No Deducible 93'!$G$18)","v":331141.28278996533},39214.099277759051,39214.099277759051,{"$f":"IF($AB$4=185,AA21*'OptiMaxx plus'!$T$15,Z21*'OptiMaxx plus'!$T$15)+(AB20*(1+$AC$5))","v":352570.612235551}]
[1.5,{"$f":"'OptiMaxx plus'!$T$7+A22","v":45.5},18,{"$f":"+'No Deducible 93'!AD41","v":38533.060292147173},{"$f":"+'Deducible 151'!AD41","v":38350.245433950273},{"$f":"+'Deducible 185'!AD41","v":38534.497853029359},null,18,{"$f":"+'No Deducible 93'!Y41","v":0},{"$f":"+'Deducible 151'!Y41","v":0},{"$f":"+'Deducible 185'!Y41","v":0},null,18,62,{"$f":"VLOOKUP(M22,'OptiMaxx plus'!$C$33:$W$57,18,0)","v":1007261.9680630495},{"$f":"O22-AW77","v":1007261.9680630495},805809.57445043966,654720.27924098214,18,18,{"$f":"+'OptiMaxx plus'!G50","v":41169.714251560748},{"$f":"+U22*'OptiMaxx plus'!$T$15:$X$15+(V21*(1+'Deducible 151'!$L$20))","v":0},{"$f":"+'OptiMaxx plus'!G50","v":41169.714251560748},{"$f":"+X21*(1+'No Deducible 93'!$G$18)","v":362451.30265169893},{"$f":"+Y21*(1+'No Deducible 93'!$G$18)","v":347655.36479095748},41169.714251560748,41169.714251560748,{"$f":"IF($AB$4=185,AA22*'OptiMaxx plus'!$T$15,Z22*'OptiMaxx plus'!$T$15)+(AB21*(1+$AC$5))","v":407229.99997928535},null,"Edad después del plazo",null,"Deducible 151"]
[1.5833333333333333,{"$f":"'OptiMaxx plus'!$T$7+A23","v":45.583333333333336},19,{"$f":"+'No Deducible 93'!AD42","v":40316.791241701212},{"$f":"+'Deducible 151'!AD42","v":40110.540324890899},{"$f":"+'Deducible 185'!AD42","v":40318.240992099338},null,19,{"$f":"+'No Deducible 93'!Y42","v":1480.4026778206169},{"$f":"+'Deducible 151'!Y42","v":1463.0523743530573},{"$f":"+'Deducible 185'!Y42","v":1480.4026778206169},null,19,63,{"$f":"VLOOKUP(M23,'OptiMaxx plus'!$C$33:$W$57,18,0)","v":1154574.1543073501},{"$f":"O23-AX77","v":1154574.1543073501},923659.32344588009,750473.20029977756,19,19,{"$f":"+'OptiMaxx plus'!G51","v":43222.856135228933},{"$f":"+U23*'OptiMaxx plus'!$T$15:$X$15+(V22*(1+'Deducible 151'!$L$20))","v":0},{"$f":"+'OptiMaxx plus'!G51","v":43222.856135228933},{"$f":"+X22*(1+'No Deducible 93'!$G$18)","v":380526.82160519966},{"$f":"+Y22*(1+'No Deducible 93'!$G$18)","v":364993.00736415549},43222.856135228933,43222.856135228933,{"$f":"IF($AB$4=185,AA23*'OptiMaxx plus'!$T$15,Z23*'OptiMaxx plus'!$T$15)+(AB22*(1+$AC$5))","v":469064.45681736828},null,{"$f":"('OptiMaxx plus'!D15+'OptiMaxx plus'!T7)","v":65},null,65]
[1.6666666666666667,{"$f":"'OptiMaxx plus'!$T$7+A24","v":45.666666666666664},20,{"$f":"+'No Deducible 93'!AD43","v":42115.501873119392},{"$f":"+'Deducible 151'!AD43","v":41885.342140378038},{"$f":"+'Deducible 185'!AD43","v":42116.963916392066},null,20,{"$f":"+'No Deducible 93'!Y43","v":2973.3581401985853},{"$f":"+'Deducible 151'!Y43","v":2938.2741051673534},{"$f":"+'Deducible 185'!Y43","v":2973.3581401985853},null,20,64,{"$f":"VLOOKUP(M24,'OptiMaxx plus'!$C$33:$W$57,18,0)","v":1319378.5139822031},{"$f":"O24-AY77","v":1319378.5139822031},1055502.8111857625,857596.03408843209,20,20,{"$f":"+'OptiMaxx plus'!G52","v":45378.388615264026},{"$f":"+U24*'OptiMaxx plus'!$T$15:$X$15+(V23*(1+'Deducible 151'!$L$20))","v":0},{"$f":"+'OptiMaxx plus'!G52","v":45378.388615264026},{"$f":"+X23*(1+'No Deducible 93'!$G$18)","v":399503.77030401526},{"$f":"+Y23*(1+'No Deducible 93'!$G$18)","v":383195.28164000739},45378.388615264026,45378.388615264026,{"$f":"IF($AB$4=185,AA24*'OptiMaxx plus'!$T$15,Z24*'OptiMaxx plus'!$T$15)+(AB23*(1+$AC$5))","v":538965.70822003181}]
[1.75,{"$f":"'OptiMaxx plus'!$T$7+A25","v":45.75},21,{"$f":"+'No Deducible 93'!AD44","v":43573.909786128861},{"$f":"+'Deducible 151'!AD44","v":43279.981159947922},{"$f":"+'Deducible 185'!AD44","v":43575.6321189382},null,21,{"$f":"+'No Deducible 93'!Y44","v":4478.9728260119919},{"$f":"+'Deducible 151'!Y44","v":4425.7664145448962},{"$f":"+'Deducible 185'!Y44","v":4478.9728260119919},null,21,65,{"$f":"VLOOKUP(M25,'OptiMaxx plus'!$C$33:$W$57,18,0)","v":1611180.7343506103},{"$f":"O25-AZ77","v":1611180.7343506103},1611180.7343506103,1047267.4773278967,21,21,{"$f":"+'OptiMaxx plus'!G53","v":47641.417931184966},{"$f":"+U25*'OptiMaxx plus'!$T$15:$X$15+(V24*(1+'Deducible 151'!$L$20))","v":0},{"$f":"+'OptiMaxx plus'!G53","v":47641.417931184966},{"$f":"+X24*(1+'No Deducible 93'!$G$18)","v":419427.10322983057},{"$f":"+Y24*(1+'No Deducible 93'!$G$18)","v":402305.30697445088},{"$f":"IF(W25>X25,X25,W25)","v":47641.417931184966},47641.417931184966,{"$f":"IF($AB$4=185,AA25*'OptiMaxx plus'!$T$15,Z25*'OptiMaxx plus'!$T$15)+(AB24*(1+$AC$5))","v":617934.01858579111},null,{"$f":"MAX(AD23:AF23)","v":65},null,null,null,"No Deducible 93",{"$f":"+'No Deducible 93'!AK32","v":"Las tasas de crecimiento elegidas tienen fines ilustrativos únicamente. La tasa anual proyectada está expresada antes de cargos. La ganancia real podría ser otra, ya que, debido a la naturaleza de este tipo de inversiones, su rendimiento puede indistintamente subir o bajar. El saldo proyectado se expresa después de los cargos del producto. Si se rescata de forma anticipada el Saldo Sujeto a Retiro, el valor ilustrado le da una estimación de lo que podrá recibir, por lo tanto, para obtener los máximos beneficios de esta inversión, la aportación debería ser realizada por la duración del plazo contratado. En caso de fallecimiento se entregará a los beneficiarios el Saldo del Fondo menos el Bono de fidelidad exento de impuestos."},null,null,null,null,null,{"$f":"+'No Deducible 93'!AK42","v":"La presente ilustración se ofrece únicamente a modo de guía y no debe ser considerada como un contrato desde el punto de vista legal. Para mayores detalles vea el folleto del cliente y las Condiciones de la Póliza. "}]
[1.8333333333333333,{"$f":"'OptiMaxx plus'!$T$7+A26","v":45.833333333333336},22,{"$f":"+'No Deducible 93'!AD45","v":45400.160385464333},{"$f":"+'Deducible 151'!AD45","v":45081.07311185143},{"$f":"+'Deducible 185'!AD45","v":45401.8973224574},null,22,{"$f":"+'No Deducible 93'!Y45","v":5997.3540766665428},{"$f":"+'Deducible 151'!Y45","v":5925.6313665314719},{"$f":"+'Deducible 185'!Y45","v":5997.3540766665428},null,22,66,{"$f":"VLOOKUP(M26,'OptiMaxx plus'!$C$33:$W$57,18,0)","v":{"$error":"#N/A"}},{"$f":"O26-BA77","v":{"$error":"#N/A"}},{"$error":"#N/A"},{"$error":"#N/A"},22,22,{"$f":"+'OptiMaxx plus'!G54","v":""},{"$f":"+U26*'OptiMaxx plus'!$T$15:$X$15+(V25*(1+'Deducible 151'!$L$20))","v":{"$error":"#VALUE!"}},{"$f":"+'OptiMaxx plus'!G54","v":""},{"$f":"+X25*(1+'No Deducible 93'!$G$18)","v":440344.01675332285},{"$f":"+Y25*(1+'No Deducible 93'!$G$18)","v":422368.35309432814},440344.01675332285,422368.35309432814,{"$f":"IF($AB$4=185,AA26*'OptiMaxx plus'!$T$15,Z26*'OptiMaxx plus'!$T$15)+(AB25*(1+$AC$5))","v":824189.30584208295}]
[1.9166666666666667,{"$f":"'OptiMaxx plus'!$T$7+A27","v":45.916666666666664},23,{"$f":"+'No Deducible 93'!AD46","v":47241.749819554047},{"$f":"+'Deducible 151'!AD46","v":46897.010043459013},{"$f":"+'Deducible 185'!AD46","v":47243.501484564149},null,23,{"$f":"+'No Deducible 93'!Y46","v":7528.6101437483703},{"$f":"+'Deducible 151'!Y46","v":7437.9718741197494},{"$f":"+'Deducible 185'!Y46","v":7528.6101437483703},null,23,67,{"$f":"VLOOKUP(M27,'OptiMaxx plus'!$C$33:$W$57,18,0)","v":{"$error":"#N/A"}},{"$f":"O27-BB77","v":{"$error":"#N/A"}},{"$error":"#N/A"},{"$error":"#N/A"},23,23,{"$f":"+'OptiMaxx plus'!G55","v":""},{"$f":"+U27*'OptiMaxx plus'!$T$15:$X$15+(V26*(1+'Deducible 151'!$L$20))","v":{"$error":"#VALUE!"}},{"$f":"+'OptiMaxx plus'!G55","v":""},{"$f":"+X26*(1+'No Deducible 93'!$G$18)","v":462304.06093761441},{"$f":"+Y26*(1+'No Deducible 93'!$G$18)","v":443431.94733681291},462304.06093761441,443431.94733681291,{"$f":"IF($AB$4=185,AA27*'OptiMaxx plus'!$T$15,Z27*'OptiMaxx plus'!$T$15)+(AB26*(1+$AC$5))","v":1061783.2408244172},null,"Saldo proyectado a edad de 65 del cliente"]
[2,{"$f":"'OptiMaxx plus'!$T$7+A28","v":46},24,{"$f":"+'No Deducible 93'!AD47","v":48738.213035107554},{"$f":"+'Deducible 151'!AD47","v":48327.880592882502},{"$f":"+'Deducible 185'!AD47","v":48740.229103490288},null,24,{"$f":"+'No Deducible 93'!Y47","v":9072.8501967417287},{"$f":"+'Deducible 151'!Y47","v":8962.8917063106437},{"$f":"+'Deducible 185'!Y47","v":9072.8501967417287},null,24,68,{"$f":"VLOOKUP(M28,'OptiMaxx plus'!$C$33:$W$57,18,0)","v":{"$error":"#N/A"}},{"$f":"O28-BC77","v":{"$error":"#N/A"}},{"$error":"#N/A"},{"$error":"#N/A"},24,24,{"$f":"+'OptiMaxx plus'!G56","v":""},{"$f":"+U28*'OptiMaxx plus'!$T$15:$X$15+(V27*(1+'Deducible 151'!$L$20))","v":{"$error":"#VALUE!"}},{"$f":"+'OptiMaxx plus'!G56","v":""},{"$f":"+X27*(1+'No Deducible 93'!$G$18)","v":485359.25691738544},{"$f":"+Y27*(1+'No Deducible 93'!$G$18)","v":465545.98723688925},485359.25691738544,465545.98723688925,{"$f":"IF($AB$4=185,AA28*'OptiMaxx plus'!$T$15,Z28*'OptiMaxx plus'!$T$15)+(AB27*(1+$AC$5))","v":1334805.0067985631},null,{"$f":"+'OptiMaxx plus'!AA24","v":9900}]
[2.0833333333333335,{"$f":"'OptiMaxx plus'!$T$7+A29","v":46.083333333333336},25,{"$f":"+'No Deducible 93'!AD48","v":50681.85593439691},{"$f":"+'Deducible 151'!AD48","v":50243.71320220318},{"$f":"+'Deducible 185'!AD48","v":50683.889097636638},null,25,{"$f":"+'No Deducible 93'!Y48","v":10704.012308435584},{"$f":"+'Deducible 151'!Y48","v":10573.45820975286},{"$f":"+'Deducible 185'!Y48","v":10704.012308435584},null,25,69,{"$f":"VLOOKUP(M29,'OptiMaxx plus'!$C$33:$W$57,18,0)","v":{"$error":"#N/A"}},{"$f":"O29-BD77","v":{"$error":"#N/A"}},{"$error":"#N/A"},{"$error":"#N/A"},25,25,{"$f":"+'OptiMaxx plus'!G57","v":""},{"$f":"+U29*'OptiMaxx plus'!$T$15:$X$15+(V28*(1+'Deducible 151'!$L$20))","v":{"$error":"#VALUE!"}},{"$f":"+'OptiMaxx plus'!G57","v":""},{"$f":"+X28*(1+'No Deducible 93'!$G$18)","v":509564.22013170685},{"$f":"+Y28*(1+'No Deducible 93'!$G$18)","v":488762.85872959037},509564.22013170685,488762.85872959037,{"$f":"IF($AB$4=185,AA29*'OptiMaxx plus'!$T$15,Z29*'OptiMaxx plus'!$T$15)+(AB28*(1+$AC$5))","v":1647850.8736539029}]
[2.1666666666666665,{"$f":"'OptiMaxx plus'!$T$7+A30","v":46.166666666666664},26,{"$f":"+'No Deducible 93'!AD49","v":52641.831676100854},{"$f":"+'Deducible 151'!AD49","v":52175.343881125227},{"$f":"+'Deducible 185'!AD49","v":52643.882079150062},null,26,{"$f":"+'No Deducible 93'!Y49","v":12349.005539778824},{"$f":"+'Deducible 151'!Y49","v":12197.421060604433},{"$f":"+'Deducible 185'!Y49","v":12349.005539778824},null,26,70,null,null,null,null,null,26]
[2.25,{"$f":"'OptiMaxx plus'!$T$7+A31","v":46.25},27,{"$f":"+'No Deducible 93'!AD50","v":54252.4189995571},{"$f":"+'Deducible 151'!AD50","v":53717.553336861107},{"$f":"+'Deducible 185'!AD50","v":54254.737984735373},null,27,{"$f":"+'No Deducible 93'!Y50","v":14007.947169041578},{"$f":"+'Deducible 151'!Y50","v":13834.891686815425},{"$f":"+'Deducible 185'!Y50","v":14007.947169041578},null,27,71,null,null,null,null,null,27]
[2.3333333333333335,{"$f":"'OptiMaxx plus'!$T$7+A32","v":46.333333333333336},28,{"$f":"+'No Deducible 93'!AD51","v":56242.591003023583},{"$f":"+'Deducible 151'!AD51","v":55678.004688962887},{"$f":"+'Deducible 185'!AD51","v":56244.929651582483},null,28,{"$f":"+'No Deducible 93'!Y51","v":15680.955468932092},{"$f":"+'Deducible 151'!Y51","v":15485.982443169727},{"$f":"+'Deducible 185'!Y51","v":15680.955468932092},null,28,72,null,null,null,null,null,28]
[2.4166666666666665,{"$f":"'OptiMaxx plus'!$T$7+A33","v":46.416666666666664},29,{"$f":"+'No Deducible 93'!AD52","v":58249.488972647203},{"$f":"+'Deducible 151'!AD52","v":57654.6239291042},{"$f":"+'Deducible 185'!AD52","v":58251.847451318507},null,29,{"$f":"+'No Deducible 93'!Y52","v":17368.149715028881},{"$f":"+'Deducible 151'!Y52","v":17150.806618994277},{"$f":"+'Deducible 185'!Y52","v":17368.149715028881},null,29,73,null,null,null,null,null,29]
[2.5,{"$f":"'OptiMaxx plus'!$T$7+A34","v":46.5},30,{"$f":"+'No Deducible 93'!AD53","v":59902.050171104973},{"$f":"+'Deducible 151'!AD53","v":59236.806586625891},{"$f":"+'Deducible 185'!AD53","v":59904.681476605096},null,30,{"$f":"+'No Deducible 93'!Y53","v":19069.650194284364},{"$f":"+'Deducible 151'!Y53","v":18829.478445932378},{"$f":"+'Deducible 185'!Y53","v":19069.650194284364},null,30,74,null,null,null,null,null,30]
[2.5833333333333335,{"$f":"'OptiMaxx plus'!$T$7+A35","v":46.583333333333336},31,{"$f":"+'No Deducible 93'!AD54","v":61939.897420065819},{"$f":"+'Deducible 151'!AD54","v":61242.95248800976},{"$f":"+'Deducible 185'!AD54","v":61942.551037205565},null,31,{"$f":"+'No Deducible 93'!Y54","v":20785.578213600616},{"$f":"+'Deducible 151'!Y54","v":20522.113105781697},{"$f":"+'Deducible 185'!Y54","v":20785.578213600616},null,31,75,null,null,null,null,null,31,null,null,null,null,null,null,null,null,null,null,null,"Inflación anual",{"$f":"+'No Deducible 93'!G18","v":4.9870199999999996E-2}]
[2.6666666666666665,{"$f":"'OptiMaxx plus'!$T$7+A36","v":46.666666666666664},32,{"$f":"+'No Deducible 93'!AD55","v":63994.873463951641},{"$f":"+'Deducible 151'!AD55","v":63265.645031697553},{"$f":"+'Deducible 185'!AD55","v":63997.549581918196},null,32,{"$f":"+'No Deducible 93'!Y55","v":22516.056108477827},{"$f":"+'Deducible 151'!Y55","v":22228.826738397431},{"$f":"+'Deducible 185'!Y55","v":22516.056108477827},null,32,76,null,null,null,null,null,32,null,null,null,null,null,null,null,"Mensual",12,null,null,"Aportación",{"$f":"+'No Deducible 93'!G3","v":1500}]
[2.75,{"$f":"'OptiMaxx plus'!$T$7+A37","v":46.75},33,{"$f":"+'No Deducible 93'!AD56","v":65690.492740391521},{"$f":"+'Deducible 151'!AD56","v":64888.821243881452},{"$f":"+'Deducible 185'!AD56","v":65693.445996868832},null,33,{"$f":"+'No Deducible 93'!Y56","v":24261.207251736101},{"$f":"+'Deducible 151'!Y56","v":23949.736449661232},{"$f":"+'Deducible 185'!Y56","v":24261.207251736101},null,33,77,null,null,null,null,null,33,null,null,null,null,null,null,null,"Trimestral",4,null,null,"Periocidad",{"$f":"'No Deducible 93'!G4","v":"Mensual"}]
[2.8333333333333335,{"$f":"'OptiMaxx plus'!$T$7+A38","v":46.833333333333336},34,{"$f":"+'No Deducible 93'!AD57","v":67777.190068004245},{"$f":"+'Deducible 151'!AD57","v":66941.763939874771},{"$f":"+'Deducible 185'!AD57","v":67780.168366041442},null,34,{"$f":"+'No Deducible 93'!Y57","v":26021.156062311205},{"$f":"+'Deducible 151'!Y57","v":25684.960319516405},{"$f":"+'Deducible 185'!Y57","v":26021.156062311205},null,34,78,null,null,null,null,null,34,null,null,null,null,null,null,null,"Semestral",2,null,null,"Incremento Inflación",{"$f":"'No Deducible 93'!G17","v":"Si"}]
[2.9166666666666665,{"$f":"'OptiMaxx plus'!$T$7+A39","v":46.916666666666664},35,{"$f":"+'No Deducible 93'!AD58","v":69881.428967493615},{"$f":"+'Deducible 151'!AD58","v":69011.641188055888},{"$f":"+'Deducible 185'!AD58","v":69884.432519425696},null,35,{"$f":"+'No Deducible 93'!Y58","v":27796.02801412491},{"$f":"+'Deducible 151'!Y58","v":27434.617410069954},{"$f":"+'Deducible 185'!Y58","v":27796.02801412491},null,35,79,null,null,null,null,null,35,null,null,null,null,null,null,null,"Anual",1]
[3,{"$f":"'OptiMaxx plus'!$T$7+A40","v":47},36,{"$f":"+'No Deducible 93'!AD59","v":71621.218428591368},{"$f":"+'Deducible 151'!AD59","v":70676.857169748546},{"$f":"+'Deducible 185'!AD59","v":71624.503498753664},null,36,{"$f":"+'No Deducible 93'!Y59","v":29585.949645030523},{"$f":"+'Deducible 151'!Y59","v":29198.827773761994},{"$f":"+'Deducible 185'!Y59","v":29585.949645030523},null,36,80,null,null,null,null,null,36,null,null,null,null,null,null,null,null,"Saldo sin Bono","Año","Aportacion","Valor con Inflación","Valor con Inflación","Valor con Inflación","Valor con Inflación","Valor con Inflación","Valor con Inflación","Valor con Inflación","Valor con Inflación","Valor con Inflación","Valor con Inflación","Valor con Inflación","Valor con Inflación","Valor con Inflación","Valor con Inflación","Valor con Inflación","Valor con Inflación","Valor con Inflación","Valor con Inflación","Valor con Inflación","Valor con Inflación","Valor con Inflación","Valor con Inflación","Valor con Inflación","Valor con Inflación","Valor con Inflación"]
[3.0833333333333335,{"$f":"'OptiMaxx plus'!$T$7+A41","v":47.083333333333336},37,{"$f":"+'No Deducible 93'!AD60","v":73835.479878528931},{"$f":"+'Deducible 151'!AD60","v":72854.327380774252},{"$f":"+'Deducible 185'!AD60","v":73838.792803800257},null,37,{"$f":"+'No Deducible 93'!Y60","v":31468.558359467428},{"$f":"+'Deducible 151'!Y60","v":31054.313841288236},{"$f":"+'Deducible 185'!Y60","v":31468.558359467428},null,37,81,null,null,null,null,null,37,null,null,null,null,null,null,null,null,null,null,null,1,2,3,4,5,6,7,8,9,10,11,12,13,14,15,16,17,18,19,20,21,22,23,24,25]
[3.1666666666666665,{"$f":"'OptiMaxx plus'!$T$7+A42","v":47.166666666666664},38,{"$f":"+'No Deducible 93'!AD61","v":76068.363103897878},{"$f":"+'Deducible 151'!AD61","v":75049.766588623053},{"$f":"+'Deducible 185'!AD61","v":76071.704120470182},null,38,{"$f":"+'No Deducible 93'!Y61","v":33367.130285773761},{"$f":"+'Deducible 151'!Y61","v":32925.233444729121},{"$f":"+'Deducible 185'!Y61","v":33367.130285773761},null,38,82,null,null,null,null,null,38,null,null,null,null,null,null,null,null,{"$f":"+D16-Bono!J35","v":18064.483902210144},1,{"$f":"VLOOKUP(AG37,AB36:AC39,2,0)*AG36","v":18000},{"$f":"+AE42","v":18000},{"$f":"+$AE$42*((1+$AG$35))^AF41","v":18897.6636},{"$f":"+$AE$42*((1+$AG$35))^AG41","v":19840.093863264719},{"$f":"+$AE$42*((1+$AG$35))^AH41","v":20829.523312244506},21868.295805730802,22958.872091221758,24103.835634185405,25305.898738029362,26567.908969274635,27892.855903154152,29283.878205615634,30744.271068505328,32277.494015545901,33887.179097599976,35577.139496633114,37351.378558758101,39214.099277759087,41169.714251560785,43222.856135228976,45378.38861526407,47641.417931185017,50017.304971696794,52511.677974096317,55130.445857000093,57879.812217977866]
[3.25,{"$f":"'OptiMaxx plus'!$T$7+A43","v":47.25},39,{"$f":"+'No Deducible 93'!AD62","v":77932.293301739017},{"$f":"+'Deducible 151'!AD62","v":76835.97605702997},{"$f":"+'Deducible 185'!AD62","v":77935.920285370317},null,39,{"$f":"+'No Deducible 93'!Y62","v":35281.800780878031},{"$f":"+'Deducible 151'!Y62","v":34811.714956932607},{"$f":"+'Deducible 185'!Y62","v":35281.800780878031},null,39,83,null,null,null,null,null,39,null,null,null,null,null,null,null,null,{"$f":"+D28-Bono!J47","v":38272.254877106403},2,{"$f":"IF($AG$38=\"Si\",AE42*(1+$AG$35),AE42)","v":18897.6636},null,{"$f":"+AE43","v":18897.6636},{"$f":"+$AE$43*((1+$AG$35))^AF41","v":19840.093863264719},{"$f":"+$AE$43*((1+$AG$35))^AG41","v":20829.523312244506},{"$f":"+$AE$43*((1+$AG$35))^AH41","v":21868.295805730802},22958.872091221758,24103.835634185405,25305.898738029358,26567.908969274631,27892.855903154155,29283.878205615631,30744.271068505324,32277.494015545904,33887.179097599976,35577.139496633106,37351.378558758101,39214.09927775908,41169.714251560785,43222.856135228976,45378.38861526407,47641.417931185009,50017.304971696794,52511.67797409631,55130.445857000093,57879.812217977866]
[3.3333333333333335,{"$f":"'OptiMaxx plus'!$T$7+A44","v":47.333333333333336},40,{"$f":"+'No Deducible 93'!AD63","v":80199.831943890982},{"$f":"+'Deducible 151'!AD63","v":79064.456917381249},{"$f":"+'Deducible 185'!AD63","v":80203.489681819614},null,40,{"$f":"+'No Deducible 93'!Y63","v":37212.706349441338},{"$f":"+'Deducible 151'!Y63","v":36713.887818524519},{"$f":"+'Deducible 185'!Y63","v":37212.706349441338},null,40,84,null,null,null,null,null,40,null,null,null,null,null,null,null,null,{"$f":"+D40-Bono!J59","v":60750.201393930896},3,{"$f":"IF($AG$38=\"Si\",AE43*(1+$AG$35),AE43)","v":19840.093863264719},null,null,{"$f":"+AE44","v":19840.093863264719},{"$f":"+$AE$44*((1+$AG$35))^AF41","v":20829.523312244502},{"$f":"+$AE$44*((1+$AG$35))^AG41","v":21868.295805730799},{"$f":"+$AE$44*((1+$AG$35))^AH41","v":22958.872091221758},24103.835634185405,25305.898738029355,26567.908969274631,27892.855903154152,29283.878205615631,30744.271068505321,32277.494015545901,33887.179097599983,35577.139496633106,37351.378558758101,39214.09927775908,41169.714251560777,43222.856135228976,45378.38861526407,47641.417931185009,50017.304971696794,52511.67797409631,55130.445857000086,57879.812217977858]
[3.4166666666666665,{"$f":"'OptiMaxx plus'!$T$7+A45","v":47.416666666666664},41,{"$f":"+'No Deducible 93'!AD64","v":82486.442649710749},{"$f":"+'Deducible 151'!AD64","v":81311.329708776262},{"$f":"+'Deducible 185'!AD64","v":82490.131402711748},null,41,{"$f":"+'No Deducible 93'!Y64","v":39159.984653589294},{"$f":"+'Deducible 151'!Y64","v":38631.882546790097},{"$f":"+'Deducible 185'!Y64","v":39159.984653589294},null,41,85,null,null,null,null,null,41,null,null,null,null,null,null,null,null,{"$f":"+D52-Bono!J71","v":86522.495301864255},4,20829.523312244502,null,null,null,{"$f":"+AE45","v":20829.523312244502},{"$f":"+$AE$45*((1+$AG$35))^AF41","v":21868.295805730799},{"$f":"+$AE$45*((1+$AG$35))^AG41","v":22958.872091221754},{"$f":"+$AE$45*((1+$AG$35))^AH41","v":24103.835634185405},25305.898738029358,26567.908969274627,27892.855903154148,29283.878205615627,30744.271068505321,32277.494015545893,33887.179097599976,35577.139496633106,37351.378558758101,39214.099277759073,41169.714251560777,43222.856135228962,45378.388615264063,47641.417931185009,50017.304971696787,52511.677974096303,55130.445857000086,57879.812217977851]
[3.5,{"$f":"'OptiMaxx plus'!$T$7+A46","v":47.5},42,{"$f":"+'No Deducible 93'!AD65","v":84398.876160585118},{"$f":"+'Deducible 151'!AD65","v":83143.711193391078},{"$f":"+'Deducible 185'!AD65","v":84402.855399671971},null,42,{"$f":"+'No Deducible 93'!Y65","v":41123.774522726555},{"$f":"+'Deducible 151'!Y65","v":40565.830744629427},{"$f":"+'Deducible 185'!Y65","v":41123.774522726555},null,42,86,null,null,null,null,null,42,null,null,null,null,null,null,null,null,{"$f":"+D64-Bono!J83","v":115983.83389388693},5,21868.295805730799,null,null,null,null,{"$f":"+AE46","v":21868.295805730799},{"$f":"+$AE$46*((1+$AG$35))^AF41","v":22958.872091221754},{"$f":"+$AE$46*((1+$AG$35))^AG41","v":24103.835634185401},{"$f":"+$AE$46*((1+$AG$35))^AH41","v":25305.898738029358},26567.908969274627,27892.855903154144,29283.878205615627,30744.271068505321,32277.494015545897,33887.179097599968,35577.139496633106,37351.378558758101,39214.09927775908,41169.714251560777,43222.856135228969,45378.388615264063,47641.417931185009,50017.304971696794,52511.677974096303,55130.445857000086,57879.812217977851]
[3.5833333333333335,{"$f":"'OptiMaxx plus'!$T$7+A47","v":47.583333333333336},43,{"$f":"+'No Deducible 93'!AD66","v":86721.008340264234},{"$f":"+'Deducible 151'!AD66","v":85424.43676676671},{"$f":"+'Deducible 185'!AD66","v":86725.021320529544},null,43,{"$f":"+'No Deducible 93'!Y66","v":43104.215963434515},{"$f":"+'Deducible 151'!Y66","v":42515.865109587336},{"$f":"+'Deducible 185'!Y66","v":43104.215963434515},null,43,87,null,null,null,null,null,43,null,null,null,null,null,null,null,null,{"$f":"+D76-Bono!J95","v":149573.07668015541},6,22958.872091221754,null,null,null,null,null,{"$f":"+AE47","v":22958.872091221754},{"$f":"+$AE$47*((1+$AG$35))^AF41","v":24103.835634185401},{"$f":"+$AE$47*((1+$AG$35))^AG41","v":25305.898738029355},{"$f":"+$AE$47*((1+$AG$35))^AH41","v":26567.908969274627},27892.855903154148,29283.878205615623,30744.271068505317,32277.494015545893,33887.179097599976,35577.139496633099,37351.378558758093,39214.09927775908,41169.714251560777,43222.856135228962,45378.388615264063,47641.417931185002,50017.304971696787,52511.677974096303,55130.445857000079,57879.812217977851]
[3.6666666666666665,{"$f":"'OptiMaxx plus'!$T$7+A48","v":47.666666666666664},44,{"$f":"+'No Deducible 93'!AD67","v":89062.674019563521},{"$f":"+'Deducible 151'!AD67","v":87723.987457098585},{"$f":"+'Deducible 185'!AD67","v":89066.721027109015},null,44,{"$f":"+'No Deducible 93'!Y67","v":45101.450169452968},{"$f":"+'Deducible 151'!Y67","v":44482.119442958428},{"$f":"+'Deducible 185'!Y67","v":45101.450169452968},null,44,88,null,null,null,null,null,44,null,null,null,null,null,null,null,null,{"$f":"+D88-Bono!J107","v":187778.05191028921},7,24103.835634185401,null,null,null,null,null,null,{"$f":"+AE48","v":24103.835634185401},{"$f":"+$AE$48*((1+$AG$35))^AF41","v":25305.898738029355},{"$f":"+$AE$48*((1+$AG$35))^AG41","v":26567.908969274627},{"$f":"+$AE$48*((1+$AG$35))^AH41","v":27892.855903154148},29283.878205615627,30744.271068505317,32277.494015545893,33887.179097599968,35577.139496633106,37351.378558758093,39214.099277759073,41169.714251560777,43222.856135228962,45378.388615264055,47641.417931185002,50017.304971696787,52511.677974096303,55130.445857000079,57879.812217977844]
[3.75,{"$f":"'OptiMaxx plus'!$T$7+A49","v":47.75},45,{"$f":"+'No Deducible 93'!AD68","v":91024.862918365281},{"$f":"+'Deducible 151'!AD68","v":89603.718050896277},{"$f":"+'Deducible 185'!AD68","v":91029.205002327391},null,45,{"$f":"+'No Deducible 93'!Y68","v":47115.61953174635},{"$f":"+'Deducible 151'!Y68","v":46464.728658967826},{"$f":"+'Deducible 185'!Y68","v":47115.61953174635},null,45,89,null,null,null,null,null,45,null,null,null,null,null,null,null,null,{"$f":"+D100-Bono!J119","v":231140.88007697687},8,25305.898738029355,null,null,null,null,null,null,null,{"$f":"+AE49","v":25305.898738029355},{"$f":"+$AE$49*((1+$AG$35))^AF41","v":26567.908969274624},{"$f":"+$AE$49*((1+$AG$35))^AG41","v":27892.855903154148},{"$f":"+$AE$49*((1+$AG$35))^AH41","v":29283.878205615627},30744.271068505321,32277.49401554589,33887.179097599968,35577.139496633099,37351.378558758093,39214.099277759073,41169.714251560777,43222.856135228969,45378.388615264063,47641.417931185002,50017.304971696787,52511.677974096296,55130.445857000086,57879.812217977844]
[3.8333333333333335,{"$f":"'OptiMaxx plus'!$T$7+A50","v":47.833333333333336},46,{"$f":"+'No Deducible 93'!AD69","v":93402.937994016305},{"$f":"+'Deducible 151'!AD69","v":91937.952786451744},{"$f":"+'Deducible 185'!AD69","v":93407.316895828932},null,46,{"$f":"+'No Deducible 93'!Y69","v":49146.86764865541},{"$f":"+'Deducible 151'!Y69","v":48463.828794028319},{"$f":"+'Deducible 185'!Y69","v":49146.86764865541},null,46,90,null,null,null,null,null,46,null,null,null,null,null,null,null,null,{"$f":"+D112-Bono!J131","v":280263.86972253991},9,26567.908969274624,null,null,null,null,null,null,null,null,{"$f":"+AE50","v":26567.908969274624},{"$f":"+$AE$50*((1+$AG$35))^AF41","v":27892.855903154141},{"$f":"+$AE$50*((1+$AG$35))^AG41","v":29283.878205615623},{"$f":"+$AE$50*((1+$AG$35))^AH41","v":30744.271068505317},32277.49401554589,33887.179097599961,35577.139496633099,37351.378558758093,39214.099277759073,41169.71425156077,43222.856135228962,45378.388615264063,47641.417931184995,50017.30497169678,52511.677974096296,55130.445857000072,57879.812217977844]
[3.9166666666666665,{"$f":"'OptiMaxx plus'!$T$7+A51","v":47.916666666666664},47,{"$f":"+'No Deducible 93'!AD70","v":95801.019432750953},{"$f":"+'Deducible 151'!AD70","v":94291.456329183638},{"$f":"+'Deducible 185'!AD70","v":95805.435464603856},null,47,{"$f":"+'No Deducible 93'!Y70","v":51195.339336134894},{"$f":"+'Deducible 151'!Y70","v":50479.557016074432},{"$f":"+'Deducible 185'!Y70","v":51195.339336134894},null,47,91,null,null,null,null,null,47,null,null,null,null,null,null,null,null,{"$f":"+D124-Bono!J143","v":335816.04677706375},10,27892.855903154141,null,null,null,null,null,null,null,null,null,{"$f":"+AE51","v":27892.855903154141},{"$f":"+$AE$51*((1+$AG$35))^AF41","v":29283.878205615616},{"$f":"+$AE$51*((1+$AG$35))^AG41","v":30744.27106850531},{"$f":"+$AE$51*((1+$AG$35))^AH41","v":32277.494015545886},33887.179097599961,35577.139496633092,37351.378558758086,39214.099277759065,41169.71425156077,43222.856135228947,45378.388615264048,47641.417931184995,50017.304971696773,52511.677974096281,55130.445857000064,57879.812217977829]
[4,{"$f":"'OptiMaxx plus'!$T$7+A52","v":48},48,{"$f":"+'No Deducible 93'!AD71","v":97814.248009429895},{"$f":"+'Deducible 151'!AD71","v":96219.742941176723},{"$f":"+'Deducible 185'!AD71","v":97818.963780457241},null,48,{"$f":"+'No Deducible 93'!Y71","v":53261.180638078069},{"$f":"+'Deducible 151'!Y71","v":52512.05163397421},{"$f":"+'Deducible 185'!Y71","v":53261.180638078069},null,48,92,null,null,null,null,null,48,null,null,null,null,null,null,null,null,{"$f":"+D136-Bono!J155","v":398540.38519381423},11,29283.878205615616,null,null,null,null,null,null,null,null,null,null,{"$f":"+AE52","v":29283.878205615616},{"$f":"+$AE$52*((1+$AG$35))^AF41","v":30744.271068505306},{"$f":"+$AE$52*((1+$AG$35))^AG41","v":32277.494015545883},{"$f":"+$AE$52*((1+$AG$35))^AH41","v":33887.179097599961},35577.139496633092,37351.378558758079,39214.099277759058,41169.714251560763,43222.856135228947,45378.388615264041,47641.417931184988,50017.304971696773,52511.677974096281,55130.445857000057,57879.812217977829]
[4.083333333333333,{"$f":"'OptiMaxx plus'!$T$7+A53","v":48.083333333333336},49,{"$f":"+'No Deducible 93'!AD72","v":100331.02441035867},{"$f":"+'Deducible 151'!AD72","v":98689.203934727921},{"$f":"+'Deducible 185'!AD72","v":100335.78016784282},null,49,{"$f":"+'No Deducible 93'!Y72","v":55425.914059272378},{"$f":"+'Deducible 151'!Y72","v":54641.873612829535},{"$f":"+'Deducible 185'!Y72","v":55425.914059272378},null,49,93,null,null,null,null,null,49,null,null,null,null,null,null,null,null,{"$f":"+D148-Bono!J167","v":469261.81388212374},12,30744.271068505306,null,null,null,null,null,null,null,null,null,null,null,{"$f":"+AE53","v":30744.271068505306},{"$f":"+$AE$53*((1+$AG$35))^AF41","v":32277.494015545879},{"$f":"+$AE$53*((1+$AG$35))^AG41","v":33887.179097599954},{"$f":"+$AE$53*((1+$AG$35))^AH41","v":35577.139496633092},37351.378558758079,39214.099277759051,41169.714251560756,43222.856135228947,45378.388615264041,47641.41793118498,50017.304971696765,52511.677974096281,55130.445857000057,57879.812217977815]
[4.166666666666667,{"$f":"'OptiMaxx plus'!$T$7+A54","v":48.166666666666664},50,{"$f":"+'No Deducible 93'!AD73","v":102868.98175748276},{"$f":"+'Deducible 151'!AD73","v":101179.05711775125},{"$f":"+'Deducible 185'!AD73","v":102873.77784048105},null,50,{"$f":"+'No Deducible 93'!Y73","v":57609.002913530581},{"$f":"+'Deducible 151'!Y73","v":56789.410994984166},{"$f":"+'Deducible 185'!Y73","v":57609.002913530581},null,50,94,null,null,null,null,null,50,null,null,null,null,null,null,null,null,{"$f":"+D160-Bono!J179","v":548896.08294410224},13,32277.494015545879,null,null,null,null,null,null,null,null,null,null,null,null,{"$f":"+AE54","v":32277.494015545879},{"$f":"+$AE$54*((1+$AG$35))^AF41","v":33887.179097599954},{"$f":"+$AE$54*((1+$AG$35))^AG41","v":35577.139496633084},{"$f":"+$AE$54*((1+$AG$35))^AH41","v":37351.378558758079},39214.099277759058,41169.714251560756,43222.85613522894,45378.388615264041,47641.41793118498,50017.304971696758,52511.677974096274,55130.445857000057,57879.812217977822]
[4.25,{"$f":"'OptiMaxx plus'!$T$7+A55","v":48.25},51,{"$f":"+'No Deducible 93'!AD74","v":105017.32842855334},{"$f":"+'Deducible 151'!AD74","v":103238.90215341427},{"$f":"+'Deducible 185'!AD74","v":105022.42898705196},null,51,{"$f":"+'No Deducible 93'!Y74","v":59810.602842152286},{"$f":"+'Deducible 151'!Y74","v":58954.811133370495},{"$f":"+'Deducible 185'!Y74","v":59810.602842152286},null,51,95,null,null,null,null,null,51,null,null,null,null,null,null,null,null,{"$f":"+D172-Bono!J191","v":638459.58108169551},14,33887.179097599954,null,null,null,null,null,null,null,null,null,null,null,null,null,{"$f":"+AE55","v":33887.179097599954},{"$f":"+$AE$55*((1+$AG$35))^AF41","v":35577.139496633084},{"$f":"+$AE$55*((1+$AG$35))^AG41","v":37351.378558758079},{"$f":"+$AE$55*((1+$AG$35))^AH41","v":39214.099277759058},41169.714251560756,43222.856135228933,45378.388615264033,47641.41793118498,50017.304971696765,52511.677974096267,55130.44585700005,57879.812217977822]
[4.333333333333333,{"$f":"'OptiMaxx plus'!$T$7+A56","v":48.333333333333336},52,{"$f":"+'No Deducible 93'!AD75","v":107594.93646140971},{"$f":"+'Deducible 151'!AD75","v":105766.51892919061},{"$f":"+'Deducible 185'!AD75","v":107600.08026909514},null,52,{"$f":"+'No Deducible 93'!Y75","v":62030.870806167004},{"$f":"+'Deducible 151'!Y75","v":61138.222606571064},{"$f":"+'Deducible 185'!Y75","v":62030.870806167004},null,52,96,null,null,null,null,null,52,null,null,null,null,null,null,null,null,{"$f":"+D184-Bono!J203","v":739080.20584588416},15,35577.139496633084,null,null,null,null,null,null,null,null,null,null,null,null,null,null,{"$f":"+AE56","v":35577.139496633084},{"$f":"+$AE$56*((1+$AG$35))^AF41","v":37351.378558758071},{"$f":"+$AE$56*((1+$AG$35))^AG41","v":39214.099277759051},{"$f":"+$AE$56*((1+$AG$35))^AH41","v":41169.714251560756},43222.85613522894,45378.388615264033,47641.417931184973,50017.304971696758,52511.677974096274,55130.44585700005,57879.812217977815]
[4.416666666666667,{"$f":"'OptiMaxx plus'!$T$7+A57","v":48.416666666666664},53,{"$f":"+'No Deducible 93'!AD76","v":110194.2397283797},{"$f":"+'Deducible 151'!AD76","v":108315.0102076545},{"$f":"+'Deducible 185'!AD76","v":110199.42715197493},null,53,{"$f":"+'No Deducible 93'!Y76","v":64269.965097524568},{"$f":"+'Deducible 151'!Y76","v":63339.795229013253},{"$f":"+'Deducible 185'!Y76","v":64269.965097524568},null,53,97,null,null,null,null,null,53,null,null,null,null,null,null,null,null,{"$f":"+D196-Bono!J215","v":852009.39925090701},16,37351.378558758071,null,null,null,null,null,null,null,null,null,null,null,null,null,null,null,{"$f":"+AE57","v":37351.378558758071},{"$f":"+$AE$57*((1+$AG$35))^AF41","v":39214.099277759051},{"$f":"+$AE$57*((1+$AG$35))^AG41","v":41169.714251560748},{"$f":"+$AE$57*((1+$AG$35))^AH41","v":43222.85613522894},45378.388615264033,47641.417931184966,50017.304971696751,52511.677974096267,55130.445857000042,57879.812217977807]
[4.5,{"$f":"'OptiMaxx plus'!$T$7+A58","v":48.5},54,{"$f":"+'No Deducible 93'!AD77","v":112398.41780523211},{"$f":"+'Deducible 151'!AD77","v":110427.9748855033},{"$f":"+'Deducible 185'!AD77","v":112403.91451538037},null,54,{"$f":"+'No Deducible 93'!Y77","v":66528.045350380358},{"$f":"+'Deducible 151'!Y77","v":65559.680061248786},{"$f":"+'Deducible 185'!Y77","v":66528.045350380358},null,null,null,null,null,null,null,null,54,null,null,null,null,null,null,null,null,{"$f":"+D208-Bono!J227","v":978635.47328488808},17,39214.099277759051,null,null,null,null,null,null,null,null,null,null,null,null,null,null,null,null,{"$f":"+AE58","v":39214.099277759051},{"$f":"+$AE$58*((1+$AG$35))^AF41","v":41169.714251560748},{"$f":"+$AE$58*((1+$AG$35))^AG41","v":43222.85613522894},{"$f":"+$AE$58*((1+$AG$35))^AH41","v":45378.388615264033},47641.417931184973,50017.304971696751,52511.677974096267,55130.44585700005,57879.812217977815]
[4.583333333333333,{"$f":"'OptiMaxx plus'!$T$7+A59","v":48.583333333333336},55,{"$f":"+'No Deducible 93'!AD78","v":115038.36452066965},{"$f":"+'Deducible 151'!AD78","v":113015.1585722825},{"$f":"+'Deducible 185'!AD78","v":115043.90783909502},null,55,{"$f":"+'No Deducible 93'!Y78","v":68805.272552476381},{"$f":"+'Deducible 151'!Y78","v":67798.029420318722},{"$f":"+'Deducible 185'!Y78","v":68805.272552476381},null,null,null,null,null,null,null,null,55,null,null,null,null,null,null,null,null,{"$f":"+D220-Bono!J239","v":1120498.3631375371},18,41169.714251560748,null,null,null,null,null,null,null,null,null,null,null,null,null,null,null,null,null,{"$f":"+AE59","v":41169.714251560748},{"$f":"+$AE$59*((1+$AG$35))^AF41","v":43222.856135228933},45378.388615264026,47641.417931184973,50017.304971696751,52511.677974096259,55130.445857000042,57879.812217977807]
[4.666666666666667,{"$f":"'OptiMaxx plus'!$T$7+A60","v":48.666666666666664},56,{"$f":"+'No Deducible 93'!AD79","v":117700.53352236282},{"$f":"+'Deducible 151'!AD79","v":115623.71079894333},{"$f":"+'Deducible 185'!AD79","v":117706.12384427107},null,56,{"$f":"+'No Deducible 93'!Y79","v":71101.809056618615},{"$f":"+'Deducible 151'!Y79","v":70054.996890204653},{"$f":"+'Deducible 185'!Y79","v":71101.809056618615},null,null,null,null,null,null,null,null,56,null,null,null,null,null,null,null,null,{"$f":"+D232-Bono!J251","v":1279305.9606722516},19,43222.856135228933,null,null,null,null,null,null,null,null,null,null,null,null,null,null,null,null,null,null,{"$f":"+AE60","v":43222.856135228933},{"$f":"+$AE$60*((1+$AG$35))^AF41","v":45378.388615264026},47641.417931184966,50017.304971696751,52511.677974096267,55130.445857000035,57879.8122179778]
[4.75,{"$f":"'OptiMaxx plus'!$T$7+A61","v":48.75},57,{"$f":"+'No Deducible 93'!AD80","v":119961.98346001731},{"$f":"+'Deducible 151'!AD80","v":117791.14783512562},{"$f":"+'Deducible 185'!AD80","v":119967.88795543517},null,57,{"$f":"+'No Deducible 93'!Y80","v":73417.818592251875},{"$f":"+'Deducible 151'!Y80","v":72330.737332366843},{"$f":"+'Deducible 185'!Y80","v":73417.818592251875},null,null,null,null,null,null,null,null,57,null,null,null,null,null,null,null,null,{"$f":"+D244-Bono!J263","v":1456952.1969451366},20,45378.388615264026,null,null,null,null,null,null,null,null,null,null,null,null,null,null,null,null,null,null,null,{"$f":"+AE61","v":45378.388615264026},{"$f":"+$AE$61*((1+$AG$35))^AF41","v":47641.417931184966},{"$f":"+$AE$61*((1+$AG$35))^AG41","v":50017.304971696751},{"$f":"+$AE$61*((1+$AG$35))^AH41","v":52511.677974096259},{"$f":"+$AE$61*((1+$AG$35))^AI41","v":55130.445857000035},{"$f":"+$AE$61*((1+$AG$35))^AJ41","v":57879.812217977793}]
[4.833333333333333,{"$f":"'OptiMaxx plus'!$T$7+A62","v":48.833333333333336},58,{"$f":"+'No Deducible 93'!AD81","v":122665.81376612594},{"$f":"+'Deducible 151'!AD81","v":120439.34436498981},{"$f":"+'Deducible 185'!AD81","v":122671.76832755624},null,58,{"$f":"+'No Deducible 93'!Y81","v":75753.466277132713},{"$f":"+'Deducible 151'!Y81","v":74625.40689637007},{"$f":"+'Deducible 185'!Y81","v":75753.466277132713},null,null,null,null,null,null,null,null,58,null,null,null,null,null,null,null,null,{"$f":"+D256-Bono!J275","v":1655537.0605843696},21,47641.417931184966,null,null,null,null,null,null,null,null,null,null,null,null,null,null,null,null,null,null,null,null,{"$f":"AE62","v":47641.417931184966},{"$f":"+$AE$62*((1+$AG$35))^AF41","v":50017.304971696743},{"$f":"+$AE$62*((1+$AG$35))^AG41","v":52511.677974096259},{"$f":"+$AE$62*((1+$AG$35))^AH41","v":55130.445857000035},{"$f":"+$AE$62*((1+$AG$35))^AI41","v":57879.8122179778}]
[4.916666666666667,{"$f":"'OptiMaxx plus'!$T$7+A63","v":48.916666666666664},59,{"$f":"+'No Deducible 93'!AD82","v":125392.40649572207},{"$f":"+'Deducible 151'!AD82","v":123109.41548526619},{"$f":"+'Deducible 185'!AD82","v":125398.41154768979},null,59,{"$f":"+'No Deducible 93'!Y82","v":78108.918629101405},{"$f":"+'Deducible 151'!Y82","v":76939.163030597731},{"$f":"+'Deducible 185'!Y82","v":78108.918629101405},null,null,null,null,null,null,null,null,59,null,null,null,null,null,null,null,null,{"$f":"+D268-Bono!J287","v":1877388.7587752549},22,50017.304971696743,null,null,null,null,null,null,null,null,null,null,null,null,null,null,null,null,null,null,null,null,null,{"$f":"+AE63","v":50017.304971696743},{"$f":"+$AE$63*((1+$AG$35))^AF41","v":52511.677974096252},{"$f":"+$AE$63*((1+$AG$35))^AG41","v":55130.445857000028},{"$f":"+$AE$63*((1+$AG$35))^AH41","v":57879.8122179778}]
[5,{"$f":"'OptiMaxx plus'!$T$7+A64","v":49},60,{"$f":"+'No Deducible 93'!AD83","v":127712.60580200658},{"$f":"+'Deducible 151'!AD83","v":125332.71184173276},{"$f":"+'Deducible 185'!AD83","v":127718.92999153987},null,60,{"$f":"+'No Deducible 93'!Y83","v":80484.343577953594},{"$f":"+'Deducible 151'!Y83","v":79272.16449305517},{"$f":"+'Deducible 185'!Y83","v":80484.343577953594},null,null,null,null,null,null,null,null,60,null,null,null,null,null,null,null,null,{"$f":"+D280-Bono!J299","v":2125088.2496536844},23,52511.677974096252,null,null,null,null,null,null,null,null,null,null,null,null,null,null,null,null,null,null,null,null,null,null,{"$f":"+AE64","v":52511.677974096252},{"$f":"+$AE$64*((1+$AG$35))^AF41","v":55130.445857000028},{"$f":"+$AE$64*((1+$AG$35))^AG41","v":57879.812217977793}]
[5.083333333333333,{"$f":"'OptiMaxx plus'!$T$7+A65","v":49.083333333333336},61,{"$f":"+'No Deducible 93'!AD84","v":130567.33684417859},{"$f":"+'Deducible 151'!AD84","v":128127.83495848891},{"$f":"+'Deducible 185'!AD84","v":130573.71465843837},null,61,{"$f":"+'No Deducible 93'!Y84","v":82965.343898579609},{"$f":"+'Deducible 151'!Y84","v":81709.003504652195},{"$f":"+'Deducible 185'!Y84","v":82965.343898579609},null,null,null,null,null,null,null,null,61,null,null,null,null,null,null,null,null,{"$f":"+D292-Bono!J311","v":2401496.3993206639},24,55130.445857000028,null,null,null,null,null,null,null,null,null,null,null,null,null,null,null,null,null,null,null,null,null,null,null,{"$f":"+AE65","v":55130.445857000028},{"$f":"+$AE$65*((1+$AG$35))^AF41","v":57879.812217977793}]
[5.166666666666667,{"$f":"'OptiMaxx plus'!$T$7+A66","v":49.166666666666664},62,{"$f":"+'No Deducible 93'!AD85","v":133446.10827711583},{"$f":"+'Deducible 151'!AD85","v":130946.05331457069},{"$f":"+'Deducible 185'!AD85","v":133452.5401708025},null,62,{"$f":"+'No Deducible 93'!Y85","v":85467.381375499739},{"$f":"+'Deducible 151'!Y85","v":84166.111621505188},{"$f":"+'Deducible 185'!Y85","v":85467.381375499739},null,null,null,null,null,null,null,null,62,null,null,null,null,null,null,null,null,{"$f":"+D304-Bono!J323","v":2709784.0437036292},25,57879.812217977793,null,null,null,null,null,null,null,null,null,null,null,null,null,null,null,null,null,null,null,null,null,null,null,null,{"$f":"AE66","v":57879.812217977793}]
[5.25,{"$f":"'OptiMaxx plus'!$T$7+A67","v":49.25},63,{"$f":"+'No Deducible 93'!AD86","v":135913.4608601566},{"$f":"+'Deducible 151'!AD86","v":133312.47362439756},{"$f":"+'Deducible 185'!AD86","v":135920.2169337786},null,63,{"$f":"+'No Deducible 93'!Y86","v":87990.634389160492},{"$f":"+'Deducible 151'!Y86","v":86643.657437692789},{"$f":"+'Deducible 185'!Y86","v":87990.634389160492},null,null,null,null,null,null,null,null,63]
[5.333333333333333,{"$f":"'OptiMaxx plus'!$T$7+A68","v":49.333333333333336},64,{"$f":"+'No Deducible 93'!AD87","v":138837.47446828146},{"$f":"+'Deducible 151'!AD87","v":136173.73378259927},{"$f":"+'Deducible 185'!AD87","v":138844.28782870653},null,64,{"$f":"+'No Deducible 93'!Y87","v":90535.282832550409},{"$f":"+'Deducible 151'!Y87","v":89141.810949623032},{"$f":"+'Deducible 185'!Y87","v":90535.282832550409},null,null,null,null,null,null,null,null,64,null,null,null,null,null,null,null,null,null,"Suma",{"$f":"SUM(AE42:AE67)","v":857552.00559153175},{"$f":"SUM(AF42:AF67)","v":18000},37795.3272,59520.281589794162,83318.093248978024,109341.47902865399,137753.23254733055,168726.84943929783,202447.18990423484,239111.18072347171,278928.55903154152,322122.66026177187,368931.25282206381,419607.42220209655,474420.5073663994,533657.0924494965,597622.05694012926,666639.68772190437,741054.85652809369,821234.26656934968,907567.77230528102,1000469.7765548849,1100380.7093773296,1207768.5934042144,1323130.7005680017,{"$f":"SUM(BD42:BD67)","v":1446995.305449446}]
[5.416666666666667,{"$f":"'OptiMaxx plus'!$T$7+A69","v":49.416666666666664},65,{"$f":"+'No Deducible 93'!AD88","v":141786.11435422493},{"$f":"+'Deducible 151'!AD88","v":139058.63782501724},{"$f":"+'Deducible 185'!AD88","v":141792.98548720527},null,65,{"$f":"+'No Deducible 93'!Y88","v":93101.508124025378},{"$f":"+'Deducible 151'!Y88","v":91660.743567697733},{"$f":"+'Deducible 185'!Y88","v":93101.508124025378},null,null,null,null,null,null,null,null,65]
[{"$f":"+C70/12","v":5.5},{"$f":"'OptiMaxx plus'!$T$7+A70","v":49.5},66,{"$f":"+'No Deducible 93'!AD89","v":144317.51536567046},{"$f":"+'Deducible 151'!AD89","v":141485.95752286114},{"$f":"+'Deducible 185'!AD89","v":144324.71580050315},null,66,{"$f":"+'No Deducible 93'!Y89","v":95689.493220242759},{"$f":"+'Deducible 151'!Y89","v":94200.628128073702},{"$f":"+'Deducible 185'!Y89","v":95689.493220242759},null,null,null,null,null,null,null,null,66,null,null,null,null,null,null,null,null,null,"Intereses reales",null,{"$f":"IF(AF68>AC42,\"0\",AC42-AF68)","v":64.483902210144151},{"$f":"IF(AG68>AC43,0,AC43-AG68)","v":476.92767710640328},{"$f":"IF(AH68>AC44,\"0\",AC44-AH68)","v":1229.9198041367345},{"$f":"IF(AI68>AC45,\"0\",AC45-AI68)","v":3204.4020528862311},{"$f":"IF(AJ68>AC46,\"0\",AC46-AJ68)","v":6642.3548652329337},{"$f":"IF(AK68>AC47,\"0\",AC47-AK68)","v":11819.844132824859},{"$f":"IF(AL68>AC48,\"0\",AC48-AL68)","v":19051.202470991382},{"$f":"IF(AM68>AC49,\"0\",AC49-AM68)","v":28693.690172742034},{"$f":"IF(AN68>AC50,\"0\",AC50-AN68)","v":41152.688999068196},{"$f":"IF(AO68>AC51,\"0\",AC51-AO68)","v":56887.48774552223},{"$f":"IF(AP68>AC52,\"0\",AC52-AP68)","v":76417.724932042358},{"$f":"IF(AQ68>AC53,\"0\",AC53-AQ68)","v":100330.56106005993},{"$f":"IF(AR68>AC54,\"0\",AC54-AR68)","v":129288.66074200568},{"$f":"IF(AS68>AC55,\"0\",AC55-AS68)","v":164039.07371529611},{"$f":"IF(AT68>AC56,\"0\",AC56-AT68)","v":205423.11339638766},{"$f":"IF(AU68>AC57,\"0\",AC57-AU68)","v":254387.34231077775},{"$f":"IF(AV68>AC58,\"0\",AC58-AV68)","v":311995.78556298371},{"$f":"IF(AW68>AC59,\"0\",AC59-AW68)","v":379443.50660944346},{"$f":"IF(AX68>AC60,\"0\",AC60-AX68)","v":458071.69410290197},{"$f":"IF(AY68>AC61,\"0\",AC61-AY68)","v":549384.42463985563},{"$f":"IF(AZ68>AC62,\"0\",AC62-AZ68)","v":655067.28402948473},{"$f":"IF(BA68>AC63,\"0\",AC63-BA68)","v":777008.04939792538},{"$f":"IF(BB68>AC64,\"0\",AC64-BB68)","v":917319.65624947008},{"$f":"IF(BC68>AC65,\"0\",AC65-BC68)","v":1078365.6987526622},{"$f":"IF(BD68>AC66,\"0\",AC66-BD68)","v":1262788.7382541832}]
[5.583333333333333,{"$f":"'OptiMaxx plus'!$T$7+A71","v":49.583333333333336},{"$f":"+C70+1","v":67},{"$f":"+'No Deducible 93'!AD90","v":147312.5320976068},{"$f":"+'Deducible 151'!AD90","v":144414.96380189297},{"$f":"+'Deducible 185'!AD90","v":147319.79358711638},null,{"$f":"+H70+1","v":67},{"$f":"+'No Deducible 93'!Y90","v":98299.42262920503},{"$f":"+'Deducible 151'!Y90","v":96761.63890452194},{"$f":"+'Deducible 185'!Y90","v":98299.42262920503}]
[5.666666666666667,{"$f":"'OptiMaxx plus'!$T$7+A72","v":49.666666666666664},68,{"$f":"+'No Deducible 93'!AD91","v":150332.77556846949},{"$f":"+'Deducible 151'!AD91","v":147368.17597999907},{"$f":"+'Deducible 185'!AD91","v":150340.09863035713},null,68,{"$f":"+'No Deducible 93'!Y91","v":100931.48242341413},{"$f":"+'Deducible 151'!Y91","v":99343.951620385327},{"$f":"+'Deducible 185'!Y91","v":100931.48242341413},null,null,null,null,null,null,null,null,null,null,null,null,null,null,null,null,null,null,"Relación Intereses reales / Saldo",null,{"$f":"+AF70/AC42","v":3.5696509548360086E-3},{"$f":"+AG70/AC43","v":1.2461447036184185E-2},{"$f":"+AH70/AC44","v":2.0245526367252614E-2},{"$f":"+AI70/AC45","v":3.7035478943441745E-2},{"$f":"+AJ70/AC46","v":5.7269661143552072E-2},{"$f":"+AK70/AC47","v":7.9023875119585973E-2},{"$f":"+AL70/AC48","v":0.10145595972043142},{"$f":"+AM70/AC49","v":0.12413940001952996},{"$f":"+AN70/AC50","v":0.14683551268955641},{"$f":"+AO70/AC51","v":0.16940074273248709},{"$f":"+AP70/AC52","v":0.19174399325900096},{"$f":"+AQ70/AC53","v":0.21380508298777209},{"$f":"+AR70/AC54","v":0.23554305588872643},{"$f":"+AS70/AC55","v":0.25692945736263628},{"$f":"+AT70/AC56","v":0.27794427691549256},{"$f":"+AU70/AC57","v":0.29857339899587609},{"$f":"+AV70/AC58","v":0.31880694505763069},{"$f":"+AW70/AC59","v":0.33863816235032568},{"$f":"+AX70/AC60","v":0.35806265911728713},{"$f":"+AY70/AC61","v":0.37707786555507927},{"$f":"+AZ70/AC62","v":0.39568264560520305},{"$f":"+BA70/AC63","v":0.41387701176224106},{"$f":"+BB70/AC64","v":0.43166191164012191},{"$f":"+BC70/AC65","v":0.44903906541675875},{"$f":"+BD70/AC66","v":0.46601083993699066}]
[5.75,{"$f":"'OptiMaxx plus'!$T$7+A73","v":49.75},69,{"$f":"+'No Deducible 93'!AD92","v":152929.87666871943},{"$f":"+'Deducible 151'!AD92","v":149857.94438675122},{"$f":"+'Deducible 185'!AD92","v":152937.53423517646},null,69,{"$f":"+'No Deducible 93'!Y92","v":103585.86025313732},{"$f":"+'Deducible 151'!Y92","v":101947.74346063593},{"$f":"+'Deducible 185'!Y92","v":103585.86025313732}]
[5.833333333333333,{"$f":"'OptiMaxx plus'!$T$7+A74","v":49.833333333333336},{"$f":"+C73+1","v":70},{"$f":"+'No Deducible 93'!AD93","v":155997.66036590366},{"$f":"+'Deducible 151'!AD93","v":152856.34561052779},{"$f":"+'Deducible 185'!AD93","v":156005.38286319567},null,{"$f":"+H73+1","v":70},{"$f":"+'No Deducible 93'!Y93","v":106262.74535978559},{"$f":"+'Deducible 151'!Y93","v":104573.19308403246},{"$f":"+'Deducible 185'!Y93","v":106262.74535978559},null,null,null,null,null,null,null,null,null,null,null,null,null,null,null,null,null,null,"Retiro",null,{"$f":"+'No Deducible 93'!Y35","v":0},{"$f":"+'No Deducible 93'!$Y47","v":9072.8501967417287},{"$f":"+'No Deducible 93'!$Y59","v":29585.949645030523},{"$f":"+'No Deducible 93'!$Y71","v":53261.180638078069},{"$f":"+'No Deducible 93'!$Y83","v":80484.343577953594},{"$f":"+'No Deducible 93'!$Y95","v":111684.80240628481},{"$f":"+'No Deducible 93'!$Y107","v":147340.25084113597},{"$f":"+'No Deducible 93'!$Y119","v":187981.99288437309},{"$f":"+'No Deducible 93'!$Y131","v":234200.79273874237},{"$f":"+'No Deducible 93'!$Y143","v":286653.35516858136},{"$f":"+'No Deducible 93'!$Y155","v":346069.50386209384},{"$f":"+'No Deducible 93'!$Y167","v":413260.13257359952},{"$f":"+'No Deducible 93'!$Y179","v":489126.01181542117},{"$f":"+'No Deducible 93'!$Y191","v":574667.54271330801},{"$f":"+'No Deducible 93'!$Y203","v":670995.55942756846},{"$f":"+'No Deducible 93'!$Y215","v":779343.2923750336},{"$f":"+'No Deducible 93'!$Y227","v":901079.61647609994},{"$f":"+'No Deducible 93'!$Y239","v":1037723.72191973},{"$f":"+'No Deducible 93'!$Y251","v":1190961.3596238843},{"$f":"+'No Deducible 93'!$Y263","v":1362662.8298205086},{"$f":"+'No Deducible 93'!$Y275","v":1554902.9001799836},{"$f":"+'No Deducible 93'!$Y287","v":1769982.8597950453},{"$f":"+'No Deducible 93'!$Y299","v":2010454.9373729352},{"$f":"+'No Deducible 93'!$Y311","v":2279149.3363639349},{"$f":"+'No Deducible 93'!$Y323","v":2579204.1667349027}]
[5.916666666666667,{"$f":"'OptiMaxx plus'!$T$7+A75","v":49.916666666666664},{"$f":"+C74+1","v":71},{"$f":"+'No Deducible 93'!AD94","v":159091.28620404706},{"$f":"+'Deducible 151'!AD94","v":155879.52844865696},{"$f":"+'Deducible 185'!AD94","v":159099.07418274233},null,{"$f":"+H74+1","v":71},{"$f":"+'No Deducible 93'!Y94","v":108962.32858940538},{"$f":"+'Deducible 151'!Y94","v":107220.48063537896},{"$f":"+'Deducible 185'!Y94","v":108962.32858940538}]
[6,{"$f":"'OptiMaxx plus'!$T$7+A76","v":50},72,{"$f":"+'No Deducible 93'!AD95","v":161755.78152991066},{"$f":"+'Deducible 151'!AD95","v":158433.33408930915},{"$f":"+'Deducible 185'!AD95","v":161763.90929796494},null,72,{"$f":"+'No Deducible 93'!Y95","v":111684.80240628481},{"$f":"+'Deducible 151'!Y95","v":109889.78775788537},{"$f":"+'Deducible 185'!Y95","v":111684.80240628481}]
[6.083333333333333,{"$f":"'OptiMaxx plus'!$T$7+A77","v":50.083333333333336},73,{"$f":"+'No Deducible 93'!AD96","v":164987.83441741334},{"$f":"+'Deducible 151'!AD96","v":161591.46260629914},{"$f":"+'Deducible 185'!AD96","v":164996.03110328497},null,73,{"$f":"+'No Deducible 93'!Y96","v":114520.05490964238},{"$f":"+'Deducible 151'!Y96","v":112669.94039584763},{"$f":"+'Deducible 185'!Y96","v":114520.05490964238},null,null,null,null,null,null,null,null,null,null,null,null,null,null,null,null,null,0.2,"Retención",null,{"$f":"+$AC$77*AF72*AF74","v":0},{"$f":"IF(AND(AG78>=60,AG79>=5),0,$AC$77*AG72*AG74)","v":22.612168438786064},{"$f":"IF(AND(AH78>=60,AH79>=5),0,$AC$77*AH72*AH74)","v":119.79662472773471},394.51066680487753,921.86221681412485,1765.1531756219772,2989.7093109073107,4667.1943622283252,6877.7986948187554,9711.858254463421,13271.349723135827,17671.423388087231,23042.047107533923,29529.803982649966,37299.875115720388,0,0,0,0,{"$f":"IF(AND(AY78>=60,AY79>=5),0,$AC$77*AY72*AY74)","v":0},0,0,0,0,0]
[6.166666666666667,{"$f":"'OptiMaxx plus'!$T$7+A78","v":50.166666666666664},74,{"$f":"+'No Deducible 93'!AD97","v":168247.12070773591},{"$f":"+'Deducible 151'!AD97","v":164775.69980377867},{"$f":"+'Deducible 185'!AD97","v":168255.38689580001},null,74,{"$f":"+'No Deducible 93'!Y97","v":117379.34838129427},{"$f":"+'Deducible 151'!Y97","v":115473.21774831848},{"$f":"+'Deducible 185'!Y97","v":117379.34838129427},null,null,null,null,null,null,null,null,null,null,null,null,null,null,null,null,null,null,"Edad",null,{"$f":"+'OptiMaxx plus'!E33","v":45},{"$f":"+AF78+1","v":46},{"$f":"+AG78+1","v":47},48,49,50,51,52,53,54,55,56,57,58,59,60,61,62,63,64,65,66,67,68,69]
[6.25,{"$f":"'OptiMaxx plus'!$T$7+A79","v":50.25},75,{"$f":"+'No Deducible 93'!AD98","v":171071.96950080292},{"$f":"+'Deducible 151'!AD98","v":167485.29494333785},{"$f":"+'Deducible 185'!AD98","v":171080.58084638079},null,75,{"$f":"+'No Deducible 93'!Y98","v":120262.88667192253},{"$f":"+'Deducible 151'!Y98","v":118299.81216172301},{"$f":"+'Deducible 185'!Y98","v":120262.88667192253},null,null,null,null,null,null,null,null,null,null,null,null,null,null,null,null,null,null,"Año",null,{"$f":"+'OptiMaxx plus'!C33","v":1},{"$f":"+AF79+1","v":2},{"$f":"+AG79+1","v":3},4,5,6,7,8,9,10,11,12,13,14,15,16,17,18,19,20,21,22,23,24,25]
[6.333333333333333,{"$f":"'OptiMaxx plus'!$T$7+A80","v":50.333333333333336},76,{"$f":"+'No Deducible 93'!AD99","v":174382.7523329437},{"$f":"+'Deducible 151'!AD99","v":170718.46965515986},{"$f":"+'Deducible 185'!AD99","v":174391.43669673978},null,76,{"$f":"+'No Deducible 93'!Y99","v":123170.87536072113},{"$f":"+'Deducible 151'!Y99","v":121149.91758238267},{"$f":"+'Deducible 185'!Y99","v":123170.87536072113}]
[6.416666666666667,{"$f":"'OptiMaxx plus'!$T$7+A81","v":50.416666666666664},77,{"$f":"+'No Deducible 93'!AD100","v":177721.43450097032},{"$f":"+'Deducible 151'!AD100","v":173978.37573994405},{"$f":"+'Deducible 185'!AD100","v":177730.19250212831},null,77,{"$f":"+'No Deducible 93'!Y100","v":126103.52177005252},{"$f":"+'Deducible 151'!Y100","v":124023.72956982291},{"$f":"+'Deducible 185'!Y100","v":126103.52177005252}]
[6.5,{"$f":"'OptiMaxx plus'!$T$7+A82","v":50.5},78,{"$f":"+'No Deducible 93'!AD101","v":180619.53783197646},{"$f":"+'Deducible 151'!AD101","v":176757.57440089202},{"$f":"+'Deducible 185'!AD101","v":180628.64644348092},null,78,{"$f":"+'No Deducible 93'!Y101","v":129061.03498022855},{"$f":"+'Deducible 151'!Y101","v":126921.4453101915},{"$f":"+'Deducible 185'!Y101","v":129061.03498022855}]
[6.583333333333333,{"$f":"'OptiMaxx plus'!$T$7+A83","v":50.583333333333336},79,{"$f":"+'No Deducible 93'!AD102","v":184011.01002701878},{"$f":"+'Deducible 151'!AD102","v":180067.62552336583},{"$f":"+'Deducible 185'!AD102","v":184020.1958732105},null,79,{"$f":"+'No Deducible 93'!Y102","v":132043.62584441656},{"$f":"+'Deducible 151'!Y102","v":129843.26362978831},{"$f":"+'Deducible 185'!Y102","v":132043.62584441656}]
[6.666666666666667,{"$f":"'OptiMaxx plus'!$T$7+A84","v":50.666666666666664},80,{"$f":"+'No Deducible 93'!AD103","v":187431.06408985369},{"$f":"+'Deducible 151'!AD103","v":183405.04592006525},{"$f":"+'Deducible 185'!AD103","v":187440.32782562909},null,80,{"$f":"+'No Deducible 93'!Y103","v":135051.50700367213},{"$f":"+'Deducible 151'!Y103","v":132789.38500870788},{"$f":"+'Deducible 185'!Y103","v":135051.50700367213}]
[6.75,{"$f":"'OptiMaxx plus'!$T$7+A85","v":50.75},81,{"$f":"+'No Deducible 93'!AD104","v":190404.31022045042},{"$f":"+'Deducible 151'!AD104","v":186255.61733366846},{"$f":"+'Deducible 185'!AD104","v":190413.93010541645},null,81,{"$f":"+'No Deducible 93'!Y104","v":138084.892902099},{"$f":"+'Deducible 151'!Y104","v":135760.01159459515},{"$f":"+'Deducible 185'!Y104","v":138084.892902099}]
[6.833333333333333,{"$f":"'OptiMaxx plus'!$T$7+A86","v":50.833333333333336},82,{"$f":"+'No Deducible 93'!AD105","v":193878.48055346069},{"$f":"+'Deducible 151'!AD105","v":189644.42034950317},{"$f":"+'Deducible 185'!AD105","v":193888.18200835714},null,82,{"$f":"+'No Deducible 93'!Y105","v":141143.99980213758},{"$f":"+'Deducible 151'!Y105","v":138755.34721651601},{"$f":"+'Deducible 185'!Y105","v":141143.99980213758}]
[6.916666666666667,{"$f":"'OptiMaxx plus'!$T$7+A87","v":50.916666666666664},83,{"$f":"+'No Deducible 93'!AD106","v":197381.93230337295},{"$f":"+'Deducible 151'!AD106","v":193061.24612599911},{"$f":"+'Deducible 185'!AD106","v":197391.7160198561},null,83,{"$f":"+'No Deducible 93'!Y106","v":144229.0457999834},{"$f":"+'Deducible 151'!Y106","v":141775.5973989428},{"$f":"+'Deducible 185'!Y106","v":144229.0457999834}]
[7,{"$f":"'OptiMaxx plus'!$T$7+A88","v":51},84,{"$f":"+'No Deducible 93'!AD107","v":200432.25804703758},{"$f":"+'Deducible 151'!AD107","v":195985.00427296513},{"$f":"+'Deducible 185'!AD107","v":200442.4035389215},null,84,{"$f":"+'No Deducible 93'!Y107","v":147340.25084113597},{"$f":"+'Deducible 151'!Y107","v":144820.96937585651},{"$f":"+'Deducible 185'!Y107","v":147340.25084113597}]
[7.083333333333333,{"$f":"'OptiMaxx plus'!$T$7+A89","v":51.083333333333336},85,{"$f":"+'No Deducible 93'!AD108","v":204085.35296274477},{"$f":"+'Deducible 151'!AD108","v":199547.54448382652},{"$f":"+'Deducible 185'!AD108","v":204095.58448134002},null,85,{"$f":"+'No Deducible 93'!Y108","v":150572.0037969134},{"$f":"+'Deducible 151'!Y108","v":147984.73552885931},{"$f":"+'Deducible 185'!Y108","v":150572.0037969134}]
[7.166666666666667,{"$f":"'OptiMaxx plus'!$T$7+A90","v":51.166666666666664},86,{"$f":"+'No Deducible 93'!AD109","v":207769.24476179184},{"$f":"+'Deducible 151'!AD109","v":203139.55099435931},{"$f":"+'Deducible 185'!AD109","v":207779.56303654506},null,86,{"$f":"+'No Deducible 93'!Y109","v":153831.15976891352},{"$f":"+'Deducible 151'!Y109","v":151174.81721147048},{"$f":"+'Deducible 185'!Y109","v":153831.15976891352}]
[7.25,{"$f":"'OptiMaxx plus'!$T$7+A91","v":51.25},87,{"$f":"+'No Deducible 93'!AD110","v":210994.40750444666},{"$f":"+'Deducible 151'!AD110","v":206232.97375973593},{"$f":"+'Deducible 185'!AD110","v":211005.09326955237},null,87,{"$f":"+'No Deducible 93'!Y110","v":157117.95111564532},{"$f":"+'Deducible 151'!Y110","v":154391.43331063207},{"$f":"+'Deducible 185'!Y110","v":157117.95111564532}]
[7.333333333333333,{"$f":"'OptiMaxx plus'!$T$7+A92","v":51.333333333333336},88,{"$f":"+'No Deducible 93'!AD111","v":214736.78700095572},{"$f":"+'Deducible 151'!AD111","v":209880.49878538187},{"$f":"+'Deducible 185'!AD111","v":214747.56337391376},null,88,{"$f":"+'No Deducible 93'!Y111","v":160432.6121658562},{"$f":"+'Deducible 151'!Y111","v":157634.80453394086},{"$f":"+'Deducible 185'!Y111","v":160432.6121658562}]
[7.416666666666667,{"$f":"'OptiMaxx plus'!$T$7+A93","v":51.416666666666664},89,{"$f":"+'No Deducible 93'!AD112","v":218510.71874628813},{"$f":"+'Deducible 151'!AD112","v":213558.19541143629},{"$f":"+'Deducible 185'!AD112","v":218521.58649538999},null,89,{"$f":"+'No Deducible 93'!Y112","v":163775.37923523827},{"$f":"+'Deducible 151'!Y112","v":160905.15342479214},{"$f":"+'Deducible 185'!Y112","v":163775.37923523827}]
[7.5,{"$f":"'OptiMaxx plus'!$T$7+A94","v":51.5},90,{"$f":"+'No Deducible 93'!AD113","v":221819.4423287767},{"$f":"+'Deducible 151'!AD113","v":216730.95239520818},{"$f":"+'Deducible 185'!AD113","v":221830.68337332184},null,90,{"$f":"+'No Deducible 93'!Y113","v":167146.49064327634},{"$f":"+'Deducible 151'!Y113","v":164202.70437764956},{"$f":"+'Deducible 185'!Y113","v":167146.49064327634}]
[7.583333333333333,{"$f":"'OptiMaxx plus'!$T$7+A95","v":51.583333333333336},91,{"$f":"+'No Deducible 93'!AD114","v":225653.33286711478},{"$f":"+'Deducible 151'!AD114","v":220465.53932021643},{"$f":"+'Deducible 185'!AD114","v":225664.66922789544},null,91,{"$f":"+'No Deducible 93'!Y114","v":170546.18673023855},{"$f":"+'Deducible 151'!Y114","v":167527.68365344187},{"$f":"+'Deducible 185'!Y114","v":170546.18673023855}]
[7.666666666666667,{"$f":"'OptiMaxx plus'!$T$7+A96","v":51.666666666666664},92,{"$f":"+'No Deducible 93'!AD115","v":229519.54988233116},{"$f":"+'Deducible 151'!AD115","v":224231.02040799923},{"$f":"+'Deducible 185'!AD115","v":229530.98236756274},null,92,{"$f":"+'No Deducible 93'!Y115","v":173974.70987431129},{"$f":"+'Deducible 151'!Y115","v":170880.3193950878},{"$f":"+'Deducible 185'!Y115","v":173974.70987431129}]
[7.75,{"$f":"'OptiMaxx plus'!$T$7+A97","v":51.75},93,{"$f":"+'No Deducible 93'!AD116","v":232913.98741499209},{"$f":"+'Deducible 151'!AD116","v":227485.12663095136},{"$f":"+'Deducible 185'!AD116","v":232925.79909231607},null,93,{"$f":"+'No Deducible 93'!Y116","v":177432.30450887929},{"$f":"+'Deducible 151'!Y116","v":174260.84164315002},{"$f":"+'Deducible 185'!Y116","v":177432.30450887929}]
[7.833333333333333,{"$f":"'OptiMaxx plus'!$T$7+A98","v":51.833333333333336},94,{"$f":"+'No Deducible 93'!AD117","v":236841.67160565761},{"$f":"+'Deducible 151'!AD117","v":231308.90397422525},{"$f":"+'Deducible 185'!AD117","v":236853.58343778603},null,94,{"$f":"+'No Deducible 93'!Y117","v":180919.21713995232},{"$f":"+'Deducible 151'!Y117","v":177669.4823516194},{"$f":"+'Deducible 185'!Y117","v":180919.21713995232}]
[7.916666666666667,{"$f":"'OptiMaxx plus'!$T$7+A99","v":51.916666666666664},95,{"$f":"+'No Deducible 93'!AD118","v":240802.47583978093},{"$f":"+'Deducible 151'!AD118","v":235164.31573194423},{"$f":"+'Deducible 185'!AD118","v":240814.48867595682},null,95,{"$f":"+'No Deducible 93'!Y118","v":184435.69636373955},{"$f":"+'Deducible 151'!Y118","v":181106.47540383041},{"$f":"+'Deducible 185'!Y118","v":184435.69636373955}]
[8,{"$f":"'OptiMaxx plus'!$T$7+A100","v":52},96,{"$f":"+'No Deducible 93'!AD119","v":244284.83578518213},{"$f":"+'Deducible 151'!AD119","v":238501.83716147623},{"$f":"+'Deducible 185'!AD119","v":244297.23380309949},null,96,{"$f":"+'No Deducible 93'!Y119","v":187981.99288437309},{"$f":"+'Deducible 151'!Y119","v":184572.05662850902},{"$f":"+'Deducible 185'!Y119","v":187981.99288437309}]
[8.0833333333333339,{"$f":"'OptiMaxx plus'!$T$7+A101","v":52.083333333333336},97,{"$f":"+'No Deducible 93'!AD120","v":248407.51700449825},{"$f":"+'Deducible 151'!AD120","v":242514.69067443805},{"$f":"+'Deducible 185'!AD120","v":248420.02014898029},null,97,{"$f":"+'No Deducible 93'!Y120","v":191657.22272277265},{"$f":"+'Deducible 151'!Y120","v":188164.16833140972},{"$f":"+'Deducible 185'!Y120","v":191657.22272277265}]
[8.1666666666666661,{"$f":"'OptiMaxx plus'!$T$7+A102","v":52.166666666666664},98,{"$f":"+'No Deducible 93'!AD121","v":252564.96995147906},{"$f":"+'Deducible 151'!AD121","v":246560.7496664082},{"$f":"+'Deducible 185'!AD121","v":252577.57911392589},null,98,{"$f":"+'No Deducible 93'!Y121","v":195363.61595276248},{"$f":"+'Deducible 151'!Y121","v":191786.15845050896},{"$f":"+'Deducible 185'!Y121","v":195363.61595276248}]
[8.25,{"$f":"'OptiMaxx plus'!$T$7+A103","v":52.25},99,{"$f":"+'No Deducible 93'!AD122","v":256238.06442721325},{"$f":"+'Deducible 151'!AD122","v":250083.14114740922},{"$f":"+'Deducible 185'!AD122","v":256251.06485551494},null,99,{"$f":"+'No Deducible 93'!Y122","v":199101.43681821792},{"$f":"+'Deducible 151'!Y122","v":195438.27550807677},{"$f":"+'Deducible 185'!Y122","v":199101.43681821792}]
[8.3333333333333339,{"$f":"'OptiMaxx plus'!$T$7+A104","v":52.333333333333336},100,{"$f":"+'No Deducible 93'!AD123","v":260461.81496388398},{"$f":"+'Deducible 151'!AD123","v":254192.05997367212},{"$f":"+'Deducible 185'!AD123","v":260474.9256267712},null,100,{"$f":"+'No Deducible 93'!Y123","v":202870.95180361858},{"$f":"+'Deducible 151'!Y123","v":199120.77009353816},{"$f":"+'Deducible 185'!Y123","v":202870.95180361858}]
[8.4166666666666661,{"$f":"'OptiMaxx plus'!$T$7+A105","v":52.416666666666664},101,{"$f":"+'No Deducible 93'!AD124","v":264721.19245405612},{"$f":"+'Deducible 151'!AD124","v":258334.981683561},{"$f":"+'Deducible 185'!AD124","v":264734.41428624146},null,101,{"$f":"+'No Deducible 93'!Y124","v":206672.42965304694},{"$f":"+'Deducible 151'!Y124","v":202833.89488066742},{"$f":"+'Deducible 185'!Y124","v":206672.42965304694}]
[8.5,{"$f":"'OptiMaxx plus'!$T$7+A106","v":52.5},102,{"$f":"+'No Deducible 93'!AD125","v":268489.37749864208},{"$f":"+'Deducible 151'!AD125","v":261947.57777693481},{"$f":"+'Deducible 185'!AD125","v":268502.99677674723},null,102,{"$f":"+'No Deducible 93'!Y125","v":210506.14138934834},{"$f":"+'Deducible 151'!Y125","v":206577.90464492515},{"$f":"+'Deducible 185'!Y125","v":210506.14138934834}]
[8.5833333333333339,{"$f":"'OptiMaxx plus'!$T$7+A107","v":52.583333333333336},103,{"$f":"+'No Deducible 93'!AD126","v":272816.72217569721},{"$f":"+'Deducible 151'!AD126","v":266154.91442085977},{"$f":"+'Deducible 185'!AD126","v":272830.45693580364},null,103,{"$f":"+'No Deducible 93'!Y126","v":214372.36033345322},{"$f":"+'Deducible 151'!Y126","v":210353.05628093969},{"$f":"+'Deducible 185'!Y126","v":214372.36033345322}]
[8.6666666666666661,{"$f":"'OptiMaxx plus'!$T$7+A108","v":52.666666666666664},104,{"$f":"+'No Deducible 93'!AD127","v":277180.57042393438},{"$f":"+'Deducible 151'!AD127","v":270397.07090495492},{"$f":"+'Deducible 185'!AD127","v":277194.42164524901},null,104,{"$f":"+'No Deducible 93'!Y127","v":218271.36212386339},{"$f":"+'Deducible 151'!Y127","v":214159.60882013393},{"$f":"+'Deducible 185'!Y127","v":218271.36212386339}]
[8.75,{"$f":"'OptiMaxx plus'!$T$7+A109","v":52.75},105,{"$f":"+'No Deducible 93'!AD128","v":281046.29540663888},{"$f":"+'Deducible 151'!AD128","v":274102.16114950879},{"$f":"+'Deducible 185'!AD128","v":281060.55035140069},null,105,{"$f":"+'No Deducible 93'!Y128","v":222203.42473630331},{"$f":"+'Deducible 151'!Y128","v":217997.82344849868},{"$f":"+'Deducible 185'!Y128","v":222203.42473630331}]
[8.8333333333333339,{"$f":"'OptiMaxx plus'!$T$7+A110","v":52.833333333333336},106,{"$f":"+'No Deducible 93'!AD129","v":285479.82278893125},{"$f":"+'Deducible 151'!AD129","v":278410.32643307996},{"$f":"+'Deducible 185'!AD129","v":285494.19860570523},null,106,{"$f":"+'No Deducible 93'!Y129","v":226168.8285035381},{"$f":"+'Deducible 151'!Y129","v":221867.96352451388},{"$f":"+'Deducible 185'!Y129","v":226168.8285035381}]
[8.9166666666666661,{"$f":"'OptiMaxx plus'!$T$7+A111","v":52.916666666666664},107,{"$f":"+'No Deducible 93'!AD130","v":289950.75229225523},{"$f":"+'Deducible 151'!AD130","v":282754.14855021628},{"$f":"+'Deducible 185'!AD130","v":289965.25000595191},null,107,{"$f":"+'No Deducible 93'!Y130","v":230167.85613535967},{"$f":"+'Deducible 151'!Y130","v":225770.29459721901},{"$f":"+'Deducible 185'!Y130","v":230167.85613535967}]
[9,{"$f":"'OptiMaxx plus'!$T$7+A112","v":53},108,{"$f":"+'No Deducible 93'!AD131","v":293916.52954112377},{"$f":"+'Deducible 151'!AD131","v":286554.08035211114},{"$f":"+'Deducible 185'!AD131","v":293931.43735479162},null,108,{"$f":"+'No Deducible 93'!Y131","v":234200.79273874237},{"$f":"+'Deducible 151'!Y131","v":229705.08442443353},{"$f":"+'Deducible 185'!Y131","v":234200.79273874237}]
[9.0833333333333339,{"$f":"'OptiMaxx plus'!$T$7+A113","v":53.083333333333336},109,{"$f":"+'No Deducible 93'!AD132","v":298562.68707258056},{"$f":"+'Deducible 151'!AD132","v":291068.12192939705},{"$f":"+'Deducible 185'!AD132","v":298577.72129413451},null,109,{"$f":"+'No Deducible 93'!Y132","v":238371.7193562676},{"$f":"+'Deducible 151'!Y132","v":233775.18005031146},{"$f":"+'Deducible 185'!Y132","v":238371.7193562676}]
[9.1666666666666661,{"$f":"'OptiMaxx plus'!$T$7+A114","v":53.166666666666664},110,{"$f":"+'No Deducible 93'!AD133","v":303248.04785794835},{"$f":"+'Deducible 151'!AD133","v":295619.53108154051},{"$f":"+'Deducible 185'!AD133","v":303263.20955923939},null,110,{"$f":"+'No Deducible 93'!Y133","v":242578.0125291353},{"$f":"+'Deducible 151'!Y133","v":237879.12986033954},{"$f":"+'Deducible 185'!Y133","v":242578.0125291353}]
[9.25,{"$f":"'OptiMaxx plus'!$T$7+A115","v":53.25},111,{"$f":"+'No Deducible 93'!AD134","v":307422.01545090636},{"$f":"+'Deducible 151'!AD134","v":299621.00175787404},{"$f":"+'Deducible 185'!AD134","v":307437.5937292478},null,111,{"$f":"+'No Deducible 93'!Y134","v":246819.97214112472},{"$f":"+'Deducible 151'!Y134","v":242017.2154463745},{"$f":"+'Deducible 185'!Y134","v":246819.97214112472}]
[9.3333333333333339,{"$f":"'OptiMaxx plus'!$T$7+A116","v":53.333333333333336},112,{"$f":"+'No Deducible 93'!AD135","v":312182.39330219501},{"$f":"+'Deducible 151'!AD135","v":304243.45542085147},{"$f":"+'Deducible 185'!AD135","v":312198.10367349652},null,112,{"$f":"+'No Deducible 93'!Y135","v":251097.90061882074},{"$f":"+'Deducible 151'!Y135","v":246189.7207424939},{"$f":"+'Deducible 185'!Y135","v":251097.90061882074}]
[9.4166666666666661,{"$f":"'OptiMaxx plus'!$T$7+A117","v":53.416666666666664},113,{"$f":"+'No Deducible 93'!AD136","v":316982.94107601402},{"$f":"+'Deducible 151'!AD136","v":308904.1766974057},{"$f":"+'Deducible 185'!AD136","v":316998.78466033196},null,113,{"$f":"+'No Deducible 93'!Y136","v":255412.10295317537},{"$f":"+'Deducible 151'!Y136","v":250396.93204447813},{"$f":"+'Deducible 185'!Y136","v":255412.10295317537}]
[9.5,{"$f":"'OptiMaxx plus'!$T$7+A118","v":53.5},114,{"$f":"+'No Deducible 93'!AD137","v":321264.88906554214},{"$f":"+'Deducible 151'!AD137","v":313007.9873267553},{"$f":"+'Deducible 185'!AD137","v":321281.15580612794},null,114,{"$f":"+'No Deducible 93'!Y137","v":259762.88672125162},{"$f":"+'Deducible 151'!Y137","v":254639.13802945468},{"$f":"+'Deducible 185'!Y137","v":259762.88672125162}]
[9.5833333333333339,{"$f":"'OptiMaxx plus'!$T$7+A119","v":53.583333333333336},115,{"$f":"+'No Deducible 93'!AD138","v":326142.34521863493},{"$f":"+'Deducible 151'!AD138","v":317741.51267025003},{"$f":"+'Deducible 185'!AD138","v":326158.74988986156},null,115,{"$f":"+'No Deducible 93'!Y138","v":264150.56210815196},{"$f":"+'Deducible 151'!Y138","v":258916.62977570549},{"$f":"+'Deducible 185'!Y138","v":264150.56210815196}]
[9.6666666666666661,{"$f":"'OptiMaxx plus'!$T$7+A120","v":53.666666666666664},116,{"$f":"+'No Deducible 93'!AD139","v":331060.96217902342},{"$f":"+'Deducible 151'!AD139","v":322514.22777167294},{"$f":"+'Deducible 185'!AD139","v":331077.50595044671},null,116,{"$f":"+'No Deducible 93'!Y139","v":268575.44192913268},{"$f":"+'Deducible 151'!Y139","v":263229.70078263944},{"$f":"+'Deducible 185'!Y139","v":268575.44192913268}]
[9.75,{"$f":"'OptiMaxx plus'!$T$7+A121","v":53.75},117,{"$f":"+'No Deducible 93'!AD140","v":335453.6711111542},{"$f":"+'Deducible 151'!AD140","v":326722.97429375484},{"$f":"+'Deducible 185'!AD140","v":335470.64472180902},null,117,{"$f":"+'No Deducible 93'!Y140","v":273037.84165190568},{"$f":"+'Deducible 151'!Y140","v":267578.64699093055},{"$f":"+'Deducible 185'!Y140","v":273037.84165190568}]
[9.8333333333333339,{"$f":"'OptiMaxx plus'!$T$7+A122","v":53.833333333333336},118,{"$f":"+'No Deducible 93'!AD141","v":340451.13577084884},{"$f":"+'Deducible 151'!AD141","v":331570.29690772528},{"$f":"+'Deducible 185'!AD141","v":340468.25330591074},null,118,{"$f":"+'No Deducible 93'!Y141","v":277538.07941912976},{"$f":"+'Deducible 151'!Y141","v":271963.7668028241},{"$f":"+'Deducible 185'!Y141","v":277538.07941912976}]
[9.9166666666666661,{"$f":"'OptiMaxx plus'!$T$7+A123","v":53.916666666666664},119,{"$f":"+'No Deducible 93'!AD142","v":345490.77695098211},{"$f":"+'Deducible 151'!AD142","v":336457.75407838472},{"$f":"+'Deducible 185'!AD142","v":345508.03963083},null,119,{"$f":"+'No Deducible 93'!Y142","v":282076.47607109183},{"$f":"+'Deducible 151'!Y142","v":276385.36110261135},{"$f":"+'Deducible 185'!Y142","v":282076.47607109183}]
[10,{"$f":"'OptiMaxx plus'!$T$7+A124","v":54},120,{"$f":"+'No Deducible 93'!AD143","v":349997.09883322788},{"$f":"+'Deducible 151'!AD143","v":340774.09802398307},{"$f":"+'Deducible 185'!AD143","v":350014.79814065027},null,120,{"$f":"+'No Deducible 93'!Y143","v":286653.35516858136},{"$f":"+'Deducible 151'!Y143","v":280843.73327727464},{"$f":"+'Deducible 185'!Y143","v":286653.35516858136}]
[10.083333333333334,{"$f":"'OptiMaxx plus'!$T$7+A125","v":54.083333333333336},121,{"$f":"+'No Deducible 93'!AD144","v":355226.54598442808},{"$f":"+'Deducible 151'!AD144","v":345845.70373892353},{"$f":"+'Deducible 185'!AD144","v":355244.39536966127},null,121,{"$f":"+'No Deducible 93'!Y144","v":291378.01273756276},{"$f":"+'Deducible 151'!Y144","v":285446.88183494349},{"$f":"+'Deducible 185'!Y144","v":291378.01273756276}]
[10.166666666666666,{"$f":"'OptiMaxx plus'!$T$7+A126","v":54.166666666666664},122,{"$f":"+'No Deducible 93'!AD145","v":360500.13481279509},{"$f":"+'Deducible 151'!AD145","v":350959.3077901795},{"$f":"+'Deducible 185'!AD145","v":360518.13554839441},null,122,{"$f":"+'No Deducible 93'!Y145","v":296142.73211503669},{"$f":"+'Deducible 151'!Y145","v":290088.318396941},{"$f":"+'Deducible 185'!Y145","v":296142.73211503669}]
[10.25,{"$f":"'OptiMaxx plus'!$T$7+A127","v":54.25},123,{"$f":"+'No Deducible 93'!AD146","v":365233.82048034837},{"$f":"+'Deducible 151'!AD146","v":355495.46951155033},{"$f":"+'Deducible 185'!AD146","v":365252.26473890344},null,123,{"$f":"+'No Deducible 93'!Y146","v":300947.85299726186},{"$f":"+'Deducible 151'!Y146","v":294768.36143469106},{"$f":"+'Deducible 185'!Y146","v":300947.85299726186}]
[10.333333333333334,{"$f":"'OptiMaxx plus'!$T$7+A128","v":54.333333333333336},124,{"$f":"+'No Deducible 93'!AD147","v":370592.15613872511},{"$f":"+'Deducible 151'!AD147","v":360689.23800083436},{"$f":"+'Deducible 185'!AD147","v":370610.75679175812},null,124,{"$f":"+'No Deducible 93'!Y147","v":305793.71796088479},{"$f":"+'Deducible 151'!Y147","v":299487.3320685947},{"$f":"+'Deducible 185'!Y147","v":305793.71796088479}]
[10.416666666666666,{"$f":"'OptiMaxx plus'!$T$7+A129","v":54.416666666666664},125,{"$f":"+'No Deducible 93'!AD148","v":375995.7244476889},{"$f":"+'Deducible 151'!AD148","v":365926.01917426428},{"$f":"+'Deducible 185'!AD148","v":376014.48282131623},null,125,{"$f":"+'No Deducible 93'!Y148","v":310680.67248736363},{"$f":"+'Deducible 151'!Y148","v":304245.55409006367},{"$f":"+'Deducible 185'!Y148","v":310680.67248736363}]
[10.5,{"$f":"'OptiMaxx plus'!$T$7+A130","v":54.5},126,{"$f":"+'No Deducible 93'!AD149","v":380851.79199425277},{"$f":"+'Deducible 151'!AD149","v":370578.05978296883},{"$f":"+'Deducible 185'!AD149","v":380871.00089494017},null,126,{"$f":"+'No Deducible 93'!Y149","v":315609.06498759886},{"$f":"+'Deducible 151'!Y149","v":309043.35398373735},{"$f":"+'Deducible 185'!Y149","v":315609.06498759886}]
[10.583333333333334,{"$f":"'OptiMaxx plus'!$T$7+A131","v":54.583333333333336},127,{"$f":"+'No Deducible 93'!AD150","v":386342.24595282302},{"$f":"+'Deducible 151'!AD150","v":375896.99285494594},{"$f":"+'Deducible 185'!AD150","v":386361.61773162161},null,127,{"$f":"+'No Deducible 93'!Y150","v":320579.24682677304},{"$f":"+'Deducible 151'!Y150","v":313881.06094988453},{"$f":"+'Deducible 185'!Y150","v":320579.24682677304}]
[10.666666666666666,{"$f":"'OptiMaxx plus'!$T$7+A132","v":54.666666666666664},128,{"$f":"+'No Deducible 93'!AD151","v":391879.05090356612},{"$f":"+'Deducible 151'!AD151","v":381259.97791035869},{"$f":"+'Deducible 185'!AD151","v":391898.58694156888},null,128,{"$f":"+'No Deducible 93'!Y151","v":325591.5723494009},{"$f":"+'Deducible 151'!Y151","v":318759.00692699128},{"$f":"+'Deducible 185'!Y151","v":325591.5723494009}]
[10.75,{"$f":"'OptiMaxx plus'!$T$7+A133","v":54.75},129,{"$f":"+'No Deducible 93'!AD152","v":396860.65085930703},{"$f":"+'Deducible 151'!AD152","v":386030.8351215549},{"$f":"+'Deducible 185'!AD152","v":396880.64453890861},null,129,{"$f":"+'No Deducible 93'!Y152","v":330646.39890459203},{"$f":"+'Deducible 151'!Y152","v":323677.52661453706},{"$f":"+'Deducible 185'!Y152","v":330646.39890459203}]
[{"$f":"+C134/12","v":10.833333333333334},{"$f":"'OptiMaxx plus'!$T$7+A134","v":54.833333333333336},130,{"$f":"+'No Deducible 93'!AD153","v":402486.53460220096},{"$f":"+'Deducible 151'!AD153","v":391478.00913813955},{"$f":"+'Deducible 185'!AD153","v":402506.6978142928},null,130,{"$f":"+'No Deducible 93'!Y153","v":335744.08687152789},{"$f":"+'Deducible 151'!Y153","v":328636.95749595982},{"$f":"+'Deducible 185'!Y153","v":335744.08687152789}]
[10.916666666666666,{"$f":"'OptiMaxx plus'!$T$7+A135","v":54.916666666666664},{"$f":"+C134+1","v":131},{"$f":"+'No Deducible 93'!AD154","v":408159.91573952895},{"$f":"+'Deducible 151'!AD154","v":396970.30000886816},{"$f":"+'Deducible 185'!AD154","v":408180.24992162857},null,{"$f":"+H134+1","v":131},{"$f":"+'No Deducible 93'!Y154","v":340884.99968515465},{"$f":"+'Deducible 151'!Y154","v":333637.63986181258},{"$f":"+'Deducible 185'!Y154","v":340884.99968515465}]
[11,{"$f":"'OptiMaxx plus'!$T$7+A136","v":55},132,{"$f":"+'No Deducible 93'!AD155","v":413270.27959474979},{"$f":"+'Deducible 151'!AD155","v":401862.98574336874},{"$f":"+'Deducible 185'!AD155","v":413291.07864515972},null,132,{"$f":"+'No Deducible 93'!Y155","v":346069.50386209384},{"$f":"+'Deducible 151'!Y155","v":338679.91683311237},{"$f":"+'Deducible 185'!Y155","v":346069.50386209384}]
[11.083333333333334,{"$f":"'OptiMaxx plus'!$T$7+A137","v":55.083333333333336},133,{"$f":"+'No Deducible 93'!AD156","v":419149.39243808377},{"$f":"+'Deducible 151'!AD156","v":407554.61673143832},{"$f":"+'Deducible 185'!AD156","v":419170.36784996797},null,133,{"$f":"+'No Deducible 93'!Y156","v":351412.37309018802},{"$f":"+'Deducible 151'!Y156","v":343877.19763390516},{"$f":"+'Deducible 185'!Y156","v":351412.37309018802}]
[11.166666666666666,{"$f":"'OptiMaxx plus'!$T$7+A138","v":55.166666666666664},134,{"$f":"+'No Deducible 93'!AD157","v":425078.14791576064},{"$f":"+'Deducible 151'!AD157","v":413293.3960871296},{"$f":"+'Deducible 185'!AD157","v":425099.30118454166},null,134,{"$f":"+'No Deducible 93'!Y157","v":356800.54613145621},{"$f":"+'Deducible 151'!Y157","v":349117.70830384182},{"$f":"+'Deducible 185'!Y157","v":356800.54613145621}]
[11.25,{"$f":"'OptiMaxx plus'!$T$7+A139","v":55.25},135,{"$f":"+'No Deducible 93'!AD158","v":430436.94262228825},{"$f":"+'Deducible 151'!AD158","v":418425.95028557966},{"$f":"+'Deducible 185'!AD158","v":430458.56810002925},null,135,{"$f":"+'No Deducible 93'!Y158","v":362234.40713070915},{"$f":"+'Deducible 151'!Y158","v":354401.80841971998},{"$f":"+'Deducible 185'!Y158","v":362234.40713070915}]
[11.333333333333334,{"$f":"'OptiMaxx plus'!$T$7+A140","v":55.333333333333336},136,{"$f":"+'No Deducible 93'!AD159","v":436461.29660114925},{"$f":"+'Deducible 151'!AD159","v":424255.05093876139},{"$f":"+'Deducible 185'!AD159","v":436483.10544789332},null,136,{"$f":"+'No Deducible 93'!Y159","v":367714.34349003824},{"$f":"+'Deducible 151'!Y159","v":359729.86054921994},{"$f":"+'Deducible 185'!Y159","v":367714.34349003824}]
[11.416666666666666,{"$f":"'OptiMaxx plus'!$T$7+A141","v":55.416666666666664},137,{"$f":"+'No Deducible 93'!AD160","v":442536.52277270553},{"$f":"+'Deducible 151'!AD160","v":430132.44155810116},{"$f":"+'Deducible 185'!AD160","v":442558.51654329407},null,137,{"$f":"+'No Deducible 93'!Y160","v":373240.74589643494},{"$f":"+'Deducible 151'!Y160","v":365102.23027578241},{"$f":"+'Deducible 185'!Y160","v":373240.74589643494}]
[11.5,{"$f":"'OptiMaxx plus'!$T$7+A142","v":55.5},138,{"$f":"+'No Deducible 93'!AD161","v":448033.78053861443},{"$f":"+'Deducible 151'!AD161","v":435395.97063176631},{"$f":"+'Deducible 185'!AD161","v":448056.25397454429},null,138,{"$f":"+'No Deducible 93'!Y161","v":378814.00834964466},{"$f":"+'Deducible 151'!Y161","v":370519.28622369294},{"$f":"+'Deducible 185'!Y161","v":378814.00834964466}]
[11.583333333333334,{"$f":"'OptiMaxx plus'!$T$7+A143","v":55.583333333333336},139,{"$f":"+'No Deducible 93'!AD162","v":454207.02018235432},{"$f":"+'Deducible 151'!AD162","v":441365.92391518911},{"$f":"+'Deducible 185'!AD162","v":454229.68417738256},null,139,{"$f":"+'No Deducible 93'!Y162","v":384434.52819025633},{"$f":"+'Deducible 151'!Y162","v":375981.40008337493},{"$f":"+'Deducible 185'!Y162","v":384434.52819025633}]
[11.666666666666666,{"$f":"'OptiMaxx plus'!$T$7+A144","v":55.666666666666664},140,{"$f":"+'No Deducible 93'!AD163","v":460432.3924612772},{"$f":"+'Deducible 151'!AD163","v":447385.33688449074},{"$f":"+'Deducible 185'!AD163","v":460455.24863121234},null,140,{"$f":"+'No Deducible 93'!Y163","v":390102.70612803072},{"$f":"+'Deducible 151'!Y163","v":381488.94663689309},{"$f":"+'Deducible 185'!Y163","v":390102.70612803072}]
[11.75,{"$f":"'OptiMaxx plus'!$T$7+A145","v":55.75},141,{"$f":"+'No Deducible 93'!AD164","v":466071.67692082131},{"$f":"+'Deducible 151'!AD164","v":452783.15956303803},{"$f":"+'Deducible 185'!AD164","v":466095.0203300321},null,141,{"$f":"+'No Deducible 93'!Y164","v":395818.94627046847},{"$f":"+'Deducible 151'!Y164","v":387042.30378366925},{"$f":"+'Deducible 185'!Y164","v":395818.94627046847}]
[11.833333333333334,{"$f":"'OptiMaxx plus'!$T$7+A146","v":55.833333333333336},142,{"$f":"+'No Deducible 93'!AD165","v":472397.53901481879},{"$f":"+'Deducible 151'!AD165","v":458897.43253071036},{"$f":"+'Deducible 185'!AD165","v":472421.080359896},null,142,{"$f":"+'No Deducible 93'!Y165","v":401583.65615162067},{"$f":"+'Deducible 151'!Y165","v":392641.85256641166},{"$f":"+'Deducible 185'!Y165","v":401583.65615162067}]
[11.916666666666666,{"$f":"'OptiMaxx plus'!$T$7+A147","v":55.916666666666664},143,{"$f":"+'No Deducible 93'!AD166","v":478776.8258527086},{"$f":"+'Deducible 151'!AD166","v":465062.36372443225},{"$f":"+'Deducible 185'!AD166","v":478800.56681201066},null,143,{"$f":"+'No Deducible 93'!Y166","v":407397.2467611435},{"$f":"+'Deducible 151'!Y166","v":398287.9771972603},{"$f":"+'Deducible 185'!Y166","v":407397.2467611435}]
[12,{"$f":"'OptiMaxx plus'!$T$7+A148","v":56},144,{"$f":"+'No Deducible 93'!AD167","v":484561.79220555158},{"$f":"+'Deducible 151'!AD167","v":470597.88254592638},{"$f":"+'Deducible 185'!AD167","v":484586.0280974668},null,144,{"$f":"+'No Deducible 93'!Y167","v":413260.13257359952},{"$f":"+'Deducible 151'!Y167","v":403981.06508414942},{"$f":"+'Deducible 185'!Y167","v":413260.13257359952}]
[12.083333333333334,{"$f":"'OptiMaxx plus'!$T$7+A149","v":56.083333333333336},145,{"$f":"+'No Deducible 93'!AD168","v":491164.21755544917},{"$f":"+'Deducible 151'!AD168","v":476978.73017812497},{"$f":"+'Deducible 185'!AD168","v":491188.65895086306},null,145,{"$f":"+'No Deducible 93'!Y168","v":419292.84099494555},{"$f":"+'Deducible 151'!Y168","v":409840.20859325281},{"$f":"+'Deducible 185'!Y168","v":419292.84099494555}]
[12.166666666666666,{"$f":"'OptiMaxx plus'!$T$7+A150","v":56.166666666666664},146,{"$f":"+'No Deducible 93'!AD169","v":497822.41067043471},{"$f":"+'Deducible 151'!AD169","v":483412.45144936634},{"$f":"+'Deducible 185'!AD169","v":497847.05931187398},null,146,{"$f":"+'No Deducible 93'!Y169","v":425376.70258579409},{"$f":"+'Deducible 151'!Y169","v":415748.08720382612},{"$f":"+'Deducible 185'!Y169","v":425376.70258579409}]
[12.25,{"$f":"'OptiMaxx plus'!$T$7+A151","v":56.25},147,{"$f":"+'No Deducible 93'!AD170","v":503878.96297379828},{"$f":"+'Deducible 151'!AD170","v":489209.83949268144},{"$f":"+'Deducible 185'!AD170","v":503904.11436247057},null,147,{"$f":"+'No Deducible 93'!Y170","v":431512.15108942712},{"$f":"+'Deducible 151'!Y170","v":421705.10628401081},{"$f":"+'Deducible 185'!Y170","v":431512.15108942712}]
[12.333333333333334,{"$f":"'OptiMaxx plus'!$T$7+A152","v":56.333333333333336},148,{"$f":"+'No Deducible 93'!AD171","v":510644.85187504336},{"$f":"+'Deducible 151'!AD171","v":495745.18835509871},{"$f":"+'Deducible 185'!AD171","v":510670.21652998979},null,148,{"$f":"+'No Deducible 93'!Y171","v":437699.62392696785},{"$f":"+'Deducible 151'!Y171","v":427711.67457371386},{"$f":"+'Deducible 185'!Y171","v":437699.62392696785}]
[12.416666666666666,{"$f":"'OptiMaxx plus'!$T$7+A153","v":56.416666666666664},149,{"$f":"+'No Deducible 93'!AD172","v":517467.89253629441},{"$f":"+'Deducible 151'!AD172","v":502334.69404861296},{"$f":"+'Deducible 185'!AD172","v":517493.47226586461},null,149,{"$f":"+'No Deducible 93'!Y172","v":443939.56222856633},{"$f":"+'Deducible 151'!Y172","v":433768.20421265333},{"$f":"+'Deducible 185'!Y172","v":443939.56222856633}]
[12.5,{"$f":"'OptiMaxx plus'!$T$7+A154","v":56.5},150,{"$f":"+'No Deducible 93'!AD173","v":523680.85508216039},{"$f":"+'Deducible 151'!AD173","v":508279.87984563602},{"$f":"+'Deducible 185'!AD173","v":523706.94549677439},null,150,{"$f":"+'No Deducible 93'!Y173","v":450232.41086484917},{"$f":"+'Deducible 151'!Y173","v":439875.11076863715},{"$f":"+'Deducible 185'!Y173","v":450232.41086484917}]
[12.583333333333334,{"$f":"'OptiMaxx plus'!$T$7+A155","v":56.583333333333336},151,{"$f":"+'No Deducible 93'!AD174","v":530614.31446184393},{"$f":"+'Deducible 151'!AD174","v":514973.53723023867},{"$f":"+'Deducible 185'!AD174","v":530640.62610501854},null,151,{"$f":"+'No Deducible 93'!Y174","v":456578.61847863637},{"$f":"+'Deducible 151'!Y174","v":446032.81326607731},{"$f":"+'Deducible 185'!Y174","v":456578.61847863637}]
[12.666666666666666,{"$f":"'OptiMaxx plus'!$T$7+A156","v":56.666666666666664},152,{"$f":"+'No Deducible 93'!AD175","v":537606.34440066479},{"$f":"+'Deducible 151'!AD175","v":521722.66628795548},{"$f":"+'Deducible 185'!AD175","v":537632.87914826442},null,152,{"$f":"+'No Deducible 93'!Y175","v":462978.63751692697},{"$f":"+'Deducible 151'!Y175","v":452241.73421474121},{"$f":"+'Deducible 185'!Y175","v":462978.63751692697}]
[12.75,{"$f":"'OptiMaxx plus'!$T$7+A157","v":56.75},153,{"$f":"+'No Deducible 93'!AD176","v":543979.74182849843},{"$f":"+'Deducible 151'!AD176","v":527819.39309872489},{"$f":"+'Deducible 185'!AD176","v":544006.79532408237},null,153,{"$f":"+'No Deducible 93'!Y176","v":469432.92426315555},{"$f":"+'Deducible 151'!Y176","v":458502.29963874206},{"$f":"+'Deducible 185'!Y176","v":469432.92426315555}]
[12.833333333333334,{"$f":"'OptiMaxx plus'!$T$7+A158","v":56.833333333333336},154,{"$f":"+'No Deducible 93'!AD177","v":551084.98265247559},{"$f":"+'Deducible 151'!AD177","v":534675.26100473548},{"$f":"+'Deducible 185'!AD177","v":551112.26554287667},null,154,{"$f":"+'No Deducible 93'!Y177","v":475941.93886972283},{"$f":"+'Deducible 151'!Y177","v":464814.93910577043},{"$f":"+'Deducible 185'!Y177","v":475941.93886972283}]
[12.916666666666666,{"$f":"'OptiMaxx plus'!$T$7+A159","v":56.916666666666664},155,{"$f":"+'No Deducible 93'!AD178","v":558250.24852092389},{"$f":"+'Deducible 151'!AD178","v":541587.94786342117},{"$f":"+'Deducible 185'!AD178","v":558277.76275125053},null,155,{"$f":"+'No Deducible 93'!Y178","v":482506.1453908016},{"$f":"+'Deducible 151'!Y178","v":471180.08575656899},{"$f":"+'Deducible 185'!Y178","v":482506.1453908016}]
[13,{"$f":"'OptiMaxx plus'!$T$7+A160","v":57},156,{"$f":"+'No Deducible 93'!AD179","v":564788.20887017087},{"$f":"+'Deducible 151'!AD179","v":547840.05345493054},{"$f":"+'Deducible 185'!AD179","v":564816.25003852102},null,156,{"$f":"+'No Deducible 93'!Y179","v":489126.01181542117},{"$f":"+'Deducible 151'!Y179","v":477598.17633465235},{"$f":"+'Deducible 185'!Y179","v":489126.01181542117}]
[13.083333333333334,{"$f":"'OptiMaxx plus'!$T$7+A161","v":57.083333333333336},157,{"$f":"+'No Deducible 93'!AD180","v":572195.64808894717},{"$f":"+'Deducible 151'!AD180","v":554986.75237187964},{"$f":"+'Deducible 185'!AD180","v":572223.92702689231},null,157,{"$f":"+'No Deducible 93'!Y180","v":495928.10939841531},{"$f":"+'Deducible 151'!Y180","v":484194.27263144538},{"$f":"+'Deducible 185'!Y180","v":495928.10939841531}]
[13.166666666666666,{"$f":"'OptiMaxx plus'!$T$7+A162","v":57.166666666666664},158,{"$f":"+'No Deducible 93'!AD181","v":579665.67266246944},{"$f":"+'Deducible 151'!AD181","v":562192.68734013685},{"$f":"+'Deducible 185'!AD181","v":579694.19138613017},null,158,{"$f":"+'No Deducible 93'!Y181","v":502787.88403561682},{"$f":"+'Deducible 151'!Y181","v":490845.23384524032},{"$f":"+'Deducible 185'!Y181","v":502787.88403561682}]
[13.25,{"$f":"'OptiMaxx plus'!$T$7+A163","v":57.25},159,{"$f":"+'No Deducible 93'!AD182","v":586500.67685977102},{"$f":"+'Deducible 151'!AD182","v":568730.80955428351},{"$f":"+'Deducible 185'!AD182","v":586529.73084059311},null,159,{"$f":"+'No Deducible 93'!Y182","v":509705.82478831033},{"$f":"+'Deducible 151'!Y182","v":497551.51633067208},{"$f":"+'Deducible 185'!Y182","v":509705.82478831033}]
[13.333333333333334,{"$f":"'OptiMaxx plus'!$T$7+A164","v":57.333333333333336},160,{"$f":"+'No Deducible 93'!AD183","v":594091.87721051765},{"$f":"+'Deducible 151'!AD183","v":576050.95230423135},{"$f":"+'Deducible 185'!AD183","v":594121.17754887976},null,160,{"$f":"+'No Deducible 93'!Y183","v":516682.42486467981},{"$f":"+'Deducible 151'!Y183","v":504313.58023823582},{"$f":"+'Deducible 185'!Y183","v":516682.42486467981}]
[13.416666666666666,{"$f":"'OptiMaxx plus'!$T$7+A165","v":57.416666666666664},161,{"$f":"+'No Deducible 93'!AD184","v":601747.21894047339},{"$f":"+'Deducible 151'!AD184","v":583431.77178389812},{"$f":"+'Deducible 185'!AD184","v":601776.76772531588},null,161,{"$f":"+'No Deducible 93'!Y184","v":523718.1816549715},{"$f":"+'Deducible 151'!Y184","v":511131.88954586},{"$f":"+'Deducible 185'!Y184","v":523718.1816549715}]
[13.5,{"$f":"'OptiMaxx plus'!$T$7+A166","v":57.5},162,{"$f":"+'No Deducible 93'!AD185","v":608758.65309704398},{"$f":"+'Deducible 151'!AD185","v":590136.42946363799},{"$f":"+'Deducible 185'!AD185","v":608788.74558931601},null,162,{"$f":"+'No Deducible 93'!Y185","v":530813.59676695464},{"$f":"+'Deducible 151'!Y185","v":518006.91209074209},{"$f":"+'Deducible 185'!Y185","v":530813.59676695464}]
[13.583333333333334,{"$f":"'OptiMaxx plus'!$T$7+A167","v":57.583333333333336},163,{"$f":"+'No Deducible 93'!AD186","v":616538.23681474221},{"$f":"+'Deducible 151'!AD186","v":597634.29551171011},{"$f":"+'Deducible 185'!AD186","v":616568.58447040862},null,163,{"$f":"+'No Deducible 93'!Y186","v":537969.17606168357},{"$f":"+'Deducible 151'!Y186","v":524939.11960144923},{"$f":"+'Deducible 185'!Y186","v":537969.17606168357}]
[13.666666666666666,{"$f":"'OptiMaxx plus'!$T$7+A168","v":57.666666666666664},164,{"$f":"+'No Deducible 93'!AD187","v":624383.55710901716},{"$f":"+'Deducible 151'!AD187","v":605194.31454460334},{"$f":"+'Deducible 185'!AD187","v":624414.16209168592},null,164,{"$f":"+'No Deducible 93'!Y187","v":545185.42968956218},{"$f":"+'Deducible 151'!Y187","v":531928.98773028597},{"$f":"+'Deducible 185'!Y187","v":545185.42968956218}]
[13.75,{"$f":"'OptiMaxx plus'!$T$7+A169","v":57.75},165,{"$f":"+'No Deducible 93'!AD188","v":631575.96007081226},{"$f":"+'Deducible 151'!AD188","v":612069.72372876655},{"$f":"+'Deducible 185'!AD188","v":631607.11734437244},null,165,{"$f":"+'No Deducible 93'!Y188","v":552462.87212671479},{"$f":"+'Deducible 151'!Y188","v":538976.99608593073},{"$f":"+'Deducible 185'!Y188","v":552462.87212671479}]
[13.833333333333334,{"$f":"'OptiMaxx plus'!$T$7+A170","v":57.833333333333336},166,{"$f":"+'No Deducible 93'!AD189","v":639548.66656409798},{"$f":"+'Deducible 151'!AD189","v":619749.69906626141},{"$f":"+'Deducible 185'!AD189","v":639580.08802965691},null,166,{"$f":"+'No Deducible 93'!Y189","v":559802.0222116654},{"$f":"+'Deducible 151'!Y189","v":546083.6282663442},{"$f":"+'Deducible 185'!Y189","v":559802.0222116654}]
[13.916666666666666,{"$f":"'OptiMaxx plus'!$T$7+A171","v":57.916666666666664},167,{"$f":"+'No Deducible 93'!AD190","v":647588.7449975888},{"$f":"+'Deducible 151'!AD190","v":627493.34010625142},{"$f":"+'Deducible 185'!AD190","v":647620.43289531081},null,167,{"$f":"+'No Deducible 93'!Y190","v":567203.40318232751},{"$f":"+'Deducible 151'!Y190","v":553249.37189195154},{"$f":"+'Deducible 185'!Y190","v":567203.40318232751}]
[14,{"$f":"'OptiMaxx plus'!$T$7+A172","v":58},168,{"$f":"+'No Deducible 93'!AD191","v":654966.7722104108},{"$f":"+'Deducible 151'!AD191","v":634543.82325412438},{"$f":"+'Deducible 185'!AD191","v":654999.02111777535},null,168,{"$f":"+'No Deducible 93'!Y191","v":574667.54271330801},{"$f":"+'Deducible 151'!Y191","v":560474.7186391002},{"$f":"+'Deducible 185'!Y191","v":574667.54271330801}]
[14.083333333333334,{"$f":"'OptiMaxx plus'!$T$7+A173","v":58.083333333333336},169,{"$f":"+'No Deducible 93'!AD192","v":663269.84894025861},{"$f":"+'Deducible 151'!AD192","v":642541.2393729795},{"$f":"+'Deducible 185'!AD192","v":663302.37129591696},null,169,{"$f":"+'No Deducible 93'!Y192","v":582327.36084830086},{"$f":"+'Deducible 151'!Y192","v":567891.00058386626},{"$f":"+'Deducible 185'!Y192","v":582327.36084830086}]
[14.166666666666666,{"$f":"'OptiMaxx plus'!$T$7+A174","v":58.166666666666664},170,{"$f":"+'No Deducible 93'!AD193","v":671643.09671608103},{"$f":"+'Deducible 151'!AD193","v":650604.95955103647},{"$f":"+'Deducible 185'!AD193","v":671675.89483868435},null,170,{"$f":"+'No Deducible 93'!Y193","v":590052.12891093001},{"$f":"+'Deducible 151'!Y193","v":575368.96957428078},{"$f":"+'Deducible 185'!Y193","v":590052.12891093001}]
[14.25,{"$f":"'OptiMaxx plus'!$T$7+A175","v":58.25},171,{"$f":"+'No Deducible 93'!AD194","v":679346.16574673355},{"$f":"+'Deducible 151'!AD194","v":657967.97012352652},{"$f":"+'Deducible 185'!AD194","v":679379.53373514861},null,171,{"$f":"+'No Deducible 93'!Y194","v":597842.39763138583},{"$f":"+'Deducible 151'!Y194","v":582909.13870998449},{"$f":"+'Deducible 185'!Y194","v":597842.39763138583}]
[14.333333333333334,{"$f":"'OptiMaxx plus'!$T$7+A176","v":58.333333333333336},172,{"$f":"+'No Deducible 93'!AD195","v":687855.60391014046},{"$f":"+'Deducible 151'!AD195","v":666159.8898538237},{"$f":"+'Deducible 185'!AD195","v":687889.25483587792},null,172,{"$f":"+'No Deducible 93'!Y195","v":605698.72240966768},{"$f":"+'Deducible 151'!Y195","v":590512.02535847097},{"$f":"+'Deducible 185'!Y195","v":605698.72240966768}]
[14.416666666666666,{"$f":"'OptiMaxx plus'!$T$7+A177","v":58.416666666666664},173,{"$f":"+'No Deducible 93'!AD196","v":696436.9606959126},{"$f":"+'Deducible 151'!AD196","v":674419.72941543453},{"$f":"+'Deducible 185'!AD196","v":696470.89695808396},null,173,{"$f":"+'No Deducible 93'!Y196","v":613621.66335518006},{"$f":"+'Deducible 151'!Y196","v":598178.15119058604},{"$f":"+'Deducible 185'!Y196","v":613621.66335518006}]
[14.5,{"$f":"'OptiMaxx plus'!$T$7+A178","v":58.5},174,{"$f":"+'No Deducible 93'!AD197","v":704338.78086801514},{"$f":"+'Deducible 151'!AD197","v":681970.13595738821},{"$f":"+'Deducible 185'!AD197","v":704373.29599174741},null,174,{"$f":"+'No Deducible 93'!Y197","v":621611.78532666585},{"$f":"+'Deducible 151'!Y197","v":605908.04221632169},{"$f":"+'Deducible 185'!Y197","v":621611.78532666585}]
[14.583333333333334,{"$f":"'OptiMaxx plus'!$T$7+A179","v":58.583333333333336},175,{"$f":"+'No Deducible 93'!AD198","v":713059.77673440485},{"$f":"+'Deducible 151'!AD198","v":690361.36395680788},{"$f":"+'Deducible 185'!AD198","v":713094.58452236885},null,175,{"$f":"+'No Deducible 93'!Y198","v":629669.65797247679},{"$f":"+'Deducible 151'!Y198","v":613702.22882090847},{"$f":"+'Deducible 185'!Y198","v":629669.65797247679}]
[14.666666666666666,{"$f":"'OptiMaxx plus'!$T$7+A180","v":58.666666666666664},176,{"$f":"+'No Deducible 93'!AD199","v":721854.48283907701},{"$f":"+'Deducible 151'!AD199","v":698822.16750404844},{"$f":"+'Deducible 185'!AD199","v":721889.58577286149},null,176,{"$f":"+'No Deducible 93'!Y199","v":637795.85577118618},{"$f":"+'Deducible 151'!Y199","v":621561.24580120796},{"$f":"+'Deducible 185'!Y199","v":637795.85577118618}]
[14.75,{"$f":"'OptiMaxx plus'!$T$7+A181","v":58.75},177,{"$f":"+'No Deducible 93'!AD200","v":729960.16628129524},{"$f":"+'Deducible 151'!AD200","v":706564.71231790213},{"$f":"+'Deducible 185'!AD200","v":729995.85721416608},null,177,{"$f":"+'No Deducible 93'!Y200","v":645990.95807254594},{"$f":"+'Deducible 151'!Y200","v":629485.63240240747},{"$f":"+'Deducible 185'!Y200","v":645990.95807254594}]
[14.833333333333334,{"$f":"'OptiMaxx plus'!$T$7+A182","v":58.833333333333336},178,{"$f":"+'No Deducible 93'!AD201","v":738898.04792965867},{"$f":"+'Deducible 151'!AD201","v":715160.17291972344},{"$f":"+'Deducible 185'!AD201","v":738934.04149680445},null,178,{"$f":"+'No Deducible 93'!Y201","v":654255.54913879081},{"$f":"+'Deducible 151'!Y201","v":637475.93235502008},{"$f":"+'Deducible 185'!Y201","v":654255.54913879081}]
[14.916666666666666,{"$f":"'OptiMaxx plus'!$T$7+A183","v":58.916666666666664},179,{"$f":"+'No Deducible 93'!AD202","v":747911.47658919927},{"$f":"+'Deducible 151'!AD202","v":723826.90572551696},{"$f":"+'Deducible 185'!AD202","v":747947.77535674814},null,179,{"$f":"+'No Deducible 93'!Y202","v":662590.2181862928},{"$f":"+'Deducible 151'!Y202","v":645532.6939121933},{"$f":"+'Deducible 185'!Y202","v":662590.2181862928}]
[15,{"$f":"'OptiMaxx plus'!$T$7+A184","v":59},180,{"$f":"+'No Deducible 93'!AD203","v":756226.26674595301},{"$f":"+'Deducible 151'!AD203","v":731766.45079441695},{"$f":"+'Deducible 185'!AD203","v":756263.16279412038},null,180,{"$f":"+'No Deducible 93'!Y203","v":670995.55942756846},{"$f":"+'Deducible 151'!Y203","v":653656.4698873267},{"$f":"+'Deducible 185'!Y203","v":670995.55942756846}]
[15.083333333333334,{"$f":"'OptiMaxx plus'!$T$7+A185","v":59.083333333333336},181,{"$f":"+'No Deducible 93'!AD204","v":765525.48752834904},{"$f":"+'Deducible 151'!AD204","v":740708.55214487785},{"$f":"+'Deducible 185'!AD204","v":765562.69642933051},null,181,{"$f":"+'No Deducible 93'!Y204","v":679611.16221920669},{"$f":"+'Deducible 151'!Y204","v":661985.17883502378},{"$f":"+'Deducible 185'!Y204","v":679611.16221920669}]
[15.166666666666666,{"$f":"'OptiMaxx plus'!$T$7+A186","v":59.166666666666664},182,{"$f":"+'No Deducible 93'!AD205","v":774903.31693709409},{"$f":"+'Deducible 151'!AD205","v":749724.80685584107},{"$f":"+'Deducible 185'!AD205","v":774940.84134366363},null,182,{"$f":"+'No Deducible 93'!Y205","v":688299.81932727888},{"$f":"+'Deducible 151'!Y205","v":670383.16420086101},{"$f":"+'Deducible 185'!Y205","v":688299.81932727888}]
[15.25,{"$f":"'OptiMaxx plus'!$T$7+A187","v":59.25},183,{"$f":"+'No Deducible 93'!AD206","v":783573.94911714934},{"$f":"+'Deducible 151'!AD206","v":758005.9925874162},{"$f":"+'Deducible 185'!AD206","v":783612.08023214189},null,183,{"$f":"+'No Deducible 93'!Y206","v":697062.1502015529},{"$f":"+'Deducible 151'!Y206","v":678851.00221125456},{"$f":"+'Deducible 185'!Y206","v":697062.1502015529}]
[15.333333333333334,{"$f":"'OptiMaxx plus'!$T$7+A188","v":59.333333333333336},184,{"$f":"+'No Deducible 93'!AD207","v":793104.68646816979},{"$f":"+'Deducible 151'!AD207","v":767166.00249711727},{"$f":"+'Deducible 185'!AD207","v":793143.14090848365},null,184,{"$f":"+'No Deducible 93'!Y207","v":705898.77954429958},{"$f":"+'Deducible 151'!Y207","v":687389.27388554893},{"$f":"+'Deducible 185'!Y207","v":705898.77954429958}]
[15.416666666666666,{"$f":"'OptiMaxx plus'!$T$7+A189","v":59.416666666666664},185,{"$f":"+'No Deducible 93'!AD208","v":802715.99323385884},{"$f":"+'Deducible 151'!AD208","v":776401.97613676847},{"$f":"+'Deducible 185'!AD208","v":802754.77374106774},null,185,{"$f":"+'No Deducible 93'!Y208","v":714810.33735483047},{"$f":"+'Deducible 151'!Y208","v":695998.56507588318},{"$f":"+'Deducible 185'!Y208","v":714810.33735483047}]
[15.5,{"$f":"'OptiMaxx plus'!$T$7+A190","v":59.5},186,{"$f":"+'No Deducible 93'!AD209","v":811610.2529432131},{"$f":"+'Deducible 151'!AD209","v":784893.77121866657},{"$f":"+'Deducible 185'!AD209","v":811649.6497352228},null,186,{"$f":"+'No Deducible 93'!Y209","v":723797.45897441264},{"$f":"+'Deducible 151'!Y209","v":704679.46650738874},{"$f":"+'Deducible 185'!Y209","v":723797.45897441264}]
[15.583333333333334,{"$f":"'OptiMaxx plus'!$T$7+A191","v":59.583333333333336},187,{"$f":"+'No Deducible 93'!AD210","v":821378.34233823582},{"$f":"+'Deducible 151'!AD210","v":794277.07827944425},{"$f":"+'Deducible 185'!AD210","v":821418.07318762725},null,187,{"$f":"+'No Deducible 93'!Y210","v":732860.7851315653},{"$f":"+'Deducible 151'!Y210","v":713432.57381872251},{"$f":"+'Deducible 185'!Y210","v":732860.7851315653}]
[15.666666666666666,{"$f":"'OptiMaxx plus'!$T$7+A192","v":59.666666666666664},188,{"$f":"+'No Deducible 93'!AD211","v":831229.01139497384},{"$f":"+'Deducible 151'!AD211","v":803738.20424029196},{"$f":"+'Deducible 185'!AD211","v":831269.07913432107},null,188,{"$f":"+'No Deducible 93'!Y211","v":742000.96198773943},{"$f":"+'Deducible 151'!Y211","v":722258.4876029361},{"$f":"+'Deducible 185'!Y211","v":742000.96198773943}]
[15.75,{"$f":"'OptiMaxx plus'!$T$7+A193","v":59.75},189,{"$f":"+'No Deducible 93'!AD212","v":840352.64963272202},{"$f":"+'Deducible 151'!AD212","v":812445.93651671614},{"$f":"+'Deducible 185'!AD212","v":840393.3433841588},null,189,{"$f":"+'No Deducible 93'!Y212","v":751218.64118338551},{"$f":"+'Deducible 151'!Y212","v":731157.81344868557},{"$f":"+'Deducible 185'!Y212","v":751218.64118338551}]
[15.833333333333334,{"$f":"'OptiMaxx plus'!$T$7+A194","v":59.833333333333336},190,{"$f":"+'No Deducible 93'!AD213","v":850364.07465860026},{"$f":"+'Deducible 151'!AD213","v":822058.06361971505},{"$f":"+'Deducible 185'!AD213","v":850405.11346473207},null,190,{"$f":"+'No Deducible 93'!Y213","v":760514.47988441167},{"$f":"+'Deducible 151'!Y213","v":740131.16198178392},{"$f":"+'Deducible 185'!Y213","v":760514.47988441167}]
[15.916666666666666,{"$f":"'OptiMaxx plus'!$T$7+A195","v":59.916666666666664},191,{"$f":"+'No Deducible 93'!AD214","v":860460.14030763891},{"$f":"+'Deducible 151'!AD214","v":831749.91071045282},{"$f":"+'Deducible 185'!AD214","v":860501.52709428954},null,191,{"$f":"+'No Deducible 93'!Y214","v":769889.14082903555},{"$f":"+'Deducible 151'!Y214","v":749179.14890709869},{"$f":"+'Deducible 185'!Y214","v":769889.14082903555}]
[16,{"$f":"'OptiMaxx plus'!$T$7+A196","v":60},192,{"$f":"+'No Deducible 93'!AD215","v":869819.05578765483},{"$f":"+'Deducible 151'!AD215","v":840679.04245914961},{"$f":"+'Deducible 185'!AD215","v":869861.07846696838},null,192,{"$f":"+'No Deducible 93'!Y215","v":779343.2923750336},{"$f":"+'Deducible 151'!Y215","v":758302.39505079889},{"$f":"+'Deducible 185'!Y215","v":779343.2923750336}]
[16.083333333333332,{"$f":"'OptiMaxx plus'!$T$7+A197","v":60.083333333333329},193,{"$f":"+'No Deducible 93'!AD216","v":880225.87348724878},{"$f":"+'Deducible 151'!AD216","v":850669.86152684153},{"$f":"+'Deducible 185'!AD216","v":880268.25248964108},null,193,{"$f":"+'No Deducible 93'!Y216","v":789023.53011731734},{"$f":"+'Deducible 151'!Y216","v":767645.73777364776},{"$f":"+'Deducible 185'!Y216","v":789023.53011731734}]
[{"$f":"+C198/12","v":16.166666666666668},{"$f":"'OptiMaxx plus'!$T$7+A198","v":60.166666666666671},194,{"$f":"+'No Deducible 93'!AD217","v":890720.68208689545},{"$f":"+'Deducible 151'!AD217","v":860743.54825163598},{"$f":"+'Deducible 185'!AD217","v":890763.42043373815},null,194,{"$f":"+'No Deducible 93'!Y217","v":798785.84953958122},{"$f":"+'Deducible 151'!Y217","v":777066.7964211806},{"$f":"+'Deducible 185'!Y217","v":798785.84953958122}]
[16.25,{"$f":"'OptiMaxx plus'!$T$7+A199","v":60.25},{"$f":"+C198+1","v":195},{"$f":"+'No Deducible 93'!AD218","v":900469.33171797672},{"$f":"+'Deducible 151'!AD218","v":870046.29995820893},{"$f":"+'Deducible 185'!AD218","v":900512.71599375154},null,{"$f":"+H198+1","v":195},{"$f":"+'No Deducible 93'!Y218","v":808630.94663735444},{"$f":"+'Deducible 151'!Y218","v":786566.21741782257},{"$f":"+'Deducible 185'!Y218","v":808630.94663735444}]
[16.333333333333332,{"$f":"'OptiMaxx plus'!$T$7+A200","v":60.333333333333329},196,{"$f":"+'No Deducible 93'!AD219","v":911135.65525516367},{"$f":"+'Deducible 151'!AD219","v":880281.02985091379},{"$f":"+'Deducible 185'!AD219","v":911179.4073994077},null,196,{"$f":"+'No Deducible 93'!Y219","v":818559.52330772369},{"$f":"+'Deducible 151'!Y219","v":796144.65256481897},{"$f":"+'Deducible 185'!Y219","v":818559.52330772369}]
[16.416666666666668,{"$f":"'OptiMaxx plus'!$T$7+A201","v":60.416666666666671},197,{"$f":"+'No Deducible 93'!AD220","v":921892.16772080306},{"$f":"+'Deducible 151'!AD220","v":890600.65396834398},{"$f":"+'Deducible 185'!AD220","v":921936.29085278511},null,197,{"$f":"+'No Deducible 93'!Y220","v":828572.28739937476},{"$f":"+'Deducible 151'!Y220","v":805802.75908495823},{"$f":"+'Deducible 185'!Y220","v":828572.28739937476}]
[16.5,{"$f":"'OptiMaxx plus'!$T$7+A202","v":60.5},198,{"$f":"+'No Deducible 93'!AD221","v":931892.15768873459},{"$f":"+'Deducible 151'!AD221","v":900139.83582661708},{"$f":"+'Deducible 185'!AD221","v":931936.93694406305},null,198,{"$f":"+'No Deducible 93'!Y221","v":838669.95276305743},{"$f":"+'Deducible 151'!Y221","v":815541.19966766739},{"$f":"+'Deducible 185'!Y221","v":838669.95276305743}]
[16.583333333333332,{"$f":"'OptiMaxx plus'!$T$7+A203","v":60.583333333333329},199,{"$f":"+'No Deducible 93'!AD222","v":942824.53405729402},{"$f":"+'Deducible 151'!AD222","v":910624.51414107089},{"$f":"+'Deducible 185'!AD222","v":942869.69300954766},null,199,{"$f":"+'No Deducible 93'!Y222","v":848853.23930247943},{"$f":"+'Deducible 151'!Y222","v":825360.64251448202},{"$f":"+'Deducible 185'!Y222","v":848853.23930247943}]
[16.666666666666668,{"$f":"'OptiMaxx plus'!$T$7+A204","v":60.666666666666671},200,{"$f":"+'No Deducible 93'!AD223","v":953849.35287376004},{"$f":"+'Deducible 151'!AD223","v":921196.16344603524},{"$f":"+'Deducible 185'!AD223","v":953894.89474250446},null,200,{"$f":"+'No Deducible 93'!Y223","v":859122.87302563072},{"$f":"+'Deducible 151'!Y223","v":835261.7613848953},{"$f":"+'Deducible 185'!Y223","v":859122.87302563072}]
[16.75,{"$f":"'OptiMaxx plus'!$T$7+A205","v":60.75},201,{"$f":"+'No Deducible 93'!AD224","v":964107.14585222339},{"$f":"+'Deducible 151'!AD224","v":930977.75452913193},{"$f":"+'Deducible 185'!AD224","v":964153.35419936106},null,201,{"$f":"+'No Deducible 93'!Y224","v":869479.58609654394},{"$f":"+'Deducible 151'!Y224","v":845245.23564258742},{"$f":"+'Deducible 185'!Y224","v":869479.58609654394}]
[16.833333333333332,{"$f":"'OptiMaxx plus'!$T$7+A206","v":60.833333333333329},202,{"$f":"+'No Deducible 93'!AD225","v":975312.28830811416},{"$f":"+'Deducible 151'!AD225","v":941718.56941840413},{"$f":"+'Deducible 185'!AD225","v":975358.88846988115},null,202,{"$f":"+'No Deducible 93'!Y225","v":879924.11688749329},{"$f":"+'Deducible 151'!Y225","v":855311.75030204048},{"$f":"+'Deducible 185'!Y225","v":879924.11688749329}]
[16.916666666666668,{"$f":"'OptiMaxx plus'!$T$7+A207","v":60.916666666666671},203,{"$f":"+'No Deducible 93'!AD226","v":986612.18363198906},{"$f":"+'Deducible 151'!AD226","v":952548.48351422767},{"$f":"+'Deducible 185'!AD226","v":986659.17893070076},null,203,{"$f":"+'No Deducible 93'!Y226","v":890457.21003163583},{"$f":"+'Deducible 151'!Y226","v":865461.99607554008},{"$f":"+'Deducible 185'!Y226","v":890457.21003163583}]
[17,{"$f":"'OptiMaxx plus'!$T$7+A208","v":61},204,{"$f":"+'No Deducible 93'!AD227","v":997134.40827675269},{"$f":"+'Deducible 151'!AD227","v":962578.61373554671},{"$f":"+'Deducible 185'!AD227","v":997182.0805720638},null,204,{"$f":"+'No Deducible 93'!Y227","v":901079.61647609994},{"$f":"+'Deducible 151'!Y227","v":875696.66942056909},{"$f":"+'Deducible 185'!Y227","v":901079.61647609994}]
[17.083333333333332,{"$f":"'OptiMaxx plus'!$T$7+A209","v":61.083333333333329},205,{"$f":"+'No Deducible 93'!AD228","v":1008772.3992845187},{"$f":"+'Deducible 151'!AD228","v":973733.31089898478},{"$f":"+'Deducible 185'!AD228","v":1008820.4758077208},null,205,{"$f":"+'No Deducible 93'!Y228","v":911945.29224332492},{"$f":"+'Deducible 151'!Y228","v":886167.87580818834},{"$f":"+'Deducible 185'!Y228","v":911945.29224332492}]
[17.166666666666668,{"$f":"'OptiMaxx plus'!$T$7+A210","v":61.166666666666671},206,{"$f":"+'No Deducible 93'!AD229","v":1020508.8109449159},{"$f":"+'Deducible 151'!AD229","v":984980.54755829251},{"$f":"+'Deducible 185'!AD229","v":1020557.2951235804},null,206,{"$f":"+'No Deducible 93'!Y229","v":922903.10138008487},{"$f":"+'Deducible 151'!Y229","v":896726.17944901867},{"$f":"+'Deducible 185'!Y229","v":922903.10138008487}]
[17.25,{"$f":"'OptiMaxx plus'!$T$7+A211","v":61.25},207,{"$f":"+'No Deducible 93'!AD230","v":1031458.0739139775},{"$f":"+'Deducible 151'!AD230","v":995419.43384693423},{"$f":"+'Deducible 185'!AD230","v":1031507.2457731729},null,207,{"$f":"+'No Deducible 93'!Y230","v":933953.82511324156},{"$f":"+'Deducible 151'!Y230","v":907372.30479936791},{"$f":"+'Deducible 185'!Y230","v":933953.82511324156}]
[17.333333333333332,{"$f":"'OptiMaxx plus'!$T$7+A212","v":61.333333333333329},208,{"$f":"+'No Deducible 93'!AD231","v":1043386.703563284},{"$f":"+'Deducible 151'!AD231","v":1006846.920262925},{"$f":"+'Deducible 185'!AD231","v":1043436.2923656289},null,208,{"$f":"+'No Deducible 93'!Y231","v":945098.25129391695},{"$f":"+'Deducible 151'!Y231","v":918106.98234141606},{"$f":"+'Deducible 185'!Y231","v":945098.25129391695}]
[17.416666666666668,{"$f":"'OptiMaxx plus'!$T$7+A213","v":61.416666666666671},209,{"$f":"+'No Deducible 93'!AD232","v":1055416.2157852282},{"$f":"+'Deducible 151'!AD232","v":1018369.2128606639},{"$f":"+'Deducible 185'!AD232","v":1055466.2250661103},null,209,{"$f":"+'No Deducible 93'!Y232","v":956337.17445366248},{"$f":"+'Deducible 151'!Y232","v":928930.94863333786},{"$f":"+'Deducible 185'!Y232","v":956337.17445366248}]
[17.5,{"$f":"'OptiMaxx plus'!$T$7+A214","v":61.5},210,{"$f":"+'No Deducible 93'!AD233","v":1066647.6799567083},{"$f":"+'Deducible 151'!AD233","v":1029073.2391017901},{"$f":"+'Deducible 185'!AD233","v":1066698.387770385},null,210,{"$f":"+'No Deducible 93'!Y233","v":967671.39586110413},{"$f":"+'Deducible 151'!Y233","v":939844.94635984115},{"$f":"+'Deducible 185'!Y233","v":967671.39586110413}]
[17.583333333333332,{"$f":"'OptiMaxx plus'!$T$7+A215","v":61.583333333333329},211,{"$f":"+'No Deducible 93'!AD234","v":1078874.2869837163},{"$f":"+'Deducible 151'!AD234","v":1040780.273442657},{"$f":"+'Deducible 185'!AD234","v":1078925.4247643678},null,211,{"$f":"+'No Deducible 93'!Y234","v":979101.7235790682},{"$f":"+'Deducible 151'!Y234","v":950849.72438312625},{"$f":"+'Deducible 185'!Y234","v":979101.7235790682}]
[17.666666666666668,{"$f":"'OptiMaxx plus'!$T$7+A216","v":61.666666666666671},212,{"$f":"+'No Deducible 93'!AD235","v":1091204.3007069617},{"$f":"+'Deducible 151'!AD235","v":1052584.4368462421},{"$f":"+'Deducible 185'!AD235","v":1091255.8721004082},null,212,{"$f":"+'No Deducible 93'!Y235","v":990628.97252219159},{"$f":"+'Deducible 151'!Y235","v":961946.03779426869},{"$f":"+'Deducible 185'!Y235","v":990628.97252219159}]
[17.75,{"$f":"'OptiMaxx plus'!$T$7+A217","v":61.75},213,{"$f":"+'No Deducible 93'!AD236","v":1102725.2212303672},{"$f":"+'Deducible 151'!AD236","v":1063560.3061185379},{"$f":"+'Deducible 185'!AD236","v":1102777.5021798518},null,213,{"$f":"+'No Deducible 93'!Y236","v":1002253.9645150203},{"$f":"+'Deducible 151'!Y236","v":973134.64796503016},{"$f":"+'Deducible 185'!Y236","v":1002253.9645150203}]
[17.833333333333332,{"$f":"'OptiMaxx plus'!$T$7+A218","v":61.833333333333329},214,{"$f":"+'No Deducible 93'!AD237","v":1115257.3308354642},{"$f":"+'Deducible 151'!AD237","v":1075553.81567918},{"$f":"+'Deducible 185'!AD237","v":1115310.0550910202},null,214,{"$f":"+'No Deducible 93'!Y237","v":1013977.5283506003},{"$f":"+'Deducible 151'!Y237","v":984416.32260009972},{"$f":"+'Deducible 185'!Y237","v":1013977.5283506003}]
[17.916666666666668,{"$f":"'OptiMaxx plus'!$T$7+A219","v":61.916666666666671},215,{"$f":"+'No Deducible 93'!AD238","v":1127895.4350448507},{"$f":"+'Deducible 151'!AD238","v":1087646.8347809587},{"$f":"+'Deducible 185'!AD238","v":1127948.6063654053},null,215,{"$f":"+'No Deducible 93'!Y238","v":1025800.4998495663},{"$f":"+'Deducible 151'!Y238","v":995791.83578976966},{"$f":"+'Deducible 185'!Y238","v":1025800.4998495663}]
[18,{"$f":"'OptiMaxx plus'!$T$7+A220","v":62},216,{"$f":"+'No Deducible 93'!AD239","v":1139713.2533925583},{"$f":"+'Deducible 151'!AD239","v":1098901.4192424612},{"$f":"+'Deducible 185'!AD239","v":1139767.1454660625},null,216,{"$f":"+'No Deducible 93'!Y239","v":1037723.72191973},{"$f":"+'Deducible 151'!Y239","v":1007261.9680630495},{"$f":"+'Deducible 185'!Y239","v":1037723.72191973}]
[18.083333333333332,{"$f":"'OptiMaxx plus'!$T$7+A221","v":62.083333333333329},217,{"$f":"+'No Deducible 93'!AD240","v":1152719.4207534757},{"$f":"+'Deducible 151'!AD240","v":1111347.4578926791},{"$f":"+'Deducible 185'!AD240","v":1152773.769794262},null,217,{"$f":"+'No Deducible 93'!Y240","v":1049908.8833741753},{"$f":"+'Deducible 151'!Y240","v":1018986.4601707078},{"$f":"+'Deducible 185'!Y240","v":1049908.8833741753}]
[18.166666666666668,{"$f":"'OptiMaxx plus'!$T$7+A222","v":62.166666666666671},218,{"$f":"+'No Deducible 93'!AD241","v":1165835.5998331122},{"$f":"+'Deducible 151'!AD241","v":1123896.7677404738},{"$f":"+'Deducible 185'!AD241","v":1165890.4097159451},null,218,{"$f":"+'No Deducible 93'!Y241","v":1062197.3665186076},{"$f":"+'Deducible 151'!Y241","v":1030808.4740939116},{"$f":"+'Deducible 185'!Y241","v":1062197.3665186076}]
[18.25,{"$f":"'OptiMaxx plus'!$T$7+A223","v":62.25},219,{"$f":"+'No Deducible 93'!AD242","v":1178121.5265066135},{"$f":"+'Deducible 151'!AD242","v":1135598.7219015365},{"$f":"+'Deducible 185'!AD242","v":1178177.0685157077},null,219,{"$f":"+'No Deducible 93'!Y242","v":1074590.0474490609},{"$f":"+'Deducible 151'!Y242","v":1042728.8209982465},{"$f":"+'Deducible 185'!Y242","v":1074590.0474490609}]
[18.333333333333332,{"$f":"'OptiMaxx plus'!$T$7+A224","v":62.333333333333329},220,{"$f":"+'No Deducible 93'!AD243","v":1191452.9515736159},{"$f":"+'Deducible 151'!AD243","v":1148349.6127390559},{"$f":"+'Deducible 185'!AD243","v":1191508.9645402979},null,220,{"$f":"+'No Deducible 93'!Y243","v":1087087.8096902543},{"$f":"+'Deducible 151'!Y243","v":1054748.3187964002},{"$f":"+'Deducible 185'!Y243","v":1087087.8096902543}]
[18.416666666666668,{"$f":"'OptiMaxx plus'!$T$7+A225","v":62.416666666666671},221,{"$f":"+'No Deducible 93'!AD244","v":1204897.1437284201},{"$f":"+'Deducible 151'!AD244","v":1161206.3080629949},{"$f":"+'Deducible 185'!AD244","v":1204953.6316460825},null,221,{"$f":"+'No Deducible 93'!Y244","v":1099691.5442585805},{"$f":"+'Deducible 151'!Y244","v":1066867.7922042825},{"$f":"+'Deducible 185'!Y244","v":1099691.5442585805}]
[18.5,{"$f":"'OptiMaxx plus'!$T$7+A226","v":62.5},222,{"$f":"+'No Deducible 93'!AD245","v":1217499.6258566936},{"$f":"+'Deducible 151'!AD245","v":1173205.3124381572},{"$f":"+'Deducible 185'!AD245","v":1217556.8574531029},null,222,{"$f":"+'No Deducible 93'!Y245","v":1112402.1497256325},{"$f":"+'Deducible 151'!Y245","v":1079088.0727976137},{"$f":"+'Deducible 185'!Y245","v":1112402.1497256325}]
[18.583333333333332,{"$f":"'OptiMaxx plus'!$T$7+A227","v":62.583333333333329},223,{"$f":"+'No Deducible 93'!AD246","v":1231164.5280970363},{"$f":"+'Deducible 151'!AD246","v":1186268.6150228896},{"$f":"+'Deducible 185'!AD246","v":1231222.2449775583},null,223,{"$f":"+'No Deducible 93'!Y246","v":1125220.532282264},{"$f":"+'Deducible 151'!Y246","v":1091409.9990689831},{"$f":"+'Deducible 185'!Y246","v":1125220.532282264}]
[18.666666666666668,{"$f":"'OptiMaxx plus'!$T$7+A228","v":62.666666666666671},224,{"$f":"+'No Deducible 93'!AD247","v":1244945.0224649219},{"$f":"+'Deducible 151'!AD247","v":1199440.3182387326},{"$f":"+'Deducible 185'!AD247","v":1245003.2287444277},null,224,{"$f":"+'No Deducible 93'!Y247","v":1138147.605803197},{"$f":"+'Deducible 151'!Y247","v":1103834.416485382},{"$f":"+'Deducible 185'!Y247","v":1138147.605803197}]
[18.75,{"$f":"'OptiMaxx plus'!$T$7+A229","v":62.75},225,{"$f":"+'No Deducible 93'!AD248","v":1257872.1973360614},{"$f":"+'Deducible 151'!AD248","v":1211743.8805305199},{"$f":"+'Deducible 185'!AD248","v":1257931.1590287914},null,225,{"$f":"+'No Deducible 93'!Y248","v":1151184.2919121755},{"$f":"+'Deducible 151'!Y248","v":1116362.1775462148},{"$f":"+'Deducible 185'!Y248","v":1151184.2919121755}]
[18.833333333333332,{"$f":"'OptiMaxx plus'!$T$7+A230","v":62.833333333333329},226,{"$f":"+'No Deducible 93'!AD249","v":1271879.00515902},{"$f":"+'Deducible 151'!AD249","v":1225127.3431149526},{"$f":"+'Deducible 185'!AD249","v":1271938.4668058753},null,226,{"$f":"+'No Deducible 93'!Y249","v":1164331.5200476712},{"$f":"+'Deducible 151'!Y249","v":1128994.1418417937},{"$f":"+'Deducible 185'!Y249","v":1164331.5200476712}]
[18.916666666666668,{"$f":"'OptiMaxx plus'!$T$7+A231","v":62.916666666666671},227,{"$f":"+'No Deducible 93'!AD250","v":1286004.3015913691},{"$f":"+'Deducible 151'!AD250","v":1238621.8669003204},{"$f":"+'Deducible 185'!AD250","v":1286064.2674316128},null,227,{"$f":"+'No Deducible 93'!Y250","v":1177590.2275291474},{"$f":"+'Deducible 151'!Y250","v":1141731.1761123186},{"$f":"+'Deducible 185'!Y250","v":1177590.2275291474}]
[19,{"$f":"'OptiMaxx plus'!$T$7+A232","v":63},228,{"$f":"+'No Deducible 93'!AD251","v":1299264.5154579668},{"$f":"+'Deducible 151'!AD251","v":1251237.684159406},{"$f":"+'Deducible 185'!AD251","v":1299325.2486307654},null,228,{"$f":"+'No Deducible 93'!Y251","v":1190961.3596238843},{"$f":"+'Deducible 151'!Y251","v":1154574.1543073501},{"$f":"+'Deducible 185'!Y251","v":1190961.3596238843}]
[19.083333333333332,{"$f":"'OptiMaxx plus'!$T$7+A233","v":63.083333333333329},229,{"$f":"+'No Deducible 93'!AD252","v":1313790.731363765},{"$f":"+'Deducible 151'!AD252","v":1265116.1291990492},{"$f":"+'Deducible 185'!AD252","v":1313851.9795116072},null,229,{"$f":"+'No Deducible 93'!Y252","v":1204614.7294334003},{"$f":"+'Deducible 151'!Y252","v":1167690.8384295385},{"$f":"+'Deducible 185'!Y252","v":1204614.7294334003}]
[19.166666666666668,{"$f":"'OptiMaxx plus'!$T$7+A234","v":63.166666666666671},230,{"$f":"+'No Deducible 93'!AD253","v":1328439.8374333095},{"$f":"+'Deducible 151'!AD253","v":1279109.7501218216},{"$f":"+'Deducible 185'!AD253","v":1328501.6049228255},null,230,{"$f":"+'No Deducible 93'!Y253","v":1218383.8703180896},{"$f":"+'Deducible 151'!Y253","v":1180916.6243224295},{"$f":"+'Deducible 185'!Y253","v":1218383.8703180896}]
[19.25,{"$f":"'OptiMaxx plus'!$T$7+A235","v":63.25},231,{"$f":"+'No Deducible 93'!AD254","v":1342213.3864634798},{"$f":"+'Deducible 151'!AD254","v":1292215.3820041057},{"$f":"+'Deducible 185'!AD254","v":1342275.9333926414},null,231,{"$f":"+'No Deducible 93'!Y254","v":1232269.7639361094},{"$f":"+'Deducible 151'!Y254","v":1194252.4194711971},{"$f":"+'Deducible 185'!Y254","v":1232269.7639361094}]
[19.333333333333332,{"$f":"'OptiMaxx plus'!$T$7+A236","v":63.333333333333329},232,{"$f":"+'No Deducible 93'!AD255","v":1357103.3450189324},{"$f":"+'Deducible 151'!AD255","v":1306434.2676206783},{"$f":"+'Deducible 185'!AD255","v":1357166.4223025297},null,232,{"$f":"+'No Deducible 93'!Y255","v":1246273.400269395},{"$f":"+'Deducible 151'!Y255","v":1207699.1389092819},{"$f":"+'Deducible 185'!Y255","v":1246273.400269395}]
[19.416666666666668,{"$f":"'OptiMaxx plus'!$T$7+A237","v":63.416666666666671},233,{"$f":"+'No Deducible 93'!AD256","v":1372119.2753325182},{"$f":"+'Deducible 151'!AD256","v":1320771.1583326964},{"$f":"+'Deducible 185'!AD256","v":1372182.8874675874},null,233,{"$f":"+'No Deducible 93'!Y256","v":1260395.7776942393},{"$f":"+'Deducible 151'!Y256","v":1221257.7052811778},{"$f":"+'Deducible 185'!Y256","v":1260395.7776942393}]
[19.5,{"$f":"'OptiMaxx plus'!$T$7+A238","v":63.5},234,{"$f":"+'No Deducible 93'!AD257","v":1386247.6100913801},{"$f":"+'Deducible 151'!AD257","v":1334209.2956413056},{"$f":"+'Deducible 185'!AD257","v":1386312.0139638986},null,234,{"$f":"+'No Deducible 93'!Y257","v":1274637.9030524723},{"$f":"+'Deducible 151'!Y257","v":1234929.0489057375},{"$f":"+'Deducible 185'!Y257","v":1274637.9030524723}]
[19.583333333333332,{"$f":"'OptiMaxx plus'!$T$7+A239","v":63.583333333333329},235,{"$f":"+'No Deducible 93'!AD258","v":1401510.5101929035},{"$f":"+'Deducible 151'!AD258","v":1348777.0706549492},{"$f":"+'Deducible 185'!AD258","v":1401575.460165445},null,235,{"$f":"+'No Deducible 93'!Y258","v":1289000.7917232411},{"$f":"+'Deducible 151'!Y258","v":1248714.1078400072},{"$f":"+'Deducible 185'!Y258","v":1289000.7917232411}]
[19.666666666666668,{"$f":"'OptiMaxx plus'!$T$7+A240","v":63.666666666666671},236,{"$f":"+'No Deducible 93'!AD259","v":1416902.5416215274},{"$f":"+'Deducible 151'!AD259","v":1363465.7502279906},{"$f":"+'Deducible 185'!AD259","v":1416968.0423246401},null,236,{"$f":"+'No Deducible 93'!Y259","v":1303485.467695402},{"$f":"+'Deducible 151'!Y259","v":1262613.8279435905},{"$f":"+'Deducible 185'!Y259","v":1303485.467695402}]
[19.75,{"$f":"'OptiMaxx plus'!$T$7+A241","v":63.75},237,{"$f":"+'No Deducible 93'!AD260","v":1431394.7810172497},{"$f":"+'Deducible 151'!AD260","v":1377244.7945805253},{"$f":"+'Deducible 185'!AD260","v":1431461.0859493269},null,237,{"$f":"+'No Deducible 93'!Y260","v":1318092.9636405241},{"$f":"+'Deducible 151'!Y260","v":1276629.1629435488},{"$f":"+'Deducible 185'!Y260","v":1318092.9636405241}]
[19.833333333333332,{"$f":"'OptiMaxx plus'!$T$7+A242","v":63.833333333333329},238,{"$f":"+'No Deducible 93'!AD261","v":1447040.0555054322},{"$f":"+'Deducible 151'!AD261","v":1392170.1187928536},{"$f":"+'Deducible 185'!AD261","v":1447106.9226571948},null,238,{"$f":"+'No Deducible 93'!Y261","v":1332824.3209865128},{"$f":"+'Deducible 151'!Y261","v":1290761.0744998406},{"$f":"+'Deducible 185'!Y261","v":1332824.3209865128}]
[19.916666666666668,{"$f":"'OptiMaxx plus'!$T$7+A243","v":63.916666666666671},239,{"$f":"+'No Deducible 93'!AD262","v":1462817.7008477026},{"$f":"+'Deducible 151'!AD262","v":1407219.3190348393},{"$f":"+'Deducible 185'!AD262","v":1462885.1349863817},null,239,{"$f":"+'No Deducible 93'!Y262","v":1347680.5899918575},{"$f":"+'Deducible 151'!Y262","v":1305010.532271307},{"$f":"+'Deducible 185'!Y262","v":1347680.5899918575}]
[20,{"$f":"'OptiMaxx plus'!$T$7+A244","v":64},240,{"$f":"+'No Deducible 93'!AD263","v":1477683.1979473566},{"$f":"+'Deducible 151'!AD263","v":1421347.8839138579},{"$f":"+'Deducible 185'!AD263","v":1477751.4490032727},null,240,{"$f":"+'No Deducible 93'!Y263","v":1362662.8298205086},{"$f":"+'Deducible 151'!Y263","v":1319378.5139822031},{"$f":"+'Deducible 185'!Y263","v":1362662.8298205086}]
[20.083333333333332,{"$f":"'OptiMaxx plus'!$T$7+A245","v":64.083333333333329},241,{"$f":"+'No Deducible 93'!AD264","v":1493897.8004682483},{"$f":"+'Deducible 151'!AD264","v":1436814.8365560751},{"$f":"+'Deducible 185'!AD264","v":1493966.6302456257},null,241,{"$f":"+'No Deducible 93'!Y264","v":1377949.3895093661},{"$f":"+'Deducible 151'!Y264","v":1334041.2086511138},{"$f":"+'Deducible 185'!Y264","v":1377949.3895093661}]
[20.166666666666668,{"$f":"'OptiMaxx plus'!$T$7+A246","v":64.166666666666671},242,{"$f":"+'No Deducible 93'!AD265","v":1510249.5985808889},{"$f":"+'Deducible 151'!AD265","v":1452410.1678055518},{"$f":"+'Deducible 185'!AD265","v":1510319.0119868827},null,242,{"$f":"+'No Deducible 93'!Y265","v":1393365.568587105},{"$f":"+'Deducible 151'!Y265","v":1348825.8644755075},{"$f":"+'Deducible 185'!Y265","v":1393365.568587105}]
[20.25,{"$f":"'OptiMaxx plus'!$T$7+A247","v":64.25},243,{"$f":"+'No Deducible 93'!AD266","v":1525678.2466960745},{"$f":"+'Deducible 151'!AD266","v":1467075.2137839166},{"$f":"+'Deducible 185'!AD266","v":1525748.4899074282},null,243,{"$f":"+'No Deducible 93'!Y266","v":1408912.4661359461},{"$f":"+'Deducible 151'!Y266","v":1363733.4959021679},{"$f":"+'Deducible 185'!Y266","v":1408912.4661359461}]
[20.333333333333332,{"$f":"'OptiMaxx plus'!$T$7+A248","v":64.333333333333329},244,{"$f":"+'No Deducible 93'!AD267","v":1542299.3631498194},{"$f":"+'Deducible 151'!AD267","v":1482922.0978229167},{"$f":"+'Deducible 185'!AD267","v":1542370.2019747263},null,244,{"$f":"+'No Deducible 93'!Y267","v":1424591.1905575627},{"$f":"+'Deducible 151'!Y267","v":1378765.1258158297},{"$f":"+'Deducible 185'!Y267","v":1424591.1905575627}]
[20.416666666666668,{"$f":"'OptiMaxx plus'!$T$7+A249","v":64.416666666666671},245,{"$f":"+'No Deducible 93'!AD268","v":1559061.1193563025},{"$f":"+'Deducible 151'!AD268","v":1498900.5180609406},{"$f":"+'Deducible 185'!AD268","v":1559132.5588451508},null,245,{"$f":"+'No Deducible 93'!Y268","v":1440402.8596521036},{"$f":"+'Deducible 151'!Y268","v":1393921.7856093643},{"$f":"+'Deducible 185'!Y268","v":1440402.8596521036}]
[20.5,{"$f":"'OptiMaxx plus'!$T$7+A250","v":64.5},246,{"$f":"+'No Deducible 93'!AD269","v":1574887.0834387129},{"$f":"+'Deducible 151'!AD269","v":1513937.4506223421},{"$f":"+'Deducible 185'!AD269","v":1574959.3658240377},null,246,{"$f":"+'No Deducible 93'!Y269","v":1456348.6006978841},{"$f":"+'Deducible 151'!Y269","v":1409204.5152545476},{"$f":"+'Deducible 185'!Y269","v":1456348.6006978841}]
[20.583333333333332,{"$f":"'OptiMaxx plus'!$T$7+A251","v":64.583333333333329},247,{"$f":"+'No Deducible 93'!AD270","v":1591925.0016041321},{"$f":"+'Deducible 151'!AD270","v":1530173.7019772378},{"$f":"+'Deducible 185'!AD270","v":1591997.8968937863},null,247,{"$f":"+'No Deducible 93'!Y270","v":1472429.5505317557},{"$f":"+'Deducible 151'!Y270","v":1424614.3633734188},{"$f":"+'Deducible 185'!Y270","v":1472429.5505317557}]
[20.666666666666668,{"$f":"'OptiMaxx plus'!$T$7+A252","v":64.666666666666671},248,{"$f":"+'No Deducible 93'!AD271","v":1609107.0908898311},{"$f":"+'Deducible 151'!AD271","v":1546544.7255841128},{"$f":"+'Deducible 185'!AD271","v":1609180.6042808166},null,248,{"$f":"+'No Deducible 93'!Y271","v":1488646.8556301552},{"$f":"+'Deducible 151'!Y271","v":1440152.3873102302},{"$f":"+'Deducible 185'!Y271","v":1488646.8556301552}]
[20.75,{"$f":"'OptiMaxx plus'!$T$7+A253","v":64.75},249,{"$f":"+'No Deducible 93'!AD272","v":1625340.581827811},{"$f":"+'Deducible 151'!AD272","v":1561962.939144202},{"$f":"+'Deducible 185'!AD272","v":1625414.9514125739},null,249,{"$f":"+'No Deducible 93'!Y272","v":1505001.672190842},{"$f":"+'Deducible 151'!Y272","v":1455819.6532039975},{"$f":"+'Deducible 185'!Y272","v":1505001.672190842}]
[20.833333333333332,{"$f":"'OptiMaxx plus'!$T$7+A254","v":64.833333333333329},250,{"$f":"+'No Deducible 93'!AD273","v":1642805.8512298125},{"$f":"+'Deducible 151'!AD273","v":1578598.2294612818},{"$f":"+'Deducible 185'!AD273","v":1642880.8514169035},null,250,{"$f":"+'No Deducible 93'!Y273","v":1521495.1662153276},{"$f":"+'Deducible 151'!Y273","v":1471617.2360616524},{"$f":"+'Deducible 185'!Y273","v":1521495.1662153276}]
[20.916666666666668,{"$f":"'OptiMaxx plus'!$T$7+A255","v":64.916666666666671},251,{"$f":"+'No Deducible 93'!AD274","v":1660418.912545359},{"$f":"+'Deducible 151'!AD274","v":1595371.6085049794},{"$f":"+'Deducible 185'!AD274","v":1660494.5486818471},null,251,{"$f":"+'No Deducible 93'!Y274","v":1538128.5135920052},{"$f":"+'Deducible 151'!Y274","v":1487546.219831804},{"$f":"+'Deducible 185'!Y274","v":1538128.5135920052}]
[21,{"$f":"'OptiMaxx plus'!$T$7+A256","v":65},252,{"$f":"+'No Deducible 93'!AD275","v":1677070.4034124606},{"$f":"+'Deducible 151'!AD275","v":1611180.7343506103},{"$f":"+'Deducible 185'!AD275","v":1677146.9092494531},null,252,{"$f":"+'No Deducible 93'!Y275","v":1554902.9001799836},{"$f":"+'Deducible 151'!Y275","v":1503607.6974791144},{"$f":"+'Deducible 185'!Y275","v":1554902.9001799836}]
[21.083333333333332,{"$f":"'OptiMaxx plus'!$T$7+A257","v":65.083333333333329},253,{"$f":"+'No Deducible 93'!AD276","v":1695159.9639279791},{"$f":"+'Deducible 151'!AD276","v":1628408.9174895308},{"$f":"+'Deducible 185'!AD276","v":1695237.1184812321},null,253,{"$f":"+'No Deducible 93'!Y276","v":1572005.6438191463},{"$f":"+'Deducible 151'!Y276","v":1519986.7116378406},{"$f":"+'Deducible 185'!Y276","v":1572005.6438191463}]
[21.166666666666668,{"$f":"'OptiMaxx plus'!$T$7+A258","v":65.166666666666671},254,{"$f":"+'No Deducible 93'!AD277","v":1713402.6070362579},{"$f":"+'Deducible 151'!AD277","v":1645780.1182393772},{"$f":"+'Deducible 185'!AD277","v":1713480.4158064337},null,254,{"$f":"+'No Deducible 93'!Y277","v":1589253.4068232821},{"$f":"+'Deducible 151'!Y277","v":1536501.962930162},{"$f":"+'Deducible 185'!Y277","v":1589253.4068232821}]
[21.25,{"$f":"'OptiMaxx plus'!$T$7+A259","v":65.25},255,{"$f":"+'No Deducible 93'!AD278","v":1730672.131496863},{"$f":"+'Deducible 151'!AD278","v":1662177.0437566538},{"$f":"+'Deducible 185'!AD278","v":1730750.8236869886},null,255,{"$f":"+'No Deducible 93'!Y278","v":1606647.418855693},{"$f":"+'Deducible 151'!Y278","v":1553154.5845473919},{"$f":"+'Deducible 185'!Y278","v":1606647.418855693}]
[21.333333333333332,{"$f":"'OptiMaxx plus'!$T$7+A260","v":65.333333333333329},256,{"$f":"+'No Deducible 93'!AD279","v":1749215.7292419905},{"$f":"+'Deducible 151'!AD279","v":1679828.9683297703},{"$f":"+'Deducible 185'!AD279","v":1749295.0886871298},null,256,{"$f":"+'No Deducible 93'!Y279","v":1624188.9200063702},{"$f":"+'Deducible 151'!Y279","v":1569945.719106487},{"$f":"+'Deducible 185'!Y279","v":1624188.9200063702}]
[21.416666666666668,{"$f":"'OptiMaxx plus'!$T$7+A261","v":65.416666666666671},257,{"$f":"+'No Deducible 93'!AD280","v":1767916.2565972088},{"$f":"+'Deducible 151'!AD280","v":1697627.4324076076},{"$f":"+'Deducible 185'!AD280","v":1767996.28895522},null,257,{"$f":"+'No Deducible 93'!Y280","v":1641879.1608804052},{"$f":"+'Deducible 151'!Y280","v":1586876.5187284464},{"$f":"+'Deducible 185'!Y280","v":1641879.1608804052}]
[{"$f":"+C262/12","v":21.5},{"$f":"'OptiMaxx plus'!$T$7+A262","v":65.5},258,{"$f":"+'No Deducible 93'!AD281","v":1785630.3969097417},{"$f":"+'Deducible 151'!AD281","v":1714439.9729472692},{"$f":"+'Deducible 185'!AD281","v":1785711.3266232107},null,258,{"$f":"+'No Deducible 93'!Y281","v":1659719.4026871501},{"$f":"+'Deducible 151'!Y281","v":1603948.1451173662},{"$f":"+'Deducible 185'!Y281","v":1659719.4026871501}]
[21.583333333333332,{"$f":"'OptiMaxx plus'!$T$7+A263","v":65.583333333333329},{"$f":"+C262+1","v":259},{"$f":"+'No Deducible 93'!AD282","v":1804639.5299119509},{"$f":"+'Deducible 151'!AD282","v":1732526.1702781222},{"$f":"+'Deducible 185'!AD282","v":1804721.1458530747},null,{"$f":"+H262+1","v":259},{"$f":"+'No Deducible 93'!Y282","v":1677710.9173301349},{"$f":"+'Deducible 151'!Y282","v":1621161.7696401475},{"$f":"+'Deducible 185'!Y282","v":1677710.9173301349}]
[21.666666666666668,{"$f":"'OptiMaxx plus'!$T$7+A264","v":65.666666666666671},260,{"$f":"+'No Deducible 93'!AD283","v":1823809.5370091686},{"$f":"+'Deducible 151'!AD283","v":1750762.5165790641},{"$f":"+'Deducible 185'!AD283","v":1823891.84499668},null,260,{"$f":"+'No Deducible 93'!Y283","v":1695854.9874977465},{"$f":"+'Deducible 151'!Y283","v":1638518.5734068709},{"$f":"+'Deducible 185'!Y283","v":1695854.9874977465}]
[21.75,{"$f":"'OptiMaxx plus'!$T$7+A265","v":65.75},261,{"$f":"+'No Deducible 93'!AD284","v":1841979.7184544199},{"$f":"+'Deducible 151'!AD284","v":1768001.1688449634},{"$f":"+'Deducible 185'!AD284","v":1842062.9379523559},null,261,{"$f":"+'No Deducible 93'!Y284","v":1714152.9067546767},{"$f":"+'Deducible 151'!Y284","v":1656019.7473518378},{"$f":"+'Deducible 185'!Y284","v":1714152.9067546767}]
[21.833333333333332,{"$f":"'OptiMaxx plus'!$T$7+A266","v":65.833333333333329},262,{"$f":"+'No Deducible 93'!AD285","v":1861466.1773940262},{"$f":"+'Deducible 151'!AD285","v":1786532.43344985},{"$f":"+'Deducible 185'!AD285","v":1861550.1025353957},null,262,{"$f":"+'No Deducible 93'!Y285","v":1732605.9796341457},{"$f":"+'Deducible 151'!Y285","v":1673666.4923152863},{"$f":"+'Deducible 185'!Y285","v":1732605.9796341457}]
[21.916666666666668,{"$f":"'OptiMaxx plus'!$T$7+A267","v":65.916666666666671},263,{"$f":"+'No Deducible 93'!AD286","v":1881117.5548623749},{"$f":"+'Deducible 151'!AD286","v":1805217.546250701},{"$f":"+'Deducible 185'!AD286","v":1881202.1916305432},null,263,{"$f":"+'No Deducible 93'!Y286","v":1751215.521730908},{"$f":"+'Deducible 151'!Y286","v":1691460.0191257866},{"$f":"+'Deducible 185'!Y286","v":1751215.521730908}]
[22,{"$f":"'OptiMaxx plus'!$T$7+A268","v":66},264,{"$f":"+'No Deducible 93'!AD287","v":1899755.4960737797},{"$f":"+'Deducible 151'!AD287","v":1822893.0715805446},{"$f":"+'Deducible 185'!AD287","v":1899841.0587302488},null,264,{"$f":"+'No Deducible 93'!Y287","v":1769982.8597950453},{"$f":"+'Deducible 151'!Y287","v":1709401.5486833213},{"$f":"+'Deducible 185'!Y287","v":1769982.8597950453}]
[22.083333333333332,{"$f":"'OptiMaxx plus'!$T$7+A269","v":66.083333333333329},265,{"$f":"+'No Deducible 93'!AD288","v":1919926.7756181497},{"$f":"+'Deducible 151'!AD288","v":1842073.5814978655},{"$f":"+'Deducible 185'!AD288","v":1920013.0637864061},null,265,{"$f":"+'No Deducible 93'!Y288","v":1789104.7356897232},{"$f":"+'Deducible 151'!Y288","v":1727685.4257750481},{"$f":"+'Deducible 185'!Y288","v":1789104.7356897232}]
[22.166666666666668,{"$f":"'OptiMaxx plus'!$T$7+A270","v":66.166666666666671},266,{"$f":"+'No Deducible 93'!AD289","v":1940268.7775071734},{"$f":"+'Deducible 151'!AD289","v":1861413.3371200277},{"$f":"+'Deducible 185'!AD289","v":1940355.7973390522},null,266,{"$f":"+'No Deducible 93'!Y289","v":1808388.7517858706},{"$f":"+'Deducible 151'!Y289","v":1746121.3842424816},{"$f":"+'Deducible 185'!Y289","v":1808388.7517858706}]
[22.25,{"$f":"'OptiMaxx plus'!$T$7+A271","v":66.25},267,{"$f":"+'No Deducible 93'!AD290","v":1959585.2296899548},{"$f":"+'Deducible 151'!AD290","v":1879733.1078010935},{"$f":"+'Deducible 185'!AD290","v":1959673.1900144231},null,267,{"$f":"+'No Deducible 93'!Y290","v":1827836.2829195699},{"$f":"+'Deducible 151'!Y290","v":1764710.6890659495},{"$f":"+'Deducible 185'!Y290","v":1827836.2829195699}]
[22.333333333333332,{"$f":"'OptiMaxx plus'!$T$7+A272","v":66.333333333333329},268,{"$f":"+'No Deducible 93'!AD291","v":1980263.3374994069},{"$f":"+'Deducible 151'!AD291","v":1899385.9491876215},{"$f":"+'Deducible 185'!AD291","v":1980352.0436662189},null,268,{"$f":"+'No Deducible 93'!Y291","v":1847448.7155845559},{"$f":"+'Deducible 151'!Y291","v":1783454.6157476155},{"$f":"+'Deducible 185'!Y291","v":1847448.7155845559}]
[22.416666666666668,{"$f":"'OptiMaxx plus'!$T$7+A273","v":66.416666666666671},269,{"$f":"+'No Deducible 93'!AD292","v":2001116.4621897577},{"$f":"+'Deducible 151'!AD292","v":1919201.962229925},{"$f":"+'Deducible 185'!AD292","v":2001205.9205231373},null,269,{"$f":"+'No Deducible 93'!Y292","v":1867227.448031066},{"$f":"+'Deducible 151'!Y292","v":1802354.4503989967},{"$f":"+'Deducible 185'!Y292","v":1867227.448031066}]
[22.5,{"$f":"'OptiMaxx plus'!$T$7+A274","v":66.5},270,{"$f":"+'No Deducible 93'!AD293","v":2020930.1200793386},{"$f":"+'Deducible 151'!AD293","v":1937985.8895805764},{"$f":"+'Deducible 185'!AD293","v":2021020.533739568},null,270,{"$f":"+'No Deducible 93'!Y293","v":1887173.8903655261},{"$f":"+'Deducible 151'!Y293","v":1821411.489829211},{"$f":"+'Deducible 185'!Y293","v":1887173.8903655261}]
[22.583333333333332,{"$f":"'OptiMaxx plus'!$T$7+A275","v":66.583333333333329},271,{"$f":"+'No Deducible 93'!AD294","v":2042127.8989910493},{"$f":"+'Deducible 151'!AD294","v":1958122.809042199},{"$f":"+'Deducible 185'!AD294","v":2042219.0792962024},null,271,{"$f":"+'No Deducible 93'!Y294","v":1907289.464651084},{"$f":"+'Deducible 151'!Y294","v":1840627.0416339564},{"$f":"+'Deducible 185'!Y294","v":1907289.464651084}]
[22.666666666666668,{"$f":"'OptiMaxx plus'!$T$7+A276","v":66.666666666666671},272,{"$f":"+'No Deducible 93'!AD295","v":2063505.0981894692},{"$f":"+'Deducible 151'!AD295","v":1978426.9237895659},{"$f":"+'Deducible 185'!AD295","v":2063597.0516401615},null,272,{"$f":"+'No Deducible 93'!Y295","v":1927575.6050089931},{"$f":"+'Deducible 151'!Y295","v":1860002.4242852321},{"$f":"+'Deducible 185'!Y295","v":1927575.6050089931}]
[22.75,{"$f":"'OptiMaxx plus'!$T$7+A277","v":66.75},273,{"$f":"+'No Deducible 93'!AD296","v":2083828.7372228946},{"$f":"+'Deducible 151'!AD296","v":1997686.7280213861},{"$f":"+'Deducible 185'!AD296","v":2083921.6610682837},null,273,{"$f":"+'No Deducible 93'!Y296","v":1948033.7577208572},{"$f":"+'Deducible 151'!Y296","v":1879538.9672218058},{"$f":"+'Deducible 185'!Y296","v":1948033.7577208572}]
[22.833333333333332,{"$f":"'OptiMaxx plus'!$T$7+A278","v":66.833333333333329},274,{"$f":"+'No Deducible 93'!AD297","v":2105559.3570764014},{"$f":"+'Deducible 151'!AD297","v":2018319.765833078},{"$f":"+'Deducible 185'!AD297","v":2105653.0688513373},null,274,{"$f":"+'No Deducible 93'!Y297","v":1968665.3813317413},{"$f":"+'Deducible 151'!Y297","v":1899238.0109404316},{"$f":"+'Deducible 185'!Y297","v":1968665.3813317413}]
[22.916666666666668,{"$f":"'OptiMaxx plus'!$T$7+A279","v":66.916666666666671},275,{"$f":"+'No Deducible 93'!AD298","v":2127473.9122644733},{"$f":"+'Deducible 151'!AD298","v":2039124.1226819411},{"$f":"+'Deducible 185'!AD298","v":2127568.4186500511},null,275,{"$f":"+'No Deducible 93'!Y298","v":1989471.9467541585},{"$f":"+'Deducible 151'!Y298","v":1919100.9070878287},{"$f":"+'Deducible 185'!Y298","v":1989471.9467541585}]
[23,{"$f":"'OptiMaxx plus'!$T$7+A280","v":67},276,{"$f":"+'No Deducible 93'!AD299","v":2148320.6358825699},{"$f":"+'Deducible 151'!AD299","v":2058871.8194546327},{"$f":"+'Deducible 185'!AD299","v":2148416.1279679495},null,276,{"$f":"+'No Deducible 93'!Y299","v":2010454.9373729352},{"$f":"+'Deducible 151'!Y299","v":1939129.0185534244},{"$f":"+'Deducible 185'!Y299","v":2010454.9373729352}]
[23.083333333333332,{"$f":"'OptiMaxx plus'!$T$7+A281","v":67.083333333333329},277,{"$f":"+'No Deducible 93'!AD300","v":2170802.7505625086},{"$f":"+'Deducible 151'!AD300","v":2080216.061275634},{"$f":"+'Deducible 185'!AD300","v":2170899.0523543227},null,277,{"$f":"+'No Deducible 93'!Y300","v":2031820.9978438716},{"$f":"+'Deducible 151'!Y300","v":1959526.4639152957},{"$f":"+'Deducible 185'!Y300","v":2031820.9978438716}]
[23.166666666666668,{"$f":"'OptiMaxx plus'!$T$7+A282","v":67.166666666666671},278,{"$f":"+'No Deducible 93'!AD301","v":2193475.1696283519},{"$f":"+'Deducible 151'!AD301","v":2101737.5348944748},{"$f":"+'Deducible 185'!AD301","v":2193572.287992348},null,278,{"$f":"+'No Deducible 93'!Y301","v":2053368.22763985},{"$f":"+'Deducible 151'!Y301","v":1980093.5708613032},{"$f":"+'Deducible 185'!Y301","v":2053368.22763985}]
[23.25,{"$f":"'OptiMaxx plus'!$T$7+A283","v":67.25},279,{"$f":"+'No Deducible 93'!AD302","v":2215067.0601731511},{"$f":"+'Deducible 151'!AD302","v":2122191.5739049301},{"$f":"+'Deducible 185'!AD302","v":2215165.1797830411},null,279,{"$f":"+'No Deducible 93'!Y302","v":2075098.1629506785},{"$f":"+'Deducible 151'!Y302","v":2000831.7506001852},{"$f":"+'Deducible 185'!Y302","v":2075098.1629506785}]
[23.333333333333332,{"$f":"'OptiMaxx plus'!$T$7+A284","v":67.333333333333329},280,{"$f":"+'No Deducible 93'!AD303","v":2238114.6330232299},{"$f":"+'Deducible 151'!AD303","v":2144062.0266190926},{"$f":"+'Deducible 185'!AD303","v":2238213.5846191342},null,280,{"$f":"+'No Deducible 93'!Y303","v":2097012.3529919859},{"$f":"+'Deducible 151'!Y303","v":2021742.4260788125},{"$f":"+'Deducible 185'!Y303","v":2097012.3529919859}]
[23.416666666666668,{"$f":"'OptiMaxx plus'!$T$7+A285","v":67.416666666666671},281,{"$f":"+'No Deducible 93'!AD304","v":2261357.301819576},{"$f":"+'Deducible 151'!AD304","v":2166114.0851311325},{"$f":"+'Deducible 185'!AD304","v":2261457.0924561573},null,281,{"$f":"+'No Deducible 93'!Y304","v":2119112.3601156715},{"$f":"+'Deducible 151'!Y304","v":2042827.0320798224},{"$f":"+'Deducible 185'!Y304","v":2119112.3601156715}]
[23.5,{"$f":"'OptiMaxx plus'!$T$7+A286","v":67.5},282,{"$f":"+'No Deducible 93'!AD305","v":2283504.854290857},{"$f":"+'Deducible 151'!AD305","v":2187086.1508660298},{"$f":"+'Deducible 185'!AD305","v":2283605.6619641981},null,282,{"$f":"+'No Deducible 93'!Y305","v":2141399.7599212909},{"$f":"+'Deducible 151'!Y305","v":2064087.0153200678},{"$f":"+'Deducible 185'!Y305","v":2141399.7599212909}]
[23.583333333333332,{"$f":"'OptiMaxx plus'!$T$7+A287","v":67.583333333333329},283,{"$f":"+'No Deducible 93'!AD306","v":2307132.2221328299},{"$f":"+'Deducible 151'!AD306","v":2209495.9090338512},{"$f":"+'Deducible 185'!AD306","v":2307233.8845850932},null,283,{"$f":"+'No Deducible 93'!Y306","v":2163876.1413683887},{"$f":"+'Deducible 151'!Y306","v":2085523.8345498827},{"$f":"+'Deducible 185'!Y306","v":2163876.1413683887}]
[23.666666666666668,{"$f":"'OptiMaxx plus'!$T$7+A288","v":67.666666666666671},284,{"$f":"+'No Deducible 93'!AD307","v":2330959.5990178357},{"$f":"+'Deducible 151'!AD307","v":2232091.755889589},{"$f":"+'Deducible 185'!AD307","v":2331062.1234969515},null,284,{"$f":"+'No Deducible 93'!Y307","v":2186543.1068897806},{"$f":"+'Deducible 151'!Y307","v":2107138.9606531737},{"$f":"+'Deducible 185'!Y307","v":2186543.1068897806}]
[23.75,{"$f":"'OptiMaxx plus'!$T$7+A289","v":67.75},285,{"$f":"+'No Deducible 93'!AD308","v":2353677.0895628803},{"$f":"+'Deducible 151'!AD308","v":2253594.9262573114},{"$f":"+'Deducible 185'!AD308","v":2353780.6471182439},null,285,{"$f":"+'No Deducible 93'!Y308","v":2209402.2725057965},{"$f":"+'Deducible 151'!Y308","v":2128933.8767483449},{"$f":"+'Deducible 185'!Y308","v":2209402.2725057965}]
[23.833333333333332,{"$f":"'OptiMaxx plus'!$T$7+A290","v":67.833333333333329},286,{"$f":"+'No Deducible 93'!AD309","v":2377898.9543874357},{"$f":"+'Deducible 151'!AD309","v":2276557.4119170662},{"$f":"+'Deducible 185'!AD309","v":2378003.3900388069},null,286,{"$f":"+'No Deducible 93'!Y309","v":2232455.2679394949},{"$f":"+'Deducible 151'!Y309","v":2150910.0782900625},{"$f":"+'Deducible 185'!Y309","v":2232455.2679394949}]
[23.916666666666668,{"$f":"'OptiMaxx plus'!$T$7+A291","v":67.916666666666671},287,{"$f":"+'No Deducible 93'!AD310","v":2402325.8659842866},{"$f":"+'Deducible 151'!AD310","v":2299710.5807683999},{"$f":"+'Deducible 185'!AD310","v":2402431.1871773093},null,287,{"$f":"+'No Deducible 93'!Y310","v":2255703.7367328517},{"$f":"+'Deducible 151'!Y310","v":2173069.0731718638},{"$f":"+'Deducible 185'!Y310","v":2255703.7367328517}]
[24,{"$f":"'OptiMaxx plus'!$T$7+A292","v":68},288,{"$f":"+'No Deducible 93'!AD311","v":2425627.9372684765},{"$f":"+'Deducible 151'!AD311","v":2321758.2633177573},{"$f":"+'Deducible 185'!AD311","v":2425734.3078297633},null,288,{"$f":"+'No Deducible 93'!Y311","v":2279149.3363639349},{"$f":"+'Deducible 151'!Y311","v":2195412.3818296213},{"$f":"+'Deducible 185'!Y311","v":2279149.3363639349}]
[24.083333333333332,{"$f":"'OptiMaxx plus'!$T$7+A293","v":68.083333333333329},289,{"$f":"+'No Deducible 93'!AD312","v":2450674.7550608716},{"$f":"+'Deducible 151'!AD312","v":2345500.0894512306},{"$f":"+'Deducible 185'!AD312","v":2450782.0275704991},null,289,{"$f":"+'No Deducible 93'!Y312","v":2303009.1178643205},{"$f":"+'Deducible 151'!Y312","v":2218154.3925997005},{"$f":"+'Deducible 185'!Y312","v":2303009.1178643205}]
[24.166666666666668,{"$f":"'OptiMaxx plus'!$T$7+A294","v":68.166666666666671},290,{"$f":"+'No Deducible 93'!AD313","v":2475933.6114307735},{"$f":"+'Deducible 151'!AD313","v":2369439.0781699331},{"$f":"+'Deducible 185'!AD313","v":2476041.7935366365},null,290,{"$f":"+'No Deducible 93'!Y313","v":2327071.2137088012},{"$f":"+'Deducible 151'!Y313","v":2241085.5665470916},{"$f":"+'Deducible 185'!Y313","v":2327071.2137088012}]
[24.25,{"$f":"'OptiMaxx plus'!$T$7+A295","v":68.25},291,{"$f":"+'No Deducible 93'!AD314","v":2500054.3295654515},{"$f":"+'Deducible 151'!AD314","v":2392261.4293415491},{"$f":"+'Deducible 185'!AD314","v":2500163.5775880921},null,291,{"$f":"+'No Deducible 93'!Y314","v":2351337.3393822326},{"$f":"+'Deducible 151'!Y314","v":2264207.4770906102},{"$f":"+'Deducible 185'!Y314","v":2351337.3393822326}]
[24.333333333333332,{"$f":"'OptiMaxx plus'!$T$7+A296","v":68.333333333333329},292,{"$f":"+'No Deducible 93'!AD315","v":2525731.7067653504},{"$f":"+'Deducible 151'!AD315","v":2416589.1982860123},{"$f":"+'Deducible 185'!AD315","v":2525841.881135202},null,292,{"$f":"+'No Deducible 93'!Y315","v":2375809.2249155883},{"$f":"+'Deducible 151'!Y315","v":2287521.710736433},{"$f":"+'Deducible 185'!Y315","v":2375809.2249155883}]
[24.416666666666668,{"$f":"'OptiMaxx plus'!$T$7+A297","v":68.416666666666671},293,{"$f":"+'No Deducible 93'!AD316","v":2551626.4659951162},{"$f":"+'Deducible 151'!AD316","v":2441119.0005404442},{"$f":"+'Deducible 185'!AD316","v":2551737.574566958},null,293,{"$f":"+'No Deducible 93'!Y316","v":2400488.6150093009},{"$f":"+'Deducible 151'!Y316","v":2311029.8671869552},{"$f":"+'Deducible 185'!Y316","v":2400488.6150093009}]
[24.5,{"$f":"'OptiMaxx plus'!$T$7+A298","v":68.5},294,{"$f":"+'No Deducible 93'!AD317","v":2576367.8071144838},{"$f":"+'Deducible 151'!AD317","v":2464519.1465522093},{"$f":"+'Deducible 185'!AD317","v":2576479.9984121453},null,294,{"$f":"+'No Deducible 93'!Y317","v":2425377.269157649},{"$f":"+'Deducible 151'!Y317","v":2334733.5594505542},{"$f":"+'Deducible 185'!Y317","v":2425377.269157649}]
[24.583333333333332,{"$f":"'OptiMaxx plus'!$T$7+A299","v":68.583333333333329},295,{"$f":"+'No Deducible 93'!AD318","v":2602691.739887808},{"$f":"+'Deducible 151'!AD318","v":2489447.4476395817},{"$f":"+'Deducible 185'!AD318","v":2602804.8824896049},null,295,{"$f":"+'No Deducible 93'!Y318","v":2450476.9617741969},{"$f":"+'Deducible 151'!Y318","v":2358634.4139522659},{"$f":"+'Deducible 185'!Y318","v":2450476.9617741969}]
[24.666666666666668,{"$f":"'OptiMaxx plus'!$T$7+A300","v":68.666666666666671},296,{"$f":"+'No Deducible 93'!AD319","v":2629238.5337486896},{"$f":"+'Deducible 151'!AD319","v":2514582.774083775},{"$f":"+'Deducible 185'!AD319","v":2629352.6357210181},null,296,{"$f":"+'No Deducible 93'!Y319","v":2475789.4823183022},{"$f":"+'Deducible 151'!Y319","v":2382734.0706453808},{"$f":"+'Deducible 185'!Y319","v":2475789.4823183022}]
[24.75,{"$f":"'OptiMaxx plus'!$T$7+A301","v":68.75},297,{"$f":"+'No Deducible 93'!AD320","v":2654616.4416472139},{"$f":"+'Deducible 151'!AD320","v":2538575.2990699792},{"$f":"+'Deducible 185'!AD320","v":2654731.6434190259},null,297,{"$f":"+'No Deducible 93'!Y320","v":2501316.6354226931},{"$f":"+'Deducible 151'!Y320","v":2407034.1831239704},{"$f":"+'Deducible 185'!Y320","v":2501316.6354226931}]
[24.833333333333332,{"$f":"'OptiMaxx plus'!$T$7+A302","v":68.833333333333329},298,{"$f":"+'No Deducible 93'!AD321","v":2681603.33372699},{"$f":"+'Deducible 151'!AD321","v":2564119.0866065524},{"$f":"+'Deducible 185'!AD321","v":2681719.5123296627},null,298,{"$f":"+'No Deducible 93'!Y321","v":2527060.2410221263},{"$f":"+'Deducible 151'!Y321","v":2431536.4187363484},{"$f":"+'Deducible 185'!Y321","v":2527060.2410221263}]
[24.916666666666668,{"$f":"'OptiMaxx plus'!$T$7+A303","v":68.916666666666671},299,{"$f":"+'No Deducible 93'!AD322","v":2708818.7050129347},{"$f":"+'Deducible 151'!AD322","v":2589875.0159044159},{"$f":"+'Deducible 185'!AD322","v":2708935.8687293143},null,299,{"$f":"+'No Deducible 93'!Y322","v":2553022.13448314},{"$f":"+'Deducible 151'!Y322","v":2456242.4586994736},{"$f":"+'Deducible 185'!Y322","v":2553022.13448314}]
[25,{"$f":"'OptiMaxx plus'!$T$7+A304","v":69},300,{"$f":"+'No Deducible 93'!AD323","v":2734849.5328010297},{"$f":"+'Deducible 151'!AD323","v":2614474.8715710351},{"$f":"+'Deducible 185'!AD323","v":2734967.8136593369},null,300,{"$f":"+'No Deducible 93'!Y323","v":2579204.1667349027},{"$f":"+'Deducible 151'!Y323","v":2481153.9982143082},{"$f":"+'Deducible 185'!Y323","v":2579204.1667349027}]
[25.083333333333332,{"$f":"'OptiMaxx plus'!$T$7+A305","v":69.083333333333329},301,{"$f":"+'No Deducible 93'!AD324","v":2762742.3264166685},{"$f":"+'Deducible 151'!AD324","v":2640872.9443791481},{"$f":"+'Deducible 185'!AD324","v":2762861.6102143475},null,301,{"$f":"+'No Deducible 93'!Y324","v":2605834.3249191241},{"$f":"+'Deducible 151'!Y324","v":2506496.2169700437},{"$f":"+'Deducible 185'!Y324","v":2605834.3249191241}]
[25.166666666666668,{"$f":"'OptiMaxx plus'!$T$7+A306","v":69.166666666666671},302,{"$f":"+'No Deducible 93'!AD325","v":2790871.2773065208},{"$f":"+'Deducible 151'!AD325","v":2667490.2616011281},{"$f":"+'Deducible 185'!AD325","v":2790991.5725477994},null,302,{"$f":"+'No Deducible 93'!Y325","v":2632690.2883139299},{"$f":"+'Deducible 151'!Y325","v":2532049.2268765019},{"$f":"+'Deducible 185'!Y325","v":2632690.2883139299}]
[25.25,{"$f":"'OptiMaxx plus'!$T$7+A307","v":69.25},303,{"$f":"+'No Deducible 93'!AD326","v":2817801.7693802761},{"$f":"+'Deducible 151'!AD326","v":2692939.9798893849},{"$f":"+'Deducible 185'!AD326","v":2817923.1993789305},null,303,{"$f":"+'No Deducible 93'!Y326","v":2659773.9715903774},{"$f":"+'Deducible 151'!Y326","v":2557814.7812493513},{"$f":"+'Deducible 185'!Y326","v":2659773.9715903774}]
[25.333333333333332,{"$f":"'OptiMaxx plus'!$T$7+A308","v":69.333333333333329},304,{"$f":"+'No Deducible 93'!AD327","v":2846397.3953264691},{"$f":"+'Deducible 151'!AD327","v":2719990.2023752863},{"$f":"+'Deducible 185'!AD327","v":2846519.8549670139},null,304,{"$f":"+'No Deducible 93'!Y327","v":2687087.3056546021},{"$f":"+'Deducible 151'!Y327","v":2583794.6479879646},{"$f":"+'Deducible 185'!Y327","v":2687087.3056546021}]
[25.416666666666668,{"$f":"'OptiMaxx plus'!$T$7+A309","v":69.416666666666671},305,{"$f":"+'No Deducible 93'!AD328","v":2875235.1346974452},{"$f":"+'Deducible 151'!AD328","v":2747265.0905773761},{"$f":"+'Deducible 185'!AD328","v":2875358.6327105272},null,305,{"$f":"+'No Deducible 93'!Y328","v":2714632.2377854795},{"$f":"+'Deducible 151'!Y328","v":2609990.609696724},{"$f":"+'Deducible 185'!Y328","v":2714632.2377854795}]
[25.5,{"$f":"'OptiMaxx plus'!$T$7+A310","v":69.5},306,{"$f":"+'No Deducible 93'!AD329","v":2902858.4228560245},{"$f":"+'Deducible 151'!AD329","v":2773358.8997104322},{"$f":"+'Deducible 185'!AD329","v":2902983.0735192238},null,306,{"$f":"+'No Deducible 93'!Y329","v":2742410.7317734556},{"$f":"+'Deducible 151'!Y329","v":2636404.4638073323},{"$f":"+'Deducible 185'!Y329","v":2742410.7317734556}]
[25.583333333333332,{"$f":"'OptiMaxx plus'!$T$7+A311","v":69.583333333333329},307,{"$f":"+'No Deducible 93'!AD330","v":2932174.7199261421},{"$f":"+'Deducible 151'!AD330","v":2801077.5184307559},{"$f":"+'Deducible 185'!AD330","v":2932300.4275402264},null,307,{"$f":"+'No Deducible 93'!Y330","v":2770424.7680605524},{"$f":"+'Deducible 151'!Y330","v":2663038.0227021454},{"$f":"+'Deducible 185'!Y330","v":2770424.7680605524}]
[25.666666666666668,{"$f":"'OptiMaxx plus'!$T$7+A312","v":69.666666666666671},308,{"$f":"+'No Deducible 93'!AD331","v":2961739.237799943},{"$f":"+'Deducible 151'!AD331","v":2829026.3592750267},{"$f":"+'Deducible 185'!AD331","v":2961866.0113271195},null,308,{"$f":"+'No Deducible 93'!Y331","v":2798676.3438815633},{"$f":"+'Deducible 151'!Y331","v":2689893.1138385269},{"$f":"+'Deducible 185'!Y331","v":2798676.3438815633}]
[25.75,{"$f":"'OptiMaxx plus'!$T$7+A313","v":69.75},309,{"$f":"+'No Deducible 93'!AD332","v":2990073.1185683371},{"$f":"+'Deducible 151'!AD332","v":2855780.5139966984},{"$f":"+'Deducible 185'!AD332","v":2990201.0629200228},null,309,{"$f":"+'No Deducible 93'!Y332","v":2827167.473406441},{"$f":"+'Deducible 151'!Y332","v":2716971.5798742399},{"$f":"+'Deducible 185'!Y332","v":2827167.473406441}]
[25.833333333333332,{"$f":"'OptiMaxx plus'!$T$7+A314","v":69.833333333333329},310,{"$f":"+'No Deducible 93'!AD333","v":3020128.3802117445},{"$f":"+'Deducible 151'!AD333","v":2884184.182060034},{"$f":"+'Deducible 185'!AD333","v":3020257.4094425011},null,310,{"$f":"+'No Deducible 93'!Y333","v":2855900.1878838995},{"$f":"+'Deducible 151'!Y333","v":2744275.2787938803},{"$f":"+'Deducible 185'!Y333","v":2855900.1878838995}]
[25.916666666666668,{"$f":"'OptiMaxx plus'!$T$7+A315","v":69.916666666666671},311,{"$f":"+'No Deducible 93'!AD334","v":3050438.1251209215},{"$f":"+'Deducible 151'!AD334","v":2912823.7671418386},{"$f":"+'Deducible 185'!AD334","v":3050568.2484297692},null,311,{"$f":"+'No Deducible 93'!Y334","v":2884876.5357862278},{"$f":"+'Deducible 151'!Y334","v":2771806.0840363614},{"$f":"+'Deducible 185'!Y334","v":2884876.5357862278}]
[26,{"$f":"'OptiMaxx plus'!$T$7+A316","v":70},312,{"$f":"+'No Deducible 93'!AD335","v":3079500.8518870268},{"$f":"+'Deducible 151'!AD335","v":2940254.9318368593},{"$f":"+'Deducible 185'!AD335","v":3079632.1644808506},null,312,{"$f":"+'No Deducible 93'!Y335","v":2914098.5829553339},{"$f":"+'Deducible 151'!Y335","v":2799565.8846234619},{"$f":"+'Deducible 185'!Y335","v":2914098.5829553339}]
[26.083333333333332,{"$f":"'OptiMaxx plus'!$T$7+A317","v":70.083333333333329},313,{"$f":"+'No Deducible 93'!AD336","v":3110551.2350189108},{"$f":"+'Deducible 151'!AD336","v":2969595.3340028152},{"$f":"+'Deducible 185'!AD336","v":3110683.6610521548},null,313,{"$f":"+'No Deducible 93'!Y336","v":2943805.8099434329},{"$f":"+'Deducible 151'!Y336","v":2827791.2001902875},{"$f":"+'Deducible 185'!Y336","v":2943805.8099434329}]
[26.166666666666668,{"$f":"'OptiMaxx plus'!$T$7+A318","v":70.166666666666671},314,{"$f":"+'No Deducible 93'!AD337","v":3141864.5358782005},{"$f":"+'Deducible 151'!AD337","v":2999179.4415112035},{"$f":"+'Deducible 185'!AD337","v":3141998.0847920571},null,314,{"$f":"+'No Deducible 93'!Y337","v":2973764.9335443689},{"$f":"+'Deducible 151'!Y337","v":2856251.2878899402},{"$f":"+'Deducible 185'!Y337","v":2973764.9335443689}]
[26.25,{"$f":"'OptiMaxx plus'!$T$7+A319","v":70.25},315,{"$f":"+'No Deducible 93'!AD338","v":3171916.2708055251},{"$f":"+'Deducible 151'!AD338","v":3027543.2346071103},{"$f":"+'Deducible 185'!AD338","v":3172051.0277553955},null,315,{"$f":"+'No Deducible 93'!Y338","v":3003978.0896661347},{"$f":"+'Deducible 151'!Y338","v":2884948.1005067634},{"$f":"+'Deducible 185'!Y338","v":3003978.0896661347}]
[26.333333333333332,{"$f":"'OptiMaxx plus'!$T$7+A320","v":70.333333333333329},316,{"$f":"+'No Deducible 93'!AD339","v":3203749.7063796767},{"$f":"+'Deducible 151'!AD339","v":3057609.1562986188},{"$f":"+'Deducible 185'!AD339","v":3203885.6059747105},null,316,{"$f":"+'No Deducible 93'!Y339","v":3034447.4323277357},{"$f":"+'Deducible 151'!Y339","v":2913883.6070679436},{"$f":"+'Deducible 185'!Y339","v":3034447.4323277357}]
[26.416666666666668,{"$f":"'OptiMaxx plus'!$T$7+A321","v":70.416666666666671},317,{"$f":"+'No Deducible 93'!AD340","v":3235852.6959117725},{"$f":"+'Deducible 151'!AD340","v":3087924.8147880756},{"$f":"+'Deducible 185'!AD340","v":3235989.747840805},null,317,{"$f":"+'No Deducible 93'!Y340","v":3065175.1338127605},{"$f":"+'Deducible 151'!Y340","v":2943059.7929786141},{"$f":"+'Deducible 185'!Y340","v":3065175.1338127605}]
[26.5,{"$f":"'OptiMaxx plus'!$T$7+A322","v":70.5},318,{"$f":"+'No Deducible 93'!AD341","v":3266677.39536042},{"$f":"+'Deducible 151'!AD341","v":3117006.2189463582},{"$f":"+'Deducible 185'!AD341","v":3266815.6743716393},null,318,{"$f":"+'No Deducible 93'!Y341","v":3096163.3848242504},{"$f":"+'Deducible 151'!Y341","v":2972478.6601580828},{"$f":"+'Deducible 185'!Y341","v":3096163.3848242504}]
[26.583333333333332,{"$f":"'OptiMaxx plus'!$T$7+A323","v":70.583333333333329},319,{"$f":"+'No Deducible 93'!AD342","v":3299313.7679296657},{"$f":"+'Deducible 151'!AD342","v":3147815.7436830811},{"$f":"+'Deducible 185'!AD342","v":3299453.2194506773},null,319,{"$f":"+'No Deducible 93'!Y342","v":3127414.3946408848},{"$f":"+'Deducible 151'!Y342","v":3002142.2271771943},{"$f":"+'Deducible 185'!Y342","v":3127414.3946408848}]
[26.666666666666668,{"$f":"'OptiMaxx plus'!$T$7+A324","v":70.666666666666671},320,{"$f":"+'No Deducible 93'!AD343","v":3332226.4992610915},{"$f":"+'Deducible 151'!AD343","v":3178881.1870570146},{"$f":"+'Deducible 185'!AD343","v":3332367.133233963},null,320,{"$f":"+'No Deducible 93'!Y343","v":3158930.3912744881},{"$f":"+'Deducible 151'!Y343","v":3032052.5293968329},{"$f":"+'Deducible 185'!Y343","v":3158930.3912744881}]
[26.75,{"$f":"'OptiMaxx plus'!$T$7+A325","v":70.75},321,{"$f":"+'No Deducible 93'!AD344","v":3363844.0176685858},{"$f":"+'Deducible 151'!AD344","v":3208698.3095426876},{"$f":"+'Deducible 185'!AD344","v":3363985.8980695894},null,321,{"$f":"+'No Deducible 93'!Y344","v":3190713.6216288749},{"$f":"+'Deducible 151'!Y344","v":3062211.6191075789},{"$f":"+'Deducible 185'!Y344","v":3190713.6216288749}]
[{"$f":"+C326/12","v":26.833333333333332},{"$f":"'OptiMaxx plus'!$T$7+A326","v":70.833333333333329},322,{"$f":"+'No Deducible 93'!AD345","v":3397303.7187298005},{"$f":"+'Deducible 151'!AD345","v":3240269.9734893455},{"$f":"+'Deducible 185'!AD345","v":3397446.8021778758},null,322,{"$f":"+'No Deducible 93'!Y345","v":3222766.3516600407},{"$f":"+'Deducible 151'!Y345","v":3092621.5656705266},{"$f":"+'Deducible 185'!Y345","v":3222766.3516600407}]
[26.916666666666668,{"$f":"'OptiMaxx plus'!$T$7+A327","v":70.916666666666671},{"$f":"+C326+1","v":323},{"$f":"+'No Deducible 93'!AD346","v":3431046.7562293443},{"$f":"+'Deducible 151'!AD346","v":3272103.8920609299},{"$f":"+'Deducible 185'!AD346","v":3431191.0529254936},null,{"$f":"+H326+1","v":323},{"$f":"+'No Deducible 93'!Y346","v":3255090.8665377107},{"$f":"+'Deducible 151'!Y346","v":3123284.4556592731},{"$f":"+'Deducible 185'!Y346","v":3255090.8665377107}]
[27,{"$f":"'OptiMaxx plus'!$T$7+A328","v":71},324,{"$f":"+'No Deducible 93'!AD347","v":3463477.45770786},{"$f":"+'Deducible 151'!AD347","v":3302675.2964282702},{"$f":"+'Deducible 185'!AD347","v":3463623.0204825681},null,324,{"$f":"+'No Deducible 93'!Y347","v":3287689.4708082597},{"$f":"+'Deducible 151'!Y347","v":3154202.3930030875},{"$f":"+'Deducible 185'!Y347","v":3287689.4708082597}]
[27.083333333333332,{"$f":"'OptiMaxx plus'!$T$7+A329","v":71.083333333333329},325,{"$f":"+'No Deducible 93'!AD348","v":3498030.6348955943},{"$f":"+'Deducible 151'!AD348","v":3335274.4149437076},{"$f":"+'Deducible 185'!AD348","v":3498177.4319413407},null,325,{"$f":"+'No Deducible 93'!Y348","v":3320813.7247979306},{"$f":"+'Deducible 151'!Y348","v":3185623.8143241508},{"$f":"+'Deducible 185'!Y348","v":3320813.7247979306}]
[27.166666666666668,{"$f":"'OptiMaxx plus'!$T$7+A330","v":71.166666666666671},326,{"$f":"+'No Deducible 93'!AD349","v":3532876.4168276489},{"$f":"+'Deducible 151'!AD349","v":3368144.3308764491},{"$f":"+'Deducible 185'!AD349","v":3533024.4586101933},null,326,{"$f":"+'No Deducible 93'!Y349","v":3354218.849411645},{"$f":"+'Deducible 151'!Y349","v":3217306.5923015294},{"$f":"+'Deducible 185'!Y349","v":3354218.849411645}]
[27.25,{"$f":"'OptiMaxx plus'!$T$7+A331","v":71.25},327,{"$f":"+'No Deducible 93'!AD350","v":3566394.669102286},{"$f":"+'Deducible 151'!AD350","v":3399739.4782876968},{"$f":"+'Deducible 185'!AD350","v":3566543.9969230797},null,327,{"$f":"+'No Deducible 93'!Y350","v":3387907.2262368486},{"$f":"+'Deducible 151'!Y350","v":3249252.9008439425},{"$f":"+'Deducible 185'!Y350","v":3387907.2262368486}]
[27.333333333333332,{"$f":"'OptiMaxx plus'!$T$7+A332","v":71.333333333333329},328,{"$f":"+'No Deducible 93'!AD351","v":3601819.9247190198},{"$f":"+'Deducible 151'!AD351","v":3433145.409644952},{"$f":"+'Deducible 185'!AD351","v":3601970.5187358232},null,328,{"$f":"+'No Deducible 93'!Y351","v":3421881.2570551918},{"$f":"+'Deducible 151'!Y351","v":3281464.931942218},{"$f":"+'Deducible 185'!Y351","v":3421881.2570551918}]
[27.416666666666668,{"$f":"'OptiMaxx plus'!$T$7+A333","v":71.416666666666671},329,{"$f":"+'No Deducible 93'!AD352","v":3637545.1760532125},{"$f":"+'Deducible 151'!AD352","v":3466828.8459292371},{"$f":"+'Deducible 185'!AD352","v":3637697.047002486},null,329,{"$f":"+'No Deducible 93'!Y352","v":3456143.3640137617},{"$f":"+'Deducible 151'!Y352","v":3313944.8958196933},{"$f":"+'Deducible 185'!Y352","v":3456143.3640137617}]
[27.5,{"$f":"'OptiMaxx plus'!$T$7+A334","v":71.5},330,{"$f":"+'No Deducible 93'!AD353","v":3671925.4241554509},{"$f":"+'Deducible 151'!AD353","v":3499223.1186364423},{"$f":"+'Deducible 185'!AD353","v":3672078.6014167881},null,330,{"$f":"+'No Deducible 93'!Y353","v":3490695.9897977668},{"$f":"+'Deducible 151'!Y353","v":3346695.0210838709},{"$f":"+'Deducible 185'!Y353","v":3490695.9897977668}]
[27.583333333333332,{"$f":"'OptiMaxx plus'!$T$7+A335","v":71.583333333333329},331,{"$f":"+'No Deducible 93'!AD354","v":3708244.9136251188},{"$f":"+'Deducible 151'!AD354","v":3533455.9821630665},{"$f":"+'Deducible 185'!AD354","v":3708399.389723043},null,331,{"$f":"+'No Deducible 93'!Y354","v":3525541.597804687},{"$f":"+'Deducible 151'!Y354","v":3379717.5548793334},{"$f":"+'Deducible 185'!Y354","v":3525541.597804687}]
[27.666666666666668,{"$f":"'OptiMaxx plus'!$T$7+A336","v":71.666666666666671},332,{"$f":"+'No Deducible 93'!AD355","v":3744871.9776131939},{"$f":"+'Deducible 151'!AD355","v":3567973.2254424025},{"$f":"+'Deducible 185'!AD355","v":3745027.7635609349},null,332,{"$f":"+'No Deducible 93'!Y355","v":3560682.6723198988},{"$f":"+'Deducible 151'!Y355","v":3413014.7630419303},{"$f":"+'Deducible 185'!Y355","v":3560682.6723198988}]
[27.75,{"$f":"'OptiMaxx plus'!$T$7+A337","v":71.75},333,{"$f":"+'No Deducible 93'!AD356","v":3780136.3613351001},{"$f":"+'Deducible 151'!AD356","v":3601186.784520783},{"$f":"+'Deducible 185'!AD356","v":3780293.474187776},null,333,{"$f":"+'No Deducible 93'!Y356","v":3596121.7186937896},{"$f":"+'Deducible 151'!Y356","v":3446588.9302542498},{"$f":"+'Deducible 185'!Y356","v":3596121.7186937896}]
[27.833333333333332,{"$f":"'OptiMaxx plus'!$T$7+A338","v":71.833333333333329},334,{"$f":"+'No Deducible 93'!AD357","v":3817372.8050759863},{"$f":"+'Deducible 151'!AD357","v":3636267.2032783558},{"$f":"+'Deducible 185'!AD357","v":3817531.2501363251},null,334,{"$f":"+'No Deducible 93'!Y357","v":3631861.2635203744},{"$f":"+'Deducible 151'!Y357","v":3480442.3602023795},{"$f":"+'Deducible 185'!Y357","v":3631861.2635203744}]
[27.916666666666668,{"$f":"'OptiMaxx plus'!$T$7+A339","v":71.916666666666671},335,{"$f":"+'No Deducible 93'!AD358","v":3854924.5947544645},{"$f":"+'Deducible 151'!AD358","v":3671639.0481199222},{"$f":"+'Deducible 185'!AD358","v":3855084.3833186589},null,335,{"$f":"+'No Deducible 93'!Y358","v":3667903.8548174277},{"$f":"+'Deducible 151'!Y358","v":3514577.3757339763},{"$f":"+'Deducible 185'!Y358","v":3667903.8548174277}]
[28,{"$f":"'OptiMaxx plus'!$T$7+A340","v":72},336,{"$f":"+'No Deducible 93'!AD359","v":3891095.8222104162},{"$f":"+'Deducible 151'!AD359","v":3705692.5626490903},{"$f":"+'Deducible 185'!AD359","v":3891256.9585964866},null,336,{"$f":"+'No Deducible 93'!Y359","v":3704252.0622081421},{"$f":"+'Deducible 151'!Y359","v":3548996.319017645},{"$f":"+'Deducible 185'!Y359","v":3704252.0622081421}]
[28.083333333333332,{"$f":"'OptiMaxx plus'!$T$7+A341","v":72.083333333333329},337,{"$f":"+'No Deducible 93'!AD360","v":3929534.1857757573},{"$f":"+'Deducible 151'!AD360","v":3741900.2750537805},{"$f":"+'Deducible 185'!AD360","v":3929696.6884862529},null,337,{"$f":"+'No Deducible 93'!Y360","v":3741170.142804327},{"$f":"+'Deducible 151'!Y360","v":3583960.1506844587},{"$f":"+'Deducible 185'!Y360","v":3741170.142804327}]
[28.166666666666668,{"$f":"'OptiMaxx plus'!$T$7+A342","v":72.166666666666671},338,{"$f":"+'No Deducible 93'!AD361","v":3968298.0829720362},{"$f":"+'Deducible 151'!AD361","v":3778408.7866450846},{"$f":"+'Deducible 185'!AD361","v":3968461.9635924385},null,338,{"$f":"+'No Deducible 93'!Y361","v":3778401.2630342129},{"$f":"+'Deducible 151'!Y361","v":3619214.8040185366},{"$f":"+'Deducible 185'!Y361","v":3778401.2630342129}]
[28.25,{"$f":"'OptiMaxx plus'!$T$7+A343","v":72.25},339,{"$f":"+'No Deducible 93'!AD362","v":4005665.5671829372},{"$f":"+'Deducible 151'!AD362","v":3813586.3653151384},{"$f":"+'Deducible 185'!AD362","v":4005830.8168713143},null,339,{"$f":"+'No Deducible 93'!Y362","v":3815948.0772560621},{"$f":"+'Deducible 151'!Y362","v":3654762.6980122523},{"$f":"+'Deducible 185'!Y362","v":3815948.0772560621}]
[28.333333333333332,{"$f":"'OptiMaxx plus'!$T$7+A344","v":72.333333333333329},340,{"$f":"+'No Deducible 93'!AD363","v":4045074.7917999974},{"$f":"+'Deducible 151'!AD363","v":3850690.9478882239},{"$f":"+'Deducible 185'!AD363","v":4045241.4426907413},null,340,{"$f":"+'No Deducible 93'!Y363","v":3853813.2623352483},{"$f":"+'Deducible 151'!Y363","v":3690606.2717786399},{"$f":"+'Deducible 185'!Y363","v":3853813.2623352483}]
[28.416666666666668,{"$f":"'OptiMaxx plus'!$T$7+A345","v":72.416666666666671},341,{"$f":"+'No Deducible 93'!AD364","v":4084817.7784879617},{"$f":"+'Deducible 151'!AD364","v":3888103.786104138},{"$f":"+'Deducible 185'!AD364","v":4084985.8424622938},null,341,{"$f":"+'No Deducible 93'!Y364","v":3891999.5178351006},{"$f":"+'Deducible 151'!Y364","v":3726747.984718754},{"$f":"+'Deducible 185'!Y364","v":3891999.5178351006}]
[28.5,{"$f":"'OptiMaxx plus'!$T$7+A346","v":72.5},342,{"$f":"+'No Deducible 93'!AD365","v":4123146.1134934183},{"$f":"+'Deducible 151'!AD365","v":3924170.8493166282},{"$f":"+'Deducible 185'!AD365","v":4123315.5681161545},null,342,{"$f":"+'No Deducible 93'!Y365","v":3930509.566209367},{"$f":"+'Deducible 151'!Y365","v":3763190.3166904198},{"$f":"+'Deducible 185'!Y365","v":3930509.566209367}]
[28.583333333333332,{"$f":"'OptiMaxx plus'!$T$7+A347","v":72.583333333333329},343,{"$f":"+'No Deducible 93'!AD366","v":4163550.8749073725},{"$f":"+'Deducible 151'!AD366","v":3962194.6771575846},{"$f":"+'Deducible 185'!AD366","v":4163721.7663873932},null,343,{"$f":"+'No Deducible 93'!Y366","v":3969346.1529963082},{"$f":"+'Deducible 151'!Y366","v":3799935.7681783903},{"$f":"+'Deducible 185'!Y366","v":3969346.1529963082}]
[28.666666666666668,{"$f":"'OptiMaxx plus'!$T$7+A348","v":72.666666666666671},344,{"$f":"+'No Deducible 93'!AD367","v":4204297.8360292325},{"$f":"+'Deducible 151'!AD367","v":4000534.4031753172},{"$f":"+'Deducible 185'!AD367","v":4204470.1765500875},null,344,{"$f":"+'No Deducible 93'!Y367","v":4008512.0470144399},{"$f":"+'Deducible 151'!Y367","v":3836986.8604659149},{"$f":"+'Deducible 185'!Y367","v":4008512.0470144399}]
[28.75,{"$f":"'OptiMaxx plus'!$T$7+A349","v":72.75},345,{"$f":"+'No Deducible 93'!AD368","v":4243611.699070571},{"$f":"+'Deducible 151'!AD368","v":4037513.3885254166},{"$f":"+'Deducible 185'!AD368","v":4243785.4521598397},null,345,{"$f":"+'No Deducible 93'!Y368","v":4048010.0405599307},{"$f":"+'Deducible 151'!Y368","v":3874346.1358077363},{"$f":"+'Deducible 185'!Y368","v":4048010.0405599307}]
[28.833333333333332,{"$f":"'OptiMaxx plus'!$T$7+A350","v":72.833333333333329},346,{"$f":"+'No Deducible 93'!AD369","v":4285037.3024570169},{"$f":"+'Deducible 151'!AD369","v":4076479.3970835442},{"$f":"+'Deducible 185'!AD369","v":4285212.5288515743},null,346,{"$f":"+'No Deducible 93'!Y369","v":4087842.9496056787},{"$f":"+'Deducible 151'!Y369","v":3912016.1576045295},{"$f":"+'Deducible 185'!Y369","v":4087842.9496056787}]
[28.916666666666668,{"$f":"'OptiMaxx plus'!$T$7+A351","v":72.916666666666671},347,{"$f":"+'No Deducible 93'!AD370","v":4326813.7577221887},{"$f":"+'Deducible 151'!AD370","v":4115769.1370906774},{"$f":"+'Deducible 185'!AD370","v":4326990.4699146394},null,347,{"$f":"+'No Deducible 93'!Y370","v":4128013.6140020723},{"$f":"+'Deducible 151'!Y370","v":3949999.510578787},{"$f":"+'Deducible 185'!Y370","v":4128013.6140020723}]
[29,{"$f":"'OptiMaxx plus'!$T$7+A352","v":73},348,{"$f":"+'No Deducible 93'!AD371","v":4367138.4594791345},{"$f":"+'Deducible 151'!AD371","v":4153683.047498967},{"$f":"+'Deducible 185'!AD371","v":4367316.6065049218},null,348,{"$f":"+'No Deducible 93'!Y371","v":4168524.8976794551},{"$f":"+'Deducible 151'!Y371","v":3988298.8009521696},{"$f":"+'Deducible 185'!Y371","v":4168524.8976794551}]
[29.083333333333332,{"$f":"'OptiMaxx plus'!$T$7+A353","v":73.083333333333329},349,{"$f":"+'No Deducible 93'!AD372","v":4409885.5705549791},{"$f":"+'Deducible 151'!AD372","v":4193886.2419993598},{"$f":"+'Deducible 185'!AD372","v":4410065.2281435803},null,349,{"$f":"+'No Deducible 93'!Y372","v":4209654.4038730999},{"$f":"+'Deducible 151'!Y372","v":4027188.1519880351},{"$f":"+'Deducible 185'!Y372","v":4209654.4038730999}]
[29.166666666666668,{"$f":"'OptiMaxx plus'!$T$7+A354","v":73.166666666666671},350,{"$f":"+'No Deducible 93'!AD373","v":4452994.7350796266},{"$f":"+'Deducible 151'!AD373","v":4234423.4549771035},{"$f":"+'Deducible 185'!AD373","v":4453175.9160395619},null,350,{"$f":"+'No Deducible 93'!Y373","v":4251132.6596589563},{"$f":"+'Deducible 151'!Y373","v":4066400.9763209592},{"$f":"+'Deducible 185'!Y373","v":4251132.6596589563}]
[29.25,{"$f":"'OptiMaxx plus'!$T$7+A355","v":73.25},351,{"$f":"+'No Deducible 93'!AD374","v":4494635.6294826521},{"$f":"+'Deducible 151'!AD374","v":4273571.9035523487},{"$f":"+'Deducible 185'!AD374","v":4494818.2678911788},null,351,{"$f":"+'No Deducible 93'!Y374","v":4292962.6221908862},{"$f":"+'Deducible 151'!Y374","v":4105939.9645325826},{"$f":"+'Deducible 185'!Y374","v":4292962.6221908862}]
[29.333333333333332,{"$f":"'OptiMaxx plus'!$T$7+A356","v":73.333333333333329},352,{"$f":"+'No Deducible 93'!AD375","v":4538463.1935446933},{"$f":"+'Deducible 151'!AD375","v":4314771.7185482299},{"$f":"+'Deducible 185'!AD375","v":4538647.380599834},null,352,{"$f":"+'No Deducible 93'!Y375","v":4335147.2736973576},{"$f":"+'Deducible 151'!Y375","v":4145807.8295842283},{"$f":"+'Deducible 185'!Y375","v":4335147.2736973576}]
[29.416666666666668,{"$f":"'OptiMaxx plus'!$T$7+A357","v":73.416666666666671},353,{"$f":"+'No Deducible 93'!AD376","v":4582661.9686123133},{"$f":"+'Deducible 151'!AD376","v":4356313.8380433945},{"$f":"+'Deducible 185'!AD376","v":4582847.7174455132},null,353,{"$f":"+'No Deducible 93'!Y376","v":4377689.6216940619},{"$f":"+'Deducible 151'!Y376","v":4186007.3070030501},{"$f":"+'Deducible 185'!Y376","v":4377689.6216940619}]
[29.5,{"$f":"'OptiMaxx plus'!$T$7+A358","v":73.5},354,{"$f":"+'No Deducible 93'!AD377","v":4625373.4564678874},{"$f":"+'Deducible 151'!AD377","v":4396451.9161339179},{"$f":"+'Deducible 185'!AD377","v":4625560.685720765},null,354,{"$f":"+'No Deducible 93'!Y377","v":4420592.6991983298},{"$f":"+'Deducible 151'!Y377","v":4226541.1550697312},{"$f":"+'Deducible 185'!Y377","v":4420592.6991983298}]
[29.583333333333332,{"$f":"'OptiMaxx plus'!$T$7+A359","v":73.583333333333329},355,{"$f":"+'No Deducible 93'!AD378","v":4670308.9459821992},{"$f":"+'Deducible 151'!AD378","v":4438673.2258036416},{"$f":"+'Deducible 185'!AD378","v":4670497.7628088566},null,355,{"$f":"+'No Deducible 93'!Y378","v":4463859.56494537},{"$f":"+'Deducible 151'!Y378","v":4267412.1550077442},{"$f":"+'Deducible 185'!Y378","v":4463859.56494537}]
[29.666666666666668,{"$f":"'OptiMaxx plus'!$T$7+A360","v":73.666666666666671},356,{"$f":"+'No Deducible 93'!AD379","v":4715625.036968749},{"$f":"+'Deducible 151'!AD379","v":4481245.3328578165},{"$f":"+'Deducible 185'!AD379","v":4715815.4548307061},null,356,{"$f":"+'No Deducible 93'!Y379","v":4507493.3036063351},{"$f":"+'Deducible 151'!Y379","v":4308623.1111741811},{"$f":"+'Deducible 185'!Y379","v":4507493.3036063351}]
[29.75,{"$f":"'OptiMaxx plus'!$T$7+A361","v":73.75},357,{"$f":"+'No Deducible 93'!AD380","v":4759434.6123636849},{"$f":"+'Deducible 151'!AD380","v":4522398.0009671291},{"$f":"+'Deducible 185'!AD380","v":4759626.533977828},null,357,{"$f":"+'No Deducible 93'!Y380","v":4551497.0260082437},{"$f":"+'Deducible 151'!Y380","v":4350176.8512521787},{"$f":"+'Deducible 185'!Y380","v":4551497.0260082437}]
[29.833333333333332,{"$f":"'OptiMaxx plus'!$T$7+A362","v":73.833333333333329},358,{"$f":"+'No Deducible 93'!AD381","v":4805506.2007390605},{"$f":"+'Deducible 151'!AD381","v":4565666.3025683826},{"$f":"+'Deducible 185'!AD381","v":4805699.7497149417},null,358,{"$f":"+'No Deducible 93'!Y381","v":4595873.8693557624},{"$f":"+'Deducible 151'!Y381","v":4392076.2264449345},{"$f":"+'Deducible 185'!Y381","v":4595873.8693557624}]
[29.916666666666668,{"$f":"'OptiMaxx plus'!$T$7+A363","v":73.916666666666671},359,{"$f":"+'No Deducible 93'!AD382","v":4851968.0199063662},{"$f":"+'Deducible 151'!AD382","v":4609294.1064848043},{"$f":"+'Deducible 185'!AD382","v":4852163.210042879},null,359,{"$f":"+'No Deducible 93'!Y382","v":4640626.9974548705},{"$f":"+'Deducible 151'!Y382","v":4434324.1116713453},{"$f":"+'Deducible 185'!Y382","v":4640626.9974548705}]
[30,{"$f":"'OptiMaxx plus'!$T$7+A364","v":74},360,{"$f":"+'No Deducible 93'!AD383","v":4896903.8826508569},{"$f":"+'Deducible 151'!AD383","v":4651486.9539646329},{"$f":"+'Deducible 185'!AD383","v":4897100.6002391605},null,360,{"$f":"+'No Deducible 93'!Y383","v":4685759.6009384217},{"$f":"+'Deducible 151'!Y383","v":4476923.4057632666},{"$f":"+'Deducible 185'!Y383","v":4685759.6009384217}]
[30.083333333333332,{"$f":"'OptiMaxx plus'!$T$7+A365","v":74.083333333333329},361,{"$f":"+'No Deducible 93'!AD384","v":4944428.8772735354},{"$f":"+'Deducible 151'!AD384","v":4696113.418364726},{"$f":"+'Deducible 185'!AD384","v":4944627.2628901005},null,361,{"$f":"+'No Deducible 93'!Y384","v":4731563.3126074383},{"$f":"+'Deducible 151'!Y384","v":4520162.0665562069},{"$f":"+'Deducible 185'!Y384","v":4731563.3126074383}]
[30.166666666666668,{"$f":"'OptiMaxx plus'!$T$7+A366","v":74.166666666666671},362,{"$f":"+'No Deducible 93'!AD385","v":4992356.4225154398},{"$f":"+'Deducible 151'!AD385","v":4741110.6782278446},{"$f":"+'Deducible 185'!AD385","v":4992556.4903039848},null,362,{"$f":"+'No Deducible 93'!Y385","v":4777755.4078785125},{"$f":"+'Deducible 151'!Y385","v":4563760.3772737291},{"$f":"+'Deducible 185'!Y385","v":4777755.4078785125}]
[30.25,{"$f":"'OptiMaxx plus'!$T$7+A367","v":74.25},363,{"$f":"+'No Deducible 93'!AD386","v":5038740.8232227014},{"$f":"+'Deducible 151'!AD386","v":4784659.735442454},{"$f":"+'Deducible 185'!AD386","v":5038942.4425355028},null,363,{"$f":"+'No Deducible 93'!Y386","v":4824339.1799743306},{"$f":"+'Deducible 151'!Y386","v":4607721.3294069171},{"$f":"+'Deducible 185'!Y386","v":4824339.1799743306}]
[30.333333333333332,{"$f":"'OptiMaxx plus'!$T$7+A368","v":74.333333333333329},364,{"$f":"+'No Deducible 93'!AD387","v":5087467.8375587203},{"$f":"+'Deducible 151'!AD387","v":4830393.2903769519},{"$f":"+'Deducible 185'!AD387","v":5087671.1664629951},null,364,{"$f":"+'No Deducible 93'!Y387","v":4871317.9500418147},{"$f":"+'Deducible 151'!Y387","v":4652047.9393294388},{"$f":"+'Deducible 185'!Y387","v":4871317.9500418147}]
[30.416666666666668,{"$f":"'OptiMaxx plus'!$T$7+A369","v":74.416666666666671},365,{"$f":"+'No Deducible 93'!AD388","v":5136607.5907197874},{"$f":"+'Deducible 151'!AD388","v":4876506.8455211241},{"$f":"+'Deducible 185'!AD388","v":5136812.6437116824},null,365,{"$f":"+'No Deducible 93'!Y388","v":4918695.0673889006},{"$f":"+'Deducible 151'!Y388","v":4696743.2485045101},{"$f":"+'Deducible 185'!Y388","v":4918695.0673889006}]
[30.5,{"$f":"'OptiMaxx plus'!$T$7+A370","v":74.5},366,{"$f":"+'No Deducible 93'!AD389","v":5184184.3935467387},{"$f":"+'Deducible 151'!AD389","v":4921156.5027955873},{"$f":"+'Deducible 185'!AD389","v":5184391.0225140722},null,366,{"$f":"+'No Deducible 93'!Y389","v":4966473.9097233275},{"$f":"+'Deducible 151'!Y389","v":4741810.3236935884},{"$f":"+'Deducible 185'!Y389","v":4966473.9097233275}]
[30.583333333333332,{"$f":"'OptiMaxx plus'!$T$7+A371","v":74.583333333333329},367,{"$f":"+'No Deducible 93'!AD390","v":5234144.0030224435},{"$f":"+'Deducible 151'!AD390","v":4968024.7906285468},{"$f":"+'Deducible 185'!AD390","v":5234352.3840596359},null,367,{"$f":"+'No Deducible 93'!Y390","v":5014657.8833934432},{"$f":"+'Deducible 151'!Y390","v":4787252.2571667964},{"$f":"+'Deducible 185'!Y390","v":5014657.8833934432}]
[30.666666666666668,{"$f":"'OptiMaxx plus'!$T$7+A372","v":74.666666666666671},368,{"$f":"+'No Deducible 93'!AD391","v":5284526.7987483954},{"$f":"+'Deducible 151'!AD391","v":5015282.5133048939},{"$f":"+'Deducible 185'!AD391","v":5284736.9467117796},null,368,{"$f":"+'No Deducible 93'!Y391","v":5063250.4236310609},{"$f":"+'Deducible 151'!Y391","v":4833072.1669150963},{"$f":"+'Deducible 185'!Y391","v":5063250.4236310609}]
[30.75,{"$f":"'OptiMaxx plus'!$T$7+A373","v":74.75},369,{"$f":"+'No Deducible 93'!AD392","v":5333326.6242573271},{"$f":"+'Deducible 151'!AD392","v":5061060.5266128862},{"$f":"+'Deducible 185'!AD392","v":5333538.3730319943},null,369,{"$f":"+'No Deducible 93'!Y392","v":5112254.9947963692},{"$f":"+'Deducible 151'!Y392","v":4879273.1968642343},{"$f":"+'Deducible 185'!Y392","v":5112254.9947963692}]
[30.833333333333332,{"$f":"'OptiMaxx plus'!$T$7+A374","v":74.833333333333329},370,{"$f":"+'No Deducible 93'!AD393","v":5384550.184594865},{"$f":"+'Deducible 151'!AD393","v":5109091.8822796028},{"$f":"+'Deducible 185'!AD393","v":5384763.7288517952},null,370,{"$f":"+'No Deducible 93'!Y393","v":5161675.0906249192},{"$f":"+'Deducible 151'!Y393","v":4925858.5170904547},{"$f":"+'Deducible 185'!Y393","v":5161675.0906249192}]
[30.916666666666668,{"$f":"'OptiMaxx plus'!$T$7+A375","v":74.916666666666671},371,{"$f":"+'No Deducible 93'!AD394","v":5436207.6444432195},{"$f":"+'Deducible 151'!AD394","v":5157522.3430707995},{"$f":"+'Deducible 185'!AD394","v":5436422.9994068518},null,371,{"$f":"+'No Deducible 93'!Y394","v":5211514.2344767088},{"$f":"+'Deducible 151'!Y394","v":4972831.3240380203},{"$f":"+'Deducible 185'!Y394","v":5211514.2344767088}]
[31,{"$f":"'OptiMaxx plus'!$T$7+A376","v":75},372,{"$f":"+'No Deducible 93'!AD395","v":5486261.8991493834},{"$f":"+'Deducible 151'!AD395","v":5204457.1676175185},{"$f":"+'Deducible 185'!AD395","v":5486478.8801508481},null,372,{"$f":"+'No Deducible 93'!Y395","v":5261775.979587377},{"$f":"+'Deducible 151'!Y395","v":5020194.8407385321},{"$f":"+'Deducible 185'!Y395","v":5261775.979587377}]
[31.083333333333332,{"$f":"'OptiMaxx plus'!$T$7+A377","v":75.083333333333329},373,{"$f":"+'No Deducible 93'!AD396","v":5539084.3647525217},{"$f":"+'Deducible 151'!AD396","v":5253979.8856481388},{"$f":"+'Deducible 185'!AD396","v":5539303.185601891},null,373,{"$f":"+'No Deducible 93'!Y396","v":5312766.70775476},{"$f":"+'Deducible 151'!Y396","v":5068251.5666709272},{"$f":"+'Deducible 185'!Y396","v":5312766.70775476}]
[31.166666666666668,{"$f":"'OptiMaxx plus'!$T$7+A378","v":75.166666666666671},374,{"$f":"+'No Deducible 93'!AD397","v":5592354.2832675995},{"$f":"+'Deducible 151'!AD397","v":5303914.1097310595},{"$f":"+'Deducible 185'!AD397","v":5592574.9595655026},null,374,{"$f":"+'No Deducible 93'!Y397","v":5364189.8018146791},{"$f":"+'Deducible 151'!Y397","v":5116708.0181623539},{"$f":"+'Deducible 185'!Y397","v":5364189.8018146791}]
[31.25,{"$f":"'OptiMaxx plus'!$T$7+A379","v":75.25},375,{"$f":"+'No Deducible 93'!AD398","v":5644003.1350520412},{"$f":"+'Deducible 151'!AD398","v":5352339.1660900842},{"$f":"+'Deducible 185'!AD398","v":5644225.4630111624},null,375,{"$f":"+'No Deducible 93'!Y398","v":5416048.9279290363},{"$f":"+'Deducible 151'!Y398","v":5165567.520044446},{"$f":"+'Deducible 185'!Y398","v":5416048.9279290363}]
[31.333333333333332,{"$f":"'OptiMaxx plus'!$T$7+A380","v":75.333333333333329},376,{"$f":"+'No Deducible 93'!AD399","v":5698162.4522268586},{"$f":"+'Deducible 151'!AD399","v":5403091.2990814308},{"$f":"+'Deducible 185'!AD399","v":5698386.6653723642},null,376,{"$f":"+'No Deducible 93'!Y399","v":5468347.7833462367},{"$f":"+'Deducible 151'!Y399","v":5214833.4248040719},{"$f":"+'Deducible 185'!Y399","v":5468347.7833462367}]
[31.416666666666668,{"$f":"'OptiMaxx plus'!$T$7+A381","v":75.416666666666671},377,{"$f":"+'No Deducible 93'!AD400","v":5752780.553641675},{"$f":"+'Deducible 151'!AD400","v":5454265.1601932272},{"$f":"+'Deducible 185'!AD400","v":5753006.6679586349},null,377,{"$f":"+'No Deducible 93'!Y400","v":5521090.0966647808},{"$f":"+'Deducible 151'!Y400","v":5264509.1128133722},{"$f":"+'Deducible 185'!Y400","v":5521090.0966647808}]
[31.5,{"$f":"'OptiMaxx plus'!$T$7+A382","v":75.5},378,{"$f":"+'No Deducible 93'!AD401","v":5805756.9870563494},{"$f":"+'Deducible 151'!AD401","v":5503913.7621069727},{"$f":"+'Deducible 185'!AD401","v":5805984.7790609822},null,378,{"$f":"+'No Deducible 93'!Y401","v":5574279.6280990858},{"$f":"+'Deducible 151'!Y401","v":5314597.9925616961},{"$f":"+'Deducible 185'!Y401","v":5574279.6280990858}]
[31.583333333333332,{"$f":"'OptiMaxx plus'!$T$7+A383","v":75.583333333333329},379,{"$f":"+'No Deducible 93'!AD402","v":5861287.1734677125},{"$f":"+'Deducible 151'!AD402","v":5555926.0182300787},{"$f":"+'Deducible 185'!AD402","v":5861516.8969900329},null,379,{"$f":"+'No Deducible 93'!Y402","v":5627920.1697475752},{"$f":"+'Deducible 151'!Y402","v":5365103.5008894792},{"$f":"+'Deducible 185'!Y402","v":5627920.1697475752}]
[31.666666666666668,{"$f":"'OptiMaxx plus'!$T$7+A384","v":75.666666666666671},380,{"$f":"+'No Deducible 93'!AD403","v":5917287.7638527909},{"$f":"+'Deducible 151'!AD403","v":5608370.4799281741},{"$f":"+'Deducible 185'!AD403","v":5917519.4352707257},null,380,{"$f":"+'No Deducible 93'!Y403","v":5682015.5458630249},{"$f":"+'Deducible 151'!Y403","v":5416029.1032240614},{"$f":"+'Deducible 185'!Y403","v":5682015.5458630249}]
[31.75,{"$f":"'OptiMaxx plus'!$T$7+A385","v":75.75},381,{"$f":"+'No Deducible 93'!AD404","v":5971625.8690452091},{"$f":"+'Deducible 151'!AD404","v":5659273.4803323243},{"$f":"+'Deducible 185'!AD404","v":5971859.244586668},null,381,{"$f":"+'No Deducible 93'!Y404","v":5736569.6131252144},{"$f":"+'Deducible 151'!Y404","v":5467378.2938174615},{"$f":"+'Deducible 185'!Y404","v":5736569.6131252144}]
[31.833333333333332,{"$f":"'OptiMaxx plus'!$T$7+A386","v":75.833333333333329},382,{"$f":"+'No Deducible 93'!AD405","v":6028561.8106941804},{"$f":"+'Deducible 151'!AD405","v":5712577.3373007225},{"$f":"+'Deducible 185'!AD405","v":6028797.1650978345},null,382,{"$f":"+'No Deducible 93'!Y405","v":5791586.2609158829},{"$f":"+'Deducible 151'!Y405","v":5519154.5959861418},{"$f":"+'Deducible 185'!Y405","v":5791586.2609158829}]
[31.916666666666668,{"$f":"'OptiMaxx plus'!$T$7+A387","v":75.916666666666671},383,{"$f":"+'No Deducible 93'!AD406","v":6085980.071818742},{"$f":"+'Deducible 151'!AD406","v":5766324.1390855704},{"$f":"+'Deducible 185'!AD406","v":6086217.4218639666},null,383,{"$f":"+'No Deducible 93'!Y406","v":5847069.4115960225},{"$f":"+'Deducible 151'!Y406","v":5571361.562352756},{"$f":"+'Deducible 185'!Y406","v":5847069.4115960225}]
[32,{"$f":"'OptiMaxx plus'!$T$7+A388","v":76},384,{"$f":"+'No Deducible 93'!AD407","v":6141714.8139225328},{"$f":"+'Deducible 151'!AD407","v":5818513.1681191856},{"$f":"+'Deducible 185'!AD407","v":6141953.894942956},null,384,{"$f":"+'No Deducible 93'!Y407","v":5903023.0207855161},{"$f":"+'Deducible 151'!Y407","v":5624002.7750899112},{"$f":"+'Deducible 185'!Y407","v":5903023.0207855161}]
[32.083333333333336,{"$f":"'OptiMaxx plus'!$T$7+A389","v":76.083333333333343},385,{"$f":"+'No Deducible 93'!AD408","v":6200410.1864049239},{"$f":"+'Deducible 151'!AD408","v":5873455.0657861801},{"$f":"+'Deducible 185'!AD408","v":6200651.2946660332},null,385,{"$f":"+'No Deducible 93'!Y408","v":5959768.9766968098},{"$f":"+'Deducible 151'!Y408","v":5677396.0194441527},{"$f":"+'Deducible 185'!Y408","v":5959768.9766968098}]
[{"$f":"+C390/12","v":32.166666666666664},{"$f":"'OptiMaxx plus'!$T$7+A390","v":76.166666666666657},386,{"$f":"+'No Deducible 93'!AD409","v":6259602.792746474},{"$f":"+'Deducible 151'!AD409","v":5928853.5290852971},{"$f":"+'Deducible 185'!AD409","v":6259845.9454378607},null,386,{"$f":"+'No Deducible 93'!Y409","v":6016996.0988270827},{"$f":"+'Deducible 151'!Y409","v":5731233.3773752954},{"$f":"+'Deducible 185'!Y409","v":6016996.0988270827}]
[32.25,{"$f":"'OptiMaxx plus'!$T$7+A391","v":76.25},{"$f":"+C390+1","v":387},{"$f":"+'No Deducible 93'!AD410","v":6317093.3473682571},{"$f":"+'Deducible 151'!AD410","v":5982680.43512535},{"$f":"+'Deducible 185'!AD410","v":6317338.2583088716},null,{"$f":"+H390+1","v":387},{"$f":"+'No Deducible 93'!Y410","v":6074708.4671310494},{"$f":"+'Deducible 151'!Y410","v":5785518.5429250039},{"$f":"+'Deducible 185'!Y410","v":6074708.4671310494}]
[32.333333333333336,{"$f":"'OptiMaxx plus'!$T$7+A392","v":76.333333333333343},388,{"$f":"+'No Deducible 93'!AD411","v":6377275.0969466288},{"$f":"+'Deducible 151'!AD411","v":6038987.1805217806},{"$f":"+'Deducible 185'!AD411","v":6377522.0845615957},null,388,{"$f":"+'No Deducible 93'!Y411","v":6132910.1961586},{"$f":"+'Deducible 151'!Y411","v":5840255.2408611886},{"$f":"+'Deducible 185'!Y411","v":6132910.1961586}]
[32.416666666666664,{"$f":"'OptiMaxx plus'!$T$7+A393","v":76.416666666666657},389,{"$f":"+'No Deducible 93'!AD412","v":6437966.6794204041},{"$f":"+'Deducible 151'!AD412","v":6095761.8399666818},{"$f":"+'Deducible 185'!AD412","v":6438215.7613184769},null,389,{"$f":"+'No Deducible 93'!Y412","v":6191605.4353481457},{"$f":"+'Deducible 151'!Y412","v":5895447.2269335827},{"$f":"+'Deducible 185'!Y412","v":6191605.4353481457}]
[32.5,{"$f":"'OptiMaxx plus'!$T$7+A394","v":76.5},390,{"$f":"+'No Deducible 93'!AD413","v":6496934.8109111954},{"$f":"+'Deducible 151'!AD413","v":6150948.4824087592},{"$f":"+'Deducible 185'!AD413","v":6497185.6787615055},null,390,{"$f":"+'No Deducible 93'!Y413","v":6250798.3693224462},{"$f":"+'Deducible 151'!Y413","v":5951098.2881314429},{"$f":"+'Deducible 185'!Y413","v":6250798.3693224462}]
[32.583333333333336,{"$f":"'OptiMaxx plus'!$T$7+A395","v":76.583333333333343},391,{"$f":"+'No Deducible 93'!AD414","v":6558640.7733471124},{"$f":"+'Deducible 151'!AD414","v":6208654.1786475256},{"$f":"+'Deducible 185'!AD414","v":6558893.7683822252},null,391,{"$f":"+'No Deducible 93'!Y414","v":6310493.2181869512},{"$f":"+'Deducible 151'!Y414","v":6007212.2429433893},{"$f":"+'Deducible 185'!Y414","v":6310493.2181869512}]
[32.666666666666664,{"$f":"'OptiMaxx plus'!$T$7+A396","v":76.666666666666657},392,{"$f":"+'No Deducible 93'!AD415","v":6620869.4884935683},{"$f":"+'Deducible 151'!AD415","v":6266839.4209744483},{"$f":"+'Deducible 185'!AD415","v":6621124.628750531},null,392,{"$f":"+'No Deducible 93'!Y415","v":6370694.2378306678},{"$f":"+'Deducible 151'!Y415","v":6063792.9416194158},{"$f":"+'Deducible 185'!Y415","v":6370694.2378306678}]
[32.75,{"$f":"'OptiMaxx plus'!$T$7+A397","v":76.75},393,{"$f":"+'No Deducible 93'!AD416","v":6681353.1367688095},{"$f":"+'Deducible 151'!AD416","v":6323420.0831837906},{"$f":"+'Deducible 185'!AD416","v":6681610.0911167366},null,393,{"$f":"+'No Deducible 93'!Y416","v":6431405.720229581},{"$f":"+'Deducible 151'!Y416","v":6120844.26643507},{"$f":"+'Deducible 185'!Y416","v":6431405.720229581}]
[32.833333333333336,{"$f":"'OptiMaxx plus'!$T$7+A398","v":76.833333333333343},394,{"$f":"+'No Deducible 93'!AD417","v":6744622.1138250902},{"$f":"+'Deducible 151'!AD417","v":6382559.6881633038},{"$f":"+'Deducible 185'!AD417","v":6744881.2469670838},null,394,{"$f":"+'No Deducible 93'!Y417","v":6492631.9937526453},{"$f":"+'Deducible 151'!Y417","v":6178370.1319578355},{"$f":"+'Deducible 185'!Y417","v":6492631.9937526453}]
[32.916666666666664,{"$f":"'OptiMaxx plus'!$T$7+A399","v":76.916666666666657},395,{"$f":"+'No Deducible 93'!AD418","v":6808427.0923765544},{"$f":"+'Deducible 151'!AD418","v":6442190.7620035391},{"$f":"+'Deducible 185'!AD418","v":6808688.4227872714},null,395,{"$f":"+'No Deducible 93'!Y418","v":6554377.4234703714},{"$f":"+'Deducible 151'!Y418","v":6236374.4853157327},{"$f":"+'Deducible 185'!Y418","v":6554377.4234703714}]
[33,{"$f":"'OptiMaxx plus'!$T$7+A400","v":77},396,{"$f":"+'No Deducible 93'!AD419","v":6870465.1711257091},{"$f":"+'Deducible 151'!AD419","v":6500200.5909138881},{"$f":"+'Deducible 185'!AD419","v":6870728.3442086754},null,396,{"$f":"+'No Deducible 93'!Y419","v":6616646.4114660304},{"$f":"+'Deducible 151'!Y419","v":6294861.3064681459},{"$f":"+'Deducible 185'!Y419","v":6616646.4114660304}]
[33.083333333333336,{"$f":"'OptiMaxx plus'!$T$7+A401","v":77.083333333333343},397,{"$f":"+'No Deducible 93'!AD420","v":6935670.7080151606},{"$f":"+'Deducible 151'!AD420","v":6561139.7799418606},{"$f":"+'Deducible 185'!AD420","v":6935936.1126227397},null,397,{"$f":"+'No Deducible 93'!Y420","v":6679777.1498904414},{"$f":"+'Deducible 151'!Y420","v":6354164.449641319},{"$f":"+'Deducible 185'!Y420","v":6679777.1498904414}]
[33.166666666666664,{"$f":"'OptiMaxx plus'!$T$7+A402","v":77.166666666666657},398,{"$f":"+'No Deducible 93'!AD421","v":7001428.6625450701},{"$f":"+'Deducible 151'!AD421","v":6622585.4021722507},{"$f":"+'Deducible 185'!AD421","v":7001696.3175990377},null,398,{"$f":"+'No Deducible 93'!Y421","v":6743443.1930466397},{"$f":"+'Deducible 151'!Y421","v":6413960.8636646671},{"$f":"+'Deducible 185'!Y421","v":6743443.1930466397}]
[33.25,{"$f":"'OptiMaxx plus'!$T$7+A403","v":77.25},399,{"$f":"+'No Deducible 93'!AD422","v":7065400.520938836},{"$f":"+'Deducible 151'!AD422","v":6682395.7811065763},{"$f":"+'Deducible 185'!AD422","v":7065670.0476958407},null,399,{"$f":"+'No Deducible 93'!Y422","v":6807649.0799462553},{"$f":"+'Deducible 151'!Y422","v":6474254.6514595291},{"$f":"+'Deducible 185'!Y422","v":6807649.0799462553}]
[33.333333333333336,{"$f":"'OptiMaxx plus'!$T$7+A404","v":77.333333333333343},400,{"$f":"+'No Deducible 93'!AD423","v":7132258.2356074229},{"$f":"+'Deducible 151'!AD423","v":6744849.7447086312},{"$f":"+'Deducible 185'!AD423","v":7132530.0477637742},null,400,{"$f":"+'No Deducible 93'!Y423","v":6872399.3880885774},{"$f":"+'Deducible 151'!Y423","v":6535049.950074465},{"$f":"+'Deducible 185'!Y423","v":6872399.3880885774}]
[33.416666666666664,{"$f":"'OptiMaxx plus'!$T$7+A405","v":77.416666666666657},401,{"$f":"+'No Deducible 93'!AD424","v":7199682.3726565596},{"$f":"+'Deducible 151'!AD424","v":6807822.7368303677},{"$f":"+'Deducible 185'!AD424","v":7199956.4895908535},null,401,{"$f":"+'No Deducible 93'!Y424","v":6937698.7337869033},{"$f":"+'Deducible 151'!Y424","v":6596350.9309691209},{"$f":"+'Deducible 185'!Y424","v":6937698.7337869033}]
[33.5,{"$f":"'OptiMaxx plus'!$T$7+A406","v":77.5},402,{"$f":"+'No Deducible 93'!AD425","v":7265298.2188016083},{"$f":"+'Deducible 151'!AD425","v":6869143.6924855737},{"$f":"+'Deducible 185'!AD425","v":7265574.2369262874},null,402,{"$f":"+'No Deducible 93'!Y425","v":7003551.7724976558},{"$f":"+'Deducible 151'!Y425","v":6658161.800300451},{"$f":"+'Deducible 185'!Y425","v":7003551.7724976558}]
[33.583333333333336,{"$f":"'OptiMaxx plus'!$T$7+A407","v":77.583333333333343},403,{"$f":"+'No Deducible 93'!AD426","v":7333850.1814651983},{"$f":"+'Deducible 151'!AD426","v":6933150.2926785359},{"$f":"+'Deducible 185'!AD426","v":7334128.5400315057},null,403,{"$f":"+'No Deducible 93'!Y426","v":7069963.199152289},{"$f":"+'Deducible 151'!Y426","v":6720486.7992113214},{"$f":"+'Deducible 185'!Y426","v":7069963.199152289}]
[33.666666666666664,{"$f":"'OptiMaxx plus'!$T$7+A408","v":77.666666666666657},404,{"$f":"+'No Deducible 93'!AD427","v":7402982.9279319225},{"$f":"+'Deducible 151'!AD427","v":6997688.8315960299},{"$f":"+'Deducible 185'!AD427","v":7403263.6467851745},null,404,{"$f":"+'No Deducible 93'!Y427","v":7136937.7484920071},{"$f":"+'Deducible 151'!Y427","v":6783330.2041215179},{"$f":"+'Deducible 185'!Y427","v":7136937.7484920071}]
[33.75,{"$f":"'OptiMaxx plus'!$T$7+A409","v":77.75},{"$f":"+C408+1","v":405},{"$f":"+'No Deducible 93'!AD428","v":7470284.9727448532},{"$f":"+'Deducible 151'!AD428","v":7060558.4465753091},{"$f":"+'Deducible 185'!AD428","v":7470567.6227395637}]
[33.833333333333336,{"$f":"'OptiMaxx plus'!$T$7+A410","v":77.833333333333343},406,{"$f":"+'No Deducible 93'!AD429","v":7540574.3279480739},{"$f":"+'Deducible 151'!AD429","v":7126156.4945520032},{"$f":"+'Deducible 185'!AD429","v":7540859.3746180553}]
[33.916666666666664,{"$f":"'OptiMaxx plus'!$T$7+A411","v":77.916666666666657},407,{"$f":"+'No Deducible 93'!AD430","v":7611459.1941686468},{"$f":"+'Deducible 151'!AD430","v":7192299.7142403116},{"$f":"+'Deducible 185'!AD430","v":7611746.6578360377}]
[34,{"$f":"'OptiMaxx plus'!$T$7+A412","v":78},408,{"$f":"+'No Deducible 93'!AD431","v":7680490.7319359249},{"$f":"+'Deducible 151'!AD431","v":7256757.0303631211},{"$f":"+'Deducible 185'!AD431","v":7680780.1571668517}]
[34.083333333333336,{"$f":"'OptiMaxx plus'!$T$7+A413","v":78.083333333333343},409,{"$f":"+'No Deducible 93'!AD432","v":7752912.1230909862},{"$f":"+'Deducible 151'!AD432","v":7324332.6007332262},{"$f":"+'Deducible 185'!AD432","v":7753204.0024464726}]
[34.166666666666664,{"$f":"'OptiMaxx plus'!$T$7+A414","v":78.166666666666657},410,{"$f":"+'No Deducible 93'!AD433","v":7825947.0987346377},{"$f":"+'Deducible 151'!AD433","v":7392469.7870466383},{"$f":"+'Deducible 185'!AD433","v":7826241.4530239515}]
[34.25,{"$f":"'OptiMaxx plus'!$T$7+A415","v":78.25},411,{"$f":"+'No Deducible 93'!AD434","v":7897108.8994088853},{"$f":"+'Deducible 151'!AD434","v":7458906.9046021942},{"$f":"+'Deducible 185'!AD434","v":7897405.2461622115}]
[34.333333333333336,{"$f":"'OptiMaxx plus'!$T$7+A416","v":78.333333333333343},412,{"$f":"+'No Deducible 93'!AD435","v":7971366.2949730577},{"$f":"+'Deducible 151'!AD435","v":7528163.2017861204},{"$f":"+'Deducible 185'!AD435","v":7971665.1545406375}]
[34.416666666666664,{"$f":"'OptiMaxx plus'!$T$7+A417","v":78.416666666666657},413,{"$f":"+'No Deducible 93'!AD436","v":8046252.838310645},{"$f":"+'Deducible 151'!AD436","v":7597995.0904212091},{"$f":"+'Deducible 185'!AD436","v":8046554.2319993936}]
[34.5,{"$f":"'OptiMaxx plus'!$T$7+A418","v":78.5},414,{"$f":"+'No Deducible 93'!AD437","v":8119243.2247871701},{"$f":"+'Deducible 151'!AD437","v":7666109.8263464114},{"$f":"+'Deducible 185'!AD437","v":8119546.6423263112}]
[34.583333333333336,{"$f":"'OptiMaxx plus'!$T$7+A419","v":78.583333333333343},415,{"$f":"+'No Deducible 93'!AD438","v":8195383.390625963},{"$f":"+'Deducible 151'!AD438","v":7737088.8737149565},{"$f":"+'Deducible 185'!AD438","v":8195689.3809347004}]
[34.666666666666664,{"$f":"'OptiMaxx plus'!$T$7+A420","v":78.666666666666657},416,{"$f":"+'No Deducible 93'!AD439","v":8272168.6640196387},{"$f":"+'Deducible 151'!AD439","v":7808657.8375417823},{"$f":"+'Deducible 185'!AD439","v":8272477.2489132686}]
[34.75,{"$f":"'OptiMaxx plus'!$T$7+A421","v":78.75},417,{"$f":"+'No Deducible 93'!AD440","v":8347034.5849028239},{"$f":"+'Deducible 151'!AD440","v":7878492.4815449892},{"$f":"+'Deducible 185'!AD440","v":8347345.2255267575}]
[34.833333333333336,{"$f":"'OptiMaxx plus'!$T$7+A422","v":78.833333333333343},418,{"$f":"+'No Deducible 93'!AD441","v":8425105.4813494813},{"$f":"+'Deducible 151'!AD441","v":7951237.3561507277},{"$f":"+'Deducible 185'!AD441","v":8425418.7559897453}]
[34.916666666666664,{"$f":"'OptiMaxx plus'!$T$7+A423","v":78.916666666666657},419,{"$f":"+'No Deducible 93'!AD442","v":8503837.8517569546},{"$f":"+'Deducible 151'!AD442","v":8024586.8304850245},{"$f":"+'Deducible 185'!AD442","v":8504153.7827481721}]
[35,{"$f":"'OptiMaxx plus'!$T$7+A424","v":79},420,{"$f":"+'No Deducible 93'!AD443","v":8580627.4605910182},{"$f":"+'Deducible 151'!AD443","v":8096184.7374042114},{"$f":"+'Deducible 185'!AD443","v":8580945.4796937276}]
[35.083333333333336,{"$f":"'OptiMaxx plus'!$T$7+A425","v":79.083333333333343},421,{"$f":"+'No Deducible 93'!AD444","v":8661046.144433476},{"$f":"+'Deducible 151'!AD444","v":8171103.1564209005},{"$f":"+'Deducible 185'!AD444","v":8661366.8601168822}]
[35.166666666666664,{"$f":"'OptiMaxx plus'!$T$7+A426","v":79.166666666666657},422,{"$f":"+'No Deducible 93'!AD445","v":8742146.2049478143},{"$f":"+'Deducible 151'!AD445","v":8246644.2496976499},{"$f":"+'Deducible 185'!AD445","v":8742469.6400770415}]
[35.25,{"$f":"'OptiMaxx plus'!$T$7+A427","v":79.25},423,{"$f":"+'No Deducible 93'!AD446","v":8821283.0276010111},{"$f":"+'Deducible 151'!AD446","v":8320419.4994754959},{"$f":"+'Deducible 185'!AD446","v":8821608.583732063}]
[35.333333333333336,{"$f":"'OptiMaxx plus'!$T$7+A428","v":79.333333333333343},424,{"$f":"+'No Deducible 93'!AD447","v":8903741.506592473},{"$f":"+'Deducible 151'!AD447","v":8397202.3150972612},{"$f":"+'Deducible 185'!AD447","v":8904069.8232129756}]
[35.416666666666664,{"$f":"'OptiMaxx plus'!$T$7+A429","v":79.416666666666657},425,{"$f":"+'No Deducible 93'!AD448","v":8986898.6533602718},{"$f":"+'Deducible 151'!AD448","v":8474623.3080419619},{"$f":"+'Deducible 185'!AD448","v":8987229.7538772542}]
[35.5,{"$f":"'OptiMaxx plus'!$T$7+A430","v":79.5},426,{"$f":"+'No Deducible 93'!AD449","v":9068068.8085205015},{"$f":"+'Deducible 151'!AD449","v":8550261.1342558283},{"$f":"+'Deducible 185'!AD449","v":9068402.0634467732}]
[35.583333333333336,{"$f":"'OptiMaxx plus'!$T$7+A431","v":79.583333333333343},427,{"$f":"+'No Deducible 93'!AD450","v":9152619.0550109837},{"$f":"+'Deducible 151'!AD450","v":8628954.9761899114},{"$f":"+'Deducible 185'!AD450","v":9152955.1357071325}]
[35.666666666666664,{"$f":"'OptiMaxx plus'!$T$7+A432","v":79.666666666666657},428,{"$f":"+'No Deducible 93'!AD451","v":9237885.7010245193},{"$f":"+'Deducible 151'!AD451","v":8708302.8863219544},{"$f":"+'Deducible 185'!AD451","v":9238224.6314511057}]
[35.75,{"$f":"'OptiMaxx plus'!$T$7+A433","v":79.75},429,{"$f":"+'No Deducible 93'!AD452","v":9321141.3919976521},{"$f":"+'Deducible 151'!AD452","v":8785850.2368191648},{"$f":"+'Deducible 185'!AD452","v":9321482.5107662398}]
[35.833333333333336,{"$f":"'OptiMaxx plus'!$T$7+A434","v":79.833333333333343},430,{"$f":"+'No Deducible 93'!AD453","v":9407836.7060274761},{"$f":"+'Deducible 151'!AD453","v":8866502.9041451961},{"$f":"+'Deducible 185'!AD453","v":9408180.7172458507}]
[35.916666666666664,{"$f":"'OptiMaxx plus'!$T$7+A435","v":79.916666666666657},431,{"$f":"+'No Deducible 93'!AD454","v":9495266.6032267567},{"$f":"+'Deducible 151'!AD454","v":8947825.928082535},{"$f":"+'Deducible 185'!AD454","v":9495613.5314208791}]
[36,{"$f":"'OptiMaxx plus'!$T$7+A436","v":80},432,{"$f":"+'No Deducible 93'!AD455","v":9580661.3730937988},{"$f":"+'Deducible 151'!AD455","v":9027330.9331052899},{"$f":"+'Deducible 185'!AD455","v":9581010.5240961257}]
[36.083333333333336,{"$f":"'OptiMaxx plus'!$T$7+A437","v":80.083333333333343},433,{"$f":"+'No Deducible 93'!AD456","v":9669942.6336143706},{"$f":"+'Deducible 151'!AD456","v":9110373.1144315097},{"$f":"+'Deducible 185'!AD456","v":9670294.7451742385}]
[36.166666666666664,{"$f":"'OptiMaxx plus'!$T$7+A438","v":80.166666666666657},434,{"$f":"+'No Deducible 93'!AD457","v":9759980.3992495164},{"$f":"+'Deducible 151'!AD457","v":9194105.5231134258},{"$f":"+'Deducible 185'!AD457","v":9760335.4964703918}]
[36.25,{"$f":"'OptiMaxx plus'!$T$7+A439","v":80.25},435,{"$f":"+'No Deducible 93'!AD458","v":9847961.9599706866},{"$f":"+'Deducible 151'!AD458","v":9276005.5919049103},{"$f":"+'Deducible 185'!AD458","v":9848319.31500783}]
[36.333333333333336,{"$f":"'OptiMaxx plus'!$T$7+A440","v":80.333333333333343},436,{"$f":"+'No Deducible 93'!AD459","v":9939508.9160372652},{"$f":"+'Deducible 151'!AD459","v":9361115.4270199891},{"$f":"+'Deducible 185'!AD459","v":9939869.3011964541}]
[36.416666666666664,{"$f":"'OptiMaxx plus'!$T$7+A441","v":80.416666666666657},437,{"$f":"+'No Deducible 93'!AD460","v":10031831.5836099},{"$f":"+'Deducible 151'!AD460","v":9446932.6830257773},{"$f":"+'Deducible 185'!AD460","v":10032195.024584463}]
[36.5,{"$f":"'OptiMaxx plus'!$T$7+A442","v":80.5},438,{"$f":"+'No Deducible 93'!AD461","v":10122073.543950602},{"$f":"+'Deducible 151'!AD461","v":9530900.098165771},{"$f":"+'Deducible 185'!AD461","v":10122439.278299859}]
[36.583333333333336,{"$f":"'OptiMaxx plus'!$T$7+A443","v":80.583333333333343},439,{"$f":"+'No Deducible 93'!AD462","v":10215943.94018689},{"$f":"+'Deducible 151'!AD462","v":9618129.3150964919},{"$f":"+'Deducible 185'!AD462","v":10216312.775708927}]
[36.666666666666664,{"$f":"'OptiMaxx plus'!$T$7+A444","v":80.666666666666657},440,{"$f":"+'No Deducible 93'!AD463","v":10310609.743906008},{"$f":"+'Deducible 151'!AD463","v":9706083.5766701289},{"$f":"+'Deducible 185'!AD463","v":10310981.706896616}]
[36.75,{"$f":"'OptiMaxx plus'!$T$7+A445","v":80.75},441,{"$f":"+'No Deducible 93'!AD464","v":10403170.134609101},{"$f":"+'Deducible 151'!AD464","v":9792170.4428836852},{"$f":"+'Deducible 185'!AD464","v":10403544.427091828}]
[36.833333333333336,{"$f":"'OptiMaxx plus'!$T$7+A446","v":80.833333333333343},442,{"$f":"+'No Deducible 93'!AD465","v":10499423.191043638},{"$f":"+'Deducible 151'!AD465","v":9881572.0670866035},{"$f":"+'Deducible 185'!AD465","v":10499800.657266164}]
[36.916666666666664,{"$f":"'OptiMaxx plus'!$T$7+A447","v":80.916666666666657},443,{"$f":"+'No Deducible 93'!AD466","v":10596491.853033014},{"$f":"+'Deducible 151'!AD466","v":9971716.8006931301},{"$f":"+'Deducible 185'!AD466","v":10596872.519906443}]
[37,{"$f":"'OptiMaxx plus'!$T$7+A448","v":81},444,{"$f":"+'No Deducible 93'!AD467","v":10691430.194146719},{"$f":"+'Deducible 151'!AD467","v":10059976.534917837},{"$f":"+'Deducible 185'!AD467","v":10691813.227197461}]
[37.083333333333336,{"$f":"'OptiMaxx plus'!$T$7+A449","v":81.083333333333343},445,{"$f":"+'No Deducible 93'!AD468","v":10790532.121948704},{"$f":"+'Deducible 151'!AD468","v":10152005.64765035},{"$f":"+'Deducible 185'!AD468","v":10790918.40285318}]
[37.166666666666664,{"$f":"'OptiMaxx plus'!$T$7+A450","v":81.166666666666657},446,{"$f":"+'No Deducible 93'!AD469","v":10890473.806473965},{"$f":"+'Deducible 151'!AD469","v":10244799.71976932},{"$f":"+'Deducible 185'!AD469","v":10890863.362771714}]
[37.25,{"$f":"'OptiMaxx plus'!$T$7+A451","v":81.25},447,{"$f":"+'No Deducible 93'!AD470","v":10988263.529044025},{"$f":"+'Deducible 151'!AD470","v":10335694.503999623},{"$f":"+'Deducible 185'!AD470","v":10988655.488780957}]
[37.333333333333336,{"$f":"'OptiMaxx plus'!$T$7+A452","v":81.333333333333343},448,{"$f":"+'No Deducible 93'!AD471","v":11089881.537521105},{"$f":"+'Deducible 151'!AD471","v":10430016.181232773},{"$f":"+'Deducible 185'!AD471","v":11090276.820803858}]
[37.416666666666664,{"$f":"'OptiMaxx plus'!$T$7+A453","v":81.416666666666657},449,{"$f":"+'No Deducible 93'!AD472","v":11192360.632006053},{"$f":"+'Deducible 151'!AD472","v":10525121.881962068},{"$f":"+'Deducible 185'!AD472","v":11192759.267015982}]
[{"$f":"+C454/12","v":37.5},{"$f":"'OptiMaxx plus'!$T$7+A454","v":81.5},450,{"$f":"+'No Deducible 93'!AD473","v":11292662.546216259},{"$f":"+'Deducible 151'!AD473","v":10618310.688971227},{"$f":"+'Deducible 185'!AD473","v":11293063.622512966}]
[37.583333333333336,{"$f":"'OptiMaxx plus'!$T$7+A455","v":81.583333333333343},451,{"$f":"+'No Deducible 93'!AD474","v":11396860.778891787},{"$f":"+'Deducible 151'!AD474","v":10714982.300971361},{"$f":"+'Deducible 185'!AD474","v":11397265.256036399}]
[37.666666666666664,{"$f":"'OptiMaxx plus'!$T$7+A456","v":81.666666666666657},452,{"$f":"+'No Deducible 93'!AD475","v":11501941.970701395},{"$f":"+'Deducible 151'!AD475","v":10812457.477723703},{"$f":"+'Deducible 185'!AD475","v":11502349.877530733}]
[37.75,{"$f":"'OptiMaxx plus'!$T$7+A457","v":81.75},453,{"$f":"+'No Deducible 93'!AD476","v":11604820.569160258},{"$f":"+'Deducible 151'!AD476","v":10907998.120572219},{"$f":"+'Deducible 185'!AD476","v":11605230.955718881}]
[37.833333333333336,{"$f":"'OptiMaxx plus'!$T$7+A458","v":81.833333333333343},454,{"$f":"+'No Deducible 93'!AD477","v":11711664.808728129},{"$f":"+'Deducible 151'!AD477","v":11007078.476765698},{"$f":"+'Deducible 185'!AD477","v":11712078.675079197}]
[37.916666666666664,{"$f":"'OptiMaxx plus'!$T$7+A459","v":81.916666666666657},455,{"$f":"+'No Deducible 93'!AD478","v":11819414.438296447},{"$f":"+'Deducible 151'!AD478","v":11106982.428083986},{"$f":"+'Deducible 185'!AD478","v":11819831.81394618}]
[38,{"$f":"'OptiMaxx plus'!$T$7+A460","v":82},456,{"$f":"+'No Deducible 93'!AD479","v":11924935.868725818},{"$f":"+'Deducible 151'!AD479","v":11204934.175741663},{"$f":"+'Deducible 185'!AD479","v":11925355.763151586}]
[38.083333333333336,{"$f":"'OptiMaxx plus'!$T$7+A461","v":82.083333333333343},457,{"$f":"+'No Deducible 93'!AD480","v":12034919.278249232},{"$f":"+'Deducible 151'!AD480","v":11306904.270923689},{"$f":"+'Deducible 185'!AD480","v":12035342.733087545}]
[38.166666666666664,{"$f":"'OptiMaxx plus'!$T$7+A462","v":82.166666666666657},458,{"$f":"+'No Deducible 93'!AD481","v":12145834.690267267},{"$f":"+'Deducible 151'!AD481","v":11409721.992366744},{"$f":"+'Deducible 185'!AD481","v":12146261.735707944}]
[38.25,{"$f":"'OptiMaxx plus'!$T$7+A463","v":82.25},459,{"$f":"+'No Deducible 93'!AD482","v":12254499.74709516},{"$f":"+'Deducible 151'!AD482","v":11510573.34428102},{"$f":"+'Deducible 185'!AD482","v":12254929.350972351}]
[38.333333333333336,{"$f":"'OptiMaxx plus'!$T$7+A464","v":82.333333333333343},460,{"$f":"+'No Deducible 93'!AD483","v":12367276.736263581},{"$f":"+'Deducible 151'!AD483","v":11615084.851190003},{"$f":"+'Deducible 185'!AD483","v":12367709.982882705}]
[38.416666666666664,{"$f":"'OptiMaxx plus'!$T$7+A465","v":82.416666666666657},461,{"$f":"+'No Deducible 93'!AD484","v":12481009.410003144},{"$f":"+'Deducible 151'!AD484","v":11720465.118136037},{"$f":"+'Deducible 185'!AD484","v":12481446.33025212}]
[38.5,{"$f":"'OptiMaxx plus'!$T$7+A466","v":82.5},462,{"$f":"+'No Deducible 93'!AD485","v":12592465.837523732},{"$f":"+'Deducible 151'!AD485","v":11823861.390573006},{"$f":"+'Deducible 185'!AD485","v":12592905.356493048}]
[38.583333333333336,{"$f":"'OptiMaxx plus'!$T$7+A467","v":82.583333333333343},463,{"$f":"+'No Deducible 93'!AD486","v":12708107.64273371},{"$f":"+'Deducible 151'!AD486","v":11930977.923025191},{"$f":"+'Deducible 185'!AD486","v":12708550.888518043}]
[38.666666666666664,{"$f":"'OptiMaxx plus'!$T$7+A468","v":82.666666666666657},464,{"$f":"+'No Deducible 93'!AD487","v":12824729.418573633},{"$f":"+'Deducible 151'!AD487","v":12038984.878367513},{"$f":"+'Deducible 185'!AD487","v":12825176.42277378}]
[38.75,{"$f":"'OptiMaxx plus'!$T$7+A469","v":82.75},465,{"$f":"+'No Deducible 93'!AD488","v":12939048.873992544},{"$f":"+'Deducible 151'!AD488","v":12144990.202439267},{"$f":"+'Deducible 185'!AD488","v":12939498.517829988}]
[38.833333333333336,{"$f":"'OptiMaxx plus'!$T$7+A470","v":82.833333333333343},466,{"$f":"+'No Deducible 93'!AD489","v":13057628.552354142},{"$f":"+'Deducible 151'!AD489","v":12254776.970257269},{"$f":"+'Deducible 185'!AD489","v":13058082.008858439}]
[38.916666666666664,{"$f":"'OptiMaxx plus'!$T$7+A471","v":82.916666666666657},467,{"$f":"+'No Deducible 93'!AD490","v":13177213.106824648},{"$f":"+'Deducible 151'!AD490","v":12365476.366170315},{"$f":"+'Deducible 185'!AD490","v":13177670.40832456}]
[39,{"$f":"'OptiMaxx plus'!$T$7+A472","v":83},468,{"$f":"+'No Deducible 93'!AD491","v":13294469.086298944},{"$f":"+'Deducible 151'!AD491","v":12474156.487940198},{"$f":"+'Deducible 185'!AD491","v":13294929.068996167}]
[39.083333333333336,{"$f":"'OptiMaxx plus'!$T$7+A473","v":83.083333333333343},{"$f":"+C472+1","v":469},{"$f":"+'No Deducible 93'!AD492","v":13416508.49119179},{"$f":"+'Deducible 151'!AD492","v":12587122.027999543},{"$f":"+'Deducible 185'!AD492","v":13416972.374222202}]
[39.166666666666664,{"$f":"'OptiMaxx plus'!$T$7+A474","v":83.166666666666657},470,{"$f":"+'No Deducible 93'!AD493","v":13539582.102572225},{"$f":"+'Deducible 151'!AD493","v":12701026.63120972},{"$f":"+'Deducible 185'!AD493","v":13540049.919007938}]
[39.25,{"$f":"'OptiMaxx plus'!$T$7+A475","v":83.25},471,{"$f":"+'No Deducible 93'!AD494","v":13660304.528779373},{"$f":"+'Deducible 151'!AD494","v":12812898.021638894},{"$f":"+'Deducible 185'!AD494","v":13660775.06862556}]
[39.333333333333336,{"$f":"'OptiMaxx plus'!$T$7+A476","v":83.333333333333343},472,{"$f":"+'No Deducible 93'!AD495","v":13785445.036390748},{"$f":"+'Deducible 151'!AD495","v":12928680.279710716},{"$f":"+'Deducible 185'!AD495","v":13785919.566087401}]
[39.416666666666664,{"$f":"'OptiMaxx plus'!$T$7+A477","v":83.416666666666657},473,{"$f":"+'No Deducible 93'!AD496","v":13911646.039933691},{"$f":"+'Deducible 151'!AD496","v":13045425.02444911},{"$f":"+'Deducible 185'!AD496","v":13912124.593311967}]
[39.5,{"$f":"'OptiMaxx plus'!$T$7+A478","v":83.5},474,{"$f":"+'No Deducible 93'!AD497","v":14035469.35019809},{"$f":"+'Deducible 151'!AD497","v":13160119.012443626},{"$f":"+'Deducible 185'!AD497","v":14035950.669863392}]
[39.583333333333336,{"$f":"'OptiMaxx plus'!$T$7+A479","v":83.583333333333343},475,{"$f":"+'No Deducible 93'!AD498","v":14163790.058324954},{"$f":"+'Deducible 151'!AD498","v":13278788.51061924},{"$f":"+'Deducible 185'!AD498","v":14164275.459246086}]
[39.666666666666664,{"$f":"'OptiMaxx plus'!$T$7+A480","v":83.666666666666657},{"$f":"+C479+1","v":476},{"$f":"+'No Deducible 93'!AD499","v":14293198.222466804},{"$f":"+'Deducible 151'!AD499","v":13398444.505513882},{"$f":"+'Deducible 185'!AD499","v":14293687.739249978}]
[39.75,{"$f":"'OptiMaxx plus'!$T$7+A481","v":83.75},477,{"$f":"+'No Deducible 93'!AD500","v":14420202.016941413},{"$f":"+'Deducible 151'!AD500","v":13516032.214331858},{"$f":"+'Deducible 185'!AD500","v":14420694.34356196}]
[39.833333333333336,{"$f":"'OptiMaxx plus'!$T$7+A482","v":83.833333333333343},478,{"$f":"+'No Deducible 93'!AD501","v":14551784.045325376},{"$f":"+'Deducible 151'!AD501","v":13637661.244266242},{"$f":"+'Deducible 185'!AD501","v":14552280.546533076}]
[39.916666666666664,{"$f":"'OptiMaxx plus'!$T$7+A483","v":83.916666666666657},479,{"$f":"+'No Deducible 93'!AD502","v":14684481.17759135},{"$f":"+'Deducible 151'!AD502","v":13760301.382227177},{"$f":"+'Deducible 185'!AD502","v":14684981.888783796}]
[40,{"$f":"'OptiMaxx plus'!$T$7+A484","v":84},480,{"$f":"+'No Deducible 93'!AD503","v":14814747.099188861},{"$f":"+'Deducible 151'!AD503","v":13880855.726085164},{"$f":"+'Deducible 185'!AD503","v":14815250.664453387}]
[40.083333333333336,{"$f":"'OptiMaxx plus'!$T$7+A485","v":84.083333333333343},481,{"$f":"+'No Deducible 93'!AD504","v":14950142.858663853},{"$f":"+'Deducible 151'!AD504","v":14005982.111622892},{"$f":"+'Deducible 185'!AD504","v":14950650.693811415}]
[40.166666666666664,{"$f":"'OptiMaxx plus'!$T$7+A486","v":84.166666666666657},482,{"$f":"+'No Deducible 93'!AD505","v":15086686.053891459},{"$f":"+'Deducible 151'!AD505","v":14132148.689946381},{"$f":"+'Deducible 185'!AD505","v":15087198.19512769}]
[40.25,{"$f":"'OptiMaxx plus'!$T$7+A487","v":84.25},483,{"$f":"+'No Deducible 93'!AD506","v":15220775.049102185},{"$f":"+'Deducible 151'!AD506","v":14256215.883571085},{"$f":"+'Deducible 185'!AD506","v":15221290.089340301}]
[40.333333333333336,{"$f":"'OptiMaxx plus'!$T$7+A488","v":84.333333333333343},484,{"$f":"+'No Deducible 93'!AD507","v":15359612.679902997},{"$f":"+'Deducible 151'!AD507","v":14384463.539650947},{"$f":"+'Deducible 185'!AD507","v":15360132.087323936}]
[40.416666666666664,{"$f":"'OptiMaxx plus'!$T$7+A489","v":84.416666666666657},485,{"$f":"+'No Deducible 93'!AD508","v":15499626.925158562},{"$f":"+'Deducible 151'!AD508","v":14513777.345028324},{"$f":"+'Deducible 185'!AD508","v":15500150.736792998}]
[40.5,{"$f":"'OptiMaxx plus'!$T$7+A490","v":84.5},486,{"$f":"+'No Deducible 93'!AD509","v":15637159.915011182},{"$f":"+'Deducible 151'!AD509","v":14640974.419214286},{"$f":"+'Deducible 185'!AD509","v":15637686.671283301}]
[40.583333333333336,{"$f":"'OptiMaxx plus'!$T$7+A491","v":84.583333333333343},487,{"$f":"+'No Deducible 93'!AD510","v":15779527.227391694},{"$f":"+'Deducible 151'!AD510","v":14772421.510998148},{"$f":"+'Deducible 185'!AD510","v":15780058.450190451}]
[40.666666666666664,{"$f":"'OptiMaxx plus'!$T$7+A492","v":84.666666666666657},488,{"$f":"+'No Deducible 93'!AD511","v":15923101.077441985},{"$f":"+'Deducible 151'!AD511","v":14904961.358699439},{"$f":"+'Deducible 185'!AD511","v":15923636.80464042}]
[40.75,{"$f":"'OptiMaxx plus'!$T$7+A493","v":84.75},489,{"$f":"+'No Deducible 93'!AD512","v":16064166.467103509},{"$f":"+'Deducible 151'!AD512","v":15035367.174084526},{"$f":"+'Deducible 185'!AD512","v":16064705.185292494}]
[40.833333333333336,{"$f":"'OptiMaxx plus'!$T$7+A494","v":84.833333333333343},490,{"$f":"+'No Deducible 93'!AD513","v":16210153.516296919},{"$f":"+'Deducible 151'!AD513","v":15170093.828328373},{"$f":"+'Deducible 185'!AD513","v":16210696.802441275}]
[40.916666666666664,{"$f":"'OptiMaxx plus'!$T$7+A495","v":84.916666666666657},491,{"$f":"+'No Deducible 93'!AD514","v":16357377.789923346},{"$f":"+'Deducible 151'!AD514","v":15305940.511533337},{"$f":"+'Deducible 185'!AD514","v":16357925.682756154}]
[41,{"$f":"'OptiMaxx plus'!$T$7+A496","v":85},492,{"$f":"+'No Deducible 93'!AD515","v":16502066.25324684},{"$f":"+'Deducible 151'!AD515","v":15439635.91447649},{"$f":"+'Deducible 185'!AD515","v":16502617.184151372}]
[41.083333333333336,{"$f":"'OptiMaxx plus'!$T$7+A497","v":85.083333333333343},493,{"$f":"+'No Deducible 93'!AD516","v":16652258.014292603},{"$f":"+'Deducible 151'!AD516","v":15578211.112702014},{"$f":"+'Deducible 185'!AD516","v":16652813.616707837}]
[41.166666666666664,{"$f":"'OptiMaxx plus'!$T$7+A498","v":85.166666666666657},494,{"$f":"+'No Deducible 93'!AD517","v":16803722.646657843},{"$f":"+'Deducible 151'!AD517","v":15717938.345544908},{"$f":"+'Deducible 185'!AD517","v":16804282.960194938}]
[41.25,{"$f":"'OptiMaxx plus'!$T$7+A499","v":85.25},495,{"$f":"+'No Deducible 93'!AD518","v":16952628.191275377},{"$f":"+'Deducible 151'!AD518","v":15855501.194606867},{"$f":"+'Deducible 185'!AD518","v":16953191.590705104}]
[41.333333333333336,{"$f":"'OptiMaxx plus'!$T$7+A500","v":85.333333333333343},496,{"$f":"+'No Deducible 93'!AD519","v":17106639.403600451},{"$f":"+'Deducible 151'!AD519","v":15997534.541679209},{"$f":"+'Deducible 185'!AD519","v":17107207.580265291}]
[41.416666666666664,{"$f":"'OptiMaxx plus'!$T$7+A501","v":85.416666666666657},497,{"$f":"+'No Deducible 93'!AD520","v":17261955.867331281},{"$f":"+'Deducible 151'!AD520","v":16140748.681747559},{"$f":"+'Deducible 185'!AD520","v":17262528.861738868}]
[41.5,{"$f":"'OptiMaxx plus'!$T$7+A502","v":85.5},498,{"$f":"+'No Deducible 93'!AD521","v":17414685.726655904},{"$f":"+'Deducible 151'!AD521","v":16281781.423789017},{"$f":"+'Deducible 185'!AD521","v":17415261.855528358}]
[41.583333333333336,{"$f":"'OptiMaxx plus'!$T$7+A503","v":85.583333333333343},499,{"$f":"+'No Deducible 93'!AD522","v":17572613.855384145},{"$f":"+'Deducible 151'!AD522","v":16427359.540158777},{"$f":"+'Deducible 185'!AD522","v":17573194.869428534}]
[41.666666666666664,{"$f":"'OptiMaxx plus'!$T$7+A504","v":85.666666666666657},500,{"$f":"+'No Deducible 93'!AD523","v":17731880.441981692},{"$f":"+'Deducible 151'!AD523","v":16574147.928338578},{"$f":"+'Deducible 185'!AD523","v":17732466.382620875}]
[41.75,{"$f":"'OptiMaxx plus'!$T$7+A505","v":85.75},501,{"$f":"+'No Deducible 93'!AD524","v":17888532.780940622},{"$f":"+'Deducible 151'!AD524","v":16718737.98521943},{"$f":"+'Deducible 185'!AD524","v":17889121.905380018}]
[41.833333333333336,{"$f":"'OptiMaxx plus'!$T$7+A506","v":85.833333333333343},502,{"$f":"+'No Deducible 93'!AD525","v":18050477.783355121},{"$f":"+'Deducible 151'!AD525","v":16867949.66538211},{"$f":"+'Deducible 185'!AD525","v":18051071.903159816}]
[41.916666666666664,{"$f":"'OptiMaxx plus'!$T$7+A507","v":85.916666666666657},{"$f":"+C506+1","v":503},{"$f":"+'No Deducible 93'!AD526","v":18213795.29761095},{"$f":"+'Deducible 151'!AD526","v":17018401.834686976},{"$f":"+'Deducible 185'!AD526","v":18214394.455138166}]
[42,{"$f":"'OptiMaxx plus'!$T$7+A508","v":86},504,{"$f":"+'No Deducible 93'!AD527","v":18374470.800239593},{"$f":"+'Deducible 151'!AD527","v":17166638.829484437},{"$f":"+'Deducible 185'!AD527","v":18375073.191677447}]
[42.083333333333336,{"$f":"'OptiMaxx plus'!$T$7+A509","v":86.083333333333343},505,{"$f":"+'No Deducible 93'!AD528","v":18541052.373868711},{"$f":"+'Deducible 151'!AD528","v":17320086.219495457},{"$f":"+'Deducible 185'!AD528","v":18541659.873166777}]
[42.166666666666664,{"$f":"'OptiMaxx plus'!$T$7+A510","v":86.166666666666657},506,{"$f":"+'No Deducible 93'!AD529","v":18709045.767854702},{"$f":"+'Deducible 151'!AD529","v":17474809.324446764},{"$f":"+'Deducible 185'!AD529","v":18709658.418324079}]
[42.25,{"$f":"'OptiMaxx plus'!$T$7+A511","v":86.25},507,{"$f":"+'No Deducible 93'!AD530","v":18874373.694128007},{"$f":"+'Deducible 151'!AD530","v":17627304.797936361},{"$f":"+'Deducible 185'!AD530","v":18874989.62940567}]
[42.333333333333336,{"$f":"'OptiMaxx plus'!$T$7+A512","v":86.333333333333343},508,{"$f":"+'No Deducible 93'!AD531","v":19045193.057288732},{"$f":"+'Deducible 151'!AD531","v":17784582.943354204},{"$f":"+'Deducible 185'!AD531","v":19045814.215268947}]
[42.416666666666664,{"$f":"'OptiMaxx plus'!$T$7+A513","v":86.416666666666657},509,{"$f":"+'No Deducible 93'!AD532","v":19217460.167869821},{"$f":"+'Deducible 151'!AD532","v":17943168.661129531},{"$f":"+'Deducible 185'!AD532","v":19218086.592837472}]
[42.5,{"$f":"'OptiMaxx plus'!$T$7+A514","v":86.5},510,{"$f":"+'No Deducible 93'!AD533","v":19387033.937332686},{"$f":"+'Deducible 151'!AD533","v":18099510.220813181},{"$f":"+'Deducible 185'!AD533","v":19387663.698805839}]
[42.583333333333336,{"$f":"'OptiMaxx plus'!$T$7+A515","v":86.583333333333343},511,{"$f":"+'No Deducible 93'!AD534","v":19562199.253558222},{"$f":"+'Deducible 151'!AD534","v":18260715.095140278},{"$f":"+'Deducible 185'!AD534","v":19562834.354970444}]
[42.666666666666664,{"$f":"'OptiMaxx plus'!$T$7+A516","v":86.666666666666657},512,{"$f":"+'No Deducible 93'!AD535","v":19738849.161357671},{"$f":"+'Deducible 151'!AD535","v":18423260.197472006},{"$f":"+'Deducible 185'!AD535","v":19739489.647987928}]
[42.75,{"$f":"'OptiMaxx plus'!$T$7+A517","v":86.75},513,{"$f":"+'No Deducible 93'!AD536","v":19912777.756043665},{"$f":"+'Deducible 151'!AD536","v":18583544.737134047},{"$f":"+'Deducible 185'!AD536","v":19913421.631688748}]
[{"$f":"+C518/12","v":42.833333333333336},{"$f":"'OptiMaxx plus'!$T$7+A518","v":86.833333333333343},514,{"$f":"+'No Deducible 93'!AD537","v":20092399.954943776},{"$f":"+'Deducible 151'!AD537","v":18748774.722940348},{"$f":"+'Deducible 185'!AD537","v":20093049.290206283}]
[42.916666666666664,{"$f":"'OptiMaxx plus'!$T$7+A519","v":86.916666666666657},515,{"$f":"+'No Deducible 93'!AD538","v":20273544.530115187},{"$f":"+'Deducible 151'!AD538","v":18915378.410665933},{"$f":"+'Deducible 185'!AD538","v":20274199.371288873}]
[43,{"$f":"'OptiMaxx plus'!$T$7+A520","v":87},516,{"$f":"+'No Deducible 93'!AD539","v":20451939.728716265},{"$f":"+'Deducible 151'!AD539","v":19079705.26372366},{"$f":"+'Deducible 185'!AD539","v":20452598.012238938}]
[43.083333333333336,{"$f":"'OptiMaxx plus'!$T$7+A521","v":87.083333333333343},517,{"$f":"+'No Deducible 93'!AD540","v":20636675.553165331},{"$f":"+'Deducible 151'!AD540","v":19249597.82587143},{"$f":"+'Deducible 185'!AD540","v":20637339.418474205}]
[43.166666666666664,{"$f":"'OptiMaxx plus'!$T$7+A522","v":87.166666666666657},518,{"$f":"+'No Deducible 93'!AD541","v":20822977.107243035},{"$f":"+'Deducible 151'!AD541","v":19420902.86609121},{"$f":"+'Deducible 185'!AD541","v":20823646.601667769}]
[43.25,{"$f":"'OptiMaxx plus'!$T$7+A523","v":87.25},519,{"$f":"+'No Deducible 93'!AD542","v":21006505.780397862},{"$f":"+'Deducible 151'!AD542","v":19589919.44367769},{"$f":"+'Deducible 185'!AD542","v":21007178.771343507}]
[43.333333333333336,{"$f":"'OptiMaxx plus'!$T$7+A524","v":87.333333333333343},520,{"$f":"+'No Deducible 93'!AD543","v":21195942.859701212},{"$f":"+'Deducible 151'!AD543","v":19764054.855281498},{"$f":"+'Deducible 185'!AD543","v":21196621.55714177}]
[43.416666666666664,{"$f":"'OptiMaxx plus'!$T$7+A525","v":87.416666666666657},521,{"$f":"+'No Deducible 93'!AD544","v":21386985.52531077},{"$f":"+'Deducible 151'!AD544","v":19939638.029852908},{"$f":"+'Deducible 185'!AD544","v":21387669.977633346}]
[43.5,{"$f":"'OptiMaxx plus'!$T$7+A526","v":87.5},522,{"$f":"+'No Deducible 93'!AD545","v":21575227.205475461},{"$f":"+'Deducible 151'!AD545","v":20112916.881266303},{"$f":"+'Deducible 185'!AD545","v":21575915.209341768}]
[43.583333333333336,{"$f":"'OptiMaxx plus'!$T$7+A527","v":87.583333333333343},523,{"$f":"+'No Deducible 93'!AD546","v":21769485.557054061},{"$f":"+'Deducible 151'!AD546","v":20291401.461160988},{"$f":"+'Deducible 185'!AD546","v":21770179.394714404}]
[43.666666666666664,{"$f":"'OptiMaxx plus'!$T$7+A528","v":87.666666666666657},524,{"$f":"+'No Deducible 93'!AD547","v":21965390.369216826},{"$f":"+'Deducible 151'!AD547","v":20471369.973196879},{"$f":"+'Deducible 185'!AD547","v":21966090.090137716}]
[43.75,{"$f":"'OptiMaxx plus'!$T$7+A529","v":87.75},525,{"$f":"+'No Deducible 93'!AD548","v":22158466.026457641},{"$f":"+'Deducible 151'!AD548","v":20649018.470824264},{"$f":"+'Deducible 185'!AD548","v":22159169.354809318}]
[43.833333333333336,{"$f":"'OptiMaxx plus'!$T$7+A530","v":87.833333333333343},526,{"$f":"+'No Deducible 93'!AD549","v":22357668.737333223},{"$f":"+'Deducible 151'!AD549","v":20831961.206883833},{"$f":"+'Deducible 185'!AD549","v":22358378.029419906}]
[43.916666666666664,{"$f":"'OptiMaxx plus'!$T$7+A531","v":87.916666666666657},527,{"$f":"+'No Deducible 93'!AD550","v":22558559.826698776},{"$f":"+'Deducible 151'!AD550","v":21016424.950736135},{"$f":"+'Deducible 185'!AD550","v":22559275.13308879}]
[44,{"$f":"'OptiMaxx plus'!$T$7+A532","v":88},528,{"$f":"+'No Deducible 93'!AD551","v":22756593.535332616},{"$f":"+'Deducible 151'!AD551","v":21198553.170347795},{"$f":"+'Deducible 185'!AD551","v":22757312.505918261}]
[44.083333333333336,{"$f":"'OptiMaxx plus'!$T$7+A533","v":88.083333333333343},529,{"$f":"+'No Deducible 93'!AD552","v":22961436.895433094},{"$f":"+'Deducible 151'!AD552","v":21386629.160228916},{"$f":"+'Deducible 185'!AD552","v":22962161.962389}]
[44.166666666666664,{"$f":"'OptiMaxx plus'!$T$7+A534","v":88.166666666666657},530,{"$f":"+'No Deducible 93'!AD553","v":23168016.455918372},{"$f":"+'Deducible 151'!AD553","v":21576268.848811645},{"$f":"+'Deducible 185'!AD553","v":23168747.67093752}]
[44.25,{"$f":"'OptiMaxx plus'!$T$7+A535","v":88.25},531,{"$f":"+'No Deducible 93'!AD554","v":23371715.237190783},{"$f":"+'Deducible 151'!AD554","v":21763562.422299389},{"$f":"+'Deducible 185'!AD554","v":23372450.17406195}]
[44.333333333333336,{"$f":"'OptiMaxx plus'!$T$7+A536","v":88.333333333333343},532,{"$f":"+'No Deducible 93'!AD555","v":23581773.28014677},{"$f":"+'Deducible 151'!AD555","v":21956336.996501971},{"$f":"+'Deducible 185'!AD555","v":23582514.44877119}]
[44.416666666666664,{"$f":"'OptiMaxx plus'!$T$7+A537","v":88.416666666666657},533,{"$f":"+'No Deducible 93'!AD556","v":23793611.733418293},{"$f":"+'Deducible 151'!AD556","v":22150714.344766151},{"$f":"+'Deducible 185'!AD556","v":23794359.186636899}]
[44.5,{"$f":"'OptiMaxx plus'!$T$7+A538","v":88.5},534,{"$f":"+'No Deducible 93'!AD557","v":24002541.221479088},{"$f":"+'Deducible 151'!AD557","v":22342730.587937932},{"$f":"+'Deducible 185'!AD557","v":24003292.455111608}]
[44.583333333333336,{"$f":"'OptiMaxx plus'!$T$7+A539","v":88.583333333333343},535,{"$f":"+'No Deducible 93'!AD558","v":24217947.097983878},{"$f":"+'Deducible 151'!AD558","v":22540321.507339165},{"$f":"+'Deducible 185'!AD558","v":24218704.701554853}]
[44.666666666666664,{"$f":"'OptiMaxx plus'!$T$7+A540","v":88.666666666666657},536,{"$f":"+'No Deducible 93'!AD559","v":24435178.723693881},{"$f":"+'Deducible 151'!AD559","v":22739555.255610172},{"$f":"+'Deducible 185'!AD559","v":24435942.751215953}]
[44.75,{"$f":"'OptiMaxx plus'!$T$7+A541","v":88.75},537,{"$f":"+'No Deducible 93'!AD560","v":24649473.173301652},{"$f":"+'Deducible 151'!AD560","v":22936413.132180382},{"$f":"+'Deducible 185'!AD560","v":24650241.040719241}]
[44.833333333333336,{"$f":"'OptiMaxx plus'!$T$7+A542","v":88.833333333333343},538,{"$f":"+'No Deducible 93'!AD561","v":24870363.439956728},{"$f":"+'Deducible 151'!AD561","v":23138941.114243791},{"$f":"+'Deducible 185'!AD561","v":24871137.818355691}]
[44.916666666666664,{"$f":"'OptiMaxx plus'!$T$7+A543","v":88.916666666666657},539,{"$f":"+'No Deducible 93'!AD562","v":25093125.952544697},{"$f":"+'Deducible 151'!AD562","v":23343152.984024957},{"$f":"+'Deducible 185'!AD562","v":25093906.897133626}]
[45,{"$f":"'OptiMaxx plus'!$T$7+A544","v":89},540,{"$f":"+'No Deducible 93'!AD563","v":25312923.063568775},{"$f":"+'Deducible 151'!AD563","v":23544974.452844556},{"$f":"+'Deducible 185'!AD563","v":25313707.908468951}]
[45.083333333333336,{"$f":"'OptiMaxx plus'!$T$7+A545","v":89.083333333333343},541,{"$f":"+'No Deducible 93'!AD564","v":25540036.2535492},{"$f":"+'Deducible 151'!AD564","v":23753154.71515134},{"$f":"+'Deducible 185'!AD564","v":25540827.753387988}]
[45.166666666666664,{"$f":"'OptiMaxx plus'!$T$7+A546","v":89.166666666666657},542,{"$f":"+'No Deducible 93'!AD565","v":25769074.448370039},{"$f":"+'Deducible 151'!AD565","v":23963065.872987822},{"$f":"+'Deducible 185'!AD565","v":25769872.659576688}]
[45.25,{"$f":"'OptiMaxx plus'!$T$7+A547","v":89.25},543,{"$f":"+'No Deducible 93'!AD566","v":25995124.130112004},{"$f":"+'Deducible 151'!AD566","v":24170577.313012231},{"$f":"+'Deducible 185'!AD566","v":25995926.302994382}]
[45.333333333333336,{"$f":"'OptiMaxx plus'!$T$7+A548","v":89.333333333333343},544,{"$f":"+'No Deducible 93'!AD567","v":26228020.745891839},{"$f":"+'Deducible 151'!AD567","v":24383960.123986702},{"$f":"+'Deducible 185'!AD567","v":26228829.720642064}]
[45.416666666666664,{"$f":"'OptiMaxx plus'!$T$7+A549","v":89.416666666666657},545,{"$f":"+'No Deducible 93'!AD568","v":26462891.398718204},{"$f":"+'Deducible 151'!AD568","v":24599117.097468466},{"$f":"+'Deducible 185'!AD568","v":26463707.23301138}]
[45.5,{"$f":"'OptiMaxx plus'!$T$7+A550","v":89.5},546,{"$f":"+'No Deducible 93'!AD569","v":26694745.447900359},{"$f":"+'Deducible 151'!AD569","v":24811860.46715273},{"$f":"+'Deducible 185'!AD569","v":26695565.306197379}]
[45.583333333333336,{"$f":"'OptiMaxx plus'!$T$7+A551","v":89.583333333333343},547,{"$f":"+'No Deducible 93'!AD570","v":26933573.189980518},{"$f":"+'Deducible 151'!AD570","v":25030576.241803095},{"$f":"+'Deducible 185'!AD570","v":26934400.000105392}]
[45.666666666666664,{"$f":"'OptiMaxx plus'!$T$7+A552","v":89.666666666666657},548,{"$f":"+'No Deducible 93'!AD571","v":27174425.253641929},{"$f":"+'Deducible 151'!AD571","v":25251110.530638471},{"$f":"+'Deducible 185'!AD571","v":27175259.074541319}]
[45.75,{"$f":"'OptiMaxx plus'!$T$7+A553","v":89.75},549,{"$f":"+'No Deducible 93'!AD572","v":27412232.645559285},{"$f":"+'Deducible 151'!AD572","v":25469217.614919927},{"$f":"+'Deducible 185'!AD572","v":27413070.553769365}]
[45.833333333333336,{"$f":"'OptiMaxx plus'!$T$7+A554","v":89.833333333333343},550,{"$f":"+'No Deducible 93'!AD573","v":27657142.992955379},{"$f":"+'Deducible 151'!AD573","v":25693400.042865388},{"$f":"+'Deducible 185'!AD573","v":27657988.006044019}]
[45.916666666666664,{"$f":"'OptiMaxx plus'!$T$7+A555","v":89.916666666666657},551,{"$f":"+'No Deducible 93'!AD574","v":27904129.230834562},{"$f":"+'Deducible 151'!AD574","v":25919446.448610611},{"$f":"+'Deducible 185'!AD574","v":27904981.409046184}]
[46,{"$f":"'OptiMaxx plus'!$T$7+A556","v":90},552,{"$f":"+'No Deducible 93'!AD575","v":28148042.763591703},{"$f":"+'Deducible 151'!AD575","v":26143052.350268185},{"$f":"+'Deducible 185'!AD575","v":28148899.093414929}]
[46.083333333333336,{"$f":"'OptiMaxx plus'!$T$7+A557","v":90.083333333333343},553,{"$f":"+'No Deducible 93'!AD576","v":28399819.400537077},{"$f":"+'Deducible 151'!AD576","v":26373459.443955801},{"$f":"+'Deducible 185'!AD576","v":28400682.991441321}]
[46.166666666666664,{"$f":"'OptiMaxx plus'!$T$7+A558","v":90.166666666666657},554,{"$f":"+'No Deducible 93'!AD577","v":28653730.141894151},{"$f":"+'Deducible 151'!AD577","v":26605782.283977997},{"$f":"+'Deducible 185'!AD577","v":28654601.055448323}]
[46.25,{"$f":"'OptiMaxx plus'!$T$7+A559","v":90.25},555,{"$f":"+'No Deducible 93'!AD578","v":28904545.565207291},{"$f":"+'Deducible 151'!AD578","v":26835656.846145142},{"$f":"+'Deducible 185'!AD578","v":28905420.695683625}]
[46.333333333333336,{"$f":"'OptiMaxx plus'!$T$7+A560","v":90.333333333333343},556,{"$f":"+'No Deducible 93'!AD579","v":29162735.609891791},{"$f":"+'Deducible 151'!AD579","v":27071823.751887314},{"$f":"+'Deducible 185'!AD579","v":29163618.160865597}]
[46.416666666666664,{"$f":"'OptiMaxx plus'!$T$7+A561","v":90.416666666666657},557,{"$f":"+'No Deducible 93'!AD580","v":29423114.13272313},{"$f":"+'Deducible 151'!AD580","v":27309954.305879574},{"$f":"+'Deducible 185'!AD580","v":29424004.167115062}]
[46.5,{"$f":"'OptiMaxx plus'!$T$7+A562","v":90.5},558,{"$f":"+'No Deducible 93'!AD581","v":29680369.550205495},{"$f":"+'Deducible 151'!AD581","v":27545624.066072069},{"$f":"+'Deducible 185'!AD581","v":29681263.867855608}]
[46.583333333333336,{"$f":"'OptiMaxx plus'!$T$7+A563","v":90.583333333333343},559,{"$f":"+'No Deducible 93'!AD582","v":29945136.821281876},{"$f":"+'Deducible 151'!AD582","v":27787695.192570794},{"$f":"+'Deducible 185'!AD582","v":29946038.722123343}]
[46.666666666666664,{"$f":"'OptiMaxx plus'!$T$7+A564","v":90.666666666666657},560,{"$f":"+'No Deducible 93'!AD583","v":30212148.333236903},{"$f":"+'Deducible 151'!AD583","v":28031779.070329327},{"$f":"+'Deducible 185'!AD583","v":30213057.881569907}]
[46.75,{"$f":"'OptiMaxx plus'!$T$7+A565","v":90.75},561,{"$f":"+'No Deducible 93'!AD584","v":30476009.030636132},{"$f":"+'Deducible 151'!AD584","v":28273389.994063668},{"$f":"+'Deducible 185'!AD584","v":30476922.929604869}]
[46.833333333333336,{"$f":"'OptiMaxx plus'!$T$7+A566","v":90.833333333333343},562,{"$f":"+'No Deducible 93'!AD585","v":30747521.538069338},{"$f":"+'Deducible 151'!AD585","v":28521513.376340408},{"$f":"+'Deducible 185'!AD585","v":30748443.186265383}]
[46.916666666666664,{"$f":"'OptiMaxx plus'!$T$7+A567","v":90.916666666666657},563,{"$f":"+'No Deducible 93'!AD586","v":31021335.473648343},{"$f":"+'Deducible 151'!AD586","v":28771699.844143189},{"$f":"+'Deducible 185'!AD586","v":31022264.936779756}]
[47,{"$f":"'OptiMaxx plus'!$T$7+A568","v":91},{"$f":"+C567+1","v":564},{"$f":"+'No Deducible 93'!AD587","v":31291970.978011981},{"$f":"+'Deducible 151'!AD587","v":29019401.5716919},{"$f":"+'Deducible 185'!AD587","v":31292904.86021452}]